{"text_format":"1","workbook":"xlsx","n_sheets":14,"sheets":["Welcome","Data Input","P1 Hidden Data Tables","P2 Hidden Data Tables","Pupil Summary","Pupil Report","Cohort Summary","Strand Summary","P1 Questions by Strand","P2 Questions by Strand","P1 Questions by Correct","P2 Questions by Correct","P1 Questions by Sub Type","P2 Questions by Sub Type"],"not_rendered":{"charts":10,"images":2,"macros":1,"external_links":0,"defined_names":15,"comments":1,"pivot_tables":0},"unopened":[],"bounds":{"document_bytes":16777216,"sheet_cells":100000,"rows_first":2000,"rows_last":500,"rows_between":2000,"halvings":0,"cell_chars":16384,"cell_head_chars":4096},"cells_cut":0,"cells_raw":0,"read":"whole","date_system":"1900"}

{"sheet":"Welcome","index":0,"n_rows":25,"n_cols":11,"rows_kept":25,"cut":false,"hidden":false,"merged":[[1,3,1,12]]}
[]
[null,null,null,"2017 National Curriculum Tests \nKS1 Reading Analysis"]
[]
[]
[]
[]
[]
[]
[]
[]
[]
[]
[]
[]
[]
[]
[]
[]
[]
[]
[]
[]
[null,null,null,null,null,"Minumum Score for Expected:",25,null,null,"Minimum Score for Exceeding:",35]
[null,"Please note that only parts of this system are editable, mainly the 'Data Input' tab. The rest of the system is password protected to preserve the functionality of the system and the copyright. "]
[null,null,null,null,null,null,null,null,null,null,"© 2017 Primary Tools.co.uk"]

{"sheet":"Data Input","index":1,"n_rows":10,"n_cols":43,"rows_kept":10,"cut":false,"hidden":false,"merged":[[0,1,4,1],[0,22,4,22]]}
["Question","Paper 1",1,2,3,4,5,6,7,8,9,10,11,12,13,14,15,16,17,18,19,20,"Paper 2",1,2,3,4,5,"6i","6ii",7,8,"9i","9ii",10,11,"12a","12b","13a","13b","14a","14b",15]
["Group Correct",null,{"$f":"COUNTIF(C10:C558,1)","v":1},{"$f":"COUNTIF(D10:D558,1)","v":1},1,1,1,1,1,1,1,0,1,1,1,0,0,0,1,0,1,1,null,{"$f":"COUNTIF(X10:X558,1)","v":1},1,1,1,0,1,1,1,1,0,0,0,1,0,0,0,0,0,1,0]
["Group Incorrect",null,{"$f":"COUNTIF(C10:C558,0)","v":0},{"$f":"COUNTIF(D10:D558,0)","v":0},0,0,0,0,0,0,0,0,0,0,0,1,1,0,0,0,0,0,null,{"$f":"COUNTIF(X10:X558,0)","v":0},0,0,0,0,0,0,0,0,1,1,1,0,0,1,0,1,1,0,1]
["Group Unanswered",null,{"$f":"COUNTA($A$10:$A$558)-(SUM(C2:C3))","v":0},0,0,0,0,0,0,0,0,{"$f":"COUNTA($A$10:$A$558)-(SUM(L2:L3))","v":1},{"$f":"COUNTA($A$10:$A$558)-(SUM(M2:M3))","v":0},0,0,0,0,1,0,1,0,0,null,{"$f":"COUNTA($A$10:$A$558)-(SUM(X2:X3))","v":0},0,0,0,1,0,0,0,0,0,0,0,0,1,0,1,0,0,0,0]
["Incorrect or unanswered",null,{"$f":"SUM(C3,C4)","v":0},{"$f":"SUM(D3,D4)","v":0},0,0,0,0,0,0,0,1,0,0,0,1,1,1,0,1,0,0,null,{"$f":"SUM(X3,X4)","v":0},0,0,0,1,0,0,0,0,1,1,1,0,1,1,1,1,1,0,1]
["Enter 1: correct, 0: incorrect, blank: unanswered \n\nA: Vocabulary\nB: Key Facts\nC: Sequence\nD: Inference\nE: Prediction",null,"Molly didn't understand means…","What did Molly think was magic","What was Molly doing Tuesday","Her race track had been…","Why Molly too busy to tidy up","Where did Molly look for octopus","The word 'idea' means…","Why did Molly rush her tea","Match days to where she played","What is child holding on to","Word meaning same as 'stride'","What happens when people see shadow","Why father described as giant","What might say at end of outing","Why is water important","2 places can find water in nature","Difference of sea/fresh water","Name of biggest ocean","Name 2 rivers in England","Match word to meaning",null,"Who might be interested in poster","When are the swimming lessons","Two things instructors trained to teach","2 things have to take to lessons","Meaning of 'golden rules'","Statements true/false","Statements true/false","Copy word meaning 'quickly'","What fox thought was coming","Why Fox interested in Heron Feather","Why Fox interested in Heron Feather","What was H.F. on his way to do","How did Fox trick H.F.","How did Fox escape from bog","Why did H.F. not notice escape","Story shows H.F. was…","Story shows Fox was…","How did Heron feel at end","Why did he feel like that","Number events in order"]
[null,"code",null,null,null,null,null,null,null,null,null,null,null,null,null,null,null,null,null,null,null,null,"code"]
["Name: ","Area","D","D","B","D","B","B","A","D","C","B","A","B","D","E","B","B","D","B","B","B","Area","B","B","B","B","A","B","B","A","B","B","B","B","B","B","B","D","D","D","D","C"]
[]
["Sample, Please delete!",null,1,1,1,1,1,1,1,1,1,null,1,1,1,0,0,null,1,null,1,1,null,1,1,1,1,null,1,1,1,1,0,0,0,1,null,0,null,0,0,1,0]

{"sheet":"P1 Hidden Data Tables","index":2,"n_rows":84,"n_cols":22,"rows_kept":84,"cut":false,"hidden":true,"merged":[]}
[null,"Sorted by Strand"]
[null,"Strand","Question Number","Sub Category","Short Q","Correct","Incorrect or Unanswered","Incorrect","Unanswered"]
[null,{"$f":"'Data Input'!$M$8","v":"A"},{"$f":"'Data Input'!$M$1","v":11},null,{"$f":"'Data Input'!$M$6","v":"Word meaning same as 'stride'"},{"$f":"'Data Input'!$M$2","v":1},{"$f":"'Data Input'!$M$5","v":0},{"$f":"'Data Input'!$M$3","v":0},{"$f":"'Data Input'!$M$4","v":0},null,null,null,"Codes"]
[null,{"$f":"'Data Input'!$I$8","v":"A"},{"$f":"'Data Input'!$I$1","v":7},null,{"$f":"'Data Input'!$I$6","v":"The word 'idea' means…"},{"$f":"'Data Input'!$I$2","v":1},{"$f":"'Data Input'!$I$5","v":0},{"$f":"'Data Input'!$I$3","v":0},{"$f":"'Data Input'!$I$4","v":0}]
[]
[null,{"$f":"'Data Input'!$E$8","v":"B"},{"$f":"'Data Input'!$E$1","v":3},null,{"$f":"'Data Input'!$E$6","v":"What was Molly doing Tuesday"},{"$f":"'Data Input'!$E$2","v":1},{"$f":"'Data Input'!$E$5","v":0},{"$f":"'Data Input'!$E$3","v":0},{"$f":"'Data Input'!$E$4","v":0}]
[null,{"$f":"'Data Input'!$G$8","v":"B"},{"$f":"'Data Input'!$G$1","v":5},null,{"$f":"'Data Input'!$G$6","v":"Why Molly too busy to tidy up"},{"$f":"'Data Input'!$G$2","v":1},{"$f":"'Data Input'!$G$5","v":0},{"$f":"'Data Input'!$G$3","v":0},{"$f":"'Data Input'!$G$4","v":0}]
[null,{"$f":"'Data Input'!$H$8","v":"B"},{"$f":"'Data Input'!$H$1","v":6},null,{"$f":"'Data Input'!$H$6","v":"Where did Molly look for octopus"},{"$f":"'Data Input'!$H$2","v":1},{"$f":"'Data Input'!$H$5","v":0},{"$f":"'Data Input'!$H$3","v":0},{"$f":"'Data Input'!$H$4","v":0}]
[null,{"$f":"'Data Input'!$L$8","v":"B"},{"$f":"'Data Input'!$L$1","v":10},null,{"$f":"'Data Input'!$L$6","v":"What is child holding on to"},{"$f":"'Data Input'!$L$2","v":0},{"$f":"'Data Input'!$L$5","v":1},{"$f":"'Data Input'!$L$3","v":0},{"$f":"'Data Input'!$L$4","v":1}]
[null,{"$f":"'Data Input'!$N$8","v":"B"},{"$f":"'Data Input'!$N$1","v":12},null,{"$f":"'Data Input'!$N$6","v":"What happens when people see shadow"},{"$f":"'Data Input'!$N$2","v":1},{"$f":"'Data Input'!$N$5","v":0},{"$f":"'Data Input'!$N$3","v":0},{"$f":"'Data Input'!$N$4","v":0}]
[null,{"$f":"'Data Input'!$Q$8","v":"B"},{"$f":"'Data Input'!$Q$1","v":15},null,{"$f":"'Data Input'!$Q$6","v":"Why is water important"},{"$f":"'Data Input'!$Q$2","v":0},{"$f":"'Data Input'!$Q$5","v":1},{"$f":"'Data Input'!$Q$3","v":1},{"$f":"'Data Input'!$Q$4","v":0}]
[null,{"$f":"'Data Input'!$R$8","v":"B"},{"$f":"'Data Input'!$R$1","v":16},null,{"$f":"'Data Input'!$R$6","v":"2 places can find water in nature"},{"$f":"'Data Input'!$R$2","v":0},{"$f":"'Data Input'!$R$5","v":1},{"$f":"'Data Input'!$R$3","v":0},{"$f":"'Data Input'!$R$4","v":1}]
[null,{"$f":"'Data Input'!$T$8","v":"B"},{"$f":"'Data Input'!$T$1","v":18},null,{"$f":"'Data Input'!$T$6","v":"Name of biggest ocean"},{"$f":"'Data Input'!$T$2","v":0},{"$f":"'Data Input'!$T$5","v":1},{"$f":"'Data Input'!$T$3","v":0},{"$f":"'Data Input'!$T$4","v":1}]
[null,{"$f":"'Data Input'!$U$8","v":"B"},{"$f":"'Data Input'!$U$1","v":19},null,{"$f":"'Data Input'!$U$6","v":"Name 2 rivers in England"},{"$f":"'Data Input'!$U$2","v":1},{"$f":"'Data Input'!$U$5","v":0},{"$f":"'Data Input'!$U$3","v":0},{"$f":"'Data Input'!$U$4","v":0}]
[null,{"$f":"'Data Input'!$V$8","v":"B"},{"$f":"'Data Input'!$V$1","v":20},null,{"$f":"'Data Input'!$V$6","v":"Match word to meaning"},{"$f":"'Data Input'!$V$2","v":1},{"$f":"'Data Input'!$V$5","v":0},{"$f":"'Data Input'!$V$3","v":0},{"$f":"'Data Input'!$V$4","v":0}]
[]
[null,{"$f":"'Data Input'!$K$8","v":"C"},{"$f":"'Data Input'!$K$1","v":9},null,{"$f":"'Data Input'!$K$6","v":"Match days to where she played"},{"$f":"'Data Input'!$K$2","v":1},{"$f":"'Data Input'!$K$5","v":0},{"$f":"'Data Input'!$K$3","v":0},{"$f":"'Data Input'!$K$4","v":0}]
[]
[null,{"$f":"'Data Input'!$F$8","v":"D"},{"$f":"'Data Input'!$F$1","v":4},null,{"$f":"'Data Input'!$F$6","v":"Her race track had been…"},{"$f":"'Data Input'!$F$2","v":1},{"$f":"'Data Input'!$F$5","v":0},{"$f":"'Data Input'!$F$3","v":0},{"$f":"'Data Input'!$F$4","v":0}]
[null,{"$f":"'Data Input'!$S$8","v":"D"},{"$f":"'Data Input'!$S$1","v":17},null,{"$f":"'Data Input'!$S$6","v":"Difference of sea/fresh water"},{"$f":"'Data Input'!$S$2","v":1},{"$f":"'Data Input'!$S$5","v":0},{"$f":"'Data Input'!$S$3","v":0},{"$f":"'Data Input'!$S$4","v":0}]
[null,{"$f":"'Data Input'!$D$8","v":"D"},{"$f":"'Data Input'!$D$1","v":2},null,{"$f":"'Data Input'!$D$6","v":"What did Molly think was magic"},{"$f":"'Data Input'!$D$2","v":1},{"$f":"'Data Input'!$D$5","v":0},{"$f":"'Data Input'!$D$3","v":0},{"$f":"'Data Input'!$D$4","v":0}]
[null,{"$f":"'Data Input'!$J$8","v":"D"},{"$f":"'Data Input'!$J$1","v":8},null,{"$f":"'Data Input'!$J$6","v":"Why did Molly rush her tea"},{"$f":"'Data Input'!$J$2","v":1},{"$f":"'Data Input'!$J$5","v":0},{"$f":"'Data Input'!$J$3","v":0},{"$f":"'Data Input'!$J$4","v":0}]
[null,{"$f":"'Data Input'!$O$8","v":"D"},{"$f":"'Data Input'!$O$1","v":13},null,{"$f":"'Data Input'!$O$6","v":"Why father described as giant"},{"$f":"'Data Input'!$O$2","v":1},{"$f":"'Data Input'!$O$5","v":0},{"$f":"'Data Input'!$O$3","v":0},{"$f":"'Data Input'!$O$4","v":0}]
[null,{"$f":"'Data Input'!$C$8","v":"D"},{"$f":"'Data Input'!$C$1","v":1},null,{"$f":"'Data Input'!$C$6","v":"Molly didn't understand means…"},{"$f":"'Data Input'!$C$2","v":1},{"$f":"'Data Input'!$C$5","v":0},{"$f":"'Data Input'!$C$3","v":0},{"$f":"'Data Input'!$C$4","v":0}]
[]
[null,{"$f":"'Data Input'!$P$8","v":"E"},{"$f":"'Data Input'!$P$1","v":14},null,{"$f":"'Data Input'!$P$6","v":"What might say at end of outing"},{"$f":"'Data Input'!$P$2","v":0},{"$f":"'Data Input'!$P$5","v":1},{"$f":"'Data Input'!$P$3","v":1},{"$f":"'Data Input'!$P$4","v":0}]
[]
[]
[]
[]
[]
[]
[]
[]
[]
[]
[]
[null,"Sorted by Question Type"]
[null,"Strand","Question Number","Sub Category","Short Q","Correct","Incorrect or Unanswered","Incorrect","Unanswered"]
[null,{"$f":"'Data Input'!$C$8","v":"D"},{"$f":"'Data Input'!$C$1","v":1},null,{"$f":"'Data Input'!$C$6","v":"Molly didn't understand means…"},{"$f":"'Data Input'!$C$2","v":1},{"$f":"'Data Input'!$C$5","v":0},{"$f":"'Data Input'!$C$3","v":0},{"$f":"'Data Input'!$C$4","v":0}]
[null,{"$f":"'Data Input'!$D$8","v":"D"},{"$f":"'Data Input'!$D$1","v":2},null,{"$f":"'Data Input'!$D$6","v":"What did Molly think was magic"},{"$f":"'Data Input'!$D$2","v":1},{"$f":"'Data Input'!$D$5","v":0},{"$f":"'Data Input'!$D$3","v":0},{"$f":"'Data Input'!$D$4","v":0}]
[null,{"$f":"'Data Input'!$E$8","v":"B"},{"$f":"'Data Input'!$E$1","v":3},null,{"$f":"'Data Input'!$E$6","v":"What was Molly doing Tuesday"},{"$f":"'Data Input'!$E$2","v":1},{"$f":"'Data Input'!$E$5","v":0},{"$f":"'Data Input'!$E$3","v":0},{"$f":"'Data Input'!$E$4","v":0}]
[null,{"$f":"'Data Input'!$F$8","v":"D"},{"$f":"'Data Input'!$F$1","v":4},null,{"$f":"'Data Input'!$F$6","v":"Her race track had been…"},{"$f":"'Data Input'!$F$2","v":1},{"$f":"'Data Input'!$F$5","v":0},{"$f":"'Data Input'!$F$3","v":0},{"$f":"'Data Input'!$F$4","v":0}]
[null,{"$f":"'Data Input'!$G$8","v":"B"},{"$f":"'Data Input'!$G$1","v":5},null,{"$f":"'Data Input'!$G$6","v":"Why Molly too busy to tidy up"},{"$f":"'Data Input'!$G$2","v":1},{"$f":"'Data Input'!$G$5","v":0},{"$f":"'Data Input'!$G$3","v":0},{"$f":"'Data Input'!$G$4","v":0}]
[null,{"$f":"'Data Input'!$H$8","v":"B"},{"$f":"'Data Input'!$H$1","v":6},null,{"$f":"'Data Input'!$H$6","v":"Where did Molly look for octopus"},{"$f":"'Data Input'!$H$2","v":1},{"$f":"'Data Input'!$H$5","v":0},{"$f":"'Data Input'!$H$3","v":0},{"$f":"'Data Input'!$H$4","v":0}]
[null,{"$f":"'Data Input'!$I$8","v":"A"},{"$f":"'Data Input'!$I$1","v":7},null,{"$f":"'Data Input'!$I$6","v":"The word 'idea' means…"},{"$f":"'Data Input'!$I$2","v":1},{"$f":"'Data Input'!$I$5","v":0},{"$f":"'Data Input'!$I$3","v":0},{"$f":"'Data Input'!$I$4","v":0}]
[null,{"$f":"'Data Input'!$J$8","v":"D"},{"$f":"'Data Input'!$J$1","v":8},null,{"$f":"'Data Input'!$J$6","v":"Why did Molly rush her tea"},{"$f":"'Data Input'!$J$2","v":1},{"$f":"'Data Input'!$J$5","v":0},{"$f":"'Data Input'!$J$3","v":0},{"$f":"'Data Input'!$J$4","v":0}]
[null,{"$f":"'Data Input'!$K$8","v":"C"},{"$f":"'Data Input'!$K$1","v":9},null,{"$f":"'Data Input'!$K$6","v":"Match days to where she played"},{"$f":"'Data Input'!$K$2","v":1},{"$f":"'Data Input'!$K$5","v":0},{"$f":"'Data Input'!$K$3","v":0},{"$f":"'Data Input'!$K$4","v":0}]
[null,{"$f":"'Data Input'!$L$8","v":"B"},{"$f":"'Data Input'!$L$1","v":10},null,{"$f":"'Data Input'!$L$6","v":"What is child holding on to"},{"$f":"'Data Input'!$L$2","v":0},{"$f":"'Data Input'!$L$5","v":1},{"$f":"'Data Input'!$L$3","v":0},{"$f":"'Data Input'!$L$4","v":1}]
[null,{"$f":"'Data Input'!$M$8","v":"A"},{"$f":"'Data Input'!$M$1","v":11},null,{"$f":"'Data Input'!$M$6","v":"Word meaning same as 'stride'"},{"$f":"'Data Input'!$M$2","v":1},{"$f":"'Data Input'!$M$5","v":0},{"$f":"'Data Input'!$M$3","v":0},{"$f":"'Data Input'!$M$4","v":0}]
[null,{"$f":"'Data Input'!$N$8","v":"B"},{"$f":"'Data Input'!$N$1","v":12},null,{"$f":"'Data Input'!$N$6","v":"What happens when people see shadow"},{"$f":"'Data Input'!$N$2","v":1},{"$f":"'Data Input'!$N$5","v":0},{"$f":"'Data Input'!$N$3","v":0},{"$f":"'Data Input'!$N$4","v":0}]
[null,{"$f":"'Data Input'!$O$8","v":"D"},{"$f":"'Data Input'!$O$1","v":13},null,{"$f":"'Data Input'!$O$6","v":"Why father described as giant"},{"$f":"'Data Input'!$O$2","v":1},{"$f":"'Data Input'!$O$5","v":0},{"$f":"'Data Input'!$O$3","v":0},{"$f":"'Data Input'!$O$4","v":0}]
[null,{"$f":"'Data Input'!$P$8","v":"E"},{"$f":"'Data Input'!$P$1","v":14},null,{"$f":"'Data Input'!$P$6","v":"What might say at end of outing"},{"$f":"'Data Input'!$P$2","v":0},{"$f":"'Data Input'!$P$5","v":1},{"$f":"'Data Input'!$P$3","v":1},{"$f":"'Data Input'!$P$4","v":0}]
[null,{"$f":"'Data Input'!$Q$8","v":"B"},{"$f":"'Data Input'!$Q$1","v":15},null,{"$f":"'Data Input'!$Q$6","v":"Why is water important"},{"$f":"'Data Input'!$Q$2","v":0},{"$f":"'Data Input'!$Q$5","v":1},{"$f":"'Data Input'!$Q$3","v":1},{"$f":"'Data Input'!$Q$4","v":0}]
[null,{"$f":"'Data Input'!$R$8","v":"B"},{"$f":"'Data Input'!$R$1","v":16},null,{"$f":"'Data Input'!$R$6","v":"2 places can find water in nature"},{"$f":"'Data Input'!$R$2","v":0},{"$f":"'Data Input'!$R$5","v":1},{"$f":"'Data Input'!$R$3","v":0},{"$f":"'Data Input'!$R$4","v":1}]
[null,{"$f":"'Data Input'!$S$8","v":"D"},{"$f":"'Data Input'!$S$1","v":17},null,{"$f":"'Data Input'!$S$6","v":"Difference of sea/fresh water"},{"$f":"'Data Input'!$S$2","v":1},{"$f":"'Data Input'!$S$5","v":0},{"$f":"'Data Input'!$S$3","v":0},{"$f":"'Data Input'!$S$4","v":0}]
[null,{"$f":"'Data Input'!$T$8","v":"B"},{"$f":"'Data Input'!$T$1","v":18},null,{"$f":"'Data Input'!$T$6","v":"Name of biggest ocean"},{"$f":"'Data Input'!$T$2","v":0},{"$f":"'Data Input'!$T$5","v":1},{"$f":"'Data Input'!$T$3","v":0},{"$f":"'Data Input'!$T$4","v":1}]
[null,{"$f":"'Data Input'!$U$8","v":"B"},{"$f":"'Data Input'!$U$1","v":19},null,{"$f":"'Data Input'!$U$6","v":"Name 2 rivers in England"},{"$f":"'Data Input'!$U$2","v":1},{"$f":"'Data Input'!$U$5","v":0},{"$f":"'Data Input'!$U$3","v":0},{"$f":"'Data Input'!$U$4","v":0}]
[null,{"$f":"'Data Input'!$V$8","v":"B"},{"$f":"'Data Input'!$V$1","v":20},null,{"$f":"'Data Input'!$V$6","v":"Match word to meaning"},{"$f":"'Data Input'!$V$2","v":1},{"$f":"'Data Input'!$V$5","v":0},{"$f":"'Data Input'!$V$3","v":0},{"$f":"'Data Input'!$V$4","v":0}]
[]
[]
[]
[null,null,null,"Sorted by Correct",null,null,null,null,null,null,null,null,null,null,"Sorted by Correct"]
[null,null,null,"Strand","Question Number","Sub Category","Short Q","Correct","Incorrect or Unanswered","Incorrect","Unanswered",null,null,null,"Strand","Question Number","Sub Category","Short Q","Correct","Incorrect or unanswered","Incorrect","Unanswered"]
[null,{"$f":"RANK(C65,$C$65:$C$134)","v":1},{"$f":" H65 - ROW()*0.000000001","v":0.99999993499999995},{"$f":"'Data Input'!$C$8","v":"D"},{"$f":"'Data Input'!$C$1","v":1},{"$f":"'Data Input'!$C$7","v":0},{"$f":"'Data Input'!$C$6","v":"Molly didn't understand means…"},{"$f":"'Data Input'!$C$2","v":1},{"$f":"'Data Input'!$C$5","v":0},{"$f":"'Data Input'!$C$3","v":0},{"$f":"'Data Input'!$C$4","v":0},null,{"$f":"VLOOKUP(ROW()-ROW(M$64),$B$65:$J$134,1,FALSE)","v":1},{"$f":"VLOOKUP(ROW()-ROW(M$64),$B$65:$J$134,2,FALSE)","v":0.99999993499999995},{"$f":"VLOOKUP(ROW()-ROW(M$64),$B$65:$J$134,3,FALSE)","v":"D"},{"$f":"VLOOKUP(ROW()-ROW(M$64),$B$65:$J$134,4,FALSE)","v":1},{"$f":"VLOOKUP(ROW()-ROW(M$64),$B$65:$J$134,5,FALSE)","v":0},{"$f":"VLOOKUP(ROW()-ROW(M$64),$B$65:$J$134,6,FALSE)","v":"Molly didn't understand means…"},{"$f":"VLOOKUP(ROW()-ROW(M$64),$B$65:$J$134,7,FALSE)","v":1},{"$f":"VLOOKUP(ROW()-ROW(M$64),$B$65:$J$134,8,FALSE)","v":0},{"$f":"VLOOKUP(ROW()-ROW(M$64),$B$65:$K$134,9,FALSE)","v":0},{"$f":"VLOOKUP(ROW()-ROW(M$64),$B$65:$K$134,10,FALSE)","v":0}]
[null,2,{"$f":" H66 - ROW()*0.000000001","v":0.99999993399999998},{"$f":"'Data Input'!$D$8","v":"D"},{"$f":"'Data Input'!$D$1","v":2},{"$f":"'Data Input'!$D$7","v":0},{"$f":"'Data Input'!$D$6","v":"What did Molly think was magic"},{"$f":"'Data Input'!$D$2","v":1},{"$f":"'Data Input'!$D$5","v":0},{"$f":"'Data Input'!$D$3","v":0},{"$f":"'Data Input'!$D$4","v":0},null,2,0.99999993399999998,{"$f":"VLOOKUP(ROW()-ROW(M$64),$B$65:$J$134,3,FALSE)","v":"D"},{"$f":"VLOOKUP(ROW()-ROW(M$64),$B$65:$J$134,4,FALSE)","v":2},{"$f":"VLOOKUP(ROW()-ROW(M$64),$B$65:$J$134,5,FALSE)","v":0},{"$f":"VLOOKUP(ROW()-ROW(M$64),$B$65:$J$134,6,FALSE)","v":"What did Molly think was magic"},{"$f":"VLOOKUP(ROW()-ROW(M$64),$B$65:$J$134,7,FALSE)","v":1},{"$f":"VLOOKUP(ROW()-ROW(M$64),$B$65:$J$134,8,FALSE)","v":0},{"$f":"VLOOKUP(ROW()-ROW(M$64),$B$65:$K$134,9,FALSE)","v":0},{"$f":"VLOOKUP(ROW()-ROW(M$64),$B$65:$K$134,10,FALSE)","v":0}]
[null,3,0.99999993300000001,{"$f":"'Data Input'!$E$8","v":"B"},{"$f":"'Data Input'!$E$1","v":3},{"$f":"'Data Input'!$E$7","v":0},{"$f":"'Data Input'!$E$6","v":"What was Molly doing Tuesday"},{"$f":"'Data Input'!$E$2","v":1},{"$f":"'Data Input'!$E$5","v":0},{"$f":"'Data Input'!$E$3","v":0},{"$f":"'Data Input'!$E$4","v":0},null,3,0.99999993300000001,"B",3,0,"What was Molly doing Tuesday",1,0,0,0]
[null,4,0.99999993200000004,{"$f":"'Data Input'!$F$8","v":"D"},{"$f":"'Data Input'!$F$1","v":4},{"$f":"'Data Input'!$F$7","v":0},{"$f":"'Data Input'!$F$6","v":"Her race track had been…"},{"$f":"'Data Input'!$F$2","v":1},{"$f":"'Data Input'!$F$5","v":0},{"$f":"'Data Input'!$F$3","v":0},{"$f":"'Data Input'!$F$4","v":0},null,4,0.99999993200000004,"D",4,0,"Her race track had been…",1,0,0,0]
[null,5,0.99999993099999995,{"$f":"'Data Input'!$G$8","v":"B"},{"$f":"'Data Input'!$G$1","v":5},{"$f":"'Data Input'!$G$7","v":0},{"$f":"'Data Input'!$G$6","v":"Why Molly too busy to tidy up"},{"$f":"'Data Input'!$G$2","v":1},{"$f":"'Data Input'!$G$5","v":0},{"$f":"'Data Input'!$G$3","v":0},{"$f":"'Data Input'!$G$4","v":0},null,5,0.99999993099999995,"B",5,0,"Why Molly too busy to tidy up",1,0,0,0]
[null,6,0.99999992999999998,{"$f":"'Data Input'!$H$8","v":"B"},{"$f":"'Data Input'!$H$1","v":6},{"$f":"'Data Input'!$H$7","v":0},{"$f":"'Data Input'!$H$6","v":"Where did Molly look for octopus"},{"$f":"'Data Input'!$H$2","v":1},{"$f":"'Data Input'!$H$5","v":0},{"$f":"'Data Input'!$H$3","v":0},{"$f":"'Data Input'!$H$4","v":0},null,6,0.99999992999999998,"B",6,0,"Where did Molly look for octopus",1,0,0,0]
[null,7,0.99999992900000001,{"$f":"'Data Input'!$I$8","v":"A"},{"$f":"'Data Input'!$I$1","v":7},{"$f":"'Data Input'!$I$7","v":0},{"$f":"'Data Input'!$I$6","v":"The word 'idea' means…"},{"$f":"'Data Input'!$I$2","v":1},{"$f":"'Data Input'!$I$5","v":0},{"$f":"'Data Input'!$I$3","v":0},{"$f":"'Data Input'!$I$4","v":0},null,7,0.99999992900000001,"A",7,0,"The word 'idea' means…",1,0,0,0]
[null,8,0.99999992800000004,{"$f":"'Data Input'!$J$8","v":"D"},{"$f":"'Data Input'!$J$1","v":8},{"$f":"'Data Input'!$J$7","v":0},{"$f":"'Data Input'!$J$6","v":"Why did Molly rush her tea"},{"$f":"'Data Input'!$J$2","v":1},{"$f":"'Data Input'!$J$5","v":0},{"$f":"'Data Input'!$J$3","v":0},{"$f":"'Data Input'!$J$4","v":0},null,8,0.99999992800000004,"D",8,0,"Why did Molly rush her tea",1,0,0,0]
[null,9,0.99999992699999996,{"$f":"'Data Input'!$K$8","v":"C"},{"$f":"'Data Input'!$K$1","v":9},{"$f":"'Data Input'!$K$7","v":0},{"$f":"'Data Input'!$K$6","v":"Match days to where she played"},{"$f":"'Data Input'!$K$2","v":1},{"$f":"'Data Input'!$K$5","v":0},{"$f":"'Data Input'!$K$3","v":0},{"$f":"'Data Input'!$K$4","v":0},null,9,0.99999992699999996,{"$f":"VLOOKUP(ROW()-ROW(M$64),$B$65:$J$134,3,FALSE)","v":"C"},{"$f":"VLOOKUP(ROW()-ROW(M$64),$B$65:$J$134,4,FALSE)","v":9},{"$f":"VLOOKUP(ROW()-ROW(M$64),$B$65:$J$134,5,FALSE)","v":0},{"$f":"VLOOKUP(ROW()-ROW(M$64),$B$65:$J$134,6,FALSE)","v":"Match days to where she played"},{"$f":"VLOOKUP(ROW()-ROW(M$64),$B$65:$J$134,7,FALSE)","v":1},{"$f":"VLOOKUP(ROW()-ROW(M$64),$B$65:$J$134,8,FALSE)","v":0},{"$f":"VLOOKUP(ROW()-ROW(M$64),$B$65:$K$134,9,FALSE)","v":0},{"$f":"VLOOKUP(ROW()-ROW(M$64),$B$65:$K$134,10,FALSE)","v":0}]
[null,16,-7.4000000000000001E-8,{"$f":"'Data Input'!$L$8","v":"B"},{"$f":"'Data Input'!$L$1","v":10},{"$f":"'Data Input'!$L$7","v":0},{"$f":"'Data Input'!$L$6","v":"What is child holding on to"},{"$f":"'Data Input'!$L$2","v":0},{"$f":"'Data Input'!$L$5","v":1},{"$f":"'Data Input'!$L$3","v":0},{"$f":"'Data Input'!$L$4","v":1},null,10,0.99999992500000001,"A",11,0,"Word meaning same as 'stride'",1,0,0,0]
[null,10,0.99999992500000001,{"$f":"'Data Input'!$M$8","v":"A"},{"$f":"'Data Input'!$M$1","v":11},{"$f":"'Data Input'!$M$7","v":0},{"$f":"'Data Input'!$M$6","v":"Word meaning same as 'stride'"},{"$f":"'Data Input'!$M$2","v":1},{"$f":"'Data Input'!$M$5","v":0},{"$f":"'Data Input'!$M$3","v":0},{"$f":"'Data Input'!$M$4","v":0},null,11,0.99999992400000004,"B",12,0,"What happens when people see shadow",1,0,0,0]
[null,11,0.99999992400000004,{"$f":"'Data Input'!$N$8","v":"B"},{"$f":"'Data Input'!$N$1","v":12},{"$f":"'Data Input'!$N$7","v":0},{"$f":"'Data Input'!$N$6","v":"What happens when people see shadow"},{"$f":"'Data Input'!$N$2","v":1},{"$f":"'Data Input'!$N$5","v":0},{"$f":"'Data Input'!$N$3","v":0},{"$f":"'Data Input'!$N$4","v":0},null,12,0.99999992299999996,"D",13,0,"Why father described as giant",1,0,0,0]
[null,12,0.99999992299999996,{"$f":"'Data Input'!$O$8","v":"D"},{"$f":"'Data Input'!$O$1","v":13},{"$f":"'Data Input'!$O$7","v":0},{"$f":"'Data Input'!$O$6","v":"Why father described as giant"},{"$f":"'Data Input'!$O$2","v":1},{"$f":"'Data Input'!$O$5","v":0},{"$f":"'Data Input'!$O$3","v":0},{"$f":"'Data Input'!$O$4","v":0},null,13,0.99999991899999996,"D",17,0,"Difference of sea/fresh water",1,0,0,0]
[null,17,-7.800000000000001E-8,{"$f":"'Data Input'!$P$8","v":"E"},{"$f":"'Data Input'!$P$1","v":14},{"$f":"'Data Input'!$P$7","v":0},{"$f":"'Data Input'!$P$6","v":"What might say at end of outing"},{"$f":"'Data Input'!$P$2","v":0},{"$f":"'Data Input'!$P$5","v":1},{"$f":"'Data Input'!$P$3","v":1},{"$f":"'Data Input'!$P$4","v":0},null,14,0.99999991700000002,"B",19,0,"Name 2 rivers in England",1,0,0,0]
[null,18,-7.9000000000000006E-8,{"$f":"'Data Input'!$Q$8","v":"B"},{"$f":"'Data Input'!$Q$1","v":15},{"$f":"'Data Input'!$Q$7","v":0},{"$f":"'Data Input'!$Q$6","v":"Why is water important"},{"$f":"'Data Input'!$Q$2","v":0},{"$f":"'Data Input'!$Q$5","v":1},{"$f":"'Data Input'!$Q$3","v":1},{"$f":"'Data Input'!$Q$4","v":0},null,15,0.99999991600000004,"B",20,0,"Match word to meaning",1,0,0,0]
[null,19,-8.0000000000000002E-8,{"$f":"'Data Input'!$R$8","v":"B"},{"$f":"'Data Input'!$R$1","v":16},{"$f":"'Data Input'!$R$7","v":0},{"$f":"'Data Input'!$R$6","v":"2 places can find water in nature"},{"$f":"'Data Input'!$R$2","v":0},{"$f":"'Data Input'!$R$5","v":1},{"$f":"'Data Input'!$R$3","v":0},{"$f":"'Data Input'!$R$4","v":1},null,16,-7.4000000000000001E-8,"B",10,0,"What is child holding on to",0,1,0,1]
[null,13,0.99999991899999996,{"$f":"'Data Input'!$S$8","v":"D"},{"$f":"'Data Input'!$S$1","v":17},{"$f":"'Data Input'!$S$7","v":0},{"$f":"'Data Input'!$S$6","v":"Difference of sea/fresh water"},{"$f":"'Data Input'!$S$2","v":1},{"$f":"'Data Input'!$S$5","v":0},{"$f":"'Data Input'!$S$3","v":0},{"$f":"'Data Input'!$S$4","v":0},null,17,-7.800000000000001E-8,"E",14,0,"What might say at end of outing",0,1,1,0]
[null,20,-8.2000000000000006E-8,{"$f":"'Data Input'!$T$8","v":"B"},{"$f":"'Data Input'!$T$1","v":18},{"$f":"'Data Input'!$T$7","v":0},{"$f":"'Data Input'!$T$6","v":"Name of biggest ocean"},{"$f":"'Data Input'!$T$2","v":0},{"$f":"'Data Input'!$T$5","v":1},{"$f":"'Data Input'!$T$3","v":0},{"$f":"'Data Input'!$T$4","v":1},null,18,-7.9000000000000006E-8,"B",15,0,"Why is water important",0,1,1,0]
[null,14,0.99999991700000002,{"$f":"'Data Input'!$U$8","v":"B"},{"$f":"'Data Input'!$U$1","v":19},{"$f":"'Data Input'!$U$7","v":0},{"$f":"'Data Input'!$U$6","v":"Name 2 rivers in England"},{"$f":"'Data Input'!$U$2","v":1},{"$f":"'Data Input'!$U$5","v":0},{"$f":"'Data Input'!$U$3","v":0},{"$f":"'Data Input'!$U$4","v":0},null,19,-8.0000000000000002E-8,"B",16,0,"2 places can find water in nature",0,1,0,1]
[null,15,0.99999991600000004,{"$f":"'Data Input'!$V$8","v":"B"},{"$f":"'Data Input'!$V$1","v":20},{"$f":"'Data Input'!$V$7","v":0},{"$f":"'Data Input'!$V$6","v":"Match word to meaning"},{"$f":"'Data Input'!$V$2","v":1},{"$f":"'Data Input'!$V$5","v":0},{"$f":"'Data Input'!$V$3","v":0},{"$f":"'Data Input'!$V$4","v":0},null,20,-8.2000000000000006E-8,"B",18,0,"Name of biggest ocean",0,1,0,1]

{"sheet":"P2 Hidden Data Tables","index":3,"n_rows":102,"n_cols":22,"rows_kept":102,"cut":false,"hidden":true,"merged":[]}
[null,"Sorted by Strand"]
[null,"Strand","Question Number","Sub Category","Short Q","Correct","Incorrect or Unanswered","Incorrect","Unanswered"]
[null,{"$f":"'Data Input'!$AB$8","v":"A"},{"$f":"'Data Input'!$AB$1","v":5},{"$f":"'Data Input'!$AB$7","v":0},{"$f":"'Data Input'!$AB$6","v":"Meaning of 'golden rules'"},{"$f":"'Data Input'!$AB$2","v":0},{"$f":"'Data Input'!$AB$5","v":1},{"$f":"'Data Input'!$AB$3","v":0},{"$f":"'Data Input'!$AB$4","v":1},null,null,null,"Codes"]
[null,{"$f":"'Data Input'!$AE$8","v":"A"},{"$f":"'Data Input'!$AE$1","v":7},{"$f":"'Data Input'!$AE$7","v":0},{"$f":"'Data Input'!$AE$6","v":"Copy word meaning 'quickly'"},{"$f":"'Data Input'!$AE$2","v":1},{"$f":"'Data Input'!$AE$5","v":0},{"$f":"'Data Input'!$AE$3","v":0},{"$f":"'Data Input'!$AE$4","v":0}]
[]
[null,{"$f":"'Data Input'!$X$8","v":"B"},{"$f":"'Data Input'!$X$1","v":1},{"$f":"'Data Input'!$X$7","v":0},{"$f":"'Data Input'!$X$6","v":"Who might be interested in poster"},{"$f":"'Data Input'!$X$2","v":1},{"$f":"'Data Input'!$X$5","v":0},{"$f":"'Data Input'!$X$3","v":0},{"$f":"'Data Input'!$X$4","v":0}]
[null,{"$f":"'Data Input'!$Y$8","v":"B"},{"$f":"'Data Input'!$Y$1","v":2},{"$f":"'Data Input'!$Y$7","v":0},{"$f":"'Data Input'!$Y$6","v":"When are the swimming lessons"},{"$f":"'Data Input'!$Y$2","v":1},{"$f":"'Data Input'!$Y$5","v":0},{"$f":"'Data Input'!$Y$3","v":0},{"$f":"'Data Input'!$Y$4","v":0}]
[null,{"$f":"'Data Input'!$Z$8","v":"B"},{"$f":"'Data Input'!$Z$1","v":3},{"$f":"'Data Input'!$Z$7","v":0},{"$f":"'Data Input'!$Z$6","v":"Two things instructors trained to teach"},{"$f":"'Data Input'!$Z$2","v":1},{"$f":"'Data Input'!$Z$5","v":0},{"$f":"'Data Input'!$Z$3","v":0},{"$f":"'Data Input'!$Z$4","v":0}]
[null,{"$f":"'Data Input'!$AA$8","v":"B"},{"$f":"'Data Input'!$AA$1","v":4},{"$f":"'Data Input'!$AA$7","v":0},{"$f":"'Data Input'!$AA$6","v":"2 things have to take to lessons"},{"$f":"'Data Input'!$AA$2","v":1},{"$f":"'Data Input'!$AA$5","v":0},{"$f":"'Data Input'!$AA$3","v":0},{"$f":"'Data Input'!$AA$4","v":0}]
[null,{"$f":"'Data Input'!$AF$8","v":"B"},{"$f":"'Data Input'!$AF$1","v":8},{"$f":"'Data Input'!$AF$7","v":0},{"$f":"'Data Input'!$AF$6","v":"What fox thought was coming"},{"$f":"'Data Input'!$AF$2","v":1},{"$f":"'Data Input'!$AF$5","v":0},{"$f":"'Data Input'!$AF$3","v":0},{"$f":"'Data Input'!$AF$4","v":0}]
[null,{"$f":"'Data Input'!$AI$8","v":"B"},{"$f":"'Data Input'!$AI$1","v":10},{"$f":"'Data Input'!$AI$7","v":0},{"$f":"'Data Input'!$AI$6","v":"What was H.F. on his way to do"},{"$f":"'Data Input'!$AI$2","v":0},{"$f":"'Data Input'!$AI$5","v":1},{"$f":"'Data Input'!$AI$3","v":1},{"$f":"'Data Input'!$AI$4","v":0}]
[null,{"$f":"'Data Input'!$AJ$8","v":"B"},{"$f":"'Data Input'!$AJ$1","v":11},{"$f":"'Data Input'!$AJ$7","v":0},{"$f":"'Data Input'!$AJ$6","v":"How did Fox trick H.F."},{"$f":"'Data Input'!$AJ$2","v":1},{"$f":"'Data Input'!$AJ$5","v":0},{"$f":"'Data Input'!$AJ$3","v":0},{"$f":"'Data Input'!$AJ$4","v":0}]
[null,{"$f":"'Data Input'!$AK$8","v":"B"},{"$f":"'Data Input'!$AK$1","v":"12a"},{"$f":"'Data Input'!$AK$7","v":0},{"$f":"'Data Input'!$AK$6","v":"How did Fox escape from bog"},{"$f":"'Data Input'!$AK$2","v":0},{"$f":"'Data Input'!$AK$5","v":1},{"$f":"'Data Input'!$AK$3","v":0},{"$f":"'Data Input'!$AK$4","v":1}]
[null,{"$f":"'Data Input'!$AL$8","v":"B"},{"$f":"'Data Input'!$AL$1","v":"12b"},{"$f":"'Data Input'!$AL$7","v":0},{"$f":"'Data Input'!$AL$6","v":"Why did H.F. not notice escape"},{"$f":"'Data Input'!$AL$2","v":0},{"$f":"'Data Input'!$AL$5","v":1},{"$f":"'Data Input'!$AL$3","v":1},{"$f":"'Data Input'!$AL$4","v":0}]
[null,{"$f":"'Data Input'!$AC$8","v":"B"},{"$f":"'Data Input'!$AC$1","v":"6i"},{"$f":"'Data Input'!$AC$7","v":0},{"$f":"'Data Input'!$AC$6","v":"Statements true/false"},{"$f":"'Data Input'!$AC$2","v":1},{"$f":"'Data Input'!$AC$5","v":0},{"$f":"'Data Input'!$AC$3","v":0},{"$f":"'Data Input'!$AC$4","v":0}]
[null,{"$f":"'Data Input'!$AD$8","v":"B"},{"$f":"'Data Input'!$AD$1","v":"6ii"},{"$f":"'Data Input'!$AD$7","v":0},{"$f":"'Data Input'!$AD$6","v":"Statements true/false"},{"$f":"'Data Input'!$AD$2","v":1},{"$f":"'Data Input'!$AD$5","v":0},{"$f":"'Data Input'!$AD$3","v":0},{"$f":"'Data Input'!$AD$4","v":0}]
[null,{"$f":"'Data Input'!$AG$8","v":"B"},{"$f":"'Data Input'!$AG$1","v":"9i"},{"$f":"'Data Input'!$AG$7","v":0},{"$f":"'Data Input'!$AG$6","v":"Why Fox interested in Heron Feather"},{"$f":"'Data Input'!$AG$2","v":0},{"$f":"'Data Input'!$AG$5","v":1},{"$f":"'Data Input'!$AG$3","v":1},{"$f":"'Data Input'!$AG$4","v":0}]
[null,{"$f":"'Data Input'!$AH$8","v":"B"},{"$f":"'Data Input'!$AH$1","v":"9ii"},{"$f":"'Data Input'!$AH$7","v":0},{"$f":"'Data Input'!$AH$6","v":"Why Fox interested in Heron Feather"},{"$f":"'Data Input'!$AH$2","v":0},{"$f":"'Data Input'!$AH$5","v":1},{"$f":"'Data Input'!$AH$3","v":1},{"$f":"'Data Input'!$AH$4","v":0}]
[]
[null,{"$f":"'Data Input'!$AQ$8","v":"C"},{"$f":"'Data Input'!$AQ$1","v":15},{"$f":"'Data Input'!$AQ$7","v":0},{"$f":"'Data Input'!$AQ$6","v":"Number events in order"},{"$f":"'Data Input'!$AQ$2","v":0},{"$f":"'Data Input'!$AQ$5","v":1},{"$f":"'Data Input'!$AQ$3","v":1},{"$f":"'Data Input'!$AQ$4","v":0}]
[]
[null,{"$f":"'Data Input'!$AM$8","v":"D"},{"$f":"'Data Input'!$AM$1","v":"13a"},{"$f":"'Data Input'!$AM$7","v":0},{"$f":"'Data Input'!$AM$6","v":"Story shows H.F. was…"},{"$f":"'Data Input'!$AM$2","v":0},{"$f":"'Data Input'!$AM$5","v":1},{"$f":"'Data Input'!$AM$3","v":0},{"$f":"'Data Input'!$AM$4","v":1}]
[null,{"$f":"'Data Input'!$AN$8","v":"D"},{"$f":"'Data Input'!$AN$1","v":"13b"},{"$f":"'Data Input'!$AN$7","v":0},{"$f":"'Data Input'!$AN$6","v":"Story shows Fox was…"},{"$f":"'Data Input'!$AN$2","v":0},{"$f":"'Data Input'!$AN$5","v":1},{"$f":"'Data Input'!$AN$3","v":1},{"$f":"'Data Input'!$AN$4","v":0}]
[null,{"$f":"'Data Input'!$AO$8","v":"D"},{"$f":"'Data Input'!$AO$1","v":"14a"},{"$f":"'Data Input'!$AO$7","v":0},{"$f":"'Data Input'!$AO$6","v":"How did Heron feel at end"},{"$f":"'Data Input'!$AO$2","v":0},{"$f":"'Data Input'!$AO$5","v":1},{"$f":"'Data Input'!$AO$3","v":1},{"$f":"'Data Input'!$AO$4","v":0}]
[null,{"$f":"'Data Input'!$AP$8","v":"D"},{"$f":"'Data Input'!$AP$1","v":"14b"},{"$f":"'Data Input'!$AP$7","v":0},{"$f":"'Data Input'!$AP$6","v":"Why did he feel like that"},{"$f":"'Data Input'!$AP$2","v":1},{"$f":"'Data Input'!$AP$5","v":0},{"$f":"'Data Input'!$AP$3","v":0},{"$f":"'Data Input'!$AP$4","v":0}]
[]
[]
[]
[]
[]
[]
[]
[]
[]
[]
[null,"Sorted by Sub Type"]
[null,"Strand","Question Number","Sub Category","Short Q","Correct","Incorrect or Unanswered","Incorrect","Unanswered"]
[null,{"$f":"'Data Input'!$X$8","v":"B"},{"$f":"'Data Input'!$X$1","v":1},{"$f":"'Data Input'!$X$7","v":0},{"$f":"'Data Input'!$X$6","v":"Who might be interested in poster"},{"$f":"'Data Input'!$X$2","v":1},{"$f":"'Data Input'!$X$5","v":0},{"$f":"'Data Input'!$X$3","v":0},{"$f":"'Data Input'!$X$4","v":0}]
[null,{"$f":"'Data Input'!$Y$8","v":"B"},{"$f":"'Data Input'!$Y$1","v":2},{"$f":"'Data Input'!$Y$7","v":0},{"$f":"'Data Input'!$Y$6","v":"When are the swimming lessons"},{"$f":"'Data Input'!$Y$2","v":1},{"$f":"'Data Input'!$Y$5","v":0},{"$f":"'Data Input'!$Y$3","v":0},{"$f":"'Data Input'!$Y$4","v":0}]
[null,{"$f":"'Data Input'!$AA$8","v":"B"},{"$f":"'Data Input'!$AA$1","v":4},{"$f":"'Data Input'!$AA$7","v":0},{"$f":"'Data Input'!$AA$6","v":"2 things have to take to lessons"},{"$f":"'Data Input'!$AA$2","v":1},{"$f":"'Data Input'!$AA$5","v":0},{"$f":"'Data Input'!$AA$3","v":0},{"$f":"'Data Input'!$AA$4","v":0}]
[null,{"$f":"'Data Input'!$AB$8","v":"A"},{"$f":"'Data Input'!$AB$1","v":5},{"$f":"'Data Input'!$AB$7","v":0},{"$f":"'Data Input'!$AB$6","v":"Meaning of 'golden rules'"},{"$f":"'Data Input'!$AB$2","v":0},{"$f":"'Data Input'!$AB$5","v":1},{"$f":"'Data Input'!$AB$3","v":0},{"$f":"'Data Input'!$AB$4","v":1}]
[null,{"$f":"'Data Input'!$AC$8","v":"B"},{"$f":"'Data Input'!$AC$1","v":"6i"},{"$f":"'Data Input'!$AC$7","v":0},{"$f":"'Data Input'!$AC$6","v":"Statements true/false"},{"$f":"'Data Input'!$AC$2","v":1},{"$f":"'Data Input'!$AC$5","v":0},{"$f":"'Data Input'!$AC$3","v":0},{"$f":"'Data Input'!$AC$4","v":0}]
[null,{"$f":"'Data Input'!$AK$8","v":"B"},{"$f":"'Data Input'!$AK$1","v":"12a"},{"$f":"'Data Input'!$AK$7","v":0},{"$f":"'Data Input'!$AK$6","v":"How did Fox escape from bog"},{"$f":"'Data Input'!$AK$2","v":0},{"$f":"'Data Input'!$AK$5","v":1},{"$f":"'Data Input'!$AK$3","v":0},{"$f":"'Data Input'!$AK$4","v":1}]
[null,{"$f":"'Data Input'!$AN$8","v":"D"},{"$f":"'Data Input'!$AN$1","v":"13b"},{"$f":"'Data Input'!$AN$7","v":0},{"$f":"'Data Input'!$AN$6","v":"Story shows Fox was…"},{"$f":"'Data Input'!$AN$2","v":0},{"$f":"'Data Input'!$AN$5","v":1},{"$f":"'Data Input'!$AN$3","v":1},{"$f":"'Data Input'!$AN$4","v":0}]
[null,{"$f":"'Data Input'!$AO$8","v":"D"},{"$f":"'Data Input'!$AO$1","v":"14a"},{"$f":"'Data Input'!$AO$7","v":0},{"$f":"'Data Input'!$AO$6","v":"How did Heron feel at end"},{"$f":"'Data Input'!$AO$2","v":0},{"$f":"'Data Input'!$AO$5","v":1},{"$f":"'Data Input'!$AO$3","v":1},{"$f":"'Data Input'!$AO$4","v":0}]
[null,{"$f":"'Data Input'!$AP$8","v":"D"},{"$f":"'Data Input'!$AP$1","v":"14b"},{"$f":"'Data Input'!$AP$7","v":0},{"$f":"'Data Input'!$AP$6","v":"Why did he feel like that"},{"$f":"'Data Input'!$AP$2","v":1},{"$f":"'Data Input'!$AP$5","v":0},{"$f":"'Data Input'!$AP$3","v":0},{"$f":"'Data Input'!$AP$4","v":0}]
[null,{"$f":"'Data Input'!$AQ$8","v":"C"},{"$f":"'Data Input'!$AQ$1","v":15},{"$f":"'Data Input'!$AQ$7","v":0},{"$f":"'Data Input'!$AQ$6","v":"Number events in order"},{"$f":"'Data Input'!$AQ$2","v":0},{"$f":"'Data Input'!$AQ$5","v":1},{"$f":"'Data Input'!$AQ$3","v":1},{"$f":"'Data Input'!$AQ$4","v":0}]
[null,{"$f":"'Data Input'!#REF!","v":{"$error":"#REF!"}},{"$f":"'Data Input'!#REF!","v":{"$error":"#REF!"}},{"$f":"'Data Input'!#REF!","v":{"$error":"#REF!"}},{"$f":"'Data Input'!#REF!","v":{"$error":"#REF!"}},{"$f":"'Data Input'!#REF!","v":{"$error":"#REF!"}},{"$f":"'Data Input'!#REF!","v":{"$error":"#REF!"}},{"$f":"'Data Input'!#REF!","v":{"$error":"#REF!"}},{"$f":"'Data Input'!#REF!","v":{"$error":"#REF!"}}]
[null,{"$f":"'Data Input'!#REF!","v":{"$error":"#REF!"}},{"$f":"'Data Input'!#REF!","v":{"$error":"#REF!"}},{"$f":"'Data Input'!#REF!","v":{"$error":"#REF!"}},{"$f":"'Data Input'!#REF!","v":{"$error":"#REF!"}},{"$f":"'Data Input'!#REF!","v":{"$error":"#REF!"}},{"$f":"'Data Input'!#REF!","v":{"$error":"#REF!"}},{"$f":"'Data Input'!#REF!","v":{"$error":"#REF!"}},{"$f":"'Data Input'!#REF!","v":{"$error":"#REF!"}}]
[null,{"$f":"'Data Input'!#REF!","v":{"$error":"#REF!"}},{"$f":"'Data Input'!#REF!","v":{"$error":"#REF!"}},{"$f":"'Data Input'!#REF!","v":{"$error":"#REF!"}},{"$f":"'Data Input'!#REF!","v":{"$error":"#REF!"}},{"$f":"'Data Input'!#REF!","v":{"$error":"#REF!"}},{"$f":"'Data Input'!#REF!","v":{"$error":"#REF!"}},{"$f":"'Data Input'!#REF!","v":{"$error":"#REF!"}},{"$f":"'Data Input'!#REF!","v":{"$error":"#REF!"}}]
[null,{"$f":"'Data Input'!#REF!","v":{"$error":"#REF!"}},{"$f":"'Data Input'!#REF!","v":{"$error":"#REF!"}},{"$f":"'Data Input'!#REF!","v":{"$error":"#REF!"}},{"$f":"'Data Input'!#REF!","v":{"$error":"#REF!"}},{"$f":"'Data Input'!#REF!","v":{"$error":"#REF!"}},{"$f":"'Data Input'!#REF!","v":{"$error":"#REF!"}},{"$f":"'Data Input'!#REF!","v":{"$error":"#REF!"}},{"$f":"'Data Input'!#REF!","v":{"$error":"#REF!"}}]
[null,{"$f":"'Data Input'!#REF!","v":{"$error":"#REF!"}},{"$f":"'Data Input'!#REF!","v":{"$error":"#REF!"}},{"$f":"'Data Input'!#REF!","v":{"$error":"#REF!"}},{"$f":"'Data Input'!#REF!","v":{"$error":"#REF!"}},{"$f":"'Data Input'!#REF!","v":{"$error":"#REF!"}},{"$f":"'Data Input'!#REF!","v":{"$error":"#REF!"}},{"$f":"'Data Input'!#REF!","v":{"$error":"#REF!"}},{"$f":"'Data Input'!#REF!","v":{"$error":"#REF!"}}]
[null,{"$f":"'Data Input'!#REF!","v":{"$error":"#REF!"}},{"$f":"'Data Input'!#REF!","v":{"$error":"#REF!"}},{"$f":"'Data Input'!#REF!","v":{"$error":"#REF!"}},{"$f":"'Data Input'!#REF!","v":{"$error":"#REF!"}},{"$f":"'Data Input'!#REF!","v":{"$error":"#REF!"}},{"$f":"'Data Input'!#REF!","v":{"$error":"#REF!"}},{"$f":"'Data Input'!#REF!","v":{"$error":"#REF!"}},{"$f":"'Data Input'!#REF!","v":{"$error":"#REF!"}}]
[null,{"$f":"'Data Input'!#REF!","v":{"$error":"#REF!"}},{"$f":"'Data Input'!#REF!","v":{"$error":"#REF!"}},{"$f":"'Data Input'!#REF!","v":{"$error":"#REF!"}},{"$f":"'Data Input'!#REF!","v":{"$error":"#REF!"}},{"$f":"'Data Input'!#REF!","v":{"$error":"#REF!"}},{"$f":"'Data Input'!#REF!","v":{"$error":"#REF!"}},{"$f":"'Data Input'!#REF!","v":{"$error":"#REF!"}},{"$f":"'Data Input'!#REF!","v":{"$error":"#REF!"}}]
[null,{"$f":"'Data Input'!$AI$8","v":"B"},{"$f":"'Data Input'!$AI$1","v":10},{"$f":"'Data Input'!$AI$7","v":0},{"$f":"'Data Input'!$AI$6","v":"What was H.F. on his way to do"},{"$f":"'Data Input'!$AI$2","v":0},{"$f":"'Data Input'!$AI$5","v":1},{"$f":"'Data Input'!$AI$3","v":1},{"$f":"'Data Input'!$AI$4","v":0}]
[null,{"$f":"'Data Input'!#REF!","v":{"$error":"#REF!"}},{"$f":"'Data Input'!#REF!","v":{"$error":"#REF!"}},{"$f":"'Data Input'!#REF!","v":{"$error":"#REF!"}},{"$f":"'Data Input'!#REF!","v":{"$error":"#REF!"}},{"$f":"'Data Input'!#REF!","v":{"$error":"#REF!"}},{"$f":"'Data Input'!#REF!","v":{"$error":"#REF!"}},{"$f":"'Data Input'!#REF!","v":{"$error":"#REF!"}},{"$f":"'Data Input'!#REF!","v":{"$error":"#REF!"}}]
[null,{"$f":"'Data Input'!#REF!","v":{"$error":"#REF!"}},{"$f":"'Data Input'!#REF!","v":{"$error":"#REF!"}},{"$f":"'Data Input'!#REF!","v":{"$error":"#REF!"}},{"$f":"'Data Input'!#REF!","v":{"$error":"#REF!"}},{"$f":"'Data Input'!#REF!","v":{"$error":"#REF!"}},{"$f":"'Data Input'!#REF!","v":{"$error":"#REF!"}},{"$f":"'Data Input'!#REF!","v":{"$error":"#REF!"}},{"$f":"'Data Input'!#REF!","v":{"$error":"#REF!"}}]
[null,{"$f":"'Data Input'!#REF!","v":{"$error":"#REF!"}},{"$f":"'Data Input'!#REF!","v":{"$error":"#REF!"}},{"$f":"'Data Input'!#REF!","v":{"$error":"#REF!"}},{"$f":"'Data Input'!#REF!","v":{"$error":"#REF!"}},{"$f":"'Data Input'!#REF!","v":{"$error":"#REF!"}},{"$f":"'Data Input'!#REF!","v":{"$error":"#REF!"}},{"$f":"'Data Input'!#REF!","v":{"$error":"#REF!"}},{"$f":"'Data Input'!#REF!","v":{"$error":"#REF!"}}]
[null,{"$f":"'Data Input'!#REF!","v":{"$error":"#REF!"}},{"$f":"'Data Input'!#REF!","v":{"$error":"#REF!"}},{"$f":"'Data Input'!#REF!","v":{"$error":"#REF!"}},{"$f":"'Data Input'!#REF!","v":{"$error":"#REF!"}},{"$f":"'Data Input'!#REF!","v":{"$error":"#REF!"}},{"$f":"'Data Input'!#REF!","v":{"$error":"#REF!"}},{"$f":"'Data Input'!#REF!","v":{"$error":"#REF!"}},{"$f":"'Data Input'!#REF!","v":{"$error":"#REF!"}}]
[null,{"$f":"'Data Input'!#REF!","v":{"$error":"#REF!"}},{"$f":"'Data Input'!#REF!","v":{"$error":"#REF!"}},{"$f":"'Data Input'!#REF!","v":{"$error":"#REF!"}},{"$f":"'Data Input'!#REF!","v":{"$error":"#REF!"}},{"$f":"'Data Input'!#REF!","v":{"$error":"#REF!"}},{"$f":"'Data Input'!#REF!","v":{"$error":"#REF!"}},{"$f":"'Data Input'!#REF!","v":{"$error":"#REF!"}},{"$f":"'Data Input'!#REF!","v":{"$error":"#REF!"}}]
[null,{"$f":"'Data Input'!#REF!","v":{"$error":"#REF!"}},{"$f":"'Data Input'!#REF!","v":{"$error":"#REF!"}},{"$f":"'Data Input'!#REF!","v":{"$error":"#REF!"}},{"$f":"'Data Input'!#REF!","v":{"$error":"#REF!"}},{"$f":"'Data Input'!#REF!","v":{"$error":"#REF!"}},{"$f":"'Data Input'!#REF!","v":{"$error":"#REF!"}},{"$f":"'Data Input'!#REF!","v":{"$error":"#REF!"}},{"$f":"'Data Input'!#REF!","v":{"$error":"#REF!"}}]
[null,{"$f":"'Data Input'!#REF!","v":{"$error":"#REF!"}},{"$f":"'Data Input'!#REF!","v":{"$error":"#REF!"}},{"$f":"'Data Input'!#REF!","v":{"$error":"#REF!"}},{"$f":"'Data Input'!#REF!","v":{"$error":"#REF!"}},{"$f":"'Data Input'!#REF!","v":{"$error":"#REF!"}},{"$f":"'Data Input'!#REF!","v":{"$error":"#REF!"}},{"$f":"'Data Input'!#REF!","v":{"$error":"#REF!"}},{"$f":"'Data Input'!#REF!","v":{"$error":"#REF!"}}]
[null,{"$f":"'Data Input'!#REF!","v":{"$error":"#REF!"}},{"$f":"'Data Input'!#REF!","v":{"$error":"#REF!"}},{"$f":"'Data Input'!#REF!","v":{"$error":"#REF!"}},{"$f":"'Data Input'!#REF!","v":{"$error":"#REF!"}},{"$f":"'Data Input'!#REF!","v":{"$error":"#REF!"}},{"$f":"'Data Input'!#REF!","v":{"$error":"#REF!"}},{"$f":"'Data Input'!#REF!","v":{"$error":"#REF!"}},{"$f":"'Data Input'!#REF!","v":{"$error":"#REF!"}}]
[null,{"$f":"'Data Input'!$AL$8","v":"B"},{"$f":"'Data Input'!$AL$1","v":"12b"},{"$f":"'Data Input'!$AL$7","v":0},{"$f":"'Data Input'!$AL$6","v":"Why did H.F. not notice escape"},{"$f":"'Data Input'!$AL$2","v":0},{"$f":"'Data Input'!$AL$5","v":1},{"$f":"'Data Input'!$AL$3","v":1},{"$f":"'Data Input'!$AL$4","v":0}]
[null,{"$f":"'Data Input'!$AM$8","v":"D"},{"$f":"'Data Input'!$AM$1","v":"13a"},{"$f":"'Data Input'!$AM$7","v":0},{"$f":"'Data Input'!$AM$6","v":"Story shows H.F. was…"},{"$f":"'Data Input'!$AM$2","v":0},{"$f":"'Data Input'!$AM$5","v":1},{"$f":"'Data Input'!$AM$3","v":0},{"$f":"'Data Input'!$AM$4","v":1}]
[null,{"$f":"'Data Input'!$AD$8","v":"B"},{"$f":"'Data Input'!$AD$1","v":"6ii"},{"$f":"'Data Input'!$AD$7","v":0},{"$f":"'Data Input'!$AD$6","v":"Statements true/false"},{"$f":"'Data Input'!$AD$2","v":1},{"$f":"'Data Input'!$AD$5","v":0},{"$f":"'Data Input'!$AD$3","v":0},{"$f":"'Data Input'!$AD$4","v":0}]
[null,{"$f":"'Data Input'!$AE$8","v":"A"},{"$f":"'Data Input'!$AE$1","v":7},{"$f":"'Data Input'!$AE$7","v":0},{"$f":"'Data Input'!$AE$6","v":"Copy word meaning 'quickly'"},{"$f":"'Data Input'!$AE$2","v":1},{"$f":"'Data Input'!$AE$5","v":0},{"$f":"'Data Input'!$AE$3","v":0},{"$f":"'Data Input'!$AE$4","v":0}]
[null,{"$f":"'Data Input'!#REF!","v":{"$error":"#REF!"}},{"$f":"'Data Input'!#REF!","v":{"$error":"#REF!"}},{"$f":"'Data Input'!#REF!","v":{"$error":"#REF!"}},{"$f":"'Data Input'!#REF!","v":{"$error":"#REF!"}},{"$f":"'Data Input'!#REF!","v":{"$error":"#REF!"}},{"$f":"'Data Input'!#REF!","v":{"$error":"#REF!"}},{"$f":"'Data Input'!#REF!","v":{"$error":"#REF!"}},{"$f":"'Data Input'!#REF!","v":{"$error":"#REF!"}}]
[null,{"$f":"'Data Input'!#REF!","v":{"$error":"#REF!"}},{"$f":"'Data Input'!#REF!","v":{"$error":"#REF!"}},{"$f":"'Data Input'!#REF!","v":{"$error":"#REF!"}},{"$f":"'Data Input'!#REF!","v":{"$error":"#REF!"}},{"$f":"'Data Input'!#REF!","v":{"$error":"#REF!"}},{"$f":"'Data Input'!#REF!","v":{"$error":"#REF!"}},{"$f":"'Data Input'!#REF!","v":{"$error":"#REF!"}},{"$f":"'Data Input'!#REF!","v":{"$error":"#REF!"}}]
[null,{"$f":"'Data Input'!$Z$8","v":"B"},{"$f":"'Data Input'!$Z$1","v":3},{"$f":"'Data Input'!$Z$7","v":0},{"$f":"'Data Input'!$Z$6","v":"Two things instructors trained to teach"},{"$f":"'Data Input'!$Z$2","v":1},{"$f":"'Data Input'!$Z$5","v":0},{"$f":"'Data Input'!$Z$3","v":0},{"$f":"'Data Input'!$Z$4","v":0}]
[null,{"$f":"'Data Input'!$AF$8","v":"B"},{"$f":"'Data Input'!$AF$1","v":8},{"$f":"'Data Input'!$AF$7","v":0},{"$f":"'Data Input'!$AF$6","v":"What fox thought was coming"},{"$f":"'Data Input'!$AF$2","v":1},{"$f":"'Data Input'!$AF$5","v":0},{"$f":"'Data Input'!$AF$3","v":0},{"$f":"'Data Input'!$AF$4","v":0}]
[null,{"$f":"'Data Input'!$AG$8","v":"B"},{"$f":"'Data Input'!$AG$1","v":"9i"},{"$f":"'Data Input'!$AG$7","v":0},{"$f":"'Data Input'!$AG$6","v":"Why Fox interested in Heron Feather"},{"$f":"'Data Input'!$AG$2","v":0},{"$f":"'Data Input'!$AG$5","v":1},{"$f":"'Data Input'!$AG$3","v":1},{"$f":"'Data Input'!$AG$4","v":0}]
[null,{"$f":"'Data Input'!$AH$8","v":"B"},{"$f":"'Data Input'!$AH$1","v":"9ii"},{"$f":"'Data Input'!$AH$7","v":0},{"$f":"'Data Input'!$AH$6","v":"Why Fox interested in Heron Feather"},{"$f":"'Data Input'!$AH$2","v":0},{"$f":"'Data Input'!$AH$5","v":1},{"$f":"'Data Input'!$AH$3","v":1},{"$f":"'Data Input'!$AH$4","v":0}]
[null,{"$f":"'Data Input'!$AJ$8","v":"B"},{"$f":"'Data Input'!$AJ$1","v":11},{"$f":"'Data Input'!$AJ$7","v":0},{"$f":"'Data Input'!$AJ$6","v":"How did Fox trick H.F."},{"$f":"'Data Input'!$AJ$2","v":1},{"$f":"'Data Input'!$AJ$5","v":0},{"$f":"'Data Input'!$AJ$3","v":0},{"$f":"'Data Input'!$AJ$4","v":0}]
[null,{"$f":"'Data Input'!#REF!","v":{"$error":"#REF!"}},{"$f":"'Data Input'!#REF!","v":{"$error":"#REF!"}},{"$f":"'Data Input'!#REF!","v":{"$error":"#REF!"}},{"$f":"'Data Input'!#REF!","v":{"$error":"#REF!"}},{"$f":"'Data Input'!#REF!","v":{"$error":"#REF!"}},{"$f":"'Data Input'!#REF!","v":{"$error":"#REF!"}},{"$f":"'Data Input'!#REF!","v":{"$error":"#REF!"}},{"$f":"'Data Input'!#REF!","v":{"$error":"#REF!"}}]
[null,{"$f":"'Data Input'!#REF!","v":{"$error":"#REF!"}},{"$f":"'Data Input'!#REF!","v":{"$error":"#REF!"}},{"$f":"'Data Input'!#REF!","v":{"$error":"#REF!"}},{"$f":"'Data Input'!#REF!","v":{"$error":"#REF!"}},{"$f":"'Data Input'!#REF!","v":{"$error":"#REF!"}},{"$f":"'Data Input'!#REF!","v":{"$error":"#REF!"}},{"$f":"'Data Input'!#REF!","v":{"$error":"#REF!"}},{"$f":"'Data Input'!#REF!","v":{"$error":"#REF!"}}]
[null,{"$f":"'Data Input'!#REF!","v":{"$error":"#REF!"}},{"$f":"'Data Input'!#REF!","v":{"$error":"#REF!"}},{"$f":"'Data Input'!#REF!","v":{"$error":"#REF!"}},{"$f":"'Data Input'!#REF!","v":{"$error":"#REF!"}},{"$f":"'Data Input'!#REF!","v":{"$error":"#REF!"}},{"$f":"'Data Input'!#REF!","v":{"$error":"#REF!"}},{"$f":"'Data Input'!#REF!","v":{"$error":"#REF!"}},{"$f":"'Data Input'!#REF!","v":{"$error":"#REF!"}}]
[]
[]
[]
[null,null,null,"Sorted by Correct",null,null,null,null,null,null,null,null,null,null,"Sorted by Correct"]
[null,null,null,"Strand","Question Number","Sub Category","Short Q","Correct","Incorrect or Unanswered","Incorrect","Unanswered",null,null,null,"Strand","Question Number","Sub Category","Short Q","Correct","Incorrect or unanswered","Incorrect","Unanswered"]
[null,{"$f":"RANK(C83,$C$83:$C$152)","v":1},{"$f":" H83 - ROW()*0.000000001","v":0.99999991700000002},{"$f":"'Data Input'!$X$8","v":"B"},{"$f":"'Data Input'!$X$1","v":1},{"$f":"'Data Input'!$X$7","v":0},{"$f":"'Data Input'!$X$6","v":"Who might be interested in poster"},{"$f":"'Data Input'!$X$2","v":1},{"$f":"'Data Input'!$X$5","v":0},{"$f":"'Data Input'!$X$3","v":0},{"$f":"'Data Input'!$X$4","v":0},null,{"$f":"VLOOKUP(ROW()-ROW(M$82),$B$83:$J$152,1,FALSE)","v":1},{"$f":"VLOOKUP(ROW()-ROW(M$82),$B$83:$J$152,2,FALSE)","v":0.99999991700000002},{"$f":"VLOOKUP(ROW()-ROW(M$82),$B$83:$J$152,3,FALSE)","v":"B"},{"$f":"VLOOKUP(ROW()-ROW(M$82),$B$83:$J$152,4,FALSE)","v":1},{"$f":"VLOOKUP(ROW()-ROW(M$82),$B$83:$J$152,5,FALSE)","v":0},{"$f":"VLOOKUP(ROW()-ROW(M$82),$B$83:$J$152,6,FALSE)","v":"Who might be interested in poster"},{"$f":"VLOOKUP(ROW()-ROW(M$82),$B$83:$J$152,7,FALSE)","v":1},{"$f":"VLOOKUP(ROW()-ROW(M$82),$B$83:$J$152,8,FALSE)","v":0},{"$f":"VLOOKUP(ROW()-ROW(M$82),$B$83:$K$152,9,FALSE)","v":0},{"$f":"VLOOKUP(ROW()-ROW(M$82),$B$83:$K$152,10,FALSE)","v":0}]
[null,2,{"$f":" H84 - ROW()*0.000000001","v":0.99999991600000004},{"$f":"'Data Input'!$Y$8","v":"B"},{"$f":"'Data Input'!$Y$1","v":2},{"$f":"'Data Input'!$Y$7","v":0},{"$f":"'Data Input'!$Y$6","v":"When are the swimming lessons"},{"$f":"'Data Input'!$Y$2","v":1},{"$f":"'Data Input'!$Y$5","v":0},{"$f":"'Data Input'!$Y$3","v":0},{"$f":"'Data Input'!$Y$4","v":0},null,2,0.99999991600000004,{"$f":"VLOOKUP(ROW()-ROW(M$82),$B$83:$J$152,3,FALSE)","v":"B"},{"$f":"VLOOKUP(ROW()-ROW(M$82),$B$83:$J$152,4,FALSE)","v":2},{"$f":"VLOOKUP(ROW()-ROW(M$82),$B$83:$J$152,5,FALSE)","v":0},{"$f":"VLOOKUP(ROW()-ROW(M$82),$B$83:$J$152,6,FALSE)","v":"When are the swimming lessons"},{"$f":"VLOOKUP(ROW()-ROW(M$82),$B$83:$J$152,7,FALSE)","v":1},{"$f":"VLOOKUP(ROW()-ROW(M$82),$B$83:$J$152,8,FALSE)","v":0},{"$f":"VLOOKUP(ROW()-ROW(M$82),$B$83:$K$152,9,FALSE)","v":0},{"$f":"VLOOKUP(ROW()-ROW(M$82),$B$83:$K$152,10,FALSE)","v":0}]
[null,3,0.99999991499999996,{"$f":"'Data Input'!$Z$8","v":"B"},{"$f":"'Data Input'!$Z$1","v":3},{"$f":"'Data Input'!$Z$7","v":0},{"$f":"'Data Input'!$Z$6","v":"Two things instructors trained to teach"},{"$f":"'Data Input'!$Z$2","v":1},{"$f":"'Data Input'!$Z$5","v":0},{"$f":"'Data Input'!$Z$3","v":0},{"$f":"'Data Input'!$Z$4","v":0},null,3,0.99999991499999996,"B",3,0,"Two things instructors trained to teach",1,0,0,0]
[null,4,0.99999991399999999,{"$f":"'Data Input'!$AA$8","v":"B"},{"$f":"'Data Input'!$AA$1","v":4},{"$f":"'Data Input'!$AA$7","v":0},{"$f":"'Data Input'!$AA$6","v":"2 things have to take to lessons"},{"$f":"'Data Input'!$AA$2","v":1},{"$f":"'Data Input'!$AA$5","v":0},{"$f":"'Data Input'!$AA$3","v":0},{"$f":"'Data Input'!$AA$4","v":0},null,4,0.99999991399999999,"B",4,0,"2 things have to take to lessons",1,0,0,0]
[null,11,-8.7000000000000011E-8,{"$f":"'Data Input'!$AB$8","v":"A"},{"$f":"'Data Input'!$AB$1","v":5},{"$f":"'Data Input'!$AB$7","v":0},{"$f":"'Data Input'!$AB$6","v":"Meaning of 'golden rules'"},{"$f":"'Data Input'!$AB$2","v":0},{"$f":"'Data Input'!$AB$5","v":1},{"$f":"'Data Input'!$AB$3","v":0},{"$f":"'Data Input'!$AB$4","v":1},null,5,0.99999991200000005,"B","6i",0,"Statements true/false",1,0,0,0]
[null,5,0.99999991200000005,{"$f":"'Data Input'!$AC$8","v":"B"},{"$f":"'Data Input'!$AC$1","v":"6i"},{"$f":"'Data Input'!$AC$7","v":0},{"$f":"'Data Input'!$AC$6","v":"Statements true/false"},{"$f":"'Data Input'!$AC$2","v":1},{"$f":"'Data Input'!$AC$5","v":0},{"$f":"'Data Input'!$AC$3","v":0},{"$f":"'Data Input'!$AC$4","v":0},null,6,0.99999991099999996,"B","6ii",0,"Statements true/false",1,0,0,0]
[null,6,0.99999991099999996,{"$f":"'Data Input'!$AD$8","v":"B"},{"$f":"'Data Input'!$AD$1","v":"6ii"},{"$f":"'Data Input'!$AD$7","v":0},{"$f":"'Data Input'!$AD$6","v":"Statements true/false"},{"$f":"'Data Input'!$AD$2","v":1},{"$f":"'Data Input'!$AD$5","v":0},{"$f":"'Data Input'!$AD$3","v":0},{"$f":"'Data Input'!$AD$4","v":0},null,7,0.99999990999999999,"A",7,0,"Copy word meaning 'quickly'",1,0,0,0]
[null,7,0.99999990999999999,{"$f":"'Data Input'!$AE$8","v":"A"},{"$f":"'Data Input'!$AE$1","v":7},{"$f":"'Data Input'!$AE$7","v":0},{"$f":"'Data Input'!$AE$6","v":"Copy word meaning 'quickly'"},{"$f":"'Data Input'!$AE$2","v":1},{"$f":"'Data Input'!$AE$5","v":0},{"$f":"'Data Input'!$AE$3","v":0},{"$f":"'Data Input'!$AE$4","v":0},null,8,0.99999990900000002,"B",8,0,"What fox thought was coming",1,0,0,0]
[null,8,0.99999990900000002,{"$f":"'Data Input'!$AF$8","v":"B"},{"$f":"'Data Input'!$AF$1","v":8},{"$f":"'Data Input'!$AF$7","v":0},{"$f":"'Data Input'!$AF$6","v":"What fox thought was coming"},{"$f":"'Data Input'!$AF$2","v":1},{"$f":"'Data Input'!$AF$5","v":0},{"$f":"'Data Input'!$AF$3","v":0},{"$f":"'Data Input'!$AF$4","v":0},null,9,0.99999990500000002,"B",11,0,"How did Fox trick H.F.",1,0,0,0]
[null,12,-9.2000000000000003E-8,{"$f":"'Data Input'!$AG$8","v":"B"},{"$f":"'Data Input'!$AG$1","v":"9i"},{"$f":"'Data Input'!$AG$7","v":0},{"$f":"'Data Input'!$AG$6","v":"Why Fox interested in Heron Feather"},{"$f":"'Data Input'!$AG$2","v":0},{"$f":"'Data Input'!$AG$5","v":1},{"$f":"'Data Input'!$AG$3","v":1},{"$f":"'Data Input'!$AG$4","v":0},null,10,0.99999989899999997,"D","14b",0,"Why did he feel like that",1,0,0,0]
[null,13,-9.3000000000000012E-8,{"$f":"'Data Input'!$AH$8","v":"B"},{"$f":"'Data Input'!$AH$1","v":"9ii"},{"$f":"'Data Input'!$AH$7","v":0},{"$f":"'Data Input'!$AH$6","v":"Why Fox interested in Heron Feather"},{"$f":"'Data Input'!$AH$2","v":0},{"$f":"'Data Input'!$AH$5","v":1},{"$f":"'Data Input'!$AH$3","v":1},{"$f":"'Data Input'!$AH$4","v":0},null,11,-8.7000000000000011E-8,"A",5,0,"Meaning of 'golden rules'",0,1,0,1]
[null,14,-9.4000000000000008E-8,{"$f":"'Data Input'!$AI$8","v":"B"},{"$f":"'Data Input'!$AI$1","v":10},{"$f":"'Data Input'!$AI$7","v":0},{"$f":"'Data Input'!$AI$6","v":"What was H.F. on his way to do"},{"$f":"'Data Input'!$AI$2","v":0},{"$f":"'Data Input'!$AI$5","v":1},{"$f":"'Data Input'!$AI$3","v":1},{"$f":"'Data Input'!$AI$4","v":0},null,12,-9.2000000000000003E-8,"B","9i",0,"Why Fox interested in Heron Feather",0,1,1,0]
[null,9,0.99999990500000002,{"$f":"'Data Input'!$AJ$8","v":"B"},{"$f":"'Data Input'!$AJ$1","v":11},{"$f":"'Data Input'!$AJ$7","v":0},{"$f":"'Data Input'!$AJ$6","v":"How did Fox trick H.F."},{"$f":"'Data Input'!$AJ$2","v":1},{"$f":"'Data Input'!$AJ$5","v":0},{"$f":"'Data Input'!$AJ$3","v":0},{"$f":"'Data Input'!$AJ$4","v":0},null,13,-9.3000000000000012E-8,"B","9ii",0,"Why Fox interested in Heron Feather",0,1,1,0]
[null,15,-9.6000000000000013E-8,{"$f":"'Data Input'!$AK$8","v":"B"},{"$f":"'Data Input'!$AK$1","v":"12a"},{"$f":"'Data Input'!$AK$7","v":0},{"$f":"'Data Input'!$AK$6","v":"How did Fox escape from bog"},{"$f":"'Data Input'!$AK$2","v":0},{"$f":"'Data Input'!$AK$5","v":1},{"$f":"'Data Input'!$AK$3","v":0},{"$f":"'Data Input'!$AK$4","v":1},null,14,-9.4000000000000008E-8,"B",10,0,"What was H.F. on his way to do",0,1,1,0]
[null,16,-9.7000000000000008E-8,{"$f":"'Data Input'!$AL$8","v":"B"},{"$f":"'Data Input'!$AL$1","v":"12b"},{"$f":"'Data Input'!$AL$7","v":0},{"$f":"'Data Input'!$AL$6","v":"Why did H.F. not notice escape"},{"$f":"'Data Input'!$AL$2","v":0},{"$f":"'Data Input'!$AL$5","v":1},{"$f":"'Data Input'!$AL$3","v":1},{"$f":"'Data Input'!$AL$4","v":0},null,15,-9.6000000000000013E-8,"B","12a",0,"How did Fox escape from bog",0,1,0,1]
[null,17,-9.8000000000000004E-8,{"$f":"'Data Input'!$AM$8","v":"D"},{"$f":"'Data Input'!$AM$1","v":"13a"},{"$f":"'Data Input'!$AM$7","v":0},{"$f":"'Data Input'!$AM$6","v":"Story shows H.F. was…"},{"$f":"'Data Input'!$AM$2","v":0},{"$f":"'Data Input'!$AM$5","v":1},{"$f":"'Data Input'!$AM$3","v":0},{"$f":"'Data Input'!$AM$4","v":1},null,16,-9.7000000000000008E-8,"B","12b",0,"Why did H.F. not notice escape",0,1,1,0]
[null,18,-9.9E-8,{"$f":"'Data Input'!$AN$8","v":"D"},{"$f":"'Data Input'!$AN$1","v":"13b"},{"$f":"'Data Input'!$AN$7","v":0},{"$f":"'Data Input'!$AN$6","v":"Story shows Fox was…"},{"$f":"'Data Input'!$AN$2","v":0},{"$f":"'Data Input'!$AN$5","v":1},{"$f":"'Data Input'!$AN$3","v":1},{"$f":"'Data Input'!$AN$4","v":0},null,17,-9.8000000000000004E-8,"D","13a",0,"Story shows H.F. was…",0,1,0,1]
[null,19,-1.0000000000000001E-7,{"$f":"'Data Input'!$AO$8","v":"D"},{"$f":"'Data Input'!$AO$1","v":"14a"},{"$f":"'Data Input'!$AO$7","v":0},{"$f":"'Data Input'!$AO$6","v":"How did Heron feel at end"},{"$f":"'Data Input'!$AO$2","v":0},{"$f":"'Data Input'!$AO$5","v":1},{"$f":"'Data Input'!$AO$3","v":1},{"$f":"'Data Input'!$AO$4","v":0},null,18,-9.9E-8,"D","13b",0,"Story shows Fox was…",0,1,1,0]
[null,10,0.99999989899999997,{"$f":"'Data Input'!$AP$8","v":"D"},{"$f":"'Data Input'!$AP$1","v":"14b"},{"$f":"'Data Input'!$AP$7","v":0},{"$f":"'Data Input'!$AP$6","v":"Why did he feel like that"},{"$f":"'Data Input'!$AP$2","v":1},{"$f":"'Data Input'!$AP$5","v":0},{"$f":"'Data Input'!$AP$3","v":0},{"$f":"'Data Input'!$AP$4","v":0},null,19,-1.0000000000000001E-7,"D","14a",0,"How did Heron feel at end",0,1,1,0]
[null,20,-1.02E-7,{"$f":"'Data Input'!$AQ$8","v":"C"},{"$f":"'Data Input'!$AQ$1","v":15},{"$f":"'Data Input'!$AQ$7","v":0},{"$f":"'Data Input'!$AQ$6","v":"Number events in order"},{"$f":"'Data Input'!$AQ$2","v":0},{"$f":"'Data Input'!$AQ$5","v":1},{"$f":"'Data Input'!$AQ$3","v":1},{"$f":"'Data Input'!$AQ$4","v":0},null,20,-1.02E-7,"C",15,0,"Number events in order",0,1,1,0]

{"sheet":"Pupil Summary","index":4,"n_rows":556,"n_cols":19,"rows_kept":556,"cut":false,"hidden":false,"merged":[[1,17,1,18],[2,17,2,18],[2,2,2,8],[1,9,1,10],[1,11,1,12],[1,13,1,14],[1,15,1,16],[2,9,2,10],[2,11,2,12],[2,13,2,14],[2,15,2,16]]}
[null,null,null,"Green: <10, Amber: <20, Red: >20",null,"Green %>",0.88,"Amber %>",0.63,"Red %<",{"$f":"I1","v":0.63},null,null,null,null,null,"Individual Summary in Each Overall Area",null,"Individual Summary in Each Overall Area"]
[null,null,null,null,null,null,null,null,null,"A",null,"B",null,"C",null,"D",null,"E"]
[{"$f":"\"Total Pupils: \" & COUNTA('Data Input'!A10:A558)","v":"Total Pupils: 1"},null,"Overall",null,null,null,null,null,null,"Vocabulary",null,"Key Facts",null,"Sequence",null,"Inference",null,"Prediction"]
["Name:","Below\nExpected\nExceeding","Unanswered","Incorrect","Incorrecr or Unanswered","Paper 1 Total /20","Paper 2 Total /20",{"$f":"\"Total Score \"&COUNTA('Data Input'!C8:AQ8)-1","v":"Total Score 40"},"Percent",{"$f":"\"Score /\" & COUNTIF('Data Input'!$C$8:$AQ$8,$J$2)","v":"Score /4"},"Percent",{"$f":"\"Score /\" & COUNTIF('Data Input'!$C$8:$AQ$8,$L$2)","v":"Score /23"},"Percent",{"$f":"\"Score /\" & COUNTIF('Data Input'!$C$8:$AQ$8,$N$2)","v":"Score /2"},"Percent",{"$f":"\"Score /\" & COUNTIF('Data Input'!$C$8:$AQ$8,$P$2)","v":"Score /10"},"Percent ",{"$f":"\"Score /\" & COUNTIF('Data Input'!$C$8:$AQ$8,$R$2)","v":"Score /1"},"Percent "]
[]
[{"$f":"IF('Data Input'!A10=0,\"\",'Data Input'!A10)","v":"Sample, Please delete!"},{"$f":"IF(H6=\"\",\"\",IF(H6>Welcome!$K$23-1,\"Exceeding\",IF(H6>Welcome!$G$23-1,\"Expected\",IF(H6<Welcome!$G$23,\"Below\"))))","v":"Expected"},{"$f":"IF(ISBLANK('Data Input'!A10),\"\",COUNTIF('Data Input'!C10:AQ10,\"\")-1)","v":6},{"$f":"IF(ISBLANK('Data Input'!A10),\"\",COUNTIF('Data Input'!C10:AQ10,\"0\"))","v":9},{"$f":"IF(ISBLANK('Data Input'!A10),\"\",SUM(C6,D6))","v":15},{"$f":"IF(ISBLANK('Data Input'!A10),\"\",SUM('Data Input'!C10:V10))","v":15},{"$f":"IF(ISBLANK('Data Input'!A10),\"\",SUM('Data Input'!X10:AQ10))","v":10},{"$f":"IF(ISBLANK('Data Input'!A10),\"\",SUM('Data Input'!C10:AQ10))","v":25},{"$f":"IF(H6=\"\",\"\",H6/(COUNTA('Data Input'!$C$8:$AQ$8)-1))","v":0.625},{"$f":"IF(ISBLANK('Data Input'!A10),\"\",SUM('Data Input'!I10,'Data Input'!M10,'Data Input'!AB10,'Data Input'!AE10))","v":3},{"$f":"IF(J6=\"\",\"\",J6/COUNTIF('Data Input'!$C$8:$AQ$8,$J$2))","v":0.75},{"$f":"IF(ISBLANK('Data Input'!A10),\"\",SUM('Data Input'!E10,'Data Input'!G10,'Data Input'!H10,'Data Input'!L10,'Data Input'!N10,'Data Input'!Q10,'Data Input'!R10,'Data Input'!T10,'Data Input'!U10,'Data Input'!V10,'Data Input'!X10,'Data Input'!Y10,'Data Input'!Z10,'Data Input'!AA10,'Data Input'!AC10,'Data Input'!AD10,'Data Input'!AF10,'Data Input'!AG10,'Data Input'!AH10,'Data Input'!AI10,'Data Input'!AJ10,'Data Input'!AK10,'Data Input'!AL10))","v":14},{"$f":"IF(L6=\"\",\"\",L6/COUNTIF('Data Input'!$C$8:$AQ$8,$L$2))","v":0.60869565217391308},{"$f":"IF(ISBLANK('Data Input'!A10),\"\",SUM('Data Input'!K10,'Data Input'!AQ10))","v":1},{"$f":"IF(N6=\"\",\"\",N6/COUNTIF('Data Input'!$C$8:$AQ$8,$N$2))","v":0.5},{"$f":"IF(ISBLANK('Data Input'!A10),\"\",SUM('Data Input'!C10,'Data Input'!D10,'Data Input'!F10,'Data Input'!J10,'Data Input'!O10,'Data Input'!S10,'Data Input'!AM10,'Data Input'!AN10,'Data Input'!AO10,'Data Input'!AP10))","v":7},{"$f":"IF(P6=\"\",\"\",P6/COUNTIF('Data Input'!$C$8:$AQ$8,$P$2))","v":0.7},{"$f":"IF(ISBLANK('Data Input'!C10),\"\",SUM('Data Input'!P10))","v":0},{"$f":"IF(R6=\"\",\"\",R6/COUNTIF('Data Input'!$C$8:$AQ$8,$R$2))","v":0}]
[{"$f":"IF('Data Input'!A11=0,\"\",'Data Input'!A11)","v":""},{"$f":"IF(H7=\"\",\"\",IF(H7>Welcome!$K$23-1,\"Exceeding\",IF(H7>Welcome!$G$23-1,\"Expected\",IF(H7<Welcome!$G$23,\"Below\"))))","v":""},{"$f":"IF(ISBLANK('Data Input'!A11),\"\",COUNTIF('Data Input'!C11:AQ11,\"\")-1)","v":""},{"$f":"IF(ISBLANK('Data Input'!A11),\"\",COUNTIF('Data Input'!C11:AQ11,\"0\"))","v":""},{"$f":"IF(ISBLANK('Data Input'!A11),\"\",SUM(C7,D7))","v":""},{"$f":"IF(ISBLANK('Data Input'!A11),\"\",SUM('Data Input'!C11:V11))","v":""},{"$f":"IF(ISBLANK('Data Input'!A11),\"\",SUM('Data Input'!X11:AQ11))","v":""},{"$f":"IF(ISBLANK('Data Input'!A11),\"\",SUM('Data Input'!C11:AQ11))","v":""},{"$f":"IF(H7=\"\",\"\",H7/(COUNTA('Data Input'!$C$8:$AQ$8)-1))","v":""},{"$f":"IF(ISBLANK('Data Input'!A11),\"\",SUM('Data Input'!I11,'Data Input'!M11,'Data Input'!AB11,'Data Input'!AE11))","v":""},{"$f":"IF(J7=\"\",\"\",J7/COUNTIF('Data Input'!$C$8:$AQ$8,$J$2))","v":""},{"$f":"IF(ISBLANK('Data Input'!A11),\"\",SUM('Data Input'!E11,'Data Input'!G11,'Data Input'!H11,'Data Input'!L11,'Data Input'!N11,'Data Input'!Q11,'Data Input'!R11,'Data Input'!T11,'Data Input'!U11,'Data Input'!V11,'Data Input'!X11,'Data Input'!Y11,'Data Input'!Z11,'Data Input'!AA11,'Data Input'!AC11,'Data Input'!AD11,'Data Input'!AF11,'Data Input'!AG11,'Data Input'!AH11,'Data Input'!AI11,'Data Input'!AJ11,'Data Input'!AK11,'Data Input'!AL11))","v":""},{"$f":"IF(L7=\"\",\"\",L7/COUNTIF('Data Input'!$C$8:$AQ$8,$L$2))","v":""},{"$f":"IF(ISBLANK('Data Input'!A11),\"\",SUM('Data Input'!K11,'Data Input'!AQ11))","v":""},{"$f":"IF(N7=\"\",\"\",N7/COUNTIF('Data Input'!$C$8:$AQ$8,$N$2))","v":""},{"$f":"IF(ISBLANK('Data Input'!A11),\"\",SUM('Data Input'!C11,'Data Input'!D11,'Data Input'!F11,'Data Input'!J11,'Data Input'!O11,'Data Input'!S11,'Data Input'!AM11,'Data Input'!AN11,'Data Input'!AO11,'Data Input'!AP11))","v":""},{"$f":"IF(P7=\"\",\"\",P7/COUNTIF('Data Input'!$C$8:$AQ$8,$P$2))","v":""},{"$f":"IF(ISBLANK('Data Input'!C11),\"\",SUM('Data Input'!P11))","v":""},{"$f":"IF(R7=\"\",\"\",R7/COUNTIF('Data Input'!$C$8:$AQ$8,$R$2))","v":""}]
[{"$f":"IF('Data Input'!A12=0,\"\",'Data Input'!A12)","v":""},{"$f":"IF(H8=\"\",\"\",IF(H8>Welcome!$K$23-1,\"Exceeding\",IF(H8>Welcome!$G$23-1,\"Expected\",IF(H8<Welcome!$G$23,\"Below\"))))","v":""},{"$f":"IF(ISBLANK('Data Input'!A12),\"\",COUNTIF('Data Input'!C12:AQ12,\"\")-1)","v":""},{"$f":"IF(ISBLANK('Data Input'!A12),\"\",COUNTIF('Data Input'!C12:AQ12,\"0\"))","v":""},{"$f":"IF(ISBLANK('Data Input'!A12),\"\",SUM(C8,D8))","v":""},{"$f":"IF(ISBLANK('Data Input'!A12),\"\",SUM('Data Input'!C12:V12))","v":""},{"$f":"IF(ISBLANK('Data Input'!A12),\"\",SUM('Data Input'!X12:AQ12))","v":""},{"$f":"IF(ISBLANK('Data Input'!A12),\"\",SUM('Data Input'!C12:AQ12))","v":""},{"$f":"IF(H8=\"\",\"\",H8/(COUNTA('Data Input'!$C$8:$AQ$8)-1))","v":""},{"$f":"IF(ISBLANK('Data Input'!A12),\"\",SUM('Data Input'!I12,'Data Input'!M12,'Data Input'!AB12,'Data Input'!AE12))","v":""},{"$f":"IF(J8=\"\",\"\",J8/COUNTIF('Data Input'!$C$8:$AQ$8,$J$2))","v":""},{"$f":"IF(ISBLANK('Data Input'!A12),\"\",SUM('Data Input'!E12,'Data Input'!G12,'Data Input'!H12,'Data Input'!L12,'Data Input'!N12,'Data Input'!Q12,'Data Input'!R12,'Data Input'!T12,'Data Input'!U12,'Data Input'!V12,'Data Input'!X12,'Data Input'!Y12,'Data Input'!Z12,'Data Input'!AA12,'Data Input'!AC12,'Data Input'!AD12,'Data Input'!AF12,'Data Input'!AG12,'Data Input'!AH12,'Data Input'!AI12,'Data Input'!AJ12,'Data Input'!AK12,'Data Input'!AL12))","v":""},{"$f":"IF(L8=\"\",\"\",L8/COUNTIF('Data Input'!$C$8:$AQ$8,$L$2))","v":""},{"$f":"IF(ISBLANK('Data Input'!A12),\"\",SUM('Data Input'!K12,'Data Input'!AQ12))","v":""},{"$f":"IF(N8=\"\",\"\",N8/COUNTIF('Data Input'!$C$8:$AQ$8,$N$2))","v":""},{"$f":"IF(ISBLANK('Data Input'!A12),\"\",SUM('Data Input'!C12,'Data Input'!D12,'Data Input'!F12,'Data Input'!J12,'Data Input'!O12,'Data Input'!S12,'Data Input'!AM12,'Data Input'!AN12,'Data Input'!AO12,'Data Input'!AP12))","v":""},{"$f":"IF(P8=\"\",\"\",P8/COUNTIF('Data Input'!$C$8:$AQ$8,$P$2))","v":""},{"$f":"IF(ISBLANK('Data Input'!C12),\"\",SUM('Data Input'!P12))","v":""},{"$f":"IF(R8=\"\",\"\",R8/COUNTIF('Data Input'!$C$8:$AQ$8,$R$2))","v":""}]
[{"$f":"IF('Data Input'!A13=0,\"\",'Data Input'!A13)","v":""},{"$f":"IF(H9=\"\",\"\",IF(H9>Welcome!$K$23-1,\"Exceeding\",IF(H9>Welcome!$G$23-1,\"Expected\",IF(H9<Welcome!$G$23,\"Below\"))))","v":""},{"$f":"IF(ISBLANK('Data Input'!A13),\"\",COUNTIF('Data Input'!C13:AQ13,\"\")-1)","v":""},{"$f":"IF(ISBLANK('Data Input'!A13),\"\",COUNTIF('Data Input'!C13:AQ13,\"0\"))","v":""},{"$f":"IF(ISBLANK('Data Input'!A13),\"\",SUM(C9,D9))","v":""},{"$f":"IF(ISBLANK('Data Input'!A13),\"\",SUM('Data Input'!C13:V13))","v":""},{"$f":"IF(ISBLANK('Data Input'!A13),\"\",SUM('Data Input'!X13:AQ13))","v":""},{"$f":"IF(ISBLANK('Data Input'!A13),\"\",SUM('Data Input'!C13:AQ13))","v":""},{"$f":"IF(H9=\"\",\"\",H9/(COUNTA('Data Input'!$C$8:$AQ$8)-1))","v":""},{"$f":"IF(ISBLANK('Data Input'!A13),\"\",SUM('Data Input'!I13,'Data Input'!M13,'Data Input'!AB13,'Data Input'!AE13))","v":""},{"$f":"IF(J9=\"\",\"\",J9/COUNTIF('Data Input'!$C$8:$AQ$8,$J$2))","v":""},{"$f":"IF(ISBLANK('Data Input'!A13),\"\",SUM('Data Input'!E13,'Data Input'!G13,'Data Input'!H13,'Data Input'!L13,'Data Input'!N13,'Data Input'!Q13,'Data Input'!R13,'Data Input'!T13,'Data Input'!U13,'Data Input'!V13,'Data Input'!X13,'Data Input'!Y13,'Data Input'!Z13,'Data Input'!AA13,'Data Input'!AC13,'Data Input'!AD13,'Data Input'!AF13,'Data Input'!AG13,'Data Input'!AH13,'Data Input'!AI13,'Data Input'!AJ13,'Data Input'!AK13,'Data Input'!AL13))","v":""},{"$f":"IF(L9=\"\",\"\",L9/COUNTIF('Data Input'!$C$8:$AQ$8,$L$2))","v":""},{"$f":"IF(ISBLANK('Data Input'!A13),\"\",SUM('Data Input'!K13,'Data Input'!AQ13))","v":""},{"$f":"IF(N9=\"\",\"\",N9/COUNTIF('Data Input'!$C$8:$AQ$8,$N$2))","v":""},{"$f":"IF(ISBLANK('Data Input'!A13),\"\",SUM('Data Input'!C13,'Data Input'!D13,'Data Input'!F13,'Data Input'!J13,'Data Input'!O13,'Data Input'!S13,'Data Input'!AM13,'Data Input'!AN13,'Data Input'!AO13,'Data Input'!AP13))","v":""},{"$f":"IF(P9=\"\",\"\",P9/COUNTIF('Data Input'!$C$8:$AQ$8,$P$2))","v":""},{"$f":"IF(ISBLANK('Data Input'!C13),\"\",SUM('Data Input'!P13))","v":""},{"$f":"IF(R9=\"\",\"\",R9/COUNTIF('Data Input'!$C$8:$AQ$8,$R$2))","v":""}]
[{"$f":"IF('Data Input'!A14=0,\"\",'Data Input'!A14)","v":""},{"$f":"IF(H10=\"\",\"\",IF(H10>Welcome!$K$23-1,\"Exceeding\",IF(H10>Welcome!$G$23-1,\"Expected\",IF(H10<Welcome!$G$23,\"Below\"))))","v":""},{"$f":"IF(ISBLANK('Data Input'!A14),\"\",COUNTIF('Data Input'!C14:AQ14,\"\")-1)","v":""},{"$f":"IF(ISBLANK('Data Input'!A14),\"\",COUNTIF('Data Input'!C14:AQ14,\"0\"))","v":""},{"$f":"IF(ISBLANK('Data Input'!A14),\"\",SUM(C10,D10))","v":""},{"$f":"IF(ISBLANK('Data Input'!A14),\"\",SUM('Data Input'!C14:V14))","v":""},{"$f":"IF(ISBLANK('Data Input'!A14),\"\",SUM('Data Input'!X14:AQ14))","v":""},{"$f":"IF(ISBLANK('Data Input'!A14),\"\",SUM('Data Input'!C14:AQ14))","v":""},{"$f":"IF(H10=\"\",\"\",H10/(COUNTA('Data Input'!$C$8:$AQ$8)-1))","v":""},{"$f":"IF(ISBLANK('Data Input'!A14),\"\",SUM('Data Input'!I14,'Data Input'!M14,'Data Input'!AB14,'Data Input'!AE14))","v":""},{"$f":"IF(J10=\"\",\"\",J10/COUNTIF('Data Input'!$C$8:$AQ$8,$J$2))","v":""},{"$f":"IF(ISBLANK('Data Input'!A14),\"\",SUM('Data Input'!E14,'Data Input'!G14,'Data Input'!H14,'Data Input'!L14,'Data Input'!N14,'Data Input'!Q14,'Data Input'!R14,'Data Input'!T14,'Data Input'!U14,'Data Input'!V14,'Data Input'!X14,'Data Input'!Y14,'Data Input'!Z14,'Data Input'!AA14,'Data Input'!AC14,'Data Input'!AD14,'Data Input'!AF14,'Data Input'!AG14,'Data Input'!AH14,'Data Input'!AI14,'Data Input'!AJ14,'Data Input'!AK14,'Data Input'!AL14))","v":""},{"$f":"IF(L10=\"\",\"\",L10/COUNTIF('Data Input'!$C$8:$AQ$8,$L$2))","v":""},{"$f":"IF(ISBLANK('Data Input'!A14),\"\",SUM('Data Input'!K14,'Data Input'!AQ14))","v":""},{"$f":"IF(N10=\"\",\"\",N10/COUNTIF('Data Input'!$C$8:$AQ$8,$N$2))","v":""},{"$f":"IF(ISBLANK('Data Input'!A14),\"\",SUM('Data Input'!C14,'Data Input'!D14,'Data Input'!F14,'Data Input'!J14,'Data Input'!O14,'Data Input'!S14,'Data Input'!AM14,'Data Input'!AN14,'Data Input'!AO14,'Data Input'!AP14))","v":""},{"$f":"IF(P10=\"\",\"\",P10/COUNTIF('Data Input'!$C$8:$AQ$8,$P$2))","v":""},{"$f":"IF(ISBLANK('Data Input'!C14),\"\",SUM('Data Input'!P14))","v":""},{"$f":"IF(R10=\"\",\"\",R10/COUNTIF('Data Input'!$C$8:$AQ$8,$R$2))","v":""}]
[{"$f":"IF('Data Input'!A15=0,\"\",'Data Input'!A15)","v":""},{"$f":"IF(H11=\"\",\"\",IF(H11>Welcome!$K$23-1,\"Exceeding\",IF(H11>Welcome!$G$23-1,\"Expected\",IF(H11<Welcome!$G$23,\"Below\"))))","v":""},{"$f":"IF(ISBLANK('Data Input'!A15),\"\",COUNTIF('Data Input'!C15:AQ15,\"\")-1)","v":""},{"$f":"IF(ISBLANK('Data Input'!A15),\"\",COUNTIF('Data Input'!C15:AQ15,\"0\"))","v":""},{"$f":"IF(ISBLANK('Data Input'!A15),\"\",SUM(C11,D11))","v":""},{"$f":"IF(ISBLANK('Data Input'!A15),\"\",SUM('Data Input'!C15:V15))","v":""},{"$f":"IF(ISBLANK('Data Input'!A15),\"\",SUM('Data Input'!X15:AQ15))","v":""},{"$f":"IF(ISBLANK('Data Input'!A15),\"\",SUM('Data Input'!C15:AQ15))","v":""},{"$f":"IF(H11=\"\",\"\",H11/(COUNTA('Data Input'!$C$8:$AQ$8)-1))","v":""},{"$f":"IF(ISBLANK('Data Input'!A15),\"\",SUM('Data Input'!I15,'Data Input'!M15,'Data Input'!AB15,'Data Input'!AE15))","v":""},{"$f":"IF(J11=\"\",\"\",J11/COUNTIF('Data Input'!$C$8:$AQ$8,$J$2))","v":""},{"$f":"IF(ISBLANK('Data Input'!A15),\"\",SUM('Data Input'!E15,'Data Input'!G15,'Data Input'!H15,'Data Input'!L15,'Data Input'!N15,'Data Input'!Q15,'Data Input'!R15,'Data Input'!T15,'Data Input'!U15,'Data Input'!V15,'Data Input'!X15,'Data Input'!Y15,'Data Input'!Z15,'Data Input'!AA15,'Data Input'!AC15,'Data Input'!AD15,'Data Input'!AF15,'Data Input'!AG15,'Data Input'!AH15,'Data Input'!AI15,'Data Input'!AJ15,'Data Input'!AK15,'Data Input'!AL15))","v":""},{"$f":"IF(L11=\"\",\"\",L11/COUNTIF('Data Input'!$C$8:$AQ$8,$L$2))","v":""},{"$f":"IF(ISBLANK('Data Input'!A15),\"\",SUM('Data Input'!K15,'Data Input'!AQ15))","v":""},{"$f":"IF(N11=\"\",\"\",N11/COUNTIF('Data Input'!$C$8:$AQ$8,$N$2))","v":""},{"$f":"IF(ISBLANK('Data Input'!A15),\"\",SUM('Data Input'!C15,'Data Input'!D15,'Data Input'!F15,'Data Input'!J15,'Data Input'!O15,'Data Input'!S15,'Data Input'!AM15,'Data Input'!AN15,'Data Input'!AO15,'Data Input'!AP15))","v":""},{"$f":"IF(P11=\"\",\"\",P11/COUNTIF('Data Input'!$C$8:$AQ$8,$P$2))","v":""},{"$f":"IF(ISBLANK('Data Input'!C15),\"\",SUM('Data Input'!P15))","v":""},{"$f":"IF(R11=\"\",\"\",R11/COUNTIF('Data Input'!$C$8:$AQ$8,$R$2))","v":""}]
[{"$f":"IF('Data Input'!A16=0,\"\",'Data Input'!A16)","v":""},{"$f":"IF(H12=\"\",\"\",IF(H12>Welcome!$K$23-1,\"Exceeding\",IF(H12>Welcome!$G$23-1,\"Expected\",IF(H12<Welcome!$G$23,\"Below\"))))","v":""},{"$f":"IF(ISBLANK('Data Input'!A16),\"\",COUNTIF('Data Input'!C16:AQ16,\"\")-1)","v":""},{"$f":"IF(ISBLANK('Data Input'!A16),\"\",COUNTIF('Data Input'!C16:AQ16,\"0\"))","v":""},{"$f":"IF(ISBLANK('Data Input'!A16),\"\",SUM(C12,D12))","v":""},{"$f":"IF(ISBLANK('Data Input'!A16),\"\",SUM('Data Input'!C16:V16))","v":""},{"$f":"IF(ISBLANK('Data Input'!A16),\"\",SUM('Data Input'!X16:AQ16))","v":""},{"$f":"IF(ISBLANK('Data Input'!A16),\"\",SUM('Data Input'!C16:AQ16))","v":""},{"$f":"IF(H12=\"\",\"\",H12/(COUNTA('Data Input'!$C$8:$AQ$8)-1))","v":""},{"$f":"IF(ISBLANK('Data Input'!A16),\"\",SUM('Data Input'!I16,'Data Input'!M16,'Data Input'!AB16,'Data Input'!AE16))","v":""},{"$f":"IF(J12=\"\",\"\",J12/COUNTIF('Data Input'!$C$8:$AQ$8,$J$2))","v":""},{"$f":"IF(ISBLANK('Data Input'!A16),\"\",SUM('Data Input'!E16,'Data Input'!G16,'Data Input'!H16,'Data Input'!L16,'Data Input'!N16,'Data Input'!Q16,'Data Input'!R16,'Data Input'!T16,'Data Input'!U16,'Data Input'!V16,'Data Input'!X16,'Data Input'!Y16,'Data Input'!Z16,'Data Input'!AA16,'Data Input'!AC16,'Data Input'!AD16,'Data Input'!AF16,'Data Input'!AG16,'Data Input'!AH16,'Data Input'!AI16,'Data Input'!AJ16,'Data Input'!AK16,'Data Input'!AL16))","v":""},{"$f":"IF(L12=\"\",\"\",L12/COUNTIF('Data Input'!$C$8:$AQ$8,$L$2))","v":""},{"$f":"IF(ISBLANK('Data Input'!A16),\"\",SUM('Data Input'!K16,'Data Input'!AQ16))","v":""},{"$f":"IF(N12=\"\",\"\",N12/COUNTIF('Data Input'!$C$8:$AQ$8,$N$2))","v":""},{"$f":"IF(ISBLANK('Data Input'!A16),\"\",SUM('Data Input'!C16,'Data Input'!D16,'Data Input'!F16,'Data Input'!J16,'Data Input'!O16,'Data Input'!S16,'Data Input'!AM16,'Data Input'!AN16,'Data Input'!AO16,'Data Input'!AP16))","v":""},{"$f":"IF(P12=\"\",\"\",P12/COUNTIF('Data Input'!$C$8:$AQ$8,$P$2))","v":""},{"$f":"IF(ISBLANK('Data Input'!C16),\"\",SUM('Data Input'!P16))","v":""},{"$f":"IF(R12=\"\",\"\",R12/COUNTIF('Data Input'!$C$8:$AQ$8,$R$2))","v":""}]
[{"$f":"IF('Data Input'!A17=0,\"\",'Data Input'!A17)","v":""},{"$f":"IF(H13=\"\",\"\",IF(H13>Welcome!$K$23-1,\"Exceeding\",IF(H13>Welcome!$G$23-1,\"Expected\",IF(H13<Welcome!$G$23,\"Below\"))))","v":""},{"$f":"IF(ISBLANK('Data Input'!A17),\"\",COUNTIF('Data Input'!C17:AQ17,\"\")-1)","v":""},{"$f":"IF(ISBLANK('Data Input'!A17),\"\",COUNTIF('Data Input'!C17:AQ17,\"0\"))","v":""},{"$f":"IF(ISBLANK('Data Input'!A17),\"\",SUM(C13,D13))","v":""},{"$f":"IF(ISBLANK('Data Input'!A17),\"\",SUM('Data Input'!C17:V17))","v":""},{"$f":"IF(ISBLANK('Data Input'!A17),\"\",SUM('Data Input'!X17:AQ17))","v":""},{"$f":"IF(ISBLANK('Data Input'!A17),\"\",SUM('Data Input'!C17:AQ17))","v":""},{"$f":"IF(H13=\"\",\"\",H13/(COUNTA('Data Input'!$C$8:$AQ$8)-1))","v":""},{"$f":"IF(ISBLANK('Data Input'!A17),\"\",SUM('Data Input'!I17,'Data Input'!M17,'Data Input'!AB17,'Data Input'!AE17))","v":""},{"$f":"IF(J13=\"\",\"\",J13/COUNTIF('Data Input'!$C$8:$AQ$8,$J$2))","v":""},{"$f":"IF(ISBLANK('Data Input'!A17),\"\",SUM('Data Input'!E17,'Data Input'!G17,'Data Input'!H17,'Data Input'!L17,'Data Input'!N17,'Data Input'!Q17,'Data Input'!R17,'Data Input'!T17,'Data Input'!U17,'Data Input'!V17,'Data Input'!X17,'Data Input'!Y17,'Data Input'!Z17,'Data Input'!AA17,'Data Input'!AC17,'Data Input'!AD17,'Data Input'!AF17,'Data Input'!AG17,'Data Input'!AH17,'Data Input'!AI17,'Data Input'!AJ17,'Data Input'!AK17,'Data Input'!AL17))","v":""},{"$f":"IF(L13=\"\",\"\",L13/COUNTIF('Data Input'!$C$8:$AQ$8,$L$2))","v":""},{"$f":"IF(ISBLANK('Data Input'!A17),\"\",SUM('Data Input'!K17,'Data Input'!AQ17))","v":""},{"$f":"IF(N13=\"\",\"\",N13/COUNTIF('Data Input'!$C$8:$AQ$8,$N$2))","v":""},{"$f":"IF(ISBLANK('Data Input'!A17),\"\",SUM('Data Input'!C17,'Data Input'!D17,'Data Input'!F17,'Data Input'!J17,'Data Input'!O17,'Data Input'!S17,'Data Input'!AM17,'Data Input'!AN17,'Data Input'!AO17,'Data Input'!AP17))","v":""},{"$f":"IF(P13=\"\",\"\",P13/COUNTIF('Data Input'!$C$8:$AQ$8,$P$2))","v":""},{"$f":"IF(ISBLANK('Data Input'!C17),\"\",SUM('Data Input'!P17))","v":""},{"$f":"IF(R13=\"\",\"\",R13/COUNTIF('Data Input'!$C$8:$AQ$8,$R$2))","v":""}]
[{"$f":"IF('Data Input'!A18=0,\"\",'Data Input'!A18)","v":""},{"$f":"IF(H14=\"\",\"\",IF(H14>Welcome!$K$23-1,\"Exceeding\",IF(H14>Welcome!$G$23-1,\"Expected\",IF(H14<Welcome!$G$23,\"Below\"))))","v":""},{"$f":"IF(ISBLANK('Data Input'!A18),\"\",COUNTIF('Data Input'!C18:AQ18,\"\")-1)","v":""},{"$f":"IF(ISBLANK('Data Input'!A18),\"\",COUNTIF('Data Input'!C18:AQ18,\"0\"))","v":""},{"$f":"IF(ISBLANK('Data Input'!A18),\"\",SUM(C14,D14))","v":""},{"$f":"IF(ISBLANK('Data Input'!A18),\"\",SUM('Data Input'!C18:V18))","v":""},{"$f":"IF(ISBLANK('Data Input'!A18),\"\",SUM('Data Input'!X18:AQ18))","v":""},{"$f":"IF(ISBLANK('Data Input'!A18),\"\",SUM('Data Input'!C18:AQ18))","v":""},{"$f":"IF(H14=\"\",\"\",H14/(COUNTA('Data Input'!$C$8:$AQ$8)-1))","v":""},{"$f":"IF(ISBLANK('Data Input'!A18),\"\",SUM('Data Input'!I18,'Data Input'!M18,'Data Input'!AB18,'Data Input'!AE18))","v":""},{"$f":"IF(J14=\"\",\"\",J14/COUNTIF('Data Input'!$C$8:$AQ$8,$J$2))","v":""},{"$f":"IF(ISBLANK('Data Input'!A18),\"\",SUM('Data Input'!E18,'Data Input'!G18,'Data Input'!H18,'Data Input'!L18,'Data Input'!N18,'Data Input'!Q18,'Data Input'!R18,'Data Input'!T18,'Data Input'!U18,'Data Input'!V18,'Data Input'!X18,'Data Input'!Y18,'Data Input'!Z18,'Data Input'!AA18,'Data Input'!AC18,'Data Input'!AD18,'Data Input'!AF18,'Data Input'!AG18,'Data Input'!AH18,'Data Input'!AI18,'Data Input'!AJ18,'Data Input'!AK18,'Data Input'!AL18))","v":""},{"$f":"IF(L14=\"\",\"\",L14/COUNTIF('Data Input'!$C$8:$AQ$8,$L$2))","v":""},{"$f":"IF(ISBLANK('Data Input'!A18),\"\",SUM('Data Input'!K18,'Data Input'!AQ18))","v":""},{"$f":"IF(N14=\"\",\"\",N14/COUNTIF('Data Input'!$C$8:$AQ$8,$N$2))","v":""},{"$f":"IF(ISBLANK('Data Input'!A18),\"\",SUM('Data Input'!C18,'Data Input'!D18,'Data Input'!F18,'Data Input'!J18,'Data Input'!O18,'Data Input'!S18,'Data Input'!AM18,'Data Input'!AN18,'Data Input'!AO18,'Data Input'!AP18))","v":""},{"$f":"IF(P14=\"\",\"\",P14/COUNTIF('Data Input'!$C$8:$AQ$8,$P$2))","v":""},{"$f":"IF(ISBLANK('Data Input'!C18),\"\",SUM('Data Input'!P18))","v":""},{"$f":"IF(R14=\"\",\"\",R14/COUNTIF('Data Input'!$C$8:$AQ$8,$R$2))","v":""}]
[{"$f":"IF('Data Input'!A19=0,\"\",'Data Input'!A19)","v":""},{"$f":"IF(H15=\"\",\"\",IF(H15>Welcome!$K$23-1,\"Exceeding\",IF(H15>Welcome!$G$23-1,\"Expected\",IF(H15<Welcome!$G$23,\"Below\"))))","v":""},{"$f":"IF(ISBLANK('Data Input'!A19),\"\",COUNTIF('Data Input'!C19:AQ19,\"\")-1)","v":""},{"$f":"IF(ISBLANK('Data Input'!A19),\"\",COUNTIF('Data Input'!C19:AQ19,\"0\"))","v":""},{"$f":"IF(ISBLANK('Data Input'!A19),\"\",SUM(C15,D15))","v":""},{"$f":"IF(ISBLANK('Data Input'!A19),\"\",SUM('Data Input'!C19:V19))","v":""},{"$f":"IF(ISBLANK('Data Input'!A19),\"\",SUM('Data Input'!X19:AQ19))","v":""},{"$f":"IF(ISBLANK('Data Input'!A19),\"\",SUM('Data Input'!C19:AQ19))","v":""},{"$f":"IF(H15=\"\",\"\",H15/(COUNTA('Data Input'!$C$8:$AQ$8)-1))","v":""},{"$f":"IF(ISBLANK('Data Input'!A19),\"\",SUM('Data Input'!I19,'Data Input'!M19,'Data Input'!AB19,'Data Input'!AE19))","v":""},{"$f":"IF(J15=\"\",\"\",J15/COUNTIF('Data Input'!$C$8:$AQ$8,$J$2))","v":""},{"$f":"IF(ISBLANK('Data Input'!A19),\"\",SUM('Data Input'!E19,'Data Input'!G19,'Data Input'!H19,'Data Input'!L19,'Data Input'!N19,'Data Input'!Q19,'Data Input'!R19,'Data Input'!T19,'Data Input'!U19,'Data Input'!V19,'Data Input'!X19,'Data Input'!Y19,'Data Input'!Z19,'Data Input'!AA19,'Data Input'!AC19,'Data Input'!AD19,'Data Input'!AF19,'Data Input'!AG19,'Data Input'!AH19,'Data Input'!AI19,'Data Input'!AJ19,'Data Input'!AK19,'Data Input'!AL19))","v":""},{"$f":"IF(L15=\"\",\"\",L15/COUNTIF('Data Input'!$C$8:$AQ$8,$L$2))","v":""},{"$f":"IF(ISBLANK('Data Input'!A19),\"\",SUM('Data Input'!K19,'Data Input'!AQ19))","v":""},{"$f":"IF(N15=\"\",\"\",N15/COUNTIF('Data Input'!$C$8:$AQ$8,$N$2))","v":""},{"$f":"IF(ISBLANK('Data Input'!A19),\"\",SUM('Data Input'!C19,'Data Input'!D19,'Data Input'!F19,'Data Input'!J19,'Data Input'!O19,'Data Input'!S19,'Data Input'!AM19,'Data Input'!AN19,'Data Input'!AO19,'Data Input'!AP19))","v":""},{"$f":"IF(P15=\"\",\"\",P15/COUNTIF('Data Input'!$C$8:$AQ$8,$P$2))","v":""},{"$f":"IF(ISBLANK('Data Input'!C19),\"\",SUM('Data Input'!P19))","v":""},{"$f":"IF(R15=\"\",\"\",R15/COUNTIF('Data Input'!$C$8:$AQ$8,$R$2))","v":""}]
[{"$f":"IF('Data Input'!A20=0,\"\",'Data Input'!A20)","v":""},{"$f":"IF(H16=\"\",\"\",IF(H16>Welcome!$K$23-1,\"Exceeding\",IF(H16>Welcome!$G$23-1,\"Expected\",IF(H16<Welcome!$G$23,\"Below\"))))","v":""},{"$f":"IF(ISBLANK('Data Input'!A20),\"\",COUNTIF('Data Input'!C20:AQ20,\"\")-1)","v":""},{"$f":"IF(ISBLANK('Data Input'!A20),\"\",COUNTIF('Data Input'!C20:AQ20,\"0\"))","v":""},{"$f":"IF(ISBLANK('Data Input'!A20),\"\",SUM(C16,D16))","v":""},{"$f":"IF(ISBLANK('Data Input'!A20),\"\",SUM('Data Input'!C20:V20))","v":""},{"$f":"IF(ISBLANK('Data Input'!A20),\"\",SUM('Data Input'!X20:AQ20))","v":""},{"$f":"IF(ISBLANK('Data Input'!A20),\"\",SUM('Data Input'!C20:AQ20))","v":""},{"$f":"IF(H16=\"\",\"\",H16/(COUNTA('Data Input'!$C$8:$AQ$8)-1))","v":""},{"$f":"IF(ISBLANK('Data Input'!A20),\"\",SUM('Data Input'!I20,'Data Input'!M20,'Data Input'!AB20,'Data Input'!AE20))","v":""},{"$f":"IF(J16=\"\",\"\",J16/COUNTIF('Data Input'!$C$8:$AQ$8,$J$2))","v":""},{"$f":"IF(ISBLANK('Data Input'!A20),\"\",SUM('Data Input'!E20,'Data Input'!G20,'Data Input'!H20,'Data Input'!L20,'Data Input'!N20,'Data Input'!Q20,'Data Input'!R20,'Data Input'!T20,'Data Input'!U20,'Data Input'!V20,'Data Input'!X20,'Data Input'!Y20,'Data Input'!Z20,'Data Input'!AA20,'Data Input'!AC20,'Data Input'!AD20,'Data Input'!AF20,'Data Input'!AG20,'Data Input'!AH20,'Data Input'!AI20,'Data Input'!AJ20,'Data Input'!AK20,'Data Input'!AL20))","v":""},{"$f":"IF(L16=\"\",\"\",L16/COUNTIF('Data Input'!$C$8:$AQ$8,$L$2))","v":""},{"$f":"IF(ISBLANK('Data Input'!A20),\"\",SUM('Data Input'!K20,'Data Input'!AQ20))","v":""},{"$f":"IF(N16=\"\",\"\",N16/COUNTIF('Data Input'!$C$8:$AQ$8,$N$2))","v":""},{"$f":"IF(ISBLANK('Data Input'!A20),\"\",SUM('Data Input'!C20,'Data Input'!D20,'Data Input'!F20,'Data Input'!J20,'Data Input'!O20,'Data Input'!S20,'Data Input'!AM20,'Data Input'!AN20,'Data Input'!AO20,'Data Input'!AP20))","v":""},{"$f":"IF(P16=\"\",\"\",P16/COUNTIF('Data Input'!$C$8:$AQ$8,$P$2))","v":""},{"$f":"IF(ISBLANK('Data Input'!C20),\"\",SUM('Data Input'!P20))","v":""},{"$f":"IF(R16=\"\",\"\",R16/COUNTIF('Data Input'!$C$8:$AQ$8,$R$2))","v":""}]
[{"$f":"IF('Data Input'!A21=0,\"\",'Data Input'!A21)","v":""},{"$f":"IF(H17=\"\",\"\",IF(H17>Welcome!$K$23-1,\"Exceeding\",IF(H17>Welcome!$G$23-1,\"Expected\",IF(H17<Welcome!$G$23,\"Below\"))))","v":""},{"$f":"IF(ISBLANK('Data Input'!A21),\"\",COUNTIF('Data Input'!C21:AQ21,\"\")-1)","v":""},{"$f":"IF(ISBLANK('Data Input'!A21),\"\",COUNTIF('Data Input'!C21:AQ21,\"0\"))","v":""},{"$f":"IF(ISBLANK('Data Input'!A21),\"\",SUM(C17,D17))","v":""},{"$f":"IF(ISBLANK('Data Input'!A21),\"\",SUM('Data Input'!C21:V21))","v":""},{"$f":"IF(ISBLANK('Data Input'!A21),\"\",SUM('Data Input'!X21:AQ21))","v":""},{"$f":"IF(ISBLANK('Data Input'!A21),\"\",SUM('Data Input'!C21:AQ21))","v":""},{"$f":"IF(H17=\"\",\"\",H17/(COUNTA('Data Input'!$C$8:$AQ$8)-1))","v":""},{"$f":"IF(ISBLANK('Data Input'!A21),\"\",SUM('Data Input'!I21,'Data Input'!M21,'Data Input'!AB21,'Data Input'!AE21))","v":""},{"$f":"IF(J17=\"\",\"\",J17/COUNTIF('Data Input'!$C$8:$AQ$8,$J$2))","v":""},{"$f":"IF(ISBLANK('Data Input'!A21),\"\",SUM('Data Input'!E21,'Data Input'!G21,'Data Input'!H21,'Data Input'!L21,'Data Input'!N21,'Data Input'!Q21,'Data Input'!R21,'Data Input'!T21,'Data Input'!U21,'Data Input'!V21,'Data Input'!X21,'Data Input'!Y21,'Data Input'!Z21,'Data Input'!AA21,'Data Input'!AC21,'Data Input'!AD21,'Data Input'!AF21,'Data Input'!AG21,'Data Input'!AH21,'Data Input'!AI21,'Data Input'!AJ21,'Data Input'!AK21,'Data Input'!AL21))","v":""},{"$f":"IF(L17=\"\",\"\",L17/COUNTIF('Data Input'!$C$8:$AQ$8,$L$2))","v":""},{"$f":"IF(ISBLANK('Data Input'!A21),\"\",SUM('Data Input'!K21,'Data Input'!AQ21))","v":""},{"$f":"IF(N17=\"\",\"\",N17/COUNTIF('Data Input'!$C$8:$AQ$8,$N$2))","v":""},{"$f":"IF(ISBLANK('Data Input'!A21),\"\",SUM('Data Input'!C21,'Data Input'!D21,'Data Input'!F21,'Data Input'!J21,'Data Input'!O21,'Data Input'!S21,'Data Input'!AM21,'Data Input'!AN21,'Data Input'!AO21,'Data Input'!AP21))","v":""},{"$f":"IF(P17=\"\",\"\",P17/COUNTIF('Data Input'!$C$8:$AQ$8,$P$2))","v":""},{"$f":"IF(ISBLANK('Data Input'!C21),\"\",SUM('Data Input'!P21))","v":""},{"$f":"IF(R17=\"\",\"\",R17/COUNTIF('Data Input'!$C$8:$AQ$8,$R$2))","v":""}]
[{"$f":"IF('Data Input'!A22=0,\"\",'Data Input'!A22)","v":""},{"$f":"IF(H18=\"\",\"\",IF(H18>Welcome!$K$23-1,\"Exceeding\",IF(H18>Welcome!$G$23-1,\"Expected\",IF(H18<Welcome!$G$23,\"Below\"))))","v":""},{"$f":"IF(ISBLANK('Data Input'!A22),\"\",COUNTIF('Data Input'!C22:AQ22,\"\")-1)","v":""},{"$f":"IF(ISBLANK('Data Input'!A22),\"\",COUNTIF('Data Input'!C22:AQ22,\"0\"))","v":""},{"$f":"IF(ISBLANK('Data Input'!A22),\"\",SUM(C18,D18))","v":""},{"$f":"IF(ISBLANK('Data Input'!A22),\"\",SUM('Data Input'!C22:V22))","v":""},{"$f":"IF(ISBLANK('Data Input'!A22),\"\",SUM('Data Input'!X22:AQ22))","v":""},{"$f":"IF(ISBLANK('Data Input'!A22),\"\",SUM('Data Input'!C22:AQ22))","v":""},{"$f":"IF(H18=\"\",\"\",H18/(COUNTA('Data Input'!$C$8:$AQ$8)-1))","v":""},{"$f":"IF(ISBLANK('Data Input'!A22),\"\",SUM('Data Input'!I22,'Data Input'!M22,'Data Input'!AB22,'Data Input'!AE22))","v":""},{"$f":"IF(J18=\"\",\"\",J18/COUNTIF('Data Input'!$C$8:$AQ$8,$J$2))","v":""},{"$f":"IF(ISBLANK('Data Input'!A22),\"\",SUM('Data Input'!E22,'Data Input'!G22,'Data Input'!H22,'Data Input'!L22,'Data Input'!N22,'Data Input'!Q22,'Data Input'!R22,'Data Input'!T22,'Data Input'!U22,'Data Input'!V22,'Data Input'!X22,'Data Input'!Y22,'Data Input'!Z22,'Data Input'!AA22,'Data Input'!AC22,'Data Input'!AD22,'Data Input'!AF22,'Data Input'!AG22,'Data Input'!AH22,'Data Input'!AI22,'Data Input'!AJ22,'Data Input'!AK22,'Data Input'!AL22))","v":""},{"$f":"IF(L18=\"\",\"\",L18/COUNTIF('Data Input'!$C$8:$AQ$8,$L$2))","v":""},{"$f":"IF(ISBLANK('Data Input'!A22),\"\",SUM('Data Input'!K22,'Data Input'!AQ22))","v":""},{"$f":"IF(N18=\"\",\"\",N18/COUNTIF('Data Input'!$C$8:$AQ$8,$N$2))","v":""},{"$f":"IF(ISBLANK('Data Input'!A22),\"\",SUM('Data Input'!C22,'Data Input'!D22,'Data Input'!F22,'Data Input'!J22,'Data Input'!O22,'Data Input'!S22,'Data Input'!AM22,'Data Input'!AN22,'Data Input'!AO22,'Data Input'!AP22))","v":""},{"$f":"IF(P18=\"\",\"\",P18/COUNTIF('Data Input'!$C$8:$AQ$8,$P$2))","v":""},{"$f":"IF(ISBLANK('Data Input'!C22),\"\",SUM('Data Input'!P22))","v":""},{"$f":"IF(R18=\"\",\"\",R18/COUNTIF('Data Input'!$C$8:$AQ$8,$R$2))","v":""}]
[{"$f":"IF('Data Input'!A23=0,\"\",'Data Input'!A23)","v":""},{"$f":"IF(H19=\"\",\"\",IF(H19>Welcome!$K$23-1,\"Exceeding\",IF(H19>Welcome!$G$23-1,\"Expected\",IF(H19<Welcome!$G$23,\"Below\"))))","v":""},{"$f":"IF(ISBLANK('Data Input'!A23),\"\",COUNTIF('Data Input'!C23:AQ23,\"\")-1)","v":""},{"$f":"IF(ISBLANK('Data Input'!A23),\"\",COUNTIF('Data Input'!C23:AQ23,\"0\"))","v":""},{"$f":"IF(ISBLANK('Data Input'!A23),\"\",SUM(C19,D19))","v":""},{"$f":"IF(ISBLANK('Data Input'!A23),\"\",SUM('Data Input'!C23:V23))","v":""},{"$f":"IF(ISBLANK('Data Input'!A23),\"\",SUM('Data Input'!X23:AQ23))","v":""},{"$f":"IF(ISBLANK('Data Input'!A23),\"\",SUM('Data Input'!C23:AQ23))","v":""},{"$f":"IF(H19=\"\",\"\",H19/(COUNTA('Data Input'!$C$8:$AQ$8)-1))","v":""},{"$f":"IF(ISBLANK('Data Input'!A23),\"\",SUM('Data Input'!I23,'Data Input'!M23,'Data Input'!AB23,'Data Input'!AE23))","v":""},{"$f":"IF(J19=\"\",\"\",J19/COUNTIF('Data Input'!$C$8:$AQ$8,$J$2))","v":""},{"$f":"IF(ISBLANK('Data Input'!A23),\"\",SUM('Data Input'!E23,'Data Input'!G23,'Data Input'!H23,'Data Input'!L23,'Data Input'!N23,'Data Input'!Q23,'Data Input'!R23,'Data Input'!T23,'Data Input'!U23,'Data Input'!V23,'Data Input'!X23,'Data Input'!Y23,'Data Input'!Z23,'Data Input'!AA23,'Data Input'!AC23,'Data Input'!AD23,'Data Input'!AF23,'Data Input'!AG23,'Data Input'!AH23,'Data Input'!AI23,'Data Input'!AJ23,'Data Input'!AK23,'Data Input'!AL23))","v":""},{"$f":"IF(L19=\"\",\"\",L19/COUNTIF('Data Input'!$C$8:$AQ$8,$L$2))","v":""},{"$f":"IF(ISBLANK('Data Input'!A23),\"\",SUM('Data Input'!K23,'Data Input'!AQ23))","v":""},{"$f":"IF(N19=\"\",\"\",N19/COUNTIF('Data Input'!$C$8:$AQ$8,$N$2))","v":""},{"$f":"IF(ISBLANK('Data Input'!A23),\"\",SUM('Data Input'!C23,'Data Input'!D23,'Data Input'!F23,'Data Input'!J23,'Data Input'!O23,'Data Input'!S23,'Data Input'!AM23,'Data Input'!AN23,'Data Input'!AO23,'Data Input'!AP23))","v":""},{"$f":"IF(P19=\"\",\"\",P19/COUNTIF('Data Input'!$C$8:$AQ$8,$P$2))","v":""},{"$f":"IF(ISBLANK('Data Input'!C23),\"\",SUM('Data Input'!P23))","v":""},{"$f":"IF(R19=\"\",\"\",R19/COUNTIF('Data Input'!$C$8:$AQ$8,$R$2))","v":""}]
[{"$f":"IF('Data Input'!A24=0,\"\",'Data Input'!A24)","v":""},{"$f":"IF(H20=\"\",\"\",IF(H20>Welcome!$K$23-1,\"Exceeding\",IF(H20>Welcome!$G$23-1,\"Expected\",IF(H20<Welcome!$G$23,\"Below\"))))","v":""},{"$f":"IF(ISBLANK('Data Input'!A24),\"\",COUNTIF('Data Input'!C24:AQ24,\"\")-1)","v":""},{"$f":"IF(ISBLANK('Data Input'!A24),\"\",COUNTIF('Data Input'!C24:AQ24,\"0\"))","v":""},{"$f":"IF(ISBLANK('Data Input'!A24),\"\",SUM(C20,D20))","v":""},{"$f":"IF(ISBLANK('Data Input'!A24),\"\",SUM('Data Input'!C24:V24))","v":""},{"$f":"IF(ISBLANK('Data Input'!A24),\"\",SUM('Data Input'!X24:AQ24))","v":""},{"$f":"IF(ISBLANK('Data Input'!A24),\"\",SUM('Data Input'!C24:AQ24))","v":""},{"$f":"IF(H20=\"\",\"\",H20/(COUNTA('Data Input'!$C$8:$AQ$8)-1))","v":""},{"$f":"IF(ISBLANK('Data Input'!A24),\"\",SUM('Data Input'!I24,'Data Input'!M24,'Data Input'!AB24,'Data Input'!AE24))","v":""},{"$f":"IF(J20=\"\",\"\",J20/COUNTIF('Data Input'!$C$8:$AQ$8,$J$2))","v":""},{"$f":"IF(ISBLANK('Data Input'!A24),\"\",SUM('Data Input'!E24,'Data Input'!G24,'Data Input'!H24,'Data Input'!L24,'Data Input'!N24,'Data Input'!Q24,'Data Input'!R24,'Data Input'!T24,'Data Input'!U24,'Data Input'!V24,'Data Input'!X24,'Data Input'!Y24,'Data Input'!Z24,'Data Input'!AA24,'Data Input'!AC24,'Data Input'!AD24,'Data Input'!AF24,'Data Input'!AG24,'Data Input'!AH24,'Data Input'!AI24,'Data Input'!AJ24,'Data Input'!AK24,'Data Input'!AL24))","v":""},{"$f":"IF(L20=\"\",\"\",L20/COUNTIF('Data Input'!$C$8:$AQ$8,$L$2))","v":""},{"$f":"IF(ISBLANK('Data Input'!A24),\"\",SUM('Data Input'!K24,'Data Input'!AQ24))","v":""},{"$f":"IF(N20=\"\",\"\",N20/COUNTIF('Data Input'!$C$8:$AQ$8,$N$2))","v":""},{"$f":"IF(ISBLANK('Data Input'!A24),\"\",SUM('Data Input'!C24,'Data Input'!D24,'Data Input'!F24,'Data Input'!J24,'Data Input'!O24,'Data Input'!S24,'Data Input'!AM24,'Data Input'!AN24,'Data Input'!AO24,'Data Input'!AP24))","v":""},{"$f":"IF(P20=\"\",\"\",P20/COUNTIF('Data Input'!$C$8:$AQ$8,$P$2))","v":""},{"$f":"IF(ISBLANK('Data Input'!C24),\"\",SUM('Data Input'!P24))","v":""},{"$f":"IF(R20=\"\",\"\",R20/COUNTIF('Data Input'!$C$8:$AQ$8,$R$2))","v":""}]
[{"$f":"IF('Data Input'!A25=0,\"\",'Data Input'!A25)","v":""},{"$f":"IF(H21=\"\",\"\",IF(H21>Welcome!$K$23-1,\"Exceeding\",IF(H21>Welcome!$G$23-1,\"Expected\",IF(H21<Welcome!$G$23,\"Below\"))))","v":""},{"$f":"IF(ISBLANK('Data Input'!A25),\"\",COUNTIF('Data Input'!C25:AQ25,\"\")-1)","v":""},{"$f":"IF(ISBLANK('Data Input'!A25),\"\",COUNTIF('Data Input'!C25:AQ25,\"0\"))","v":""},{"$f":"IF(ISBLANK('Data Input'!A25),\"\",SUM(C21,D21))","v":""},{"$f":"IF(ISBLANK('Data Input'!A25),\"\",SUM('Data Input'!C25:V25))","v":""},{"$f":"IF(ISBLANK('Data Input'!A25),\"\",SUM('Data Input'!X25:AQ25))","v":""},{"$f":"IF(ISBLANK('Data Input'!A25),\"\",SUM('Data Input'!C25:AQ25))","v":""},{"$f":"IF(H21=\"\",\"\",H21/(COUNTA('Data Input'!$C$8:$AQ$8)-1))","v":""},{"$f":"IF(ISBLANK('Data Input'!A25),\"\",SUM('Data Input'!I25,'Data Input'!M25,'Data Input'!AB25,'Data Input'!AE25))","v":""},{"$f":"IF(J21=\"\",\"\",J21/COUNTIF('Data Input'!$C$8:$AQ$8,$J$2))","v":""},{"$f":"IF(ISBLANK('Data Input'!A25),\"\",SUM('Data Input'!E25,'Data Input'!G25,'Data Input'!H25,'Data Input'!L25,'Data Input'!N25,'Data Input'!Q25,'Data Input'!R25,'Data Input'!T25,'Data Input'!U25,'Data Input'!V25,'Data Input'!X25,'Data Input'!Y25,'Data Input'!Z25,'Data Input'!AA25,'Data Input'!AC25,'Data Input'!AD25,'Data Input'!AF25,'Data Input'!AG25,'Data Input'!AH25,'Data Input'!AI25,'Data Input'!AJ25,'Data Input'!AK25,'Data Input'!AL25))","v":""},{"$f":"IF(L21=\"\",\"\",L21/COUNTIF('Data Input'!$C$8:$AQ$8,$L$2))","v":""},{"$f":"IF(ISBLANK('Data Input'!A25),\"\",SUM('Data Input'!K25,'Data Input'!AQ25))","v":""},{"$f":"IF(N21=\"\",\"\",N21/COUNTIF('Data Input'!$C$8:$AQ$8,$N$2))","v":""},{"$f":"IF(ISBLANK('Data Input'!A25),\"\",SUM('Data Input'!C25,'Data Input'!D25,'Data Input'!F25,'Data Input'!J25,'Data Input'!O25,'Data Input'!S25,'Data Input'!AM25,'Data Input'!AN25,'Data Input'!AO25,'Data Input'!AP25))","v":""},{"$f":"IF(P21=\"\",\"\",P21/COUNTIF('Data Input'!$C$8:$AQ$8,$P$2))","v":""},{"$f":"IF(ISBLANK('Data Input'!C25),\"\",SUM('Data Input'!P25))","v":""},{"$f":"IF(R21=\"\",\"\",R21/COUNTIF('Data Input'!$C$8:$AQ$8,$R$2))","v":""}]
[{"$f":"IF('Data Input'!A26=0,\"\",'Data Input'!A26)","v":""},{"$f":"IF(H22=\"\",\"\",IF(H22>Welcome!$K$23-1,\"Exceeding\",IF(H22>Welcome!$G$23-1,\"Expected\",IF(H22<Welcome!$G$23,\"Below\"))))","v":""},{"$f":"IF(ISBLANK('Data Input'!A26),\"\",COUNTIF('Data Input'!C26:AQ26,\"\")-1)","v":""},{"$f":"IF(ISBLANK('Data Input'!A26),\"\",COUNTIF('Data Input'!C26:AQ26,\"0\"))","v":""},{"$f":"IF(ISBLANK('Data Input'!A26),\"\",SUM(C22,D22))","v":""},{"$f":"IF(ISBLANK('Data Input'!A26),\"\",SUM('Data Input'!C26:V26))","v":""},{"$f":"IF(ISBLANK('Data Input'!A26),\"\",SUM('Data Input'!X26:AQ26))","v":""},{"$f":"IF(ISBLANK('Data Input'!A26),\"\",SUM('Data Input'!C26:AQ26))","v":""},{"$f":"IF(H22=\"\",\"\",H22/(COUNTA('Data Input'!$C$8:$AQ$8)-1))","v":""},{"$f":"IF(ISBLANK('Data Input'!A26),\"\",SUM('Data Input'!I26,'Data Input'!M26,'Data Input'!AB26,'Data Input'!AE26))","v":""},{"$f":"IF(J22=\"\",\"\",J22/COUNTIF('Data Input'!$C$8:$AQ$8,$J$2))","v":""},{"$f":"IF(ISBLANK('Data Input'!A26),\"\",SUM('Data Input'!E26,'Data Input'!G26,'Data Input'!H26,'Data Input'!L26,'Data Input'!N26,'Data Input'!Q26,'Data Input'!R26,'Data Input'!T26,'Data Input'!U26,'Data Input'!V26,'Data Input'!X26,'Data Input'!Y26,'Data Input'!Z26,'Data Input'!AA26,'Data Input'!AC26,'Data Input'!AD26,'Data Input'!AF26,'Data Input'!AG26,'Data Input'!AH26,'Data Input'!AI26,'Data Input'!AJ26,'Data Input'!AK26,'Data Input'!AL26))","v":""},{"$f":"IF(L22=\"\",\"\",L22/COUNTIF('Data Input'!$C$8:$AQ$8,$L$2))","v":""},{"$f":"IF(ISBLANK('Data Input'!A26),\"\",SUM('Data Input'!K26,'Data Input'!AQ26))","v":""},{"$f":"IF(N22=\"\",\"\",N22/COUNTIF('Data Input'!$C$8:$AQ$8,$N$2))","v":""},{"$f":"IF(ISBLANK('Data Input'!A26),\"\",SUM('Data Input'!C26,'Data Input'!D26,'Data Input'!F26,'Data Input'!J26,'Data Input'!O26,'Data Input'!S26,'Data Input'!AM26,'Data Input'!AN26,'Data Input'!AO26,'Data Input'!AP26))","v":""},{"$f":"IF(P22=\"\",\"\",P22/COUNTIF('Data Input'!$C$8:$AQ$8,$P$2))","v":""},{"$f":"IF(ISBLANK('Data Input'!C26),\"\",SUM('Data Input'!P26))","v":""},{"$f":"IF(R22=\"\",\"\",R22/COUNTIF('Data Input'!$C$8:$AQ$8,$R$2))","v":""}]
[{"$f":"IF('Data Input'!A27=0,\"\",'Data Input'!A27)","v":""},{"$f":"IF(H23=\"\",\"\",IF(H23>Welcome!$K$23-1,\"Exceeding\",IF(H23>Welcome!$G$23-1,\"Expected\",IF(H23<Welcome!$G$23,\"Below\"))))","v":""},{"$f":"IF(ISBLANK('Data Input'!A27),\"\",COUNTIF('Data Input'!C27:AQ27,\"\")-1)","v":""},{"$f":"IF(ISBLANK('Data Input'!A27),\"\",COUNTIF('Data Input'!C27:AQ27,\"0\"))","v":""},{"$f":"IF(ISBLANK('Data Input'!A27),\"\",SUM(C23,D23))","v":""},{"$f":"IF(ISBLANK('Data Input'!A27),\"\",SUM('Data Input'!C27:V27))","v":""},{"$f":"IF(ISBLANK('Data Input'!A27),\"\",SUM('Data Input'!X27:AQ27))","v":""},{"$f":"IF(ISBLANK('Data Input'!A27),\"\",SUM('Data Input'!C27:AQ27))","v":""},{"$f":"IF(H23=\"\",\"\",H23/(COUNTA('Data Input'!$C$8:$AQ$8)-1))","v":""},{"$f":"IF(ISBLANK('Data Input'!A27),\"\",SUM('Data Input'!I27,'Data Input'!M27,'Data Input'!AB27,'Data Input'!AE27))","v":""},{"$f":"IF(J23=\"\",\"\",J23/COUNTIF('Data Input'!$C$8:$AQ$8,$J$2))","v":""},{"$f":"IF(ISBLANK('Data Input'!A27),\"\",SUM('Data Input'!E27,'Data Input'!G27,'Data Input'!H27,'Data Input'!L27,'Data Input'!N27,'Data Input'!Q27,'Data Input'!R27,'Data Input'!T27,'Data Input'!U27,'Data Input'!V27,'Data Input'!X27,'Data Input'!Y27,'Data Input'!Z27,'Data Input'!AA27,'Data Input'!AC27,'Data Input'!AD27,'Data Input'!AF27,'Data Input'!AG27,'Data Input'!AH27,'Data Input'!AI27,'Data Input'!AJ27,'Data Input'!AK27,'Data Input'!AL27))","v":""},{"$f":"IF(L23=\"\",\"\",L23/COUNTIF('Data Input'!$C$8:$AQ$8,$L$2))","v":""},{"$f":"IF(ISBLANK('Data Input'!A27),\"\",SUM('Data Input'!K27,'Data Input'!AQ27))","v":""},{"$f":"IF(N23=\"\",\"\",N23/COUNTIF('Data Input'!$C$8:$AQ$8,$N$2))","v":""},{"$f":"IF(ISBLANK('Data Input'!A27),\"\",SUM('Data Input'!C27,'Data Input'!D27,'Data Input'!F27,'Data Input'!J27,'Data Input'!O27,'Data Input'!S27,'Data Input'!AM27,'Data Input'!AN27,'Data Input'!AO27,'Data Input'!AP27))","v":""},{"$f":"IF(P23=\"\",\"\",P23/COUNTIF('Data Input'!$C$8:$AQ$8,$P$2))","v":""},{"$f":"IF(ISBLANK('Data Input'!C27),\"\",SUM('Data Input'!P27))","v":""},{"$f":"IF(R23=\"\",\"\",R23/COUNTIF('Data Input'!$C$8:$AQ$8,$R$2))","v":""}]
[{"$f":"IF('Data Input'!A28=0,\"\",'Data Input'!A28)","v":""},{"$f":"IF(H24=\"\",\"\",IF(H24>Welcome!$K$23-1,\"Exceeding\",IF(H24>Welcome!$G$23-1,\"Expected\",IF(H24<Welcome!$G$23,\"Below\"))))","v":""},{"$f":"IF(ISBLANK('Data Input'!A28),\"\",COUNTIF('Data Input'!C28:AQ28,\"\")-1)","v":""},{"$f":"IF(ISBLANK('Data Input'!A28),\"\",COUNTIF('Data Input'!C28:AQ28,\"0\"))","v":""},{"$f":"IF(ISBLANK('Data Input'!A28),\"\",SUM(C24,D24))","v":""},{"$f":"IF(ISBLANK('Data Input'!A28),\"\",SUM('Data Input'!C28:V28))","v":""},{"$f":"IF(ISBLANK('Data Input'!A28),\"\",SUM('Data Input'!X28:AQ28))","v":""},{"$f":"IF(ISBLANK('Data Input'!A28),\"\",SUM('Data Input'!C28:AQ28))","v":""},{"$f":"IF(H24=\"\",\"\",H24/(COUNTA('Data Input'!$C$8:$AQ$8)-1))","v":""},{"$f":"IF(ISBLANK('Data Input'!A28),\"\",SUM('Data Input'!I28,'Data Input'!M28,'Data Input'!AB28,'Data Input'!AE28))","v":""},{"$f":"IF(J24=\"\",\"\",J24/COUNTIF('Data Input'!$C$8:$AQ$8,$J$2))","v":""},{"$f":"IF(ISBLANK('Data Input'!A28),\"\",SUM('Data Input'!E28,'Data Input'!G28,'Data Input'!H28,'Data Input'!L28,'Data Input'!N28,'Data Input'!Q28,'Data Input'!R28,'Data Input'!T28,'Data Input'!U28,'Data Input'!V28,'Data Input'!X28,'Data Input'!Y28,'Data Input'!Z28,'Data Input'!AA28,'Data Input'!AC28,'Data Input'!AD28,'Data Input'!AF28,'Data Input'!AG28,'Data Input'!AH28,'Data Input'!AI28,'Data Input'!AJ28,'Data Input'!AK28,'Data Input'!AL28))","v":""},{"$f":"IF(L24=\"\",\"\",L24/COUNTIF('Data Input'!$C$8:$AQ$8,$L$2))","v":""},{"$f":"IF(ISBLANK('Data Input'!A28),\"\",SUM('Data Input'!K28,'Data Input'!AQ28))","v":""},{"$f":"IF(N24=\"\",\"\",N24/COUNTIF('Data Input'!$C$8:$AQ$8,$N$2))","v":""},{"$f":"IF(ISBLANK('Data Input'!A28),\"\",SUM('Data Input'!C28,'Data Input'!D28,'Data Input'!F28,'Data Input'!J28,'Data Input'!O28,'Data Input'!S28,'Data Input'!AM28,'Data Input'!AN28,'Data Input'!AO28,'Data Input'!AP28))","v":""},{"$f":"IF(P24=\"\",\"\",P24/COUNTIF('Data Input'!$C$8:$AQ$8,$P$2))","v":""},{"$f":"IF(ISBLANK('Data Input'!C28),\"\",SUM('Data Input'!P28))","v":""},{"$f":"IF(R24=\"\",\"\",R24/COUNTIF('Data Input'!$C$8:$AQ$8,$R$2))","v":""}]
[{"$f":"IF('Data Input'!A29=0,\"\",'Data Input'!A29)","v":""},{"$f":"IF(H25=\"\",\"\",IF(H25>Welcome!$K$23-1,\"Exceeding\",IF(H25>Welcome!$G$23-1,\"Expected\",IF(H25<Welcome!$G$23,\"Below\"))))","v":""},{"$f":"IF(ISBLANK('Data Input'!A29),\"\",COUNTIF('Data Input'!C29:AQ29,\"\")-1)","v":""},{"$f":"IF(ISBLANK('Data Input'!A29),\"\",COUNTIF('Data Input'!C29:AQ29,\"0\"))","v":""},{"$f":"IF(ISBLANK('Data Input'!A29),\"\",SUM(C25,D25))","v":""},{"$f":"IF(ISBLANK('Data Input'!A29),\"\",SUM('Data Input'!C29:V29))","v":""},{"$f":"IF(ISBLANK('Data Input'!A29),\"\",SUM('Data Input'!X29:AQ29))","v":""},{"$f":"IF(ISBLANK('Data Input'!A29),\"\",SUM('Data Input'!C29:AQ29))","v":""},{"$f":"IF(H25=\"\",\"\",H25/(COUNTA('Data Input'!$C$8:$AQ$8)-1))","v":""},{"$f":"IF(ISBLANK('Data Input'!A29),\"\",SUM('Data Input'!I29,'Data Input'!M29,'Data Input'!AB29,'Data Input'!AE29))","v":""},{"$f":"IF(J25=\"\",\"\",J25/COUNTIF('Data Input'!$C$8:$AQ$8,$J$2))","v":""},{"$f":"IF(ISBLANK('Data Input'!A29),\"\",SUM('Data Input'!E29,'Data Input'!G29,'Data Input'!H29,'Data Input'!L29,'Data Input'!N29,'Data Input'!Q29,'Data Input'!R29,'Data Input'!T29,'Data Input'!U29,'Data Input'!V29,'Data Input'!X29,'Data Input'!Y29,'Data Input'!Z29,'Data Input'!AA29,'Data Input'!AC29,'Data Input'!AD29,'Data Input'!AF29,'Data Input'!AG29,'Data Input'!AH29,'Data Input'!AI29,'Data Input'!AJ29,'Data Input'!AK29,'Data Input'!AL29))","v":""},{"$f":"IF(L25=\"\",\"\",L25/COUNTIF('Data Input'!$C$8:$AQ$8,$L$2))","v":""},{"$f":"IF(ISBLANK('Data Input'!A29),\"\",SUM('Data Input'!K29,'Data Input'!AQ29))","v":""},{"$f":"IF(N25=\"\",\"\",N25/COUNTIF('Data Input'!$C$8:$AQ$8,$N$2))","v":""},{"$f":"IF(ISBLANK('Data Input'!A29),\"\",SUM('Data Input'!C29,'Data Input'!D29,'Data Input'!F29,'Data Input'!J29,'Data Input'!O29,'Data Input'!S29,'Data Input'!AM29,'Data Input'!AN29,'Data Input'!AO29,'Data Input'!AP29))","v":""},{"$f":"IF(P25=\"\",\"\",P25/COUNTIF('Data Input'!$C$8:$AQ$8,$P$2))","v":""},{"$f":"IF(ISBLANK('Data Input'!C29),\"\",SUM('Data Input'!P29))","v":""},{"$f":"IF(R25=\"\",\"\",R25/COUNTIF('Data Input'!$C$8:$AQ$8,$R$2))","v":""}]
[{"$f":"IF('Data Input'!A30=0,\"\",'Data Input'!A30)","v":""},{"$f":"IF(H26=\"\",\"\",IF(H26>Welcome!$K$23-1,\"Exceeding\",IF(H26>Welcome!$G$23-1,\"Expected\",IF(H26<Welcome!$G$23,\"Below\"))))","v":""},{"$f":"IF(ISBLANK('Data Input'!A30),\"\",COUNTIF('Data Input'!C30:AQ30,\"\")-1)","v":""},{"$f":"IF(ISBLANK('Data Input'!A30),\"\",COUNTIF('Data Input'!C30:AQ30,\"0\"))","v":""},{"$f":"IF(ISBLANK('Data Input'!A30),\"\",SUM(C26,D26))","v":""},{"$f":"IF(ISBLANK('Data Input'!A30),\"\",SUM('Data Input'!C30:V30))","v":""},{"$f":"IF(ISBLANK('Data Input'!A30),\"\",SUM('Data Input'!X30:AQ30))","v":""},{"$f":"IF(ISBLANK('Data Input'!A30),\"\",SUM('Data Input'!C30:AQ30))","v":""},{"$f":"IF(H26=\"\",\"\",H26/(COUNTA('Data Input'!$C$8:$AQ$8)-1))","v":""},{"$f":"IF(ISBLANK('Data Input'!A30),\"\",SUM('Data Input'!I30,'Data Input'!M30,'Data Input'!AB30,'Data Input'!AE30))","v":""},{"$f":"IF(J26=\"\",\"\",J26/COUNTIF('Data Input'!$C$8:$AQ$8,$J$2))","v":""},{"$f":"IF(ISBLANK('Data Input'!A30),\"\",SUM('Data Input'!E30,'Data Input'!G30,'Data Input'!H30,'Data Input'!L30,'Data Input'!N30,'Data Input'!Q30,'Data Input'!R30,'Data Input'!T30,'Data Input'!U30,'Data Input'!V30,'Data Input'!X30,'Data Input'!Y30,'Data Input'!Z30,'Data Input'!AA30,'Data Input'!AC30,'Data Input'!AD30,'Data Input'!AF30,'Data Input'!AG30,'Data Input'!AH30,'Data Input'!AI30,'Data Input'!AJ30,'Data Input'!AK30,'Data Input'!AL30))","v":""},{"$f":"IF(L26=\"\",\"\",L26/COUNTIF('Data Input'!$C$8:$AQ$8,$L$2))","v":""},{"$f":"IF(ISBLANK('Data Input'!A30),\"\",SUM('Data Input'!K30,'Data Input'!AQ30))","v":""},{"$f":"IF(N26=\"\",\"\",N26/COUNTIF('Data Input'!$C$8:$AQ$8,$N$2))","v":""},{"$f":"IF(ISBLANK('Data Input'!A30),\"\",SUM('Data Input'!C30,'Data Input'!D30,'Data Input'!F30,'Data Input'!J30,'Data Input'!O30,'Data Input'!S30,'Data Input'!AM30,'Data Input'!AN30,'Data Input'!AO30,'Data Input'!AP30))","v":""},{"$f":"IF(P26=\"\",\"\",P26/COUNTIF('Data Input'!$C$8:$AQ$8,$P$2))","v":""},{"$f":"IF(ISBLANK('Data Input'!C30),\"\",SUM('Data Input'!P30))","v":""},{"$f":"IF(R26=\"\",\"\",R26/COUNTIF('Data Input'!$C$8:$AQ$8,$R$2))","v":""}]
[{"$f":"IF('Data Input'!A31=0,\"\",'Data Input'!A31)","v":""},{"$f":"IF(H27=\"\",\"\",IF(H27>Welcome!$K$23-1,\"Exceeding\",IF(H27>Welcome!$G$23-1,\"Expected\",IF(H27<Welcome!$G$23,\"Below\"))))","v":""},{"$f":"IF(ISBLANK('Data Input'!A31),\"\",COUNTIF('Data Input'!C31:AQ31,\"\")-1)","v":""},{"$f":"IF(ISBLANK('Data Input'!A31),\"\",COUNTIF('Data Input'!C31:AQ31,\"0\"))","v":""},{"$f":"IF(ISBLANK('Data Input'!A31),\"\",SUM(C27,D27))","v":""},{"$f":"IF(ISBLANK('Data Input'!A31),\"\",SUM('Data Input'!C31:V31))","v":""},{"$f":"IF(ISBLANK('Data Input'!A31),\"\",SUM('Data Input'!X31:AQ31))","v":""},{"$f":"IF(ISBLANK('Data Input'!A31),\"\",SUM('Data Input'!C31:AQ31))","v":""},{"$f":"IF(H27=\"\",\"\",H27/(COUNTA('Data Input'!$C$8:$AQ$8)-1))","v":""},{"$f":"IF(ISBLANK('Data Input'!A31),\"\",SUM('Data Input'!I31,'Data Input'!M31,'Data Input'!AB31,'Data Input'!AE31))","v":""},{"$f":"IF(J27=\"\",\"\",J27/COUNTIF('Data Input'!$C$8:$AQ$8,$J$2))","v":""},{"$f":"IF(ISBLANK('Data Input'!A31),\"\",SUM('Data Input'!E31,'Data Input'!G31,'Data Input'!H31,'Data Input'!L31,'Data Input'!N31,'Data Input'!Q31,'Data Input'!R31,'Data Input'!T31,'Data Input'!U31,'Data Input'!V31,'Data Input'!X31,'Data Input'!Y31,'Data Input'!Z31,'Data Input'!AA31,'Data Input'!AC31,'Data Input'!AD31,'Data Input'!AF31,'Data Input'!AG31,'Data Input'!AH31,'Data Input'!AI31,'Data Input'!AJ31,'Data Input'!AK31,'Data Input'!AL31))","v":""},{"$f":"IF(L27=\"\",\"\",L27/COUNTIF('Data Input'!$C$8:$AQ$8,$L$2))","v":""},{"$f":"IF(ISBLANK('Data Input'!A31),\"\",SUM('Data Input'!K31,'Data Input'!AQ31))","v":""},{"$f":"IF(N27=\"\",\"\",N27/COUNTIF('Data Input'!$C$8:$AQ$8,$N$2))","v":""},{"$f":"IF(ISBLANK('Data Input'!A31),\"\",SUM('Data Input'!C31,'Data Input'!D31,'Data Input'!F31,'Data Input'!J31,'Data Input'!O31,'Data Input'!S31,'Data Input'!AM31,'Data Input'!AN31,'Data Input'!AO31,'Data Input'!AP31))","v":""},{"$f":"IF(P27=\"\",\"\",P27/COUNTIF('Data Input'!$C$8:$AQ$8,$P$2))","v":""},{"$f":"IF(ISBLANK('Data Input'!C31),\"\",SUM('Data Input'!P31))","v":""},{"$f":"IF(R27=\"\",\"\",R27/COUNTIF('Data Input'!$C$8:$AQ$8,$R$2))","v":""}]
[{"$f":"IF('Data Input'!A32=0,\"\",'Data Input'!A32)","v":""},{"$f":"IF(H28=\"\",\"\",IF(H28>Welcome!$K$23-1,\"Exceeding\",IF(H28>Welcome!$G$23-1,\"Expected\",IF(H28<Welcome!$G$23,\"Below\"))))","v":""},{"$f":"IF(ISBLANK('Data Input'!A32),\"\",COUNTIF('Data Input'!C32:AQ32,\"\")-1)","v":""},{"$f":"IF(ISBLANK('Data Input'!A32),\"\",COUNTIF('Data Input'!C32:AQ32,\"0\"))","v":""},{"$f":"IF(ISBLANK('Data Input'!A32),\"\",SUM(C28,D28))","v":""},{"$f":"IF(ISBLANK('Data Input'!A32),\"\",SUM('Data Input'!C32:V32))","v":""},{"$f":"IF(ISBLANK('Data Input'!A32),\"\",SUM('Data Input'!X32:AQ32))","v":""},{"$f":"IF(ISBLANK('Data Input'!A32),\"\",SUM('Data Input'!C32:AQ32))","v":""},{"$f":"IF(H28=\"\",\"\",H28/(COUNTA('Data Input'!$C$8:$AQ$8)-1))","v":""},{"$f":"IF(ISBLANK('Data Input'!A32),\"\",SUM('Data Input'!I32,'Data Input'!M32,'Data Input'!AB32,'Data Input'!AE32))","v":""},{"$f":"IF(J28=\"\",\"\",J28/COUNTIF('Data Input'!$C$8:$AQ$8,$J$2))","v":""},{"$f":"IF(ISBLANK('Data Input'!A32),\"\",SUM('Data Input'!E32,'Data Input'!G32,'Data Input'!H32,'Data Input'!L32,'Data Input'!N32,'Data Input'!Q32,'Data Input'!R32,'Data Input'!T32,'Data Input'!U32,'Data Input'!V32,'Data Input'!X32,'Data Input'!Y32,'Data Input'!Z32,'Data Input'!AA32,'Data Input'!AC32,'Data Input'!AD32,'Data Input'!AF32,'Data Input'!AG32,'Data Input'!AH32,'Data Input'!AI32,'Data Input'!AJ32,'Data Input'!AK32,'Data Input'!AL32))","v":""},{"$f":"IF(L28=\"\",\"\",L28/COUNTIF('Data Input'!$C$8:$AQ$8,$L$2))","v":""},{"$f":"IF(ISBLANK('Data Input'!A32),\"\",SUM('Data Input'!K32,'Data Input'!AQ32))","v":""},{"$f":"IF(N28=\"\",\"\",N28/COUNTIF('Data Input'!$C$8:$AQ$8,$N$2))","v":""},{"$f":"IF(ISBLANK('Data Input'!A32),\"\",SUM('Data Input'!C32,'Data Input'!D32,'Data Input'!F32,'Data Input'!J32,'Data Input'!O32,'Data Input'!S32,'Data Input'!AM32,'Data Input'!AN32,'Data Input'!AO32,'Data Input'!AP32))","v":""},{"$f":"IF(P28=\"\",\"\",P28/COUNTIF('Data Input'!$C$8:$AQ$8,$P$2))","v":""},{"$f":"IF(ISBLANK('Data Input'!C32),\"\",SUM('Data Input'!P32))","v":""},{"$f":"IF(R28=\"\",\"\",R28/COUNTIF('Data Input'!$C$8:$AQ$8,$R$2))","v":""}]
[{"$f":"IF('Data Input'!A33=0,\"\",'Data Input'!A33)","v":""},{"$f":"IF(H29=\"\",\"\",IF(H29>Welcome!$K$23-1,\"Exceeding\",IF(H29>Welcome!$G$23-1,\"Expected\",IF(H29<Welcome!$G$23,\"Below\"))))","v":""},{"$f":"IF(ISBLANK('Data Input'!A33),\"\",COUNTIF('Data Input'!C33:AQ33,\"\")-1)","v":""},{"$f":"IF(ISBLANK('Data Input'!A33),\"\",COUNTIF('Data Input'!C33:AQ33,\"0\"))","v":""},{"$f":"IF(ISBLANK('Data Input'!A33),\"\",SUM(C29,D29))","v":""},{"$f":"IF(ISBLANK('Data Input'!A33),\"\",SUM('Data Input'!C33:V33))","v":""},{"$f":"IF(ISBLANK('Data Input'!A33),\"\",SUM('Data Input'!X33:AQ33))","v":""},{"$f":"IF(ISBLANK('Data Input'!A33),\"\",SUM('Data Input'!C33:AQ33))","v":""},{"$f":"IF(H29=\"\",\"\",H29/(COUNTA('Data Input'!$C$8:$AQ$8)-1))","v":""},{"$f":"IF(ISBLANK('Data Input'!A33),\"\",SUM('Data Input'!I33,'Data Input'!M33,'Data Input'!AB33,'Data Input'!AE33))","v":""},{"$f":"IF(J29=\"\",\"\",J29/COUNTIF('Data Input'!$C$8:$AQ$8,$J$2))","v":""},{"$f":"IF(ISBLANK('Data Input'!A33),\"\",SUM('Data Input'!E33,'Data Input'!G33,'Data Input'!H33,'Data Input'!L33,'Data Input'!N33,'Data Input'!Q33,'Data Input'!R33,'Data Input'!T33,'Data Input'!U33,'Data Input'!V33,'Data Input'!X33,'Data Input'!Y33,'Data Input'!Z33,'Data Input'!AA33,'Data Input'!AC33,'Data Input'!AD33,'Data Input'!AF33,'Data Input'!AG33,'Data Input'!AH33,'Data Input'!AI33,'Data Input'!AJ33,'Data Input'!AK33,'Data Input'!AL33))","v":""},{"$f":"IF(L29=\"\",\"\",L29/COUNTIF('Data Input'!$C$8:$AQ$8,$L$2))","v":""},{"$f":"IF(ISBLANK('Data Input'!A33),\"\",SUM('Data Input'!K33,'Data Input'!AQ33))","v":""},{"$f":"IF(N29=\"\",\"\",N29/COUNTIF('Data Input'!$C$8:$AQ$8,$N$2))","v":""},{"$f":"IF(ISBLANK('Data Input'!A33),\"\",SUM('Data Input'!C33,'Data Input'!D33,'Data Input'!F33,'Data Input'!J33,'Data Input'!O33,'Data Input'!S33,'Data Input'!AM33,'Data Input'!AN33,'Data Input'!AO33,'Data Input'!AP33))","v":""},{"$f":"IF(P29=\"\",\"\",P29/COUNTIF('Data Input'!$C$8:$AQ$8,$P$2))","v":""},{"$f":"IF(ISBLANK('Data Input'!C33),\"\",SUM('Data Input'!P33))","v":""},{"$f":"IF(R29=\"\",\"\",R29/COUNTIF('Data Input'!$C$8:$AQ$8,$R$2))","v":""}]
[{"$f":"IF('Data Input'!A34=0,\"\",'Data Input'!A34)","v":""},{"$f":"IF(H30=\"\",\"\",IF(H30>Welcome!$K$23-1,\"Exceeding\",IF(H30>Welcome!$G$23-1,\"Expected\",IF(H30<Welcome!$G$23,\"Below\"))))","v":""},{"$f":"IF(ISBLANK('Data Input'!A34),\"\",COUNTIF('Data Input'!C34:AQ34,\"\")-1)","v":""},{"$f":"IF(ISBLANK('Data Input'!A34),\"\",COUNTIF('Data Input'!C34:AQ34,\"0\"))","v":""},{"$f":"IF(ISBLANK('Data Input'!A34),\"\",SUM(C30,D30))","v":""},{"$f":"IF(ISBLANK('Data Input'!A34),\"\",SUM('Data Input'!C34:V34))","v":""},{"$f":"IF(ISBLANK('Data Input'!A34),\"\",SUM('Data Input'!X34:AQ34))","v":""},{"$f":"IF(ISBLANK('Data Input'!A34),\"\",SUM('Data Input'!C34:AQ34))","v":""},{"$f":"IF(H30=\"\",\"\",H30/(COUNTA('Data Input'!$C$8:$AQ$8)-1))","v":""},{"$f":"IF(ISBLANK('Data Input'!A34),\"\",SUM('Data Input'!I34,'Data Input'!M34,'Data Input'!AB34,'Data Input'!AE34))","v":""},{"$f":"IF(J30=\"\",\"\",J30/COUNTIF('Data Input'!$C$8:$AQ$8,$J$2))","v":""},{"$f":"IF(ISBLANK('Data Input'!A34),\"\",SUM('Data Input'!E34,'Data Input'!G34,'Data Input'!H34,'Data Input'!L34,'Data Input'!N34,'Data Input'!Q34,'Data Input'!R34,'Data Input'!T34,'Data Input'!U34,'Data Input'!V34,'Data Input'!X34,'Data Input'!Y34,'Data Input'!Z34,'Data Input'!AA34,'Data Input'!AC34,'Data Input'!AD34,'Data Input'!AF34,'Data Input'!AG34,'Data Input'!AH34,'Data Input'!AI34,'Data Input'!AJ34,'Data Input'!AK34,'Data Input'!AL34))","v":""},{"$f":"IF(L30=\"\",\"\",L30/COUNTIF('Data Input'!$C$8:$AQ$8,$L$2))","v":""},{"$f":"IF(ISBLANK('Data Input'!A34),\"\",SUM('Data Input'!K34,'Data Input'!AQ34))","v":""},{"$f":"IF(N30=\"\",\"\",N30/COUNTIF('Data Input'!$C$8:$AQ$8,$N$2))","v":""},{"$f":"IF(ISBLANK('Data Input'!A34),\"\",SUM('Data Input'!C34,'Data Input'!D34,'Data Input'!F34,'Data Input'!J34,'Data Input'!O34,'Data Input'!S34,'Data Input'!AM34,'Data Input'!AN34,'Data Input'!AO34,'Data Input'!AP34))","v":""},{"$f":"IF(P30=\"\",\"\",P30/COUNTIF('Data Input'!$C$8:$AQ$8,$P$2))","v":""},{"$f":"IF(ISBLANK('Data Input'!C34),\"\",SUM('Data Input'!P34))","v":""},{"$f":"IF(R30=\"\",\"\",R30/COUNTIF('Data Input'!$C$8:$AQ$8,$R$2))","v":""}]
[{"$f":"IF('Data Input'!A35=0,\"\",'Data Input'!A35)","v":""},{"$f":"IF(H31=\"\",\"\",IF(H31>Welcome!$K$23-1,\"Exceeding\",IF(H31>Welcome!$G$23-1,\"Expected\",IF(H31<Welcome!$G$23,\"Below\"))))","v":""},{"$f":"IF(ISBLANK('Data Input'!A35),\"\",COUNTIF('Data Input'!C35:AQ35,\"\")-1)","v":""},{"$f":"IF(ISBLANK('Data Input'!A35),\"\",COUNTIF('Data Input'!C35:AQ35,\"0\"))","v":""},{"$f":"IF(ISBLANK('Data Input'!A35),\"\",SUM(C31,D31))","v":""},{"$f":"IF(ISBLANK('Data Input'!A35),\"\",SUM('Data Input'!C35:V35))","v":""},{"$f":"IF(ISBLANK('Data Input'!A35),\"\",SUM('Data Input'!X35:AQ35))","v":""},{"$f":"IF(ISBLANK('Data Input'!A35),\"\",SUM('Data Input'!C35:AQ35))","v":""},{"$f":"IF(H31=\"\",\"\",H31/(COUNTA('Data Input'!$C$8:$AQ$8)-1))","v":""},{"$f":"IF(ISBLANK('Data Input'!A35),\"\",SUM('Data Input'!I35,'Data Input'!M35,'Data Input'!AB35,'Data Input'!AE35))","v":""},{"$f":"IF(J31=\"\",\"\",J31/COUNTIF('Data Input'!$C$8:$AQ$8,$J$2))","v":""},{"$f":"IF(ISBLANK('Data Input'!A35),\"\",SUM('Data Input'!E35,'Data Input'!G35,'Data Input'!H35,'Data Input'!L35,'Data Input'!N35,'Data Input'!Q35,'Data Input'!R35,'Data Input'!T35,'Data Input'!U35,'Data Input'!V35,'Data Input'!X35,'Data Input'!Y35,'Data Input'!Z35,'Data Input'!AA35,'Data Input'!AC35,'Data Input'!AD35,'Data Input'!AF35,'Data Input'!AG35,'Data Input'!AH35,'Data Input'!AI35,'Data Input'!AJ35,'Data Input'!AK35,'Data Input'!AL35))","v":""},{"$f":"IF(L31=\"\",\"\",L31/COUNTIF('Data Input'!$C$8:$AQ$8,$L$2))","v":""},{"$f":"IF(ISBLANK('Data Input'!A35),\"\",SUM('Data Input'!K35,'Data Input'!AQ35))","v":""},{"$f":"IF(N31=\"\",\"\",N31/COUNTIF('Data Input'!$C$8:$AQ$8,$N$2))","v":""},{"$f":"IF(ISBLANK('Data Input'!A35),\"\",SUM('Data Input'!C35,'Data Input'!D35,'Data Input'!F35,'Data Input'!J35,'Data Input'!O35,'Data Input'!S35,'Data Input'!AM35,'Data Input'!AN35,'Data Input'!AO35,'Data Input'!AP35))","v":""},{"$f":"IF(P31=\"\",\"\",P31/COUNTIF('Data Input'!$C$8:$AQ$8,$P$2))","v":""},{"$f":"IF(ISBLANK('Data Input'!C35),\"\",SUM('Data Input'!P35))","v":""},{"$f":"IF(R31=\"\",\"\",R31/COUNTIF('Data Input'!$C$8:$AQ$8,$R$2))","v":""}]
[{"$f":"IF('Data Input'!A36=0,\"\",'Data Input'!A36)","v":""},{"$f":"IF(H32=\"\",\"\",IF(H32>Welcome!$K$23-1,\"Exceeding\",IF(H32>Welcome!$G$23-1,\"Expected\",IF(H32<Welcome!$G$23,\"Below\"))))","v":""},{"$f":"IF(ISBLANK('Data Input'!A36),\"\",COUNTIF('Data Input'!C36:AQ36,\"\")-1)","v":""},{"$f":"IF(ISBLANK('Data Input'!A36),\"\",COUNTIF('Data Input'!C36:AQ36,\"0\"))","v":""},{"$f":"IF(ISBLANK('Data Input'!A36),\"\",SUM(C32,D32))","v":""},{"$f":"IF(ISBLANK('Data Input'!A36),\"\",SUM('Data Input'!C36:V36))","v":""},{"$f":"IF(ISBLANK('Data Input'!A36),\"\",SUM('Data Input'!X36:AQ36))","v":""},{"$f":"IF(ISBLANK('Data Input'!A36),\"\",SUM('Data Input'!C36:AQ36))","v":""},{"$f":"IF(H32=\"\",\"\",H32/(COUNTA('Data Input'!$C$8:$AQ$8)-1))","v":""},{"$f":"IF(ISBLANK('Data Input'!A36),\"\",SUM('Data Input'!I36,'Data Input'!M36,'Data Input'!AB36,'Data Input'!AE36))","v":""},{"$f":"IF(J32=\"\",\"\",J32/COUNTIF('Data Input'!$C$8:$AQ$8,$J$2))","v":""},{"$f":"IF(ISBLANK('Data Input'!A36),\"\",SUM('Data Input'!E36,'Data Input'!G36,'Data Input'!H36,'Data Input'!L36,'Data Input'!N36,'Data Input'!Q36,'Data Input'!R36,'Data Input'!T36,'Data Input'!U36,'Data Input'!V36,'Data Input'!X36,'Data Input'!Y36,'Data Input'!Z36,'Data Input'!AA36,'Data Input'!AC36,'Data Input'!AD36,'Data Input'!AF36,'Data Input'!AG36,'Data Input'!AH36,'Data Input'!AI36,'Data Input'!AJ36,'Data Input'!AK36,'Data Input'!AL36))","v":""},{"$f":"IF(L32=\"\",\"\",L32/COUNTIF('Data Input'!$C$8:$AQ$8,$L$2))","v":""},{"$f":"IF(ISBLANK('Data Input'!A36),\"\",SUM('Data Input'!K36,'Data Input'!AQ36))","v":""},{"$f":"IF(N32=\"\",\"\",N32/COUNTIF('Data Input'!$C$8:$AQ$8,$N$2))","v":""},{"$f":"IF(ISBLANK('Data Input'!A36),\"\",SUM('Data Input'!C36,'Data Input'!D36,'Data Input'!F36,'Data Input'!J36,'Data Input'!O36,'Data Input'!S36,'Data Input'!AM36,'Data Input'!AN36,'Data Input'!AO36,'Data Input'!AP36))","v":""},{"$f":"IF(P32=\"\",\"\",P32/COUNTIF('Data Input'!$C$8:$AQ$8,$P$2))","v":""},{"$f":"IF(ISBLANK('Data Input'!C36),\"\",SUM('Data Input'!P36))","v":""},{"$f":"IF(R32=\"\",\"\",R32/COUNTIF('Data Input'!$C$8:$AQ$8,$R$2))","v":""}]
[{"$f":"IF('Data Input'!A37=0,\"\",'Data Input'!A37)","v":""},{"$f":"IF(H33=\"\",\"\",IF(H33>Welcome!$K$23-1,\"Exceeding\",IF(H33>Welcome!$G$23-1,\"Expected\",IF(H33<Welcome!$G$23,\"Below\"))))","v":""},{"$f":"IF(ISBLANK('Data Input'!A37),\"\",COUNTIF('Data Input'!C37:AQ37,\"\")-1)","v":""},{"$f":"IF(ISBLANK('Data Input'!A37),\"\",COUNTIF('Data Input'!C37:AQ37,\"0\"))","v":""},{"$f":"IF(ISBLANK('Data Input'!A37),\"\",SUM(C33,D33))","v":""},{"$f":"IF(ISBLANK('Data Input'!A37),\"\",SUM('Data Input'!C37:V37))","v":""},{"$f":"IF(ISBLANK('Data Input'!A37),\"\",SUM('Data Input'!X37:AQ37))","v":""},{"$f":"IF(ISBLANK('Data Input'!A37),\"\",SUM('Data Input'!C37:AQ37))","v":""},{"$f":"IF(H33=\"\",\"\",H33/(COUNTA('Data Input'!$C$8:$AQ$8)-1))","v":""},{"$f":"IF(ISBLANK('Data Input'!A37),\"\",SUM('Data Input'!I37,'Data Input'!M37,'Data Input'!AB37,'Data Input'!AE37))","v":""},{"$f":"IF(J33=\"\",\"\",J33/COUNTIF('Data Input'!$C$8:$AQ$8,$J$2))","v":""},{"$f":"IF(ISBLANK('Data Input'!A37),\"\",SUM('Data Input'!E37,'Data Input'!G37,'Data Input'!H37,'Data Input'!L37,'Data Input'!N37,'Data Input'!Q37,'Data Input'!R37,'Data Input'!T37,'Data Input'!U37,'Data Input'!V37,'Data Input'!X37,'Data Input'!Y37,'Data Input'!Z37,'Data Input'!AA37,'Data Input'!AC37,'Data Input'!AD37,'Data Input'!AF37,'Data Input'!AG37,'Data Input'!AH37,'Data Input'!AI37,'Data Input'!AJ37,'Data Input'!AK37,'Data Input'!AL37))","v":""},{"$f":"IF(L33=\"\",\"\",L33/COUNTIF('Data Input'!$C$8:$AQ$8,$L$2))","v":""},{"$f":"IF(ISBLANK('Data Input'!A37),\"\",SUM('Data Input'!K37,'Data Input'!AQ37))","v":""},{"$f":"IF(N33=\"\",\"\",N33/COUNTIF('Data Input'!$C$8:$AQ$8,$N$2))","v":""},{"$f":"IF(ISBLANK('Data Input'!A37),\"\",SUM('Data Input'!C37,'Data Input'!D37,'Data Input'!F37,'Data Input'!J37,'Data Input'!O37,'Data Input'!S37,'Data Input'!AM37,'Data Input'!AN37,'Data Input'!AO37,'Data Input'!AP37))","v":""},{"$f":"IF(P33=\"\",\"\",P33/COUNTIF('Data Input'!$C$8:$AQ$8,$P$2))","v":""},{"$f":"IF(ISBLANK('Data Input'!C37),\"\",SUM('Data Input'!P37))","v":""},{"$f":"IF(R33=\"\",\"\",R33/COUNTIF('Data Input'!$C$8:$AQ$8,$R$2))","v":""}]
[{"$f":"IF('Data Input'!A38=0,\"\",'Data Input'!A38)","v":""},{"$f":"IF(H34=\"\",\"\",IF(H34>Welcome!$K$23-1,\"Exceeding\",IF(H34>Welcome!$G$23-1,\"Expected\",IF(H34<Welcome!$G$23,\"Below\"))))","v":""},{"$f":"IF(ISBLANK('Data Input'!A38),\"\",COUNTIF('Data Input'!C38:AQ38,\"\")-1)","v":""},{"$f":"IF(ISBLANK('Data Input'!A38),\"\",COUNTIF('Data Input'!C38:AQ38,\"0\"))","v":""},{"$f":"IF(ISBLANK('Data Input'!A38),\"\",SUM(C34,D34))","v":""},{"$f":"IF(ISBLANK('Data Input'!A38),\"\",SUM('Data Input'!C38:V38))","v":""},{"$f":"IF(ISBLANK('Data Input'!A38),\"\",SUM('Data Input'!X38:AQ38))","v":""},{"$f":"IF(ISBLANK('Data Input'!A38),\"\",SUM('Data Input'!C38:AQ38))","v":""},{"$f":"IF(H34=\"\",\"\",H34/(COUNTA('Data Input'!$C$8:$AQ$8)-1))","v":""},{"$f":"IF(ISBLANK('Data Input'!A38),\"\",SUM('Data Input'!I38,'Data Input'!M38,'Data Input'!AB38,'Data Input'!AE38))","v":""},{"$f":"IF(J34=\"\",\"\",J34/COUNTIF('Data Input'!$C$8:$AQ$8,$J$2))","v":""},{"$f":"IF(ISBLANK('Data Input'!A38),\"\",SUM('Data Input'!E38,'Data Input'!G38,'Data Input'!H38,'Data Input'!L38,'Data Input'!N38,'Data Input'!Q38,'Data Input'!R38,'Data Input'!T38,'Data Input'!U38,'Data Input'!V38,'Data Input'!X38,'Data Input'!Y38,'Data Input'!Z38,'Data Input'!AA38,'Data Input'!AC38,'Data Input'!AD38,'Data Input'!AF38,'Data Input'!AG38,'Data Input'!AH38,'Data Input'!AI38,'Data Input'!AJ38,'Data Input'!AK38,'Data Input'!AL38))","v":""},{"$f":"IF(L34=\"\",\"\",L34/COUNTIF('Data Input'!$C$8:$AQ$8,$L$2))","v":""},{"$f":"IF(ISBLANK('Data Input'!A38),\"\",SUM('Data Input'!K38,'Data Input'!AQ38))","v":""},{"$f":"IF(N34=\"\",\"\",N34/COUNTIF('Data Input'!$C$8:$AQ$8,$N$2))","v":""},{"$f":"IF(ISBLANK('Data Input'!A38),\"\",SUM('Data Input'!C38,'Data Input'!D38,'Data Input'!F38,'Data Input'!J38,'Data Input'!O38,'Data Input'!S38,'Data Input'!AM38,'Data Input'!AN38,'Data Input'!AO38,'Data Input'!AP38))","v":""},{"$f":"IF(P34=\"\",\"\",P34/COUNTIF('Data Input'!$C$8:$AQ$8,$P$2))","v":""},{"$f":"IF(ISBLANK('Data Input'!C38),\"\",SUM('Data Input'!P38))","v":""},{"$f":"IF(R34=\"\",\"\",R34/COUNTIF('Data Input'!$C$8:$AQ$8,$R$2))","v":""}]
[{"$f":"IF('Data Input'!A39=0,\"\",'Data Input'!A39)","v":""},{"$f":"IF(H35=\"\",\"\",IF(H35>Welcome!$K$23-1,\"Exceeding\",IF(H35>Welcome!$G$23-1,\"Expected\",IF(H35<Welcome!$G$23,\"Below\"))))","v":""},{"$f":"IF(ISBLANK('Data Input'!A39),\"\",COUNTIF('Data Input'!C39:AQ39,\"\")-1)","v":""},{"$f":"IF(ISBLANK('Data Input'!A39),\"\",COUNTIF('Data Input'!C39:AQ39,\"0\"))","v":""},{"$f":"IF(ISBLANK('Data Input'!A39),\"\",SUM(C35,D35))","v":""},{"$f":"IF(ISBLANK('Data Input'!A39),\"\",SUM('Data Input'!C39:V39))","v":""},{"$f":"IF(ISBLANK('Data Input'!A39),\"\",SUM('Data Input'!X39:AQ39))","v":""},{"$f":"IF(ISBLANK('Data Input'!A39),\"\",SUM('Data Input'!C39:AQ39))","v":""},{"$f":"IF(H35=\"\",\"\",H35/(COUNTA('Data Input'!$C$8:$AQ$8)-1))","v":""},{"$f":"IF(ISBLANK('Data Input'!A39),\"\",SUM('Data Input'!I39,'Data Input'!M39,'Data Input'!AB39,'Data Input'!AE39))","v":""},{"$f":"IF(J35=\"\",\"\",J35/COUNTIF('Data Input'!$C$8:$AQ$8,$J$2))","v":""},{"$f":"IF(ISBLANK('Data Input'!A39),\"\",SUM('Data Input'!E39,'Data Input'!G39,'Data Input'!H39,'Data Input'!L39,'Data Input'!N39,'Data Input'!Q39,'Data Input'!R39,'Data Input'!T39,'Data Input'!U39,'Data Input'!V39,'Data Input'!X39,'Data Input'!Y39,'Data Input'!Z39,'Data Input'!AA39,'Data Input'!AC39,'Data Input'!AD39,'Data Input'!AF39,'Data Input'!AG39,'Data Input'!AH39,'Data Input'!AI39,'Data Input'!AJ39,'Data Input'!AK39,'Data Input'!AL39))","v":""},{"$f":"IF(L35=\"\",\"\",L35/COUNTIF('Data Input'!$C$8:$AQ$8,$L$2))","v":""},{"$f":"IF(ISBLANK('Data Input'!A39),\"\",SUM('Data Input'!K39,'Data Input'!AQ39))","v":""},{"$f":"IF(N35=\"\",\"\",N35/COUNTIF('Data Input'!$C$8:$AQ$8,$N$2))","v":""},{"$f":"IF(ISBLANK('Data Input'!A39),\"\",SUM('Data Input'!C39,'Data Input'!D39,'Data Input'!F39,'Data Input'!J39,'Data Input'!O39,'Data Input'!S39,'Data Input'!AM39,'Data Input'!AN39,'Data Input'!AO39,'Data Input'!AP39))","v":""},{"$f":"IF(P35=\"\",\"\",P35/COUNTIF('Data Input'!$C$8:$AQ$8,$P$2))","v":""},{"$f":"IF(ISBLANK('Data Input'!C39),\"\",SUM('Data Input'!P39))","v":""},{"$f":"IF(R35=\"\",\"\",R35/COUNTIF('Data Input'!$C$8:$AQ$8,$R$2))","v":""}]
[{"$f":"IF('Data Input'!A40=0,\"\",'Data Input'!A40)","v":""},{"$f":"IF(H36=\"\",\"\",IF(H36>Welcome!$K$23-1,\"Exceeding\",IF(H36>Welcome!$G$23-1,\"Expected\",IF(H36<Welcome!$G$23,\"Below\"))))","v":""},{"$f":"IF(ISBLANK('Data Input'!A40),\"\",COUNTIF('Data Input'!C40:AQ40,\"\")-1)","v":""},{"$f":"IF(ISBLANK('Data Input'!A40),\"\",COUNTIF('Data Input'!C40:AQ40,\"0\"))","v":""},{"$f":"IF(ISBLANK('Data Input'!A40),\"\",SUM(C36,D36))","v":""},{"$f":"IF(ISBLANK('Data Input'!A40),\"\",SUM('Data Input'!C40:V40))","v":""},{"$f":"IF(ISBLANK('Data Input'!A40),\"\",SUM('Data Input'!X40:AQ40))","v":""},{"$f":"IF(ISBLANK('Data Input'!A40),\"\",SUM('Data Input'!C40:AQ40))","v":""},{"$f":"IF(H36=\"\",\"\",H36/(COUNTA('Data Input'!$C$8:$AQ$8)-1))","v":""},{"$f":"IF(ISBLANK('Data Input'!A40),\"\",SUM('Data Input'!I40,'Data Input'!M40,'Data Input'!AB40,'Data Input'!AE40))","v":""},{"$f":"IF(J36=\"\",\"\",J36/COUNTIF('Data Input'!$C$8:$AQ$8,$J$2))","v":""},{"$f":"IF(ISBLANK('Data Input'!A40),\"\",SUM('Data Input'!E40,'Data Input'!G40,'Data Input'!H40,'Data Input'!L40,'Data Input'!N40,'Data Input'!Q40,'Data Input'!R40,'Data Input'!T40,'Data Input'!U40,'Data Input'!V40,'Data Input'!X40,'Data Input'!Y40,'Data Input'!Z40,'Data Input'!AA40,'Data Input'!AC40,'Data Input'!AD40,'Data Input'!AF40,'Data Input'!AG40,'Data Input'!AH40,'Data Input'!AI40,'Data Input'!AJ40,'Data Input'!AK40,'Data Input'!AL40))","v":""},{"$f":"IF(L36=\"\",\"\",L36/COUNTIF('Data Input'!$C$8:$AQ$8,$L$2))","v":""},{"$f":"IF(ISBLANK('Data Input'!A40),\"\",SUM('Data Input'!K40,'Data Input'!AQ40))","v":""},{"$f":"IF(N36=\"\",\"\",N36/COUNTIF('Data Input'!$C$8:$AQ$8,$N$2))","v":""},{"$f":"IF(ISBLANK('Data Input'!A40),\"\",SUM('Data Input'!C40,'Data Input'!D40,'Data Input'!F40,'Data Input'!J40,'Data Input'!O40,'Data Input'!S40,'Data Input'!AM40,'Data Input'!AN40,'Data Input'!AO40,'Data Input'!AP40))","v":""},{"$f":"IF(P36=\"\",\"\",P36/COUNTIF('Data Input'!$C$8:$AQ$8,$P$2))","v":""},{"$f":"IF(ISBLANK('Data Input'!C40),\"\",SUM('Data Input'!P40))","v":""},{"$f":"IF(R36=\"\",\"\",R36/COUNTIF('Data Input'!$C$8:$AQ$8,$R$2))","v":""}]
[{"$f":"IF('Data Input'!A41=0,\"\",'Data Input'!A41)","v":""},{"$f":"IF(H37=\"\",\"\",IF(H37>Welcome!$K$23-1,\"Exceeding\",IF(H37>Welcome!$G$23-1,\"Expected\",IF(H37<Welcome!$G$23,\"Below\"))))","v":""},{"$f":"IF(ISBLANK('Data Input'!A41),\"\",COUNTIF('Data Input'!C41:AQ41,\"\")-1)","v":""},{"$f":"IF(ISBLANK('Data Input'!A41),\"\",COUNTIF('Data Input'!C41:AQ41,\"0\"))","v":""},{"$f":"IF(ISBLANK('Data Input'!A41),\"\",SUM(C37,D37))","v":""},{"$f":"IF(ISBLANK('Data Input'!A41),\"\",SUM('Data Input'!C41:V41))","v":""},{"$f":"IF(ISBLANK('Data Input'!A41),\"\",SUM('Data Input'!X41:AQ41))","v":""},{"$f":"IF(ISBLANK('Data Input'!A41),\"\",SUM('Data Input'!C41:AQ41))","v":""},{"$f":"IF(H37=\"\",\"\",H37/(COUNTA('Data Input'!$C$8:$AQ$8)-1))","v":""},{"$f":"IF(ISBLANK('Data Input'!A41),\"\",SUM('Data Input'!I41,'Data Input'!M41,'Data Input'!AB41,'Data Input'!AE41))","v":""},{"$f":"IF(J37=\"\",\"\",J37/COUNTIF('Data Input'!$C$8:$AQ$8,$J$2))","v":""},{"$f":"IF(ISBLANK('Data Input'!A41),\"\",SUM('Data Input'!E41,'Data Input'!G41,'Data Input'!H41,'Data Input'!L41,'Data Input'!N41,'Data Input'!Q41,'Data Input'!R41,'Data Input'!T41,'Data Input'!U41,'Data Input'!V41,'Data Input'!X41,'Data Input'!Y41,'Data Input'!Z41,'Data Input'!AA41,'Data Input'!AC41,'Data Input'!AD41,'Data Input'!AF41,'Data Input'!AG41,'Data Input'!AH41,'Data Input'!AI41,'Data Input'!AJ41,'Data Input'!AK41,'Data Input'!AL41))","v":""},{"$f":"IF(L37=\"\",\"\",L37/COUNTIF('Data Input'!$C$8:$AQ$8,$L$2))","v":""},{"$f":"IF(ISBLANK('Data Input'!A41),\"\",SUM('Data Input'!K41,'Data Input'!AQ41))","v":""},{"$f":"IF(N37=\"\",\"\",N37/COUNTIF('Data Input'!$C$8:$AQ$8,$N$2))","v":""},{"$f":"IF(ISBLANK('Data Input'!A41),\"\",SUM('Data Input'!C41,'Data Input'!D41,'Data Input'!F41,'Data Input'!J41,'Data Input'!O41,'Data Input'!S41,'Data Input'!AM41,'Data Input'!AN41,'Data Input'!AO41,'Data Input'!AP41))","v":""},{"$f":"IF(P37=\"\",\"\",P37/COUNTIF('Data Input'!$C$8:$AQ$8,$P$2))","v":""},{"$f":"IF(ISBLANK('Data Input'!C41),\"\",SUM('Data Input'!P41))","v":""},{"$f":"IF(R37=\"\",\"\",R37/COUNTIF('Data Input'!$C$8:$AQ$8,$R$2))","v":""}]
[{"$f":"IF('Data Input'!A42=0,\"\",'Data Input'!A42)","v":""},{"$f":"IF(H38=\"\",\"\",IF(H38>Welcome!$K$23-1,\"Exceeding\",IF(H38>Welcome!$G$23-1,\"Expected\",IF(H38<Welcome!$G$23,\"Below\"))))","v":""},{"$f":"IF(ISBLANK('Data Input'!A42),\"\",COUNTIF('Data Input'!C42:AQ42,\"\")-1)","v":""},{"$f":"IF(ISBLANK('Data Input'!A42),\"\",COUNTIF('Data Input'!C42:AQ42,\"0\"))","v":""},{"$f":"IF(ISBLANK('Data Input'!A42),\"\",SUM(C38,D38))","v":""},{"$f":"IF(ISBLANK('Data Input'!A42),\"\",SUM('Data Input'!C42:V42))","v":""},{"$f":"IF(ISBLANK('Data Input'!A42),\"\",SUM('Data Input'!X42:AQ42))","v":""},{"$f":"IF(ISBLANK('Data Input'!A42),\"\",SUM('Data Input'!C42:AQ42))","v":""},{"$f":"IF(H38=\"\",\"\",H38/(COUNTA('Data Input'!$C$8:$AQ$8)-1))","v":""},{"$f":"IF(ISBLANK('Data Input'!A42),\"\",SUM('Data Input'!I42,'Data Input'!M42,'Data Input'!AB42,'Data Input'!AE42))","v":""},{"$f":"IF(J38=\"\",\"\",J38/COUNTIF('Data Input'!$C$8:$AQ$8,$J$2))","v":""},{"$f":"IF(ISBLANK('Data Input'!A42),\"\",SUM('Data Input'!E42,'Data Input'!G42,'Data Input'!H42,'Data Input'!L42,'Data Input'!N42,'Data Input'!Q42,'Data Input'!R42,'Data Input'!T42,'Data Input'!U42,'Data Input'!V42,'Data Input'!X42,'Data Input'!Y42,'Data Input'!Z42,'Data Input'!AA42,'Data Input'!AC42,'Data Input'!AD42,'Data Input'!AF42,'Data Input'!AG42,'Data Input'!AH42,'Data Input'!AI42,'Data Input'!AJ42,'Data Input'!AK42,'Data Input'!AL42))","v":""},{"$f":"IF(L38=\"\",\"\",L38/COUNTIF('Data Input'!$C$8:$AQ$8,$L$2))","v":""},{"$f":"IF(ISBLANK('Data Input'!A42),\"\",SUM('Data Input'!K42,'Data Input'!AQ42))","v":""},{"$f":"IF(N38=\"\",\"\",N38/COUNTIF('Data Input'!$C$8:$AQ$8,$N$2))","v":""},{"$f":"IF(ISBLANK('Data Input'!A42),\"\",SUM('Data Input'!C42,'Data Input'!D42,'Data Input'!F42,'Data Input'!J42,'Data Input'!O42,'Data Input'!S42,'Data Input'!AM42,'Data Input'!AN42,'Data Input'!AO42,'Data Input'!AP42))","v":""},{"$f":"IF(P38=\"\",\"\",P38/COUNTIF('Data Input'!$C$8:$AQ$8,$P$2))","v":""},{"$f":"IF(ISBLANK('Data Input'!C42),\"\",SUM('Data Input'!P42))","v":""},{"$f":"IF(R38=\"\",\"\",R38/COUNTIF('Data Input'!$C$8:$AQ$8,$R$2))","v":""}]
[{"$f":"IF('Data Input'!A43=0,\"\",'Data Input'!A43)","v":""},{"$f":"IF(H39=\"\",\"\",IF(H39>Welcome!$K$23-1,\"Exceeding\",IF(H39>Welcome!$G$23-1,\"Expected\",IF(H39<Welcome!$G$23,\"Below\"))))","v":""},{"$f":"IF(ISBLANK('Data Input'!A43),\"\",COUNTIF('Data Input'!C43:AQ43,\"\")-1)","v":""},{"$f":"IF(ISBLANK('Data Input'!A43),\"\",COUNTIF('Data Input'!C43:AQ43,\"0\"))","v":""},{"$f":"IF(ISBLANK('Data Input'!A43),\"\",SUM(C39,D39))","v":""},{"$f":"IF(ISBLANK('Data Input'!A43),\"\",SUM('Data Input'!C43:V43))","v":""},{"$f":"IF(ISBLANK('Data Input'!A43),\"\",SUM('Data Input'!X43:AQ43))","v":""},{"$f":"IF(ISBLANK('Data Input'!A43),\"\",SUM('Data Input'!C43:AQ43))","v":""},{"$f":"IF(H39=\"\",\"\",H39/(COUNTA('Data Input'!$C$8:$AQ$8)-1))","v":""},{"$f":"IF(ISBLANK('Data Input'!A43),\"\",SUM('Data Input'!I43,'Data Input'!M43,'Data Input'!AB43,'Data Input'!AE43))","v":""},{"$f":"IF(J39=\"\",\"\",J39/COUNTIF('Data Input'!$C$8:$AQ$8,$J$2))","v":""},{"$f":"IF(ISBLANK('Data Input'!A43),\"\",SUM('Data Input'!E43,'Data Input'!G43,'Data Input'!H43,'Data Input'!L43,'Data Input'!N43,'Data Input'!Q43,'Data Input'!R43,'Data Input'!T43,'Data Input'!U43,'Data Input'!V43,'Data Input'!X43,'Data Input'!Y43,'Data Input'!Z43,'Data Input'!AA43,'Data Input'!AC43,'Data Input'!AD43,'Data Input'!AF43,'Data Input'!AG43,'Data Input'!AH43,'Data Input'!AI43,'Data Input'!AJ43,'Data Input'!AK43,'Data Input'!AL43))","v":""},{"$f":"IF(L39=\"\",\"\",L39/COUNTIF('Data Input'!$C$8:$AQ$8,$L$2))","v":""},{"$f":"IF(ISBLANK('Data Input'!A43),\"\",SUM('Data Input'!K43,'Data Input'!AQ43))","v":""},{"$f":"IF(N39=\"\",\"\",N39/COUNTIF('Data Input'!$C$8:$AQ$8,$N$2))","v":""},{"$f":"IF(ISBLANK('Data Input'!A43),\"\",SUM('Data Input'!C43,'Data Input'!D43,'Data Input'!F43,'Data Input'!J43,'Data Input'!O43,'Data Input'!S43,'Data Input'!AM43,'Data Input'!AN43,'Data Input'!AO43,'Data Input'!AP43))","v":""},{"$f":"IF(P39=\"\",\"\",P39/COUNTIF('Data Input'!$C$8:$AQ$8,$P$2))","v":""},{"$f":"IF(ISBLANK('Data Input'!C43),\"\",SUM('Data Input'!P43))","v":""},{"$f":"IF(R39=\"\",\"\",R39/COUNTIF('Data Input'!$C$8:$AQ$8,$R$2))","v":""}]
[{"$f":"IF('Data Input'!A44=0,\"\",'Data Input'!A44)","v":""},{"$f":"IF(H40=\"\",\"\",IF(H40>Welcome!$K$23-1,\"Exceeding\",IF(H40>Welcome!$G$23-1,\"Expected\",IF(H40<Welcome!$G$23,\"Below\"))))","v":""},{"$f":"IF(ISBLANK('Data Input'!A44),\"\",COUNTIF('Data Input'!C44:AQ44,\"\")-1)","v":""},{"$f":"IF(ISBLANK('Data Input'!A44),\"\",COUNTIF('Data Input'!C44:AQ44,\"0\"))","v":""},{"$f":"IF(ISBLANK('Data Input'!A44),\"\",SUM(C40,D40))","v":""},{"$f":"IF(ISBLANK('Data Input'!A44),\"\",SUM('Data Input'!C44:V44))","v":""},{"$f":"IF(ISBLANK('Data Input'!A44),\"\",SUM('Data Input'!X44:AQ44))","v":""},{"$f":"IF(ISBLANK('Data Input'!A44),\"\",SUM('Data Input'!C44:AQ44))","v":""},{"$f":"IF(H40=\"\",\"\",H40/(COUNTA('Data Input'!$C$8:$AQ$8)-1))","v":""},{"$f":"IF(ISBLANK('Data Input'!A44),\"\",SUM('Data Input'!I44,'Data Input'!M44,'Data Input'!AB44,'Data Input'!AE44))","v":""},{"$f":"IF(J40=\"\",\"\",J40/COUNTIF('Data Input'!$C$8:$AQ$8,$J$2))","v":""},{"$f":"IF(ISBLANK('Data Input'!A44),\"\",SUM('Data Input'!E44,'Data Input'!G44,'Data Input'!H44,'Data Input'!L44,'Data Input'!N44,'Data Input'!Q44,'Data Input'!R44,'Data Input'!T44,'Data Input'!U44,'Data Input'!V44,'Data Input'!X44,'Data Input'!Y44,'Data Input'!Z44,'Data Input'!AA44,'Data Input'!AC44,'Data Input'!AD44,'Data Input'!AF44,'Data Input'!AG44,'Data Input'!AH44,'Data Input'!AI44,'Data Input'!AJ44,'Data Input'!AK44,'Data Input'!AL44))","v":""},{"$f":"IF(L40=\"\",\"\",L40/COUNTIF('Data Input'!$C$8:$AQ$8,$L$2))","v":""},{"$f":"IF(ISBLANK('Data Input'!A44),\"\",SUM('Data Input'!K44,'Data Input'!AQ44))","v":""},{"$f":"IF(N40=\"\",\"\",N40/COUNTIF('Data Input'!$C$8:$AQ$8,$N$2))","v":""},{"$f":"IF(ISBLANK('Data Input'!A44),\"\",SUM('Data Input'!C44,'Data Input'!D44,'Data Input'!F44,'Data Input'!J44,'Data Input'!O44,'Data Input'!S44,'Data Input'!AM44,'Data Input'!AN44,'Data Input'!AO44,'Data Input'!AP44))","v":""},{"$f":"IF(P40=\"\",\"\",P40/COUNTIF('Data Input'!$C$8:$AQ$8,$P$2))","v":""},{"$f":"IF(ISBLANK('Data Input'!C44),\"\",SUM('Data Input'!P44))","v":""},{"$f":"IF(R40=\"\",\"\",R40/COUNTIF('Data Input'!$C$8:$AQ$8,$R$2))","v":""}]
[{"$f":"IF('Data Input'!A45=0,\"\",'Data Input'!A45)","v":""},{"$f":"IF(H41=\"\",\"\",IF(H41>Welcome!$K$23-1,\"Exceeding\",IF(H41>Welcome!$G$23-1,\"Expected\",IF(H41<Welcome!$G$23,\"Below\"))))","v":""},{"$f":"IF(ISBLANK('Data Input'!A45),\"\",COUNTIF('Data Input'!C45:AQ45,\"\")-1)","v":""},{"$f":"IF(ISBLANK('Data Input'!A45),\"\",COUNTIF('Data Input'!C45:AQ45,\"0\"))","v":""},{"$f":"IF(ISBLANK('Data Input'!A45),\"\",SUM(C41,D41))","v":""},{"$f":"IF(ISBLANK('Data Input'!A45),\"\",SUM('Data Input'!C45:V45))","v":""},{"$f":"IF(ISBLANK('Data Input'!A45),\"\",SUM('Data Input'!X45:AQ45))","v":""},{"$f":"IF(ISBLANK('Data Input'!A45),\"\",SUM('Data Input'!C45:AQ45))","v":""},{"$f":"IF(H41=\"\",\"\",H41/(COUNTA('Data Input'!$C$8:$AQ$8)-1))","v":""},{"$f":"IF(ISBLANK('Data Input'!A45),\"\",SUM('Data Input'!I45,'Data Input'!M45,'Data Input'!AB45,'Data Input'!AE45))","v":""},{"$f":"IF(J41=\"\",\"\",J41/COUNTIF('Data Input'!$C$8:$AQ$8,$J$2))","v":""},{"$f":"IF(ISBLANK('Data Input'!A45),\"\",SUM('Data Input'!E45,'Data Input'!G45,'Data Input'!H45,'Data Input'!L45,'Data Input'!N45,'Data Input'!Q45,'Data Input'!R45,'Data Input'!T45,'Data Input'!U45,'Data Input'!V45,'Data Input'!X45,'Data Input'!Y45,'Data Input'!Z45,'Data Input'!AA45,'Data Input'!AC45,'Data Input'!AD45,'Data Input'!AF45,'Data Input'!AG45,'Data Input'!AH45,'Data Input'!AI45,'Data Input'!AJ45,'Data Input'!AK45,'Data Input'!AL45))","v":""},{"$f":"IF(L41=\"\",\"\",L41/COUNTIF('Data Input'!$C$8:$AQ$8,$L$2))","v":""},{"$f":"IF(ISBLANK('Data Input'!A45),\"\",SUM('Data Input'!K45,'Data Input'!AQ45))","v":""},{"$f":"IF(N41=\"\",\"\",N41/COUNTIF('Data Input'!$C$8:$AQ$8,$N$2))","v":""},{"$f":"IF(ISBLANK('Data Input'!A45),\"\",SUM('Data Input'!C45,'Data Input'!D45,'Data Input'!F45,'Data Input'!J45,'Data Input'!O45,'Data Input'!S45,'Data Input'!AM45,'Data Input'!AN45,'Data Input'!AO45,'Data Input'!AP45))","v":""},{"$f":"IF(P41=\"\",\"\",P41/COUNTIF('Data Input'!$C$8:$AQ$8,$P$2))","v":""},{"$f":"IF(ISBLANK('Data Input'!C45),\"\",SUM('Data Input'!P45))","v":""},{"$f":"IF(R41=\"\",\"\",R41/COUNTIF('Data Input'!$C$8:$AQ$8,$R$2))","v":""}]
[{"$f":"IF('Data Input'!A46=0,\"\",'Data Input'!A46)","v":""},{"$f":"IF(H42=\"\",\"\",IF(H42>Welcome!$K$23-1,\"Exceeding\",IF(H42>Welcome!$G$23-1,\"Expected\",IF(H42<Welcome!$G$23,\"Below\"))))","v":""},{"$f":"IF(ISBLANK('Data Input'!A46),\"\",COUNTIF('Data Input'!C46:AQ46,\"\")-1)","v":""},{"$f":"IF(ISBLANK('Data Input'!A46),\"\",COUNTIF('Data Input'!C46:AQ46,\"0\"))","v":""},{"$f":"IF(ISBLANK('Data Input'!A46),\"\",SUM(C42,D42))","v":""},{"$f":"IF(ISBLANK('Data Input'!A46),\"\",SUM('Data Input'!C46:V46))","v":""},{"$f":"IF(ISBLANK('Data Input'!A46),\"\",SUM('Data Input'!X46:AQ46))","v":""},{"$f":"IF(ISBLANK('Data Input'!A46),\"\",SUM('Data Input'!C46:AQ46))","v":""},{"$f":"IF(H42=\"\",\"\",H42/(COUNTA('Data Input'!$C$8:$AQ$8)-1))","v":""},{"$f":"IF(ISBLANK('Data Input'!A46),\"\",SUM('Data Input'!I46,'Data Input'!M46,'Data Input'!AB46,'Data Input'!AE46))","v":""},{"$f":"IF(J42=\"\",\"\",J42/COUNTIF('Data Input'!$C$8:$AQ$8,$J$2))","v":""},{"$f":"IF(ISBLANK('Data Input'!A46),\"\",SUM('Data Input'!E46,'Data Input'!G46,'Data Input'!H46,'Data Input'!L46,'Data Input'!N46,'Data Input'!Q46,'Data Input'!R46,'Data Input'!T46,'Data Input'!U46,'Data Input'!V46,'Data Input'!X46,'Data Input'!Y46,'Data Input'!Z46,'Data Input'!AA46,'Data Input'!AC46,'Data Input'!AD46,'Data Input'!AF46,'Data Input'!AG46,'Data Input'!AH46,'Data Input'!AI46,'Data Input'!AJ46,'Data Input'!AK46,'Data Input'!AL46))","v":""},{"$f":"IF(L42=\"\",\"\",L42/COUNTIF('Data Input'!$C$8:$AQ$8,$L$2))","v":""},{"$f":"IF(ISBLANK('Data Input'!A46),\"\",SUM('Data Input'!K46,'Data Input'!AQ46))","v":""},{"$f":"IF(N42=\"\",\"\",N42/COUNTIF('Data Input'!$C$8:$AQ$8,$N$2))","v":""},{"$f":"IF(ISBLANK('Data Input'!A46),\"\",SUM('Data Input'!C46,'Data Input'!D46,'Data Input'!F46,'Data Input'!J46,'Data Input'!O46,'Data Input'!S46,'Data Input'!AM46,'Data Input'!AN46,'Data Input'!AO46,'Data Input'!AP46))","v":""},{"$f":"IF(P42=\"\",\"\",P42/COUNTIF('Data Input'!$C$8:$AQ$8,$P$2))","v":""},{"$f":"IF(ISBLANK('Data Input'!C46),\"\",SUM('Data Input'!P46))","v":""},{"$f":"IF(R42=\"\",\"\",R42/COUNTIF('Data Input'!$C$8:$AQ$8,$R$2))","v":""}]
[{"$f":"IF('Data Input'!A47=0,\"\",'Data Input'!A47)","v":""},{"$f":"IF(H43=\"\",\"\",IF(H43>Welcome!$K$23-1,\"Exceeding\",IF(H43>Welcome!$G$23-1,\"Expected\",IF(H43<Welcome!$G$23,\"Below\"))))","v":""},{"$f":"IF(ISBLANK('Data Input'!A47),\"\",COUNTIF('Data Input'!C47:AQ47,\"\")-1)","v":""},{"$f":"IF(ISBLANK('Data Input'!A47),\"\",COUNTIF('Data Input'!C47:AQ47,\"0\"))","v":""},{"$f":"IF(ISBLANK('Data Input'!A47),\"\",SUM(C43,D43))","v":""},{"$f":"IF(ISBLANK('Data Input'!A47),\"\",SUM('Data Input'!C47:V47))","v":""},{"$f":"IF(ISBLANK('Data Input'!A47),\"\",SUM('Data Input'!X47:AQ47))","v":""},{"$f":"IF(ISBLANK('Data Input'!A47),\"\",SUM('Data Input'!C47:AQ47))","v":""},{"$f":"IF(H43=\"\",\"\",H43/(COUNTA('Data Input'!$C$8:$AQ$8)-1))","v":""},{"$f":"IF(ISBLANK('Data Input'!A47),\"\",SUM('Data Input'!I47,'Data Input'!M47,'Data Input'!AB47,'Data Input'!AE47))","v":""},{"$f":"IF(J43=\"\",\"\",J43/COUNTIF('Data Input'!$C$8:$AQ$8,$J$2))","v":""},{"$f":"IF(ISBLANK('Data Input'!A47),\"\",SUM('Data Input'!E47,'Data Input'!G47,'Data Input'!H47,'Data Input'!L47,'Data Input'!N47,'Data Input'!Q47,'Data Input'!R47,'Data Input'!T47,'Data Input'!U47,'Data Input'!V47,'Data Input'!X47,'Data Input'!Y47,'Data Input'!Z47,'Data Input'!AA47,'Data Input'!AC47,'Data Input'!AD47,'Data Input'!AF47,'Data Input'!AG47,'Data Input'!AH47,'Data Input'!AI47,'Data Input'!AJ47,'Data Input'!AK47,'Data Input'!AL47))","v":""},{"$f":"IF(L43=\"\",\"\",L43/COUNTIF('Data Input'!$C$8:$AQ$8,$L$2))","v":""},{"$f":"IF(ISBLANK('Data Input'!A47),\"\",SUM('Data Input'!K47,'Data Input'!AQ47))","v":""},{"$f":"IF(N43=\"\",\"\",N43/COUNTIF('Data Input'!$C$8:$AQ$8,$N$2))","v":""},{"$f":"IF(ISBLANK('Data Input'!A47),\"\",SUM('Data Input'!C47,'Data Input'!D47,'Data Input'!F47,'Data Input'!J47,'Data Input'!O47,'Data Input'!S47,'Data Input'!AM47,'Data Input'!AN47,'Data Input'!AO47,'Data Input'!AP47))","v":""},{"$f":"IF(P43=\"\",\"\",P43/COUNTIF('Data Input'!$C$8:$AQ$8,$P$2))","v":""},{"$f":"IF(ISBLANK('Data Input'!C47),\"\",SUM('Data Input'!P47))","v":""},{"$f":"IF(R43=\"\",\"\",R43/COUNTIF('Data Input'!$C$8:$AQ$8,$R$2))","v":""}]
[{"$f":"IF('Data Input'!A48=0,\"\",'Data Input'!A48)","v":""},{"$f":"IF(H44=\"\",\"\",IF(H44>Welcome!$K$23-1,\"Exceeding\",IF(H44>Welcome!$G$23-1,\"Expected\",IF(H44<Welcome!$G$23,\"Below\"))))","v":""},{"$f":"IF(ISBLANK('Data Input'!A48),\"\",COUNTIF('Data Input'!C48:AQ48,\"\")-1)","v":""},{"$f":"IF(ISBLANK('Data Input'!A48),\"\",COUNTIF('Data Input'!C48:AQ48,\"0\"))","v":""},{"$f":"IF(ISBLANK('Data Input'!A48),\"\",SUM(C44,D44))","v":""},{"$f":"IF(ISBLANK('Data Input'!A48),\"\",SUM('Data Input'!C48:V48))","v":""},{"$f":"IF(ISBLANK('Data Input'!A48),\"\",SUM('Data Input'!X48:AQ48))","v":""},{"$f":"IF(ISBLANK('Data Input'!A48),\"\",SUM('Data Input'!C48:AQ48))","v":""},{"$f":"IF(H44=\"\",\"\",H44/(COUNTA('Data Input'!$C$8:$AQ$8)-1))","v":""},{"$f":"IF(ISBLANK('Data Input'!A48),\"\",SUM('Data Input'!I48,'Data Input'!M48,'Data Input'!AB48,'Data Input'!AE48))","v":""},{"$f":"IF(J44=\"\",\"\",J44/COUNTIF('Data Input'!$C$8:$AQ$8,$J$2))","v":""},{"$f":"IF(ISBLANK('Data Input'!A48),\"\",SUM('Data Input'!E48,'Data Input'!G48,'Data Input'!H48,'Data Input'!L48,'Data Input'!N48,'Data Input'!Q48,'Data Input'!R48,'Data Input'!T48,'Data Input'!U48,'Data Input'!V48,'Data Input'!X48,'Data Input'!Y48,'Data Input'!Z48,'Data Input'!AA48,'Data Input'!AC48,'Data Input'!AD48,'Data Input'!AF48,'Data Input'!AG48,'Data Input'!AH48,'Data Input'!AI48,'Data Input'!AJ48,'Data Input'!AK48,'Data Input'!AL48))","v":""},{"$f":"IF(L44=\"\",\"\",L44/COUNTIF('Data Input'!$C$8:$AQ$8,$L$2))","v":""},{"$f":"IF(ISBLANK('Data Input'!A48),\"\",SUM('Data Input'!K48,'Data Input'!AQ48))","v":""},{"$f":"IF(N44=\"\",\"\",N44/COUNTIF('Data Input'!$C$8:$AQ$8,$N$2))","v":""},{"$f":"IF(ISBLANK('Data Input'!A48),\"\",SUM('Data Input'!C48,'Data Input'!D48,'Data Input'!F48,'Data Input'!J48,'Data Input'!O48,'Data Input'!S48,'Data Input'!AM48,'Data Input'!AN48,'Data Input'!AO48,'Data Input'!AP48))","v":""},{"$f":"IF(P44=\"\",\"\",P44/COUNTIF('Data Input'!$C$8:$AQ$8,$P$2))","v":""},{"$f":"IF(ISBLANK('Data Input'!C48),\"\",SUM('Data Input'!P48))","v":""},{"$f":"IF(R44=\"\",\"\",R44/COUNTIF('Data Input'!$C$8:$AQ$8,$R$2))","v":""}]
[{"$f":"IF('Data Input'!A49=0,\"\",'Data Input'!A49)","v":""},{"$f":"IF(H45=\"\",\"\",IF(H45>Welcome!$K$23-1,\"Exceeding\",IF(H45>Welcome!$G$23-1,\"Expected\",IF(H45<Welcome!$G$23,\"Below\"))))","v":""},{"$f":"IF(ISBLANK('Data Input'!A49),\"\",COUNTIF('Data Input'!C49:AQ49,\"\")-1)","v":""},{"$f":"IF(ISBLANK('Data Input'!A49),\"\",COUNTIF('Data Input'!C49:AQ49,\"0\"))","v":""},{"$f":"IF(ISBLANK('Data Input'!A49),\"\",SUM(C45,D45))","v":""},{"$f":"IF(ISBLANK('Data Input'!A49),\"\",SUM('Data Input'!C49:V49))","v":""},{"$f":"IF(ISBLANK('Data Input'!A49),\"\",SUM('Data Input'!X49:AQ49))","v":""},{"$f":"IF(ISBLANK('Data Input'!A49),\"\",SUM('Data Input'!C49:AQ49))","v":""},{"$f":"IF(H45=\"\",\"\",H45/(COUNTA('Data Input'!$C$8:$AQ$8)-1))","v":""},{"$f":"IF(ISBLANK('Data Input'!A49),\"\",SUM('Data Input'!I49,'Data Input'!M49,'Data Input'!AB49,'Data Input'!AE49))","v":""},{"$f":"IF(J45=\"\",\"\",J45/COUNTIF('Data Input'!$C$8:$AQ$8,$J$2))","v":""},{"$f":"IF(ISBLANK('Data Input'!A49),\"\",SUM('Data Input'!E49,'Data Input'!G49,'Data Input'!H49,'Data Input'!L49,'Data Input'!N49,'Data Input'!Q49,'Data Input'!R49,'Data Input'!T49,'Data Input'!U49,'Data Input'!V49,'Data Input'!X49,'Data Input'!Y49,'Data Input'!Z49,'Data Input'!AA49,'Data Input'!AC49,'Data Input'!AD49,'Data Input'!AF49,'Data Input'!AG49,'Data Input'!AH49,'Data Input'!AI49,'Data Input'!AJ49,'Data Input'!AK49,'Data Input'!AL49))","v":""},{"$f":"IF(L45=\"\",\"\",L45/COUNTIF('Data Input'!$C$8:$AQ$8,$L$2))","v":""},{"$f":"IF(ISBLANK('Data Input'!A49),\"\",SUM('Data Input'!K49,'Data Input'!AQ49))","v":""},{"$f":"IF(N45=\"\",\"\",N45/COUNTIF('Data Input'!$C$8:$AQ$8,$N$2))","v":""},{"$f":"IF(ISBLANK('Data Input'!A49),\"\",SUM('Data Input'!C49,'Data Input'!D49,'Data Input'!F49,'Data Input'!J49,'Data Input'!O49,'Data Input'!S49,'Data Input'!AM49,'Data Input'!AN49,'Data Input'!AO49,'Data Input'!AP49))","v":""},{"$f":"IF(P45=\"\",\"\",P45/COUNTIF('Data Input'!$C$8:$AQ$8,$P$2))","v":""},{"$f":"IF(ISBLANK('Data Input'!C49),\"\",SUM('Data Input'!P49))","v":""},{"$f":"IF(R45=\"\",\"\",R45/COUNTIF('Data Input'!$C$8:$AQ$8,$R$2))","v":""}]
[{"$f":"IF('Data Input'!A50=0,\"\",'Data Input'!A50)","v":""},{"$f":"IF(H46=\"\",\"\",IF(H46>Welcome!$K$23-1,\"Exceeding\",IF(H46>Welcome!$G$23-1,\"Expected\",IF(H46<Welcome!$G$23,\"Below\"))))","v":""},{"$f":"IF(ISBLANK('Data Input'!A50),\"\",COUNTIF('Data Input'!C50:AQ50,\"\")-1)","v":""},{"$f":"IF(ISBLANK('Data Input'!A50),\"\",COUNTIF('Data Input'!C50:AQ50,\"0\"))","v":""},{"$f":"IF(ISBLANK('Data Input'!A50),\"\",SUM(C46,D46))","v":""},{"$f":"IF(ISBLANK('Data Input'!A50),\"\",SUM('Data Input'!C50:V50))","v":""},{"$f":"IF(ISBLANK('Data Input'!A50),\"\",SUM('Data Input'!X50:AQ50))","v":""},{"$f":"IF(ISBLANK('Data Input'!A50),\"\",SUM('Data Input'!C50:AQ50))","v":""},{"$f":"IF(H46=\"\",\"\",H46/(COUNTA('Data Input'!$C$8:$AQ$8)-1))","v":""},{"$f":"IF(ISBLANK('Data Input'!A50),\"\",SUM('Data Input'!I50,'Data Input'!M50,'Data Input'!AB50,'Data Input'!AE50))","v":""},{"$f":"IF(J46=\"\",\"\",J46/COUNTIF('Data Input'!$C$8:$AQ$8,$J$2))","v":""},{"$f":"IF(ISBLANK('Data Input'!A50),\"\",SUM('Data Input'!E50,'Data Input'!G50,'Data Input'!H50,'Data Input'!L50,'Data Input'!N50,'Data Input'!Q50,'Data Input'!R50,'Data Input'!T50,'Data Input'!U50,'Data Input'!V50,'Data Input'!X50,'Data Input'!Y50,'Data Input'!Z50,'Data Input'!AA50,'Data Input'!AC50,'Data Input'!AD50,'Data Input'!AF50,'Data Input'!AG50,'Data Input'!AH50,'Data Input'!AI50,'Data Input'!AJ50,'Data Input'!AK50,'Data Input'!AL50))","v":""},{"$f":"IF(L46=\"\",\"\",L46/COUNTIF('Data Input'!$C$8:$AQ$8,$L$2))","v":""},{"$f":"IF(ISBLANK('Data Input'!A50),\"\",SUM('Data Input'!K50,'Data Input'!AQ50))","v":""},{"$f":"IF(N46=\"\",\"\",N46/COUNTIF('Data Input'!$C$8:$AQ$8,$N$2))","v":""},{"$f":"IF(ISBLANK('Data Input'!A50),\"\",SUM('Data Input'!C50,'Data Input'!D50,'Data Input'!F50,'Data Input'!J50,'Data Input'!O50,'Data Input'!S50,'Data Input'!AM50,'Data Input'!AN50,'Data Input'!AO50,'Data Input'!AP50))","v":""},{"$f":"IF(P46=\"\",\"\",P46/COUNTIF('Data Input'!$C$8:$AQ$8,$P$2))","v":""},{"$f":"IF(ISBLANK('Data Input'!C50),\"\",SUM('Data Input'!P50))","v":""},{"$f":"IF(R46=\"\",\"\",R46/COUNTIF('Data Input'!$C$8:$AQ$8,$R$2))","v":""}]
[{"$f":"IF('Data Input'!A51=0,\"\",'Data Input'!A51)","v":""},{"$f":"IF(H47=\"\",\"\",IF(H47>Welcome!$K$23-1,\"Exceeding\",IF(H47>Welcome!$G$23-1,\"Expected\",IF(H47<Welcome!$G$23,\"Below\"))))","v":""},{"$f":"IF(ISBLANK('Data Input'!A51),\"\",COUNTIF('Data Input'!C51:AQ51,\"\")-1)","v":""},{"$f":"IF(ISBLANK('Data Input'!A51),\"\",COUNTIF('Data Input'!C51:AQ51,\"0\"))","v":""},{"$f":"IF(ISBLANK('Data Input'!A51),\"\",SUM(C47,D47))","v":""},{"$f":"IF(ISBLANK('Data Input'!A51),\"\",SUM('Data Input'!C51:V51))","v":""},{"$f":"IF(ISBLANK('Data Input'!A51),\"\",SUM('Data Input'!X51:AQ51))","v":""},{"$f":"IF(ISBLANK('Data Input'!A51),\"\",SUM('Data Input'!C51:AQ51))","v":""},{"$f":"IF(H47=\"\",\"\",H47/(COUNTA('Data Input'!$C$8:$AQ$8)-1))","v":""},{"$f":"IF(ISBLANK('Data Input'!A51),\"\",SUM('Data Input'!I51,'Data Input'!M51,'Data Input'!AB51,'Data Input'!AE51))","v":""},{"$f":"IF(J47=\"\",\"\",J47/COUNTIF('Data Input'!$C$8:$AQ$8,$J$2))","v":""},{"$f":"IF(ISBLANK('Data Input'!A51),\"\",SUM('Data Input'!E51,'Data Input'!G51,'Data Input'!H51,'Data Input'!L51,'Data Input'!N51,'Data Input'!Q51,'Data Input'!R51,'Data Input'!T51,'Data Input'!U51,'Data Input'!V51,'Data Input'!X51,'Data Input'!Y51,'Data Input'!Z51,'Data Input'!AA51,'Data Input'!AC51,'Data Input'!AD51,'Data Input'!AF51,'Data Input'!AG51,'Data Input'!AH51,'Data Input'!AI51,'Data Input'!AJ51,'Data Input'!AK51,'Data Input'!AL51))","v":""},{"$f":"IF(L47=\"\",\"\",L47/COUNTIF('Data Input'!$C$8:$AQ$8,$L$2))","v":""},{"$f":"IF(ISBLANK('Data Input'!A51),\"\",SUM('Data Input'!K51,'Data Input'!AQ51))","v":""},{"$f":"IF(N47=\"\",\"\",N47/COUNTIF('Data Input'!$C$8:$AQ$8,$N$2))","v":""},{"$f":"IF(ISBLANK('Data Input'!A51),\"\",SUM('Data Input'!C51,'Data Input'!D51,'Data Input'!F51,'Data Input'!J51,'Data Input'!O51,'Data Input'!S51,'Data Input'!AM51,'Data Input'!AN51,'Data Input'!AO51,'Data Input'!AP51))","v":""},{"$f":"IF(P47=\"\",\"\",P47/COUNTIF('Data Input'!$C$8:$AQ$8,$P$2))","v":""},{"$f":"IF(ISBLANK('Data Input'!C51),\"\",SUM('Data Input'!P51))","v":""},{"$f":"IF(R47=\"\",\"\",R47/COUNTIF('Data Input'!$C$8:$AQ$8,$R$2))","v":""}]
[{"$f":"IF('Data Input'!A52=0,\"\",'Data Input'!A52)","v":""},{"$f":"IF(H48=\"\",\"\",IF(H48>Welcome!$K$23-1,\"Exceeding\",IF(H48>Welcome!$G$23-1,\"Expected\",IF(H48<Welcome!$G$23,\"Below\"))))","v":""},{"$f":"IF(ISBLANK('Data Input'!A52),\"\",COUNTIF('Data Input'!C52:AQ52,\"\")-1)","v":""},{"$f":"IF(ISBLANK('Data Input'!A52),\"\",COUNTIF('Data Input'!C52:AQ52,\"0\"))","v":""},{"$f":"IF(ISBLANK('Data Input'!A52),\"\",SUM(C48,D48))","v":""},{"$f":"IF(ISBLANK('Data Input'!A52),\"\",SUM('Data Input'!C52:V52))","v":""},{"$f":"IF(ISBLANK('Data Input'!A52),\"\",SUM('Data Input'!X52:AQ52))","v":""},{"$f":"IF(ISBLANK('Data Input'!A52),\"\",SUM('Data Input'!C52:AQ52))","v":""},{"$f":"IF(H48=\"\",\"\",H48/(COUNTA('Data Input'!$C$8:$AQ$8)-1))","v":""},{"$f":"IF(ISBLANK('Data Input'!A52),\"\",SUM('Data Input'!I52,'Data Input'!M52,'Data Input'!AB52,'Data Input'!AE52))","v":""},{"$f":"IF(J48=\"\",\"\",J48/COUNTIF('Data Input'!$C$8:$AQ$8,$J$2))","v":""},{"$f":"IF(ISBLANK('Data Input'!A52),\"\",SUM('Data Input'!E52,'Data Input'!G52,'Data Input'!H52,'Data Input'!L52,'Data Input'!N52,'Data Input'!Q52,'Data Input'!R52,'Data Input'!T52,'Data Input'!U52,'Data Input'!V52,'Data Input'!X52,'Data Input'!Y52,'Data Input'!Z52,'Data Input'!AA52,'Data Input'!AC52,'Data Input'!AD52,'Data Input'!AF52,'Data Input'!AG52,'Data Input'!AH52,'Data Input'!AI52,'Data Input'!AJ52,'Data Input'!AK52,'Data Input'!AL52))","v":""},{"$f":"IF(L48=\"\",\"\",L48/COUNTIF('Data Input'!$C$8:$AQ$8,$L$2))","v":""},{"$f":"IF(ISBLANK('Data Input'!A52),\"\",SUM('Data Input'!K52,'Data Input'!AQ52))","v":""},{"$f":"IF(N48=\"\",\"\",N48/COUNTIF('Data Input'!$C$8:$AQ$8,$N$2))","v":""},{"$f":"IF(ISBLANK('Data Input'!A52),\"\",SUM('Data Input'!C52,'Data Input'!D52,'Data Input'!F52,'Data Input'!J52,'Data Input'!O52,'Data Input'!S52,'Data Input'!AM52,'Data Input'!AN52,'Data Input'!AO52,'Data Input'!AP52))","v":""},{"$f":"IF(P48=\"\",\"\",P48/COUNTIF('Data Input'!$C$8:$AQ$8,$P$2))","v":""},{"$f":"IF(ISBLANK('Data Input'!C52),\"\",SUM('Data Input'!P52))","v":""},{"$f":"IF(R48=\"\",\"\",R48/COUNTIF('Data Input'!$C$8:$AQ$8,$R$2))","v":""}]
[{"$f":"IF('Data Input'!A53=0,\"\",'Data Input'!A53)","v":""},{"$f":"IF(H49=\"\",\"\",IF(H49>Welcome!$K$23-1,\"Exceeding\",IF(H49>Welcome!$G$23-1,\"Expected\",IF(H49<Welcome!$G$23,\"Below\"))))","v":""},{"$f":"IF(ISBLANK('Data Input'!A53),\"\",COUNTIF('Data Input'!C53:AQ53,\"\")-1)","v":""},{"$f":"IF(ISBLANK('Data Input'!A53),\"\",COUNTIF('Data Input'!C53:AQ53,\"0\"))","v":""},{"$f":"IF(ISBLANK('Data Input'!A53),\"\",SUM(C49,D49))","v":""},{"$f":"IF(ISBLANK('Data Input'!A53),\"\",SUM('Data Input'!C53:V53))","v":""},{"$f":"IF(ISBLANK('Data Input'!A53),\"\",SUM('Data Input'!X53:AQ53))","v":""},{"$f":"IF(ISBLANK('Data Input'!A53),\"\",SUM('Data Input'!C53:AQ53))","v":""},{"$f":"IF(H49=\"\",\"\",H49/(COUNTA('Data Input'!$C$8:$AQ$8)-1))","v":""},{"$f":"IF(ISBLANK('Data Input'!A53),\"\",SUM('Data Input'!I53,'Data Input'!M53,'Data Input'!AB53,'Data Input'!AE53))","v":""},{"$f":"IF(J49=\"\",\"\",J49/COUNTIF('Data Input'!$C$8:$AQ$8,$J$2))","v":""},{"$f":"IF(ISBLANK('Data Input'!A53),\"\",SUM('Data Input'!E53,'Data Input'!G53,'Data Input'!H53,'Data Input'!L53,'Data Input'!N53,'Data Input'!Q53,'Data Input'!R53,'Data Input'!T53,'Data Input'!U53,'Data Input'!V53,'Data Input'!X53,'Data Input'!Y53,'Data Input'!Z53,'Data Input'!AA53,'Data Input'!AC53,'Data Input'!AD53,'Data Input'!AF53,'Data Input'!AG53,'Data Input'!AH53,'Data Input'!AI53,'Data Input'!AJ53,'Data Input'!AK53,'Data Input'!AL53))","v":""},{"$f":"IF(L49=\"\",\"\",L49/COUNTIF('Data Input'!$C$8:$AQ$8,$L$2))","v":""},{"$f":"IF(ISBLANK('Data Input'!A53),\"\",SUM('Data Input'!K53,'Data Input'!AQ53))","v":""},{"$f":"IF(N49=\"\",\"\",N49/COUNTIF('Data Input'!$C$8:$AQ$8,$N$2))","v":""},{"$f":"IF(ISBLANK('Data Input'!A53),\"\",SUM('Data Input'!C53,'Data Input'!D53,'Data Input'!F53,'Data Input'!J53,'Data Input'!O53,'Data Input'!S53,'Data Input'!AM53,'Data Input'!AN53,'Data Input'!AO53,'Data Input'!AP53))","v":""},{"$f":"IF(P49=\"\",\"\",P49/COUNTIF('Data Input'!$C$8:$AQ$8,$P$2))","v":""},{"$f":"IF(ISBLANK('Data Input'!C53),\"\",SUM('Data Input'!P53))","v":""},{"$f":"IF(R49=\"\",\"\",R49/COUNTIF('Data Input'!$C$8:$AQ$8,$R$2))","v":""}]
[{"$f":"IF('Data Input'!A54=0,\"\",'Data Input'!A54)","v":""},{"$f":"IF(H50=\"\",\"\",IF(H50>Welcome!$K$23-1,\"Exceeding\",IF(H50>Welcome!$G$23-1,\"Expected\",IF(H50<Welcome!$G$23,\"Below\"))))","v":""},{"$f":"IF(ISBLANK('Data Input'!A54),\"\",COUNTIF('Data Input'!C54:AQ54,\"\")-1)","v":""},{"$f":"IF(ISBLANK('Data Input'!A54),\"\",COUNTIF('Data Input'!C54:AQ54,\"0\"))","v":""},{"$f":"IF(ISBLANK('Data Input'!A54),\"\",SUM(C50,D50))","v":""},{"$f":"IF(ISBLANK('Data Input'!A54),\"\",SUM('Data Input'!C54:V54))","v":""},{"$f":"IF(ISBLANK('Data Input'!A54),\"\",SUM('Data Input'!X54:AQ54))","v":""},{"$f":"IF(ISBLANK('Data Input'!A54),\"\",SUM('Data Input'!C54:AQ54))","v":""},{"$f":"IF(H50=\"\",\"\",H50/(COUNTA('Data Input'!$C$8:$AQ$8)-1))","v":""},{"$f":"IF(ISBLANK('Data Input'!A54),\"\",SUM('Data Input'!I54,'Data Input'!M54,'Data Input'!AB54,'Data Input'!AE54))","v":""},{"$f":"IF(J50=\"\",\"\",J50/COUNTIF('Data Input'!$C$8:$AQ$8,$J$2))","v":""},{"$f":"IF(ISBLANK('Data Input'!A54),\"\",SUM('Data Input'!E54,'Data Input'!G54,'Data Input'!H54,'Data Input'!L54,'Data Input'!N54,'Data Input'!Q54,'Data Input'!R54,'Data Input'!T54,'Data Input'!U54,'Data Input'!V54,'Data Input'!X54,'Data Input'!Y54,'Data Input'!Z54,'Data Input'!AA54,'Data Input'!AC54,'Data Input'!AD54,'Data Input'!AF54,'Data Input'!AG54,'Data Input'!AH54,'Data Input'!AI54,'Data Input'!AJ54,'Data Input'!AK54,'Data Input'!AL54))","v":""},{"$f":"IF(L50=\"\",\"\",L50/COUNTIF('Data Input'!$C$8:$AQ$8,$L$2))","v":""},{"$f":"IF(ISBLANK('Data Input'!A54),\"\",SUM('Data Input'!K54,'Data Input'!AQ54))","v":""},{"$f":"IF(N50=\"\",\"\",N50/COUNTIF('Data Input'!$C$8:$AQ$8,$N$2))","v":""},{"$f":"IF(ISBLANK('Data Input'!A54),\"\",SUM('Data Input'!C54,'Data Input'!D54,'Data Input'!F54,'Data Input'!J54,'Data Input'!O54,'Data Input'!S54,'Data Input'!AM54,'Data Input'!AN54,'Data Input'!AO54,'Data Input'!AP54))","v":""},{"$f":"IF(P50=\"\",\"\",P50/COUNTIF('Data Input'!$C$8:$AQ$8,$P$2))","v":""},{"$f":"IF(ISBLANK('Data Input'!C54),\"\",SUM('Data Input'!P54))","v":""},{"$f":"IF(R50=\"\",\"\",R50/COUNTIF('Data Input'!$C$8:$AQ$8,$R$2))","v":""}]
[{"$f":"IF('Data Input'!A55=0,\"\",'Data Input'!A55)","v":""},{"$f":"IF(H51=\"\",\"\",IF(H51>Welcome!$K$23-1,\"Exceeding\",IF(H51>Welcome!$G$23-1,\"Expected\",IF(H51<Welcome!$G$23,\"Below\"))))","v":""},{"$f":"IF(ISBLANK('Data Input'!A55),\"\",COUNTIF('Data Input'!C55:AQ55,\"\")-1)","v":""},{"$f":"IF(ISBLANK('Data Input'!A55),\"\",COUNTIF('Data Input'!C55:AQ55,\"0\"))","v":""},{"$f":"IF(ISBLANK('Data Input'!A55),\"\",SUM(C51,D51))","v":""},{"$f":"IF(ISBLANK('Data Input'!A55),\"\",SUM('Data Input'!C55:V55))","v":""},{"$f":"IF(ISBLANK('Data Input'!A55),\"\",SUM('Data Input'!X55:AQ55))","v":""},{"$f":"IF(ISBLANK('Data Input'!A55),\"\",SUM('Data Input'!C55:AQ55))","v":""},{"$f":"IF(H51=\"\",\"\",H51/(COUNTA('Data Input'!$C$8:$AQ$8)-1))","v":""},{"$f":"IF(ISBLANK('Data Input'!A55),\"\",SUM('Data Input'!I55,'Data Input'!M55,'Data Input'!AB55,'Data Input'!AE55))","v":""},{"$f":"IF(J51=\"\",\"\",J51/COUNTIF('Data Input'!$C$8:$AQ$8,$J$2))","v":""},{"$f":"IF(ISBLANK('Data Input'!A55),\"\",SUM('Data Input'!E55,'Data Input'!G55,'Data Input'!H55,'Data Input'!L55,'Data Input'!N55,'Data Input'!Q55,'Data Input'!R55,'Data Input'!T55,'Data Input'!U55,'Data Input'!V55,'Data Input'!X55,'Data Input'!Y55,'Data Input'!Z55,'Data Input'!AA55,'Data Input'!AC55,'Data Input'!AD55,'Data Input'!AF55,'Data Input'!AG55,'Data Input'!AH55,'Data Input'!AI55,'Data Input'!AJ55,'Data Input'!AK55,'Data Input'!AL55))","v":""},{"$f":"IF(L51=\"\",\"\",L51/COUNTIF('Data Input'!$C$8:$AQ$8,$L$2))","v":""},{"$f":"IF(ISBLANK('Data Input'!A55),\"\",SUM('Data Input'!K55,'Data Input'!AQ55))","v":""},{"$f":"IF(N51=\"\",\"\",N51/COUNTIF('Data Input'!$C$8:$AQ$8,$N$2))","v":""},{"$f":"IF(ISBLANK('Data Input'!A55),\"\",SUM('Data Input'!C55,'Data Input'!D55,'Data Input'!F55,'Data Input'!J55,'Data Input'!O55,'Data Input'!S55,'Data Input'!AM55,'Data Input'!AN55,'Data Input'!AO55,'Data Input'!AP55))","v":""},{"$f":"IF(P51=\"\",\"\",P51/COUNTIF('Data Input'!$C$8:$AQ$8,$P$2))","v":""},{"$f":"IF(ISBLANK('Data Input'!C55),\"\",SUM('Data Input'!P55))","v":""},{"$f":"IF(R51=\"\",\"\",R51/COUNTIF('Data Input'!$C$8:$AQ$8,$R$2))","v":""}]
[{"$f":"IF('Data Input'!A56=0,\"\",'Data Input'!A56)","v":""},{"$f":"IF(H52=\"\",\"\",IF(H52>Welcome!$K$23-1,\"Exceeding\",IF(H52>Welcome!$G$23-1,\"Expected\",IF(H52<Welcome!$G$23,\"Below\"))))","v":""},{"$f":"IF(ISBLANK('Data Input'!A56),\"\",COUNTIF('Data Input'!C56:AQ56,\"\")-1)","v":""},{"$f":"IF(ISBLANK('Data Input'!A56),\"\",COUNTIF('Data Input'!C56:AQ56,\"0\"))","v":""},{"$f":"IF(ISBLANK('Data Input'!A56),\"\",SUM(C52,D52))","v":""},{"$f":"IF(ISBLANK('Data Input'!A56),\"\",SUM('Data Input'!C56:V56))","v":""},{"$f":"IF(ISBLANK('Data Input'!A56),\"\",SUM('Data Input'!X56:AQ56))","v":""},{"$f":"IF(ISBLANK('Data Input'!A56),\"\",SUM('Data Input'!C56:AQ56))","v":""},{"$f":"IF(H52=\"\",\"\",H52/(COUNTA('Data Input'!$C$8:$AQ$8)-1))","v":""},{"$f":"IF(ISBLANK('Data Input'!A56),\"\",SUM('Data Input'!I56,'Data Input'!M56,'Data Input'!AB56,'Data Input'!AE56))","v":""},{"$f":"IF(J52=\"\",\"\",J52/COUNTIF('Data Input'!$C$8:$AQ$8,$J$2))","v":""},{"$f":"IF(ISBLANK('Data Input'!A56),\"\",SUM('Data Input'!E56,'Data Input'!G56,'Data Input'!H56,'Data Input'!L56,'Data Input'!N56,'Data Input'!Q56,'Data Input'!R56,'Data Input'!T56,'Data Input'!U56,'Data Input'!V56,'Data Input'!X56,'Data Input'!Y56,'Data Input'!Z56,'Data Input'!AA56,'Data Input'!AC56,'Data Input'!AD56,'Data Input'!AF56,'Data Input'!AG56,'Data Input'!AH56,'Data Input'!AI56,'Data Input'!AJ56,'Data Input'!AK56,'Data Input'!AL56))","v":""},{"$f":"IF(L52=\"\",\"\",L52/COUNTIF('Data Input'!$C$8:$AQ$8,$L$2))","v":""},{"$f":"IF(ISBLANK('Data Input'!A56),\"\",SUM('Data Input'!K56,'Data Input'!AQ56))","v":""},{"$f":"IF(N52=\"\",\"\",N52/COUNTIF('Data Input'!$C$8:$AQ$8,$N$2))","v":""},{"$f":"IF(ISBLANK('Data Input'!A56),\"\",SUM('Data Input'!C56,'Data Input'!D56,'Data Input'!F56,'Data Input'!J56,'Data Input'!O56,'Data Input'!S56,'Data Input'!AM56,'Data Input'!AN56,'Data Input'!AO56,'Data Input'!AP56))","v":""},{"$f":"IF(P52=\"\",\"\",P52/COUNTIF('Data Input'!$C$8:$AQ$8,$P$2))","v":""},{"$f":"IF(ISBLANK('Data Input'!C56),\"\",SUM('Data Input'!P56))","v":""},{"$f":"IF(R52=\"\",\"\",R52/COUNTIF('Data Input'!$C$8:$AQ$8,$R$2))","v":""}]
[{"$f":"IF('Data Input'!A57=0,\"\",'Data Input'!A57)","v":""},{"$f":"IF(H53=\"\",\"\",IF(H53>Welcome!$K$23-1,\"Exceeding\",IF(H53>Welcome!$G$23-1,\"Expected\",IF(H53<Welcome!$G$23,\"Below\"))))","v":""},{"$f":"IF(ISBLANK('Data Input'!A57),\"\",COUNTIF('Data Input'!C57:AQ57,\"\")-1)","v":""},{"$f":"IF(ISBLANK('Data Input'!A57),\"\",COUNTIF('Data Input'!C57:AQ57,\"0\"))","v":""},{"$f":"IF(ISBLANK('Data Input'!A57),\"\",SUM(C53,D53))","v":""},{"$f":"IF(ISBLANK('Data Input'!A57),\"\",SUM('Data Input'!C57:V57))","v":""},{"$f":"IF(ISBLANK('Data Input'!A57),\"\",SUM('Data Input'!X57:AQ57))","v":""},{"$f":"IF(ISBLANK('Data Input'!A57),\"\",SUM('Data Input'!C57:AQ57))","v":""},{"$f":"IF(H53=\"\",\"\",H53/(COUNTA('Data Input'!$C$8:$AQ$8)-1))","v":""},{"$f":"IF(ISBLANK('Data Input'!A57),\"\",SUM('Data Input'!I57,'Data Input'!M57,'Data Input'!AB57,'Data Input'!AE57))","v":""},{"$f":"IF(J53=\"\",\"\",J53/COUNTIF('Data Input'!$C$8:$AQ$8,$J$2))","v":""},{"$f":"IF(ISBLANK('Data Input'!A57),\"\",SUM('Data Input'!E57,'Data Input'!G57,'Data Input'!H57,'Data Input'!L57,'Data Input'!N57,'Data Input'!Q57,'Data Input'!R57,'Data Input'!T57,'Data Input'!U57,'Data Input'!V57,'Data Input'!X57,'Data Input'!Y57,'Data Input'!Z57,'Data Input'!AA57,'Data Input'!AC57,'Data Input'!AD57,'Data Input'!AF57,'Data Input'!AG57,'Data Input'!AH57,'Data Input'!AI57,'Data Input'!AJ57,'Data Input'!AK57,'Data Input'!AL57))","v":""},{"$f":"IF(L53=\"\",\"\",L53/COUNTIF('Data Input'!$C$8:$AQ$8,$L$2))","v":""},{"$f":"IF(ISBLANK('Data Input'!A57),\"\",SUM('Data Input'!K57,'Data Input'!AQ57))","v":""},{"$f":"IF(N53=\"\",\"\",N53/COUNTIF('Data Input'!$C$8:$AQ$8,$N$2))","v":""},{"$f":"IF(ISBLANK('Data Input'!A57),\"\",SUM('Data Input'!C57,'Data Input'!D57,'Data Input'!F57,'Data Input'!J57,'Data Input'!O57,'Data Input'!S57,'Data Input'!AM57,'Data Input'!AN57,'Data Input'!AO57,'Data Input'!AP57))","v":""},{"$f":"IF(P53=\"\",\"\",P53/COUNTIF('Data Input'!$C$8:$AQ$8,$P$2))","v":""},{"$f":"IF(ISBLANK('Data Input'!C57),\"\",SUM('Data Input'!P57))","v":""},{"$f":"IF(R53=\"\",\"\",R53/COUNTIF('Data Input'!$C$8:$AQ$8,$R$2))","v":""}]
[{"$f":"IF('Data Input'!A58=0,\"\",'Data Input'!A58)","v":""},{"$f":"IF(H54=\"\",\"\",IF(H54>Welcome!$K$23-1,\"Exceeding\",IF(H54>Welcome!$G$23-1,\"Expected\",IF(H54<Welcome!$G$23,\"Below\"))))","v":""},{"$f":"IF(ISBLANK('Data Input'!A58),\"\",COUNTIF('Data Input'!C58:AQ58,\"\")-1)","v":""},{"$f":"IF(ISBLANK('Data Input'!A58),\"\",COUNTIF('Data Input'!C58:AQ58,\"0\"))","v":""},{"$f":"IF(ISBLANK('Data Input'!A58),\"\",SUM(C54,D54))","v":""},{"$f":"IF(ISBLANK('Data Input'!A58),\"\",SUM('Data Input'!C58:V58))","v":""},{"$f":"IF(ISBLANK('Data Input'!A58),\"\",SUM('Data Input'!X58:AQ58))","v":""},{"$f":"IF(ISBLANK('Data Input'!A58),\"\",SUM('Data Input'!C58:AQ58))","v":""},{"$f":"IF(H54=\"\",\"\",H54/(COUNTA('Data Input'!$C$8:$AQ$8)-1))","v":""},{"$f":"IF(ISBLANK('Data Input'!A58),\"\",SUM('Data Input'!I58,'Data Input'!M58,'Data Input'!AB58,'Data Input'!AE58))","v":""},{"$f":"IF(J54=\"\",\"\",J54/COUNTIF('Data Input'!$C$8:$AQ$8,$J$2))","v":""},{"$f":"IF(ISBLANK('Data Input'!A58),\"\",SUM('Data Input'!E58,'Data Input'!G58,'Data Input'!H58,'Data Input'!L58,'Data Input'!N58,'Data Input'!Q58,'Data Input'!R58,'Data Input'!T58,'Data Input'!U58,'Data Input'!V58,'Data Input'!X58,'Data Input'!Y58,'Data Input'!Z58,'Data Input'!AA58,'Data Input'!AC58,'Data Input'!AD58,'Data Input'!AF58,'Data Input'!AG58,'Data Input'!AH58,'Data Input'!AI58,'Data Input'!AJ58,'Data Input'!AK58,'Data Input'!AL58))","v":""},{"$f":"IF(L54=\"\",\"\",L54/COUNTIF('Data Input'!$C$8:$AQ$8,$L$2))","v":""},{"$f":"IF(ISBLANK('Data Input'!A58),\"\",SUM('Data Input'!K58,'Data Input'!AQ58))","v":""},{"$f":"IF(N54=\"\",\"\",N54/COUNTIF('Data Input'!$C$8:$AQ$8,$N$2))","v":""},{"$f":"IF(ISBLANK('Data Input'!A58),\"\",SUM('Data Input'!C58,'Data Input'!D58,'Data Input'!F58,'Data Input'!J58,'Data Input'!O58,'Data Input'!S58,'Data Input'!AM58,'Data Input'!AN58,'Data Input'!AO58,'Data Input'!AP58))","v":""},{"$f":"IF(P54=\"\",\"\",P54/COUNTIF('Data Input'!$C$8:$AQ$8,$P$2))","v":""},{"$f":"IF(ISBLANK('Data Input'!C58),\"\",SUM('Data Input'!P58))","v":""},{"$f":"IF(R54=\"\",\"\",R54/COUNTIF('Data Input'!$C$8:$AQ$8,$R$2))","v":""}]
[{"$f":"IF('Data Input'!A59=0,\"\",'Data Input'!A59)","v":""},{"$f":"IF(H55=\"\",\"\",IF(H55>Welcome!$K$23-1,\"Exceeding\",IF(H55>Welcome!$G$23-1,\"Expected\",IF(H55<Welcome!$G$23,\"Below\"))))","v":""},{"$f":"IF(ISBLANK('Data Input'!A59),\"\",COUNTIF('Data Input'!C59:AQ59,\"\")-1)","v":""},{"$f":"IF(ISBLANK('Data Input'!A59),\"\",COUNTIF('Data Input'!C59:AQ59,\"0\"))","v":""},{"$f":"IF(ISBLANK('Data Input'!A59),\"\",SUM(C55,D55))","v":""},{"$f":"IF(ISBLANK('Data Input'!A59),\"\",SUM('Data Input'!C59:V59))","v":""},{"$f":"IF(ISBLANK('Data Input'!A59),\"\",SUM('Data Input'!X59:AQ59))","v":""},{"$f":"IF(ISBLANK('Data Input'!A59),\"\",SUM('Data Input'!C59:AQ59))","v":""},{"$f":"IF(H55=\"\",\"\",H55/(COUNTA('Data Input'!$C$8:$AQ$8)-1))","v":""},{"$f":"IF(ISBLANK('Data Input'!A59),\"\",SUM('Data Input'!I59,'Data Input'!M59,'Data Input'!AB59,'Data Input'!AE59))","v":""},{"$f":"IF(J55=\"\",\"\",J55/COUNTIF('Data Input'!$C$8:$AQ$8,$J$2))","v":""},{"$f":"IF(ISBLANK('Data Input'!A59),\"\",SUM('Data Input'!E59,'Data Input'!G59,'Data Input'!H59,'Data Input'!L59,'Data Input'!N59,'Data Input'!Q59,'Data Input'!R59,'Data Input'!T59,'Data Input'!U59,'Data Input'!V59,'Data Input'!X59,'Data Input'!Y59,'Data Input'!Z59,'Data Input'!AA59,'Data Input'!AC59,'Data Input'!AD59,'Data Input'!AF59,'Data Input'!AG59,'Data Input'!AH59,'Data Input'!AI59,'Data Input'!AJ59,'Data Input'!AK59,'Data Input'!AL59))","v":""},{"$f":"IF(L55=\"\",\"\",L55/COUNTIF('Data Input'!$C$8:$AQ$8,$L$2))","v":""},{"$f":"IF(ISBLANK('Data Input'!A59),\"\",SUM('Data Input'!K59,'Data Input'!AQ59))","v":""},{"$f":"IF(N55=\"\",\"\",N55/COUNTIF('Data Input'!$C$8:$AQ$8,$N$2))","v":""},{"$f":"IF(ISBLANK('Data Input'!A59),\"\",SUM('Data Input'!C59,'Data Input'!D59,'Data Input'!F59,'Data Input'!J59,'Data Input'!O59,'Data Input'!S59,'Data Input'!AM59,'Data Input'!AN59,'Data Input'!AO59,'Data Input'!AP59))","v":""},{"$f":"IF(P55=\"\",\"\",P55/COUNTIF('Data Input'!$C$8:$AQ$8,$P$2))","v":""},{"$f":"IF(ISBLANK('Data Input'!C59),\"\",SUM('Data Input'!P59))","v":""},{"$f":"IF(R55=\"\",\"\",R55/COUNTIF('Data Input'!$C$8:$AQ$8,$R$2))","v":""}]
[{"$f":"IF('Data Input'!A60=0,\"\",'Data Input'!A60)","v":""},{"$f":"IF(H56=\"\",\"\",IF(H56>Welcome!$K$23-1,\"Exceeding\",IF(H56>Welcome!$G$23-1,\"Expected\",IF(H56<Welcome!$G$23,\"Below\"))))","v":""},{"$f":"IF(ISBLANK('Data Input'!A60),\"\",COUNTIF('Data Input'!C60:AQ60,\"\")-1)","v":""},{"$f":"IF(ISBLANK('Data Input'!A60),\"\",COUNTIF('Data Input'!C60:AQ60,\"0\"))","v":""},{"$f":"IF(ISBLANK('Data Input'!A60),\"\",SUM(C56,D56))","v":""},{"$f":"IF(ISBLANK('Data Input'!A60),\"\",SUM('Data Input'!C60:V60))","v":""},{"$f":"IF(ISBLANK('Data Input'!A60),\"\",SUM('Data Input'!X60:AQ60))","v":""},{"$f":"IF(ISBLANK('Data Input'!A60),\"\",SUM('Data Input'!C60:AQ60))","v":""},{"$f":"IF(H56=\"\",\"\",H56/(COUNTA('Data Input'!$C$8:$AQ$8)-1))","v":""},{"$f":"IF(ISBLANK('Data Input'!A60),\"\",SUM('Data Input'!I60,'Data Input'!M60,'Data Input'!AB60,'Data Input'!AE60))","v":""},{"$f":"IF(J56=\"\",\"\",J56/COUNTIF('Data Input'!$C$8:$AQ$8,$J$2))","v":""},{"$f":"IF(ISBLANK('Data Input'!A60),\"\",SUM('Data Input'!E60,'Data Input'!G60,'Data Input'!H60,'Data Input'!L60,'Data Input'!N60,'Data Input'!Q60,'Data Input'!R60,'Data Input'!T60,'Data Input'!U60,'Data Input'!V60,'Data Input'!X60,'Data Input'!Y60,'Data Input'!Z60,'Data Input'!AA60,'Data Input'!AC60,'Data Input'!AD60,'Data Input'!AF60,'Data Input'!AG60,'Data Input'!AH60,'Data Input'!AI60,'Data Input'!AJ60,'Data Input'!AK60,'Data Input'!AL60))","v":""},{"$f":"IF(L56=\"\",\"\",L56/COUNTIF('Data Input'!$C$8:$AQ$8,$L$2))","v":""},{"$f":"IF(ISBLANK('Data Input'!A60),\"\",SUM('Data Input'!K60,'Data Input'!AQ60))","v":""},{"$f":"IF(N56=\"\",\"\",N56/COUNTIF('Data Input'!$C$8:$AQ$8,$N$2))","v":""},{"$f":"IF(ISBLANK('Data Input'!A60),\"\",SUM('Data Input'!C60,'Data Input'!D60,'Data Input'!F60,'Data Input'!J60,'Data Input'!O60,'Data Input'!S60,'Data Input'!AM60,'Data Input'!AN60,'Data Input'!AO60,'Data Input'!AP60))","v":""},{"$f":"IF(P56=\"\",\"\",P56/COUNTIF('Data Input'!$C$8:$AQ$8,$P$2))","v":""},{"$f":"IF(ISBLANK('Data Input'!C60),\"\",SUM('Data Input'!P60))","v":""},{"$f":"IF(R56=\"\",\"\",R56/COUNTIF('Data Input'!$C$8:$AQ$8,$R$2))","v":""}]
[{"$f":"IF('Data Input'!A61=0,\"\",'Data Input'!A61)","v":""},{"$f":"IF(H57=\"\",\"\",IF(H57>Welcome!$K$23-1,\"Exceeding\",IF(H57>Welcome!$G$23-1,\"Expected\",IF(H57<Welcome!$G$23,\"Below\"))))","v":""},{"$f":"IF(ISBLANK('Data Input'!A61),\"\",COUNTIF('Data Input'!C61:AQ61,\"\")-1)","v":""},{"$f":"IF(ISBLANK('Data Input'!A61),\"\",COUNTIF('Data Input'!C61:AQ61,\"0\"))","v":""},{"$f":"IF(ISBLANK('Data Input'!A61),\"\",SUM(C57,D57))","v":""},{"$f":"IF(ISBLANK('Data Input'!A61),\"\",SUM('Data Input'!C61:V61))","v":""},{"$f":"IF(ISBLANK('Data Input'!A61),\"\",SUM('Data Input'!X61:AQ61))","v":""},{"$f":"IF(ISBLANK('Data Input'!A61),\"\",SUM('Data Input'!C61:AQ61))","v":""},{"$f":"IF(H57=\"\",\"\",H57/(COUNTA('Data Input'!$C$8:$AQ$8)-1))","v":""},{"$f":"IF(ISBLANK('Data Input'!A61),\"\",SUM('Data Input'!I61,'Data Input'!M61,'Data Input'!AB61,'Data Input'!AE61))","v":""},{"$f":"IF(J57=\"\",\"\",J57/COUNTIF('Data Input'!$C$8:$AQ$8,$J$2))","v":""},{"$f":"IF(ISBLANK('Data Input'!A61),\"\",SUM('Data Input'!E61,'Data Input'!G61,'Data Input'!H61,'Data Input'!L61,'Data Input'!N61,'Data Input'!Q61,'Data Input'!R61,'Data Input'!T61,'Data Input'!U61,'Data Input'!V61,'Data Input'!X61,'Data Input'!Y61,'Data Input'!Z61,'Data Input'!AA61,'Data Input'!AC61,'Data Input'!AD61,'Data Input'!AF61,'Data Input'!AG61,'Data Input'!AH61,'Data Input'!AI61,'Data Input'!AJ61,'Data Input'!AK61,'Data Input'!AL61))","v":""},{"$f":"IF(L57=\"\",\"\",L57/COUNTIF('Data Input'!$C$8:$AQ$8,$L$2))","v":""},{"$f":"IF(ISBLANK('Data Input'!A61),\"\",SUM('Data Input'!K61,'Data Input'!AQ61))","v":""},{"$f":"IF(N57=\"\",\"\",N57/COUNTIF('Data Input'!$C$8:$AQ$8,$N$2))","v":""},{"$f":"IF(ISBLANK('Data Input'!A61),\"\",SUM('Data Input'!C61,'Data Input'!D61,'Data Input'!F61,'Data Input'!J61,'Data Input'!O61,'Data Input'!S61,'Data Input'!AM61,'Data Input'!AN61,'Data Input'!AO61,'Data Input'!AP61))","v":""},{"$f":"IF(P57=\"\",\"\",P57/COUNTIF('Data Input'!$C$8:$AQ$8,$P$2))","v":""},{"$f":"IF(ISBLANK('Data Input'!C61),\"\",SUM('Data Input'!P61))","v":""},{"$f":"IF(R57=\"\",\"\",R57/COUNTIF('Data Input'!$C$8:$AQ$8,$R$2))","v":""}]
[{"$f":"IF('Data Input'!A62=0,\"\",'Data Input'!A62)","v":""},{"$f":"IF(H58=\"\",\"\",IF(H58>Welcome!$K$23-1,\"Exceeding\",IF(H58>Welcome!$G$23-1,\"Expected\",IF(H58<Welcome!$G$23,\"Below\"))))","v":""},{"$f":"IF(ISBLANK('Data Input'!A62),\"\",COUNTIF('Data Input'!C62:AQ62,\"\")-1)","v":""},{"$f":"IF(ISBLANK('Data Input'!A62),\"\",COUNTIF('Data Input'!C62:AQ62,\"0\"))","v":""},{"$f":"IF(ISBLANK('Data Input'!A62),\"\",SUM(C58,D58))","v":""},{"$f":"IF(ISBLANK('Data Input'!A62),\"\",SUM('Data Input'!C62:V62))","v":""},{"$f":"IF(ISBLANK('Data Input'!A62),\"\",SUM('Data Input'!X62:AQ62))","v":""},{"$f":"IF(ISBLANK('Data Input'!A62),\"\",SUM('Data Input'!C62:AQ62))","v":""},{"$f":"IF(H58=\"\",\"\",H58/(COUNTA('Data Input'!$C$8:$AQ$8)-1))","v":""},{"$f":"IF(ISBLANK('Data Input'!A62),\"\",SUM('Data Input'!I62,'Data Input'!M62,'Data Input'!AB62,'Data Input'!AE62))","v":""},{"$f":"IF(J58=\"\",\"\",J58/COUNTIF('Data Input'!$C$8:$AQ$8,$J$2))","v":""},{"$f":"IF(ISBLANK('Data Input'!A62),\"\",SUM('Data Input'!E62,'Data Input'!G62,'Data Input'!H62,'Data Input'!L62,'Data Input'!N62,'Data Input'!Q62,'Data Input'!R62,'Data Input'!T62,'Data Input'!U62,'Data Input'!V62,'Data Input'!X62,'Data Input'!Y62,'Data Input'!Z62,'Data Input'!AA62,'Data Input'!AC62,'Data Input'!AD62,'Data Input'!AF62,'Data Input'!AG62,'Data Input'!AH62,'Data Input'!AI62,'Data Input'!AJ62,'Data Input'!AK62,'Data Input'!AL62))","v":""},{"$f":"IF(L58=\"\",\"\",L58/COUNTIF('Data Input'!$C$8:$AQ$8,$L$2))","v":""},{"$f":"IF(ISBLANK('Data Input'!A62),\"\",SUM('Data Input'!K62,'Data Input'!AQ62))","v":""},{"$f":"IF(N58=\"\",\"\",N58/COUNTIF('Data Input'!$C$8:$AQ$8,$N$2))","v":""},{"$f":"IF(ISBLANK('Data Input'!A62),\"\",SUM('Data Input'!C62,'Data Input'!D62,'Data Input'!F62,'Data Input'!J62,'Data Input'!O62,'Data Input'!S62,'Data Input'!AM62,'Data Input'!AN62,'Data Input'!AO62,'Data Input'!AP62))","v":""},{"$f":"IF(P58=\"\",\"\",P58/COUNTIF('Data Input'!$C$8:$AQ$8,$P$2))","v":""},{"$f":"IF(ISBLANK('Data Input'!C62),\"\",SUM('Data Input'!P62))","v":""},{"$f":"IF(R58=\"\",\"\",R58/COUNTIF('Data Input'!$C$8:$AQ$8,$R$2))","v":""}]
[{"$f":"IF('Data Input'!A63=0,\"\",'Data Input'!A63)","v":""},{"$f":"IF(H59=\"\",\"\",IF(H59>Welcome!$K$23-1,\"Exceeding\",IF(H59>Welcome!$G$23-1,\"Expected\",IF(H59<Welcome!$G$23,\"Below\"))))","v":""},{"$f":"IF(ISBLANK('Data Input'!A63),\"\",COUNTIF('Data Input'!C63:AQ63,\"\")-1)","v":""},{"$f":"IF(ISBLANK('Data Input'!A63),\"\",COUNTIF('Data Input'!C63:AQ63,\"0\"))","v":""},{"$f":"IF(ISBLANK('Data Input'!A63),\"\",SUM(C59,D59))","v":""},{"$f":"IF(ISBLANK('Data Input'!A63),\"\",SUM('Data Input'!C63:V63))","v":""},{"$f":"IF(ISBLANK('Data Input'!A63),\"\",SUM('Data Input'!X63:AQ63))","v":""},{"$f":"IF(ISBLANK('Data Input'!A63),\"\",SUM('Data Input'!C63:AQ63))","v":""},{"$f":"IF(H59=\"\",\"\",H59/(COUNTA('Data Input'!$C$8:$AQ$8)-1))","v":""},{"$f":"IF(ISBLANK('Data Input'!A63),\"\",SUM('Data Input'!I63,'Data Input'!M63,'Data Input'!AB63,'Data Input'!AE63))","v":""},{"$f":"IF(J59=\"\",\"\",J59/COUNTIF('Data Input'!$C$8:$AQ$8,$J$2))","v":""},{"$f":"IF(ISBLANK('Data Input'!A63),\"\",SUM('Data Input'!E63,'Data Input'!G63,'Data Input'!H63,'Data Input'!L63,'Data Input'!N63,'Data Input'!Q63,'Data Input'!R63,'Data Input'!T63,'Data Input'!U63,'Data Input'!V63,'Data Input'!X63,'Data Input'!Y63,'Data Input'!Z63,'Data Input'!AA63,'Data Input'!AC63,'Data Input'!AD63,'Data Input'!AF63,'Data Input'!AG63,'Data Input'!AH63,'Data Input'!AI63,'Data Input'!AJ63,'Data Input'!AK63,'Data Input'!AL63))","v":""},{"$f":"IF(L59=\"\",\"\",L59/COUNTIF('Data Input'!$C$8:$AQ$8,$L$2))","v":""},{"$f":"IF(ISBLANK('Data Input'!A63),\"\",SUM('Data Input'!K63,'Data Input'!AQ63))","v":""},{"$f":"IF(N59=\"\",\"\",N59/COUNTIF('Data Input'!$C$8:$AQ$8,$N$2))","v":""},{"$f":"IF(ISBLANK('Data Input'!A63),\"\",SUM('Data Input'!C63,'Data Input'!D63,'Data Input'!F63,'Data Input'!J63,'Data Input'!O63,'Data Input'!S63,'Data Input'!AM63,'Data Input'!AN63,'Data Input'!AO63,'Data Input'!AP63))","v":""},{"$f":"IF(P59=\"\",\"\",P59/COUNTIF('Data Input'!$C$8:$AQ$8,$P$2))","v":""},{"$f":"IF(ISBLANK('Data Input'!C63),\"\",SUM('Data Input'!P63))","v":""},{"$f":"IF(R59=\"\",\"\",R59/COUNTIF('Data Input'!$C$8:$AQ$8,$R$2))","v":""}]
[{"$f":"IF('Data Input'!A64=0,\"\",'Data Input'!A64)","v":""},{"$f":"IF(H60=\"\",\"\",IF(H60>Welcome!$K$23-1,\"Exceeding\",IF(H60>Welcome!$G$23-1,\"Expected\",IF(H60<Welcome!$G$23,\"Below\"))))","v":""},{"$f":"IF(ISBLANK('Data Input'!A64),\"\",COUNTIF('Data Input'!C64:AQ64,\"\")-1)","v":""},{"$f":"IF(ISBLANK('Data Input'!A64),\"\",COUNTIF('Data Input'!C64:AQ64,\"0\"))","v":""},{"$f":"IF(ISBLANK('Data Input'!A64),\"\",SUM(C60,D60))","v":""},{"$f":"IF(ISBLANK('Data Input'!A64),\"\",SUM('Data Input'!C64:V64))","v":""},{"$f":"IF(ISBLANK('Data Input'!A64),\"\",SUM('Data Input'!X64:AQ64))","v":""},{"$f":"IF(ISBLANK('Data Input'!A64),\"\",SUM('Data Input'!C64:AQ64))","v":""},{"$f":"IF(H60=\"\",\"\",H60/(COUNTA('Data Input'!$C$8:$AQ$8)-1))","v":""},{"$f":"IF(ISBLANK('Data Input'!A64),\"\",SUM('Data Input'!I64,'Data Input'!M64,'Data Input'!AB64,'Data Input'!AE64))","v":""},{"$f":"IF(J60=\"\",\"\",J60/COUNTIF('Data Input'!$C$8:$AQ$8,$J$2))","v":""},{"$f":"IF(ISBLANK('Data Input'!A64),\"\",SUM('Data Input'!E64,'Data Input'!G64,'Data Input'!H64,'Data Input'!L64,'Data Input'!N64,'Data Input'!Q64,'Data Input'!R64,'Data Input'!T64,'Data Input'!U64,'Data Input'!V64,'Data Input'!X64,'Data Input'!Y64,'Data Input'!Z64,'Data Input'!AA64,'Data Input'!AC64,'Data Input'!AD64,'Data Input'!AF64,'Data Input'!AG64,'Data Input'!AH64,'Data Input'!AI64,'Data Input'!AJ64,'Data Input'!AK64,'Data Input'!AL64))","v":""},{"$f":"IF(L60=\"\",\"\",L60/COUNTIF('Data Input'!$C$8:$AQ$8,$L$2))","v":""},{"$f":"IF(ISBLANK('Data Input'!A64),\"\",SUM('Data Input'!K64,'Data Input'!AQ64))","v":""},{"$f":"IF(N60=\"\",\"\",N60/COUNTIF('Data Input'!$C$8:$AQ$8,$N$2))","v":""},{"$f":"IF(ISBLANK('Data Input'!A64),\"\",SUM('Data Input'!C64,'Data Input'!D64,'Data Input'!F64,'Data Input'!J64,'Data Input'!O64,'Data Input'!S64,'Data Input'!AM64,'Data Input'!AN64,'Data Input'!AO64,'Data Input'!AP64))","v":""},{"$f":"IF(P60=\"\",\"\",P60/COUNTIF('Data Input'!$C$8:$AQ$8,$P$2))","v":""},{"$f":"IF(ISBLANK('Data Input'!C64),\"\",SUM('Data Input'!P64))","v":""},{"$f":"IF(R60=\"\",\"\",R60/COUNTIF('Data Input'!$C$8:$AQ$8,$R$2))","v":""}]
[{"$f":"IF('Data Input'!A65=0,\"\",'Data Input'!A65)","v":""},{"$f":"IF(H61=\"\",\"\",IF(H61>Welcome!$K$23-1,\"Exceeding\",IF(H61>Welcome!$G$23-1,\"Expected\",IF(H61<Welcome!$G$23,\"Below\"))))","v":""},{"$f":"IF(ISBLANK('Data Input'!A65),\"\",COUNTIF('Data Input'!C65:AQ65,\"\")-1)","v":""},{"$f":"IF(ISBLANK('Data Input'!A65),\"\",COUNTIF('Data Input'!C65:AQ65,\"0\"))","v":""},{"$f":"IF(ISBLANK('Data Input'!A65),\"\",SUM(C61,D61))","v":""},{"$f":"IF(ISBLANK('Data Input'!A65),\"\",SUM('Data Input'!C65:V65))","v":""},{"$f":"IF(ISBLANK('Data Input'!A65),\"\",SUM('Data Input'!X65:AQ65))","v":""},{"$f":"IF(ISBLANK('Data Input'!A65),\"\",SUM('Data Input'!C65:AQ65))","v":""},{"$f":"IF(H61=\"\",\"\",H61/(COUNTA('Data Input'!$C$8:$AQ$8)-1))","v":""},{"$f":"IF(ISBLANK('Data Input'!A65),\"\",SUM('Data Input'!I65,'Data Input'!M65,'Data Input'!AB65,'Data Input'!AE65))","v":""},{"$f":"IF(J61=\"\",\"\",J61/COUNTIF('Data Input'!$C$8:$AQ$8,$J$2))","v":""},{"$f":"IF(ISBLANK('Data Input'!A65),\"\",SUM('Data Input'!E65,'Data Input'!G65,'Data Input'!H65,'Data Input'!L65,'Data Input'!N65,'Data Input'!Q65,'Data Input'!R65,'Data Input'!T65,'Data Input'!U65,'Data Input'!V65,'Data Input'!X65,'Data Input'!Y65,'Data Input'!Z65,'Data Input'!AA65,'Data Input'!AC65,'Data Input'!AD65,'Data Input'!AF65,'Data Input'!AG65,'Data Input'!AH65,'Data Input'!AI65,'Data Input'!AJ65,'Data Input'!AK65,'Data Input'!AL65))","v":""},{"$f":"IF(L61=\"\",\"\",L61/COUNTIF('Data Input'!$C$8:$AQ$8,$L$2))","v":""},{"$f":"IF(ISBLANK('Data Input'!A65),\"\",SUM('Data Input'!K65,'Data Input'!AQ65))","v":""},{"$f":"IF(N61=\"\",\"\",N61/COUNTIF('Data Input'!$C$8:$AQ$8,$N$2))","v":""},{"$f":"IF(ISBLANK('Data Input'!A65),\"\",SUM('Data Input'!C65,'Data Input'!D65,'Data Input'!F65,'Data Input'!J65,'Data Input'!O65,'Data Input'!S65,'Data Input'!AM65,'Data Input'!AN65,'Data Input'!AO65,'Data Input'!AP65))","v":""},{"$f":"IF(P61=\"\",\"\",P61/COUNTIF('Data Input'!$C$8:$AQ$8,$P$2))","v":""},{"$f":"IF(ISBLANK('Data Input'!C65),\"\",SUM('Data Input'!P65))","v":""},{"$f":"IF(R61=\"\",\"\",R61/COUNTIF('Data Input'!$C$8:$AQ$8,$R$2))","v":""}]
[{"$f":"IF('Data Input'!A66=0,\"\",'Data Input'!A66)","v":""},{"$f":"IF(H62=\"\",\"\",IF(H62>Welcome!$K$23-1,\"Exceeding\",IF(H62>Welcome!$G$23-1,\"Expected\",IF(H62<Welcome!$G$23,\"Below\"))))","v":""},{"$f":"IF(ISBLANK('Data Input'!A66),\"\",COUNTIF('Data Input'!C66:AQ66,\"\")-1)","v":""},{"$f":"IF(ISBLANK('Data Input'!A66),\"\",COUNTIF('Data Input'!C66:AQ66,\"0\"))","v":""},{"$f":"IF(ISBLANK('Data Input'!A66),\"\",SUM(C62,D62))","v":""},{"$f":"IF(ISBLANK('Data Input'!A66),\"\",SUM('Data Input'!C66:V66))","v":""},{"$f":"IF(ISBLANK('Data Input'!A66),\"\",SUM('Data Input'!X66:AQ66))","v":""},{"$f":"IF(ISBLANK('Data Input'!A66),\"\",SUM('Data Input'!C66:AQ66))","v":""},{"$f":"IF(H62=\"\",\"\",H62/(COUNTA('Data Input'!$C$8:$AQ$8)-1))","v":""},{"$f":"IF(ISBLANK('Data Input'!A66),\"\",SUM('Data Input'!I66,'Data Input'!M66,'Data Input'!AB66,'Data Input'!AE66))","v":""},{"$f":"IF(J62=\"\",\"\",J62/COUNTIF('Data Input'!$C$8:$AQ$8,$J$2))","v":""},{"$f":"IF(ISBLANK('Data Input'!A66),\"\",SUM('Data Input'!E66,'Data Input'!G66,'Data Input'!H66,'Data Input'!L66,'Data Input'!N66,'Data Input'!Q66,'Data Input'!R66,'Data Input'!T66,'Data Input'!U66,'Data Input'!V66,'Data Input'!X66,'Data Input'!Y66,'Data Input'!Z66,'Data Input'!AA66,'Data Input'!AC66,'Data Input'!AD66,'Data Input'!AF66,'Data Input'!AG66,'Data Input'!AH66,'Data Input'!AI66,'Data Input'!AJ66,'Data Input'!AK66,'Data Input'!AL66))","v":""},{"$f":"IF(L62=\"\",\"\",L62/COUNTIF('Data Input'!$C$8:$AQ$8,$L$2))","v":""},{"$f":"IF(ISBLANK('Data Input'!A66),\"\",SUM('Data Input'!K66,'Data Input'!AQ66))","v":""},{"$f":"IF(N62=\"\",\"\",N62/COUNTIF('Data Input'!$C$8:$AQ$8,$N$2))","v":""},{"$f":"IF(ISBLANK('Data Input'!A66),\"\",SUM('Data Input'!C66,'Data Input'!D66,'Data Input'!F66,'Data Input'!J66,'Data Input'!O66,'Data Input'!S66,'Data Input'!AM66,'Data Input'!AN66,'Data Input'!AO66,'Data Input'!AP66))","v":""},{"$f":"IF(P62=\"\",\"\",P62/COUNTIF('Data Input'!$C$8:$AQ$8,$P$2))","v":""},{"$f":"IF(ISBLANK('Data Input'!C66),\"\",SUM('Data Input'!P66))","v":""},{"$f":"IF(R62=\"\",\"\",R62/COUNTIF('Data Input'!$C$8:$AQ$8,$R$2))","v":""}]
[{"$f":"IF('Data Input'!A67=0,\"\",'Data Input'!A67)","v":""},{"$f":"IF(H63=\"\",\"\",IF(H63>Welcome!$K$23-1,\"Exceeding\",IF(H63>Welcome!$G$23-1,\"Expected\",IF(H63<Welcome!$G$23,\"Below\"))))","v":""},{"$f":"IF(ISBLANK('Data Input'!A67),\"\",COUNTIF('Data Input'!C67:AQ67,\"\")-1)","v":""},{"$f":"IF(ISBLANK('Data Input'!A67),\"\",COUNTIF('Data Input'!C67:AQ67,\"0\"))","v":""},{"$f":"IF(ISBLANK('Data Input'!A67),\"\",SUM(C63,D63))","v":""},{"$f":"IF(ISBLANK('Data Input'!A67),\"\",SUM('Data Input'!C67:V67))","v":""},{"$f":"IF(ISBLANK('Data Input'!A67),\"\",SUM('Data Input'!X67:AQ67))","v":""},{"$f":"IF(ISBLANK('Data Input'!A67),\"\",SUM('Data Input'!C67:AQ67))","v":""},{"$f":"IF(H63=\"\",\"\",H63/(COUNTA('Data Input'!$C$8:$AQ$8)-1))","v":""},{"$f":"IF(ISBLANK('Data Input'!A67),\"\",SUM('Data Input'!I67,'Data Input'!M67,'Data Input'!AB67,'Data Input'!AE67))","v":""},{"$f":"IF(J63=\"\",\"\",J63/COUNTIF('Data Input'!$C$8:$AQ$8,$J$2))","v":""},{"$f":"IF(ISBLANK('Data Input'!A67),\"\",SUM('Data Input'!E67,'Data Input'!G67,'Data Input'!H67,'Data Input'!L67,'Data Input'!N67,'Data Input'!Q67,'Data Input'!R67,'Data Input'!T67,'Data Input'!U67,'Data Input'!V67,'Data Input'!X67,'Data Input'!Y67,'Data Input'!Z67,'Data Input'!AA67,'Data Input'!AC67,'Data Input'!AD67,'Data Input'!AF67,'Data Input'!AG67,'Data Input'!AH67,'Data Input'!AI67,'Data Input'!AJ67,'Data Input'!AK67,'Data Input'!AL67))","v":""},{"$f":"IF(L63=\"\",\"\",L63/COUNTIF('Data Input'!$C$8:$AQ$8,$L$2))","v":""},{"$f":"IF(ISBLANK('Data Input'!A67),\"\",SUM('Data Input'!K67,'Data Input'!AQ67))","v":""},{"$f":"IF(N63=\"\",\"\",N63/COUNTIF('Data Input'!$C$8:$AQ$8,$N$2))","v":""},{"$f":"IF(ISBLANK('Data Input'!A67),\"\",SUM('Data Input'!C67,'Data Input'!D67,'Data Input'!F67,'Data Input'!J67,'Data Input'!O67,'Data Input'!S67,'Data Input'!AM67,'Data Input'!AN67,'Data Input'!AO67,'Data Input'!AP67))","v":""},{"$f":"IF(P63=\"\",\"\",P63/COUNTIF('Data Input'!$C$8:$AQ$8,$P$2))","v":""},{"$f":"IF(ISBLANK('Data Input'!C67),\"\",SUM('Data Input'!P67))","v":""},{"$f":"IF(R63=\"\",\"\",R63/COUNTIF('Data Input'!$C$8:$AQ$8,$R$2))","v":""}]
[{"$f":"IF('Data Input'!A68=0,\"\",'Data Input'!A68)","v":""},{"$f":"IF(H64=\"\",\"\",IF(H64>Welcome!$K$23-1,\"Exceeding\",IF(H64>Welcome!$G$23-1,\"Expected\",IF(H64<Welcome!$G$23,\"Below\"))))","v":""},{"$f":"IF(ISBLANK('Data Input'!A68),\"\",COUNTIF('Data Input'!C68:AQ68,\"\")-1)","v":""},{"$f":"IF(ISBLANK('Data Input'!A68),\"\",COUNTIF('Data Input'!C68:AQ68,\"0\"))","v":""},{"$f":"IF(ISBLANK('Data Input'!A68),\"\",SUM(C64,D64))","v":""},{"$f":"IF(ISBLANK('Data Input'!A68),\"\",SUM('Data Input'!C68:V68))","v":""},{"$f":"IF(ISBLANK('Data Input'!A68),\"\",SUM('Data Input'!X68:AQ68))","v":""},{"$f":"IF(ISBLANK('Data Input'!A68),\"\",SUM('Data Input'!C68:AQ68))","v":""},{"$f":"IF(H64=\"\",\"\",H64/(COUNTA('Data Input'!$C$8:$AQ$8)-1))","v":""},{"$f":"IF(ISBLANK('Data Input'!A68),\"\",SUM('Data Input'!I68,'Data Input'!M68,'Data Input'!AB68,'Data Input'!AE68))","v":""},{"$f":"IF(J64=\"\",\"\",J64/COUNTIF('Data Input'!$C$8:$AQ$8,$J$2))","v":""},{"$f":"IF(ISBLANK('Data Input'!A68),\"\",SUM('Data Input'!E68,'Data Input'!G68,'Data Input'!H68,'Data Input'!L68,'Data Input'!N68,'Data Input'!Q68,'Data Input'!R68,'Data Input'!T68,'Data Input'!U68,'Data Input'!V68,'Data Input'!X68,'Data Input'!Y68,'Data Input'!Z68,'Data Input'!AA68,'Data Input'!AC68,'Data Input'!AD68,'Data Input'!AF68,'Data Input'!AG68,'Data Input'!AH68,'Data Input'!AI68,'Data Input'!AJ68,'Data Input'!AK68,'Data Input'!AL68))","v":""},{"$f":"IF(L64=\"\",\"\",L64/COUNTIF('Data Input'!$C$8:$AQ$8,$L$2))","v":""},{"$f":"IF(ISBLANK('Data Input'!A68),\"\",SUM('Data Input'!K68,'Data Input'!AQ68))","v":""},{"$f":"IF(N64=\"\",\"\",N64/COUNTIF('Data Input'!$C$8:$AQ$8,$N$2))","v":""},{"$f":"IF(ISBLANK('Data Input'!A68),\"\",SUM('Data Input'!C68,'Data Input'!D68,'Data Input'!F68,'Data Input'!J68,'Data Input'!O68,'Data Input'!S68,'Data Input'!AM68,'Data Input'!AN68,'Data Input'!AO68,'Data Input'!AP68))","v":""},{"$f":"IF(P64=\"\",\"\",P64/COUNTIF('Data Input'!$C$8:$AQ$8,$P$2))","v":""},{"$f":"IF(ISBLANK('Data Input'!C68),\"\",SUM('Data Input'!P68))","v":""},{"$f":"IF(R64=\"\",\"\",R64/COUNTIF('Data Input'!$C$8:$AQ$8,$R$2))","v":""}]
[{"$f":"IF('Data Input'!A69=0,\"\",'Data Input'!A69)","v":""},{"$f":"IF(H65=\"\",\"\",IF(H65>Welcome!$K$23-1,\"Exceeding\",IF(H65>Welcome!$G$23-1,\"Expected\",IF(H65<Welcome!$G$23,\"Below\"))))","v":""},{"$f":"IF(ISBLANK('Data Input'!A69),\"\",COUNTIF('Data Input'!C69:AQ69,\"\")-1)","v":""},{"$f":"IF(ISBLANK('Data Input'!A69),\"\",COUNTIF('Data Input'!C69:AQ69,\"0\"))","v":""},{"$f":"IF(ISBLANK('Data Input'!A69),\"\",SUM(C65,D65))","v":""},{"$f":"IF(ISBLANK('Data Input'!A69),\"\",SUM('Data Input'!C69:V69))","v":""},{"$f":"IF(ISBLANK('Data Input'!A69),\"\",SUM('Data Input'!X69:AQ69))","v":""},{"$f":"IF(ISBLANK('Data Input'!A69),\"\",SUM('Data Input'!C69:AQ69))","v":""},{"$f":"IF(H65=\"\",\"\",H65/(COUNTA('Data Input'!$C$8:$AQ$8)-1))","v":""},{"$f":"IF(ISBLANK('Data Input'!A69),\"\",SUM('Data Input'!I69,'Data Input'!M69,'Data Input'!AB69,'Data Input'!AE69))","v":""},{"$f":"IF(J65=\"\",\"\",J65/COUNTIF('Data Input'!$C$8:$AQ$8,$J$2))","v":""},{"$f":"IF(ISBLANK('Data Input'!A69),\"\",SUM('Data Input'!E69,'Data Input'!G69,'Data Input'!H69,'Data Input'!L69,'Data Input'!N69,'Data Input'!Q69,'Data Input'!R69,'Data Input'!T69,'Data Input'!U69,'Data Input'!V69,'Data Input'!X69,'Data Input'!Y69,'Data Input'!Z69,'Data Input'!AA69,'Data Input'!AC69,'Data Input'!AD69,'Data Input'!AF69,'Data Input'!AG69,'Data Input'!AH69,'Data Input'!AI69,'Data Input'!AJ69,'Data Input'!AK69,'Data Input'!AL69))","v":""},{"$f":"IF(L65=\"\",\"\",L65/COUNTIF('Data Input'!$C$8:$AQ$8,$L$2))","v":""},{"$f":"IF(ISBLANK('Data Input'!A69),\"\",SUM('Data Input'!K69,'Data Input'!AQ69))","v":""},{"$f":"IF(N65=\"\",\"\",N65/COUNTIF('Data Input'!$C$8:$AQ$8,$N$2))","v":""},{"$f":"IF(ISBLANK('Data Input'!A69),\"\",SUM('Data Input'!C69,'Data Input'!D69,'Data Input'!F69,'Data Input'!J69,'Data Input'!O69,'Data Input'!S69,'Data Input'!AM69,'Data Input'!AN69,'Data Input'!AO69,'Data Input'!AP69))","v":""},{"$f":"IF(P65=\"\",\"\",P65/COUNTIF('Data Input'!$C$8:$AQ$8,$P$2))","v":""},{"$f":"IF(ISBLANK('Data Input'!C69),\"\",SUM('Data Input'!P69))","v":""},{"$f":"IF(R65=\"\",\"\",R65/COUNTIF('Data Input'!$C$8:$AQ$8,$R$2))","v":""}]
[{"$f":"IF('Data Input'!A70=0,\"\",'Data Input'!A70)","v":""},{"$f":"IF(H66=\"\",\"\",IF(H66>Welcome!$K$23-1,\"Exceeding\",IF(H66>Welcome!$G$23-1,\"Expected\",IF(H66<Welcome!$G$23,\"Below\"))))","v":""},{"$f":"IF(ISBLANK('Data Input'!A70),\"\",COUNTIF('Data Input'!C70:AQ70,\"\")-1)","v":""},{"$f":"IF(ISBLANK('Data Input'!A70),\"\",COUNTIF('Data Input'!C70:AQ70,\"0\"))","v":""},{"$f":"IF(ISBLANK('Data Input'!A70),\"\",SUM(C66,D66))","v":""},{"$f":"IF(ISBLANK('Data Input'!A70),\"\",SUM('Data Input'!C70:V70))","v":""},{"$f":"IF(ISBLANK('Data Input'!A70),\"\",SUM('Data Input'!X70:AQ70))","v":""},{"$f":"IF(ISBLANK('Data Input'!A70),\"\",SUM('Data Input'!C70:AQ70))","v":""},{"$f":"IF(H66=\"\",\"\",H66/(COUNTA('Data Input'!$C$8:$AQ$8)-1))","v":""},{"$f":"IF(ISBLANK('Data Input'!A70),\"\",SUM('Data Input'!I70,'Data Input'!M70,'Data Input'!AB70,'Data Input'!AE70))","v":""},{"$f":"IF(J66=\"\",\"\",J66/COUNTIF('Data Input'!$C$8:$AQ$8,$J$2))","v":""},{"$f":"IF(ISBLANK('Data Input'!A70),\"\",SUM('Data Input'!E70,'Data Input'!G70,'Data Input'!H70,'Data Input'!L70,'Data Input'!N70,'Data Input'!Q70,'Data Input'!R70,'Data Input'!T70,'Data Input'!U70,'Data Input'!V70,'Data Input'!X70,'Data Input'!Y70,'Data Input'!Z70,'Data Input'!AA70,'Data Input'!AC70,'Data Input'!AD70,'Data Input'!AF70,'Data Input'!AG70,'Data Input'!AH70,'Data Input'!AI70,'Data Input'!AJ70,'Data Input'!AK70,'Data Input'!AL70))","v":""},{"$f":"IF(L66=\"\",\"\",L66/COUNTIF('Data Input'!$C$8:$AQ$8,$L$2))","v":""},{"$f":"IF(ISBLANK('Data Input'!A70),\"\",SUM('Data Input'!K70,'Data Input'!AQ70))","v":""},{"$f":"IF(N66=\"\",\"\",N66/COUNTIF('Data Input'!$C$8:$AQ$8,$N$2))","v":""},{"$f":"IF(ISBLANK('Data Input'!A70),\"\",SUM('Data Input'!C70,'Data Input'!D70,'Data Input'!F70,'Data Input'!J70,'Data Input'!O70,'Data Input'!S70,'Data Input'!AM70,'Data Input'!AN70,'Data Input'!AO70,'Data Input'!AP70))","v":""},{"$f":"IF(P66=\"\",\"\",P66/COUNTIF('Data Input'!$C$8:$AQ$8,$P$2))","v":""},{"$f":"IF(ISBLANK('Data Input'!C70),\"\",SUM('Data Input'!P70))","v":""},{"$f":"IF(R66=\"\",\"\",R66/COUNTIF('Data Input'!$C$8:$AQ$8,$R$2))","v":""}]
[{"$f":"IF('Data Input'!A71=0,\"\",'Data Input'!A71)","v":""},{"$f":"IF(H67=\"\",\"\",IF(H67>Welcome!$K$23-1,\"Exceeding\",IF(H67>Welcome!$G$23-1,\"Expected\",IF(H67<Welcome!$G$23,\"Below\"))))","v":""},{"$f":"IF(ISBLANK('Data Input'!A71),\"\",COUNTIF('Data Input'!C71:AQ71,\"\")-1)","v":""},{"$f":"IF(ISBLANK('Data Input'!A71),\"\",COUNTIF('Data Input'!C71:AQ71,\"0\"))","v":""},{"$f":"IF(ISBLANK('Data Input'!A71),\"\",SUM(C67,D67))","v":""},{"$f":"IF(ISBLANK('Data Input'!A71),\"\",SUM('Data Input'!C71:V71))","v":""},{"$f":"IF(ISBLANK('Data Input'!A71),\"\",SUM('Data Input'!X71:AQ71))","v":""},{"$f":"IF(ISBLANK('Data Input'!A71),\"\",SUM('Data Input'!C71:AQ71))","v":""},{"$f":"IF(H67=\"\",\"\",H67/(COUNTA('Data Input'!$C$8:$AQ$8)-1))","v":""},{"$f":"IF(ISBLANK('Data Input'!A71),\"\",SUM('Data Input'!I71,'Data Input'!M71,'Data Input'!AB71,'Data Input'!AE71))","v":""},{"$f":"IF(J67=\"\",\"\",J67/COUNTIF('Data Input'!$C$8:$AQ$8,$J$2))","v":""},{"$f":"IF(ISBLANK('Data Input'!A71),\"\",SUM('Data Input'!E71,'Data Input'!G71,'Data Input'!H71,'Data Input'!L71,'Data Input'!N71,'Data Input'!Q71,'Data Input'!R71,'Data Input'!T71,'Data Input'!U71,'Data Input'!V71,'Data Input'!X71,'Data Input'!Y71,'Data Input'!Z71,'Data Input'!AA71,'Data Input'!AC71,'Data Input'!AD71,'Data Input'!AF71,'Data Input'!AG71,'Data Input'!AH71,'Data Input'!AI71,'Data Input'!AJ71,'Data Input'!AK71,'Data Input'!AL71))","v":""},{"$f":"IF(L67=\"\",\"\",L67/COUNTIF('Data Input'!$C$8:$AQ$8,$L$2))","v":""},{"$f":"IF(ISBLANK('Data Input'!A71),\"\",SUM('Data Input'!K71,'Data Input'!AQ71))","v":""},{"$f":"IF(N67=\"\",\"\",N67/COUNTIF('Data Input'!$C$8:$AQ$8,$N$2))","v":""},{"$f":"IF(ISBLANK('Data Input'!A71),\"\",SUM('Data Input'!C71,'Data Input'!D71,'Data Input'!F71,'Data Input'!J71,'Data Input'!O71,'Data Input'!S71,'Data Input'!AM71,'Data Input'!AN71,'Data Input'!AO71,'Data Input'!AP71))","v":""},{"$f":"IF(P67=\"\",\"\",P67/COUNTIF('Data Input'!$C$8:$AQ$8,$P$2))","v":""},{"$f":"IF(ISBLANK('Data Input'!C71),\"\",SUM('Data Input'!P71))","v":""},{"$f":"IF(R67=\"\",\"\",R67/COUNTIF('Data Input'!$C$8:$AQ$8,$R$2))","v":""}]
[{"$f":"IF('Data Input'!A72=0,\"\",'Data Input'!A72)","v":""},{"$f":"IF(H68=\"\",\"\",IF(H68>Welcome!$K$23-1,\"Exceeding\",IF(H68>Welcome!$G$23-1,\"Expected\",IF(H68<Welcome!$G$23,\"Below\"))))","v":""},{"$f":"IF(ISBLANK('Data Input'!A72),\"\",COUNTIF('Data Input'!C72:AQ72,\"\")-1)","v":""},{"$f":"IF(ISBLANK('Data Input'!A72),\"\",COUNTIF('Data Input'!C72:AQ72,\"0\"))","v":""},{"$f":"IF(ISBLANK('Data Input'!A72),\"\",SUM(C68,D68))","v":""},{"$f":"IF(ISBLANK('Data Input'!A72),\"\",SUM('Data Input'!C72:V72))","v":""},{"$f":"IF(ISBLANK('Data Input'!A72),\"\",SUM('Data Input'!X72:AQ72))","v":""},{"$f":"IF(ISBLANK('Data Input'!A72),\"\",SUM('Data Input'!C72:AQ72))","v":""},{"$f":"IF(H68=\"\",\"\",H68/(COUNTA('Data Input'!$C$8:$AQ$8)-1))","v":""},{"$f":"IF(ISBLANK('Data Input'!A72),\"\",SUM('Data Input'!I72,'Data Input'!M72,'Data Input'!AB72,'Data Input'!AE72))","v":""},{"$f":"IF(J68=\"\",\"\",J68/COUNTIF('Data Input'!$C$8:$AQ$8,$J$2))","v":""},{"$f":"IF(ISBLANK('Data Input'!A72),\"\",SUM('Data Input'!E72,'Data Input'!G72,'Data Input'!H72,'Data Input'!L72,'Data Input'!N72,'Data Input'!Q72,'Data Input'!R72,'Data Input'!T72,'Data Input'!U72,'Data Input'!V72,'Data Input'!X72,'Data Input'!Y72,'Data Input'!Z72,'Data Input'!AA72,'Data Input'!AC72,'Data Input'!AD72,'Data Input'!AF72,'Data Input'!AG72,'Data Input'!AH72,'Data Input'!AI72,'Data Input'!AJ72,'Data Input'!AK72,'Data Input'!AL72))","v":""},{"$f":"IF(L68=\"\",\"\",L68/COUNTIF('Data Input'!$C$8:$AQ$8,$L$2))","v":""},{"$f":"IF(ISBLANK('Data Input'!A72),\"\",SUM('Data Input'!K72,'Data Input'!AQ72))","v":""},{"$f":"IF(N68=\"\",\"\",N68/COUNTIF('Data Input'!$C$8:$AQ$8,$N$2))","v":""},{"$f":"IF(ISBLANK('Data Input'!A72),\"\",SUM('Data Input'!C72,'Data Input'!D72,'Data Input'!F72,'Data Input'!J72,'Data Input'!O72,'Data Input'!S72,'Data Input'!AM72,'Data Input'!AN72,'Data Input'!AO72,'Data Input'!AP72))","v":""},{"$f":"IF(P68=\"\",\"\",P68/COUNTIF('Data Input'!$C$8:$AQ$8,$P$2))","v":""},{"$f":"IF(ISBLANK('Data Input'!C72),\"\",SUM('Data Input'!P72))","v":""},{"$f":"IF(R68=\"\",\"\",R68/COUNTIF('Data Input'!$C$8:$AQ$8,$R$2))","v":""}]
[{"$f":"IF('Data Input'!A73=0,\"\",'Data Input'!A73)","v":""},{"$f":"IF(H69=\"\",\"\",IF(H69>Welcome!$K$23-1,\"Exceeding\",IF(H69>Welcome!$G$23-1,\"Expected\",IF(H69<Welcome!$G$23,\"Below\"))))","v":""},{"$f":"IF(ISBLANK('Data Input'!A73),\"\",COUNTIF('Data Input'!C73:AQ73,\"\")-1)","v":""},{"$f":"IF(ISBLANK('Data Input'!A73),\"\",COUNTIF('Data Input'!C73:AQ73,\"0\"))","v":""},{"$f":"IF(ISBLANK('Data Input'!A73),\"\",SUM(C69,D69))","v":""},{"$f":"IF(ISBLANK('Data Input'!A73),\"\",SUM('Data Input'!C73:V73))","v":""},{"$f":"IF(ISBLANK('Data Input'!A73),\"\",SUM('Data Input'!X73:AQ73))","v":""},{"$f":"IF(ISBLANK('Data Input'!A73),\"\",SUM('Data Input'!C73:AQ73))","v":""},{"$f":"IF(H69=\"\",\"\",H69/(COUNTA('Data Input'!$C$8:$AQ$8)-1))","v":""},{"$f":"IF(ISBLANK('Data Input'!A73),\"\",SUM('Data Input'!I73,'Data Input'!M73,'Data Input'!AB73,'Data Input'!AE73))","v":""},{"$f":"IF(J69=\"\",\"\",J69/COUNTIF('Data Input'!$C$8:$AQ$8,$J$2))","v":""},{"$f":"IF(ISBLANK('Data Input'!A73),\"\",SUM('Data Input'!E73,'Data Input'!G73,'Data Input'!H73,'Data Input'!L73,'Data Input'!N73,'Data Input'!Q73,'Data Input'!R73,'Data Input'!T73,'Data Input'!U73,'Data Input'!V73,'Data Input'!X73,'Data Input'!Y73,'Data Input'!Z73,'Data Input'!AA73,'Data Input'!AC73,'Data Input'!AD73,'Data Input'!AF73,'Data Input'!AG73,'Data Input'!AH73,'Data Input'!AI73,'Data Input'!AJ73,'Data Input'!AK73,'Data Input'!AL73))","v":""},{"$f":"IF(L69=\"\",\"\",L69/COUNTIF('Data Input'!$C$8:$AQ$8,$L$2))","v":""},{"$f":"IF(ISBLANK('Data Input'!A73),\"\",SUM('Data Input'!K73,'Data Input'!AQ73))","v":""},{"$f":"IF(N69=\"\",\"\",N69/COUNTIF('Data Input'!$C$8:$AQ$8,$N$2))","v":""},{"$f":"IF(ISBLANK('Data Input'!A73),\"\",SUM('Data Input'!C73,'Data Input'!D73,'Data Input'!F73,'Data Input'!J73,'Data Input'!O73,'Data Input'!S73,'Data Input'!AM73,'Data Input'!AN73,'Data Input'!AO73,'Data Input'!AP73))","v":""},{"$f":"IF(P69=\"\",\"\",P69/COUNTIF('Data Input'!$C$8:$AQ$8,$P$2))","v":""},{"$f":"IF(ISBLANK('Data Input'!C73),\"\",SUM('Data Input'!P73))","v":""},{"$f":"IF(R69=\"\",\"\",R69/COUNTIF('Data Input'!$C$8:$AQ$8,$R$2))","v":""}]
[{"$f":"IF('Data Input'!A74=0,\"\",'Data Input'!A74)","v":""},{"$f":"IF(H70=\"\",\"\",IF(H70>Welcome!$K$23-1,\"Exceeding\",IF(H70>Welcome!$G$23-1,\"Expected\",IF(H70<Welcome!$G$23,\"Below\"))))","v":""},{"$f":"IF(ISBLANK('Data Input'!A74),\"\",COUNTIF('Data Input'!C74:AQ74,\"\")-1)","v":""},{"$f":"IF(ISBLANK('Data Input'!A74),\"\",COUNTIF('Data Input'!C74:AQ74,\"0\"))","v":""},{"$f":"IF(ISBLANK('Data Input'!A74),\"\",SUM(C70,D70))","v":""},{"$f":"IF(ISBLANK('Data Input'!A74),\"\",SUM('Data Input'!C74:V74))","v":""},{"$f":"IF(ISBLANK('Data Input'!A74),\"\",SUM('Data Input'!X74:AQ74))","v":""},{"$f":"IF(ISBLANK('Data Input'!A74),\"\",SUM('Data Input'!C74:AQ74))","v":""},{"$f":"IF(H70=\"\",\"\",H70/(COUNTA('Data Input'!$C$8:$AQ$8)-1))","v":""},{"$f":"IF(ISBLANK('Data Input'!A74),\"\",SUM('Data Input'!I74,'Data Input'!M74,'Data Input'!AB74,'Data Input'!AE74))","v":""},{"$f":"IF(J70=\"\",\"\",J70/COUNTIF('Data Input'!$C$8:$AQ$8,$J$2))","v":""},{"$f":"IF(ISBLANK('Data Input'!A74),\"\",SUM('Data Input'!E74,'Data Input'!G74,'Data Input'!H74,'Data Input'!L74,'Data Input'!N74,'Data Input'!Q74,'Data Input'!R74,'Data Input'!T74,'Data Input'!U74,'Data Input'!V74,'Data Input'!X74,'Data Input'!Y74,'Data Input'!Z74,'Data Input'!AA74,'Data Input'!AC74,'Data Input'!AD74,'Data Input'!AF74,'Data Input'!AG74,'Data Input'!AH74,'Data Input'!AI74,'Data Input'!AJ74,'Data Input'!AK74,'Data Input'!AL74))","v":""},{"$f":"IF(L70=\"\",\"\",L70/COUNTIF('Data Input'!$C$8:$AQ$8,$L$2))","v":""},{"$f":"IF(ISBLANK('Data Input'!A74),\"\",SUM('Data Input'!K74,'Data Input'!AQ74))","v":""},{"$f":"IF(N70=\"\",\"\",N70/COUNTIF('Data Input'!$C$8:$AQ$8,$N$2))","v":""},{"$f":"IF(ISBLANK('Data Input'!A74),\"\",SUM('Data Input'!C74,'Data Input'!D74,'Data Input'!F74,'Data Input'!J74,'Data Input'!O74,'Data Input'!S74,'Data Input'!AM74,'Data Input'!AN74,'Data Input'!AO74,'Data Input'!AP74))","v":""},{"$f":"IF(P70=\"\",\"\",P70/COUNTIF('Data Input'!$C$8:$AQ$8,$P$2))","v":""},{"$f":"IF(ISBLANK('Data Input'!C74),\"\",SUM('Data Input'!P74))","v":""},{"$f":"IF(R70=\"\",\"\",R70/COUNTIF('Data Input'!$C$8:$AQ$8,$R$2))","v":""}]
[{"$f":"IF('Data Input'!A75=0,\"\",'Data Input'!A75)","v":""},{"$f":"IF(H71=\"\",\"\",IF(H71>Welcome!$K$23-1,\"Exceeding\",IF(H71>Welcome!$G$23-1,\"Expected\",IF(H71<Welcome!$G$23,\"Below\"))))","v":""},{"$f":"IF(ISBLANK('Data Input'!A75),\"\",COUNTIF('Data Input'!C75:AQ75,\"\")-1)","v":""},{"$f":"IF(ISBLANK('Data Input'!A75),\"\",COUNTIF('Data Input'!C75:AQ75,\"0\"))","v":""},{"$f":"IF(ISBLANK('Data Input'!A75),\"\",SUM(C71,D71))","v":""},{"$f":"IF(ISBLANK('Data Input'!A75),\"\",SUM('Data Input'!C75:V75))","v":""},{"$f":"IF(ISBLANK('Data Input'!A75),\"\",SUM('Data Input'!X75:AQ75))","v":""},{"$f":"IF(ISBLANK('Data Input'!A75),\"\",SUM('Data Input'!C75:AQ75))","v":""},{"$f":"IF(H71=\"\",\"\",H71/(COUNTA('Data Input'!$C$8:$AQ$8)-1))","v":""},{"$f":"IF(ISBLANK('Data Input'!A75),\"\",SUM('Data Input'!I75,'Data Input'!M75,'Data Input'!AB75,'Data Input'!AE75))","v":""},{"$f":"IF(J71=\"\",\"\",J71/COUNTIF('Data Input'!$C$8:$AQ$8,$J$2))","v":""},{"$f":"IF(ISBLANK('Data Input'!A75),\"\",SUM('Data Input'!E75,'Data Input'!G75,'Data Input'!H75,'Data Input'!L75,'Data Input'!N75,'Data Input'!Q75,'Data Input'!R75,'Data Input'!T75,'Data Input'!U75,'Data Input'!V75,'Data Input'!X75,'Data Input'!Y75,'Data Input'!Z75,'Data Input'!AA75,'Data Input'!AC75,'Data Input'!AD75,'Data Input'!AF75,'Data Input'!AG75,'Data Input'!AH75,'Data Input'!AI75,'Data Input'!AJ75,'Data Input'!AK75,'Data Input'!AL75))","v":""},{"$f":"IF(L71=\"\",\"\",L71/COUNTIF('Data Input'!$C$8:$AQ$8,$L$2))","v":""},{"$f":"IF(ISBLANK('Data Input'!A75),\"\",SUM('Data Input'!K75,'Data Input'!AQ75))","v":""},{"$f":"IF(N71=\"\",\"\",N71/COUNTIF('Data Input'!$C$8:$AQ$8,$N$2))","v":""},{"$f":"IF(ISBLANK('Data Input'!A75),\"\",SUM('Data Input'!C75,'Data Input'!D75,'Data Input'!F75,'Data Input'!J75,'Data Input'!O75,'Data Input'!S75,'Data Input'!AM75,'Data Input'!AN75,'Data Input'!AO75,'Data Input'!AP75))","v":""},{"$f":"IF(P71=\"\",\"\",P71/COUNTIF('Data Input'!$C$8:$AQ$8,$P$2))","v":""},{"$f":"IF(ISBLANK('Data Input'!C75),\"\",SUM('Data Input'!P75))","v":""},{"$f":"IF(R71=\"\",\"\",R71/COUNTIF('Data Input'!$C$8:$AQ$8,$R$2))","v":""}]
[{"$f":"IF('Data Input'!A76=0,\"\",'Data Input'!A76)","v":""},{"$f":"IF(H72=\"\",\"\",IF(H72>Welcome!$K$23-1,\"Exceeding\",IF(H72>Welcome!$G$23-1,\"Expected\",IF(H72<Welcome!$G$23,\"Below\"))))","v":""},{"$f":"IF(ISBLANK('Data Input'!A76),\"\",COUNTIF('Data Input'!C76:AQ76,\"\")-1)","v":""},{"$f":"IF(ISBLANK('Data Input'!A76),\"\",COUNTIF('Data Input'!C76:AQ76,\"0\"))","v":""},{"$f":"IF(ISBLANK('Data Input'!A76),\"\",SUM(C72,D72))","v":""},{"$f":"IF(ISBLANK('Data Input'!A76),\"\",SUM('Data Input'!C76:V76))","v":""},{"$f":"IF(ISBLANK('Data Input'!A76),\"\",SUM('Data Input'!X76:AQ76))","v":""},{"$f":"IF(ISBLANK('Data Input'!A76),\"\",SUM('Data Input'!C76:AQ76))","v":""},{"$f":"IF(H72=\"\",\"\",H72/(COUNTA('Data Input'!$C$8:$AQ$8)-1))","v":""},{"$f":"IF(ISBLANK('Data Input'!A76),\"\",SUM('Data Input'!I76,'Data Input'!M76,'Data Input'!AB76,'Data Input'!AE76))","v":""},{"$f":"IF(J72=\"\",\"\",J72/COUNTIF('Data Input'!$C$8:$AQ$8,$J$2))","v":""},{"$f":"IF(ISBLANK('Data Input'!A76),\"\",SUM('Data Input'!E76,'Data Input'!G76,'Data Input'!H76,'Data Input'!L76,'Data Input'!N76,'Data Input'!Q76,'Data Input'!R76,'Data Input'!T76,'Data Input'!U76,'Data Input'!V76,'Data Input'!X76,'Data Input'!Y76,'Data Input'!Z76,'Data Input'!AA76,'Data Input'!AC76,'Data Input'!AD76,'Data Input'!AF76,'Data Input'!AG76,'Data Input'!AH76,'Data Input'!AI76,'Data Input'!AJ76,'Data Input'!AK76,'Data Input'!AL76))","v":""},{"$f":"IF(L72=\"\",\"\",L72/COUNTIF('Data Input'!$C$8:$AQ$8,$L$2))","v":""},{"$f":"IF(ISBLANK('Data Input'!A76),\"\",SUM('Data Input'!K76,'Data Input'!AQ76))","v":""},{"$f":"IF(N72=\"\",\"\",N72/COUNTIF('Data Input'!$C$8:$AQ$8,$N$2))","v":""},{"$f":"IF(ISBLANK('Data Input'!A76),\"\",SUM('Data Input'!C76,'Data Input'!D76,'Data Input'!F76,'Data Input'!J76,'Data Input'!O76,'Data Input'!S76,'Data Input'!AM76,'Data Input'!AN76,'Data Input'!AO76,'Data Input'!AP76))","v":""},{"$f":"IF(P72=\"\",\"\",P72/COUNTIF('Data Input'!$C$8:$AQ$8,$P$2))","v":""},{"$f":"IF(ISBLANK('Data Input'!C76),\"\",SUM('Data Input'!P76))","v":""},{"$f":"IF(R72=\"\",\"\",R72/COUNTIF('Data Input'!$C$8:$AQ$8,$R$2))","v":""}]
[{"$f":"IF('Data Input'!A77=0,\"\",'Data Input'!A77)","v":""},{"$f":"IF(H73=\"\",\"\",IF(H73>Welcome!$K$23-1,\"Exceeding\",IF(H73>Welcome!$G$23-1,\"Expected\",IF(H73<Welcome!$G$23,\"Below\"))))","v":""},{"$f":"IF(ISBLANK('Data Input'!A77),\"\",COUNTIF('Data Input'!C77:AQ77,\"\")-1)","v":""},{"$f":"IF(ISBLANK('Data Input'!A77),\"\",COUNTIF('Data Input'!C77:AQ77,\"0\"))","v":""},{"$f":"IF(ISBLANK('Data Input'!A77),\"\",SUM(C73,D73))","v":""},{"$f":"IF(ISBLANK('Data Input'!A77),\"\",SUM('Data Input'!C77:V77))","v":""},{"$f":"IF(ISBLANK('Data Input'!A77),\"\",SUM('Data Input'!X77:AQ77))","v":""},{"$f":"IF(ISBLANK('Data Input'!A77),\"\",SUM('Data Input'!C77:AQ77))","v":""},{"$f":"IF(H73=\"\",\"\",H73/(COUNTA('Data Input'!$C$8:$AQ$8)-1))","v":""},{"$f":"IF(ISBLANK('Data Input'!A77),\"\",SUM('Data Input'!I77,'Data Input'!M77,'Data Input'!AB77,'Data Input'!AE77))","v":""},{"$f":"IF(J73=\"\",\"\",J73/COUNTIF('Data Input'!$C$8:$AQ$8,$J$2))","v":""},{"$f":"IF(ISBLANK('Data Input'!A77),\"\",SUM('Data Input'!E77,'Data Input'!G77,'Data Input'!H77,'Data Input'!L77,'Data Input'!N77,'Data Input'!Q77,'Data Input'!R77,'Data Input'!T77,'Data Input'!U77,'Data Input'!V77,'Data Input'!X77,'Data Input'!Y77,'Data Input'!Z77,'Data Input'!AA77,'Data Input'!AC77,'Data Input'!AD77,'Data Input'!AF77,'Data Input'!AG77,'Data Input'!AH77,'Data Input'!AI77,'Data Input'!AJ77,'Data Input'!AK77,'Data Input'!AL77))","v":""},{"$f":"IF(L73=\"\",\"\",L73/COUNTIF('Data Input'!$C$8:$AQ$8,$L$2))","v":""},{"$f":"IF(ISBLANK('Data Input'!A77),\"\",SUM('Data Input'!K77,'Data Input'!AQ77))","v":""},{"$f":"IF(N73=\"\",\"\",N73/COUNTIF('Data Input'!$C$8:$AQ$8,$N$2))","v":""},{"$f":"IF(ISBLANK('Data Input'!A77),\"\",SUM('Data Input'!C77,'Data Input'!D77,'Data Input'!F77,'Data Input'!J77,'Data Input'!O77,'Data Input'!S77,'Data Input'!AM77,'Data Input'!AN77,'Data Input'!AO77,'Data Input'!AP77))","v":""},{"$f":"IF(P73=\"\",\"\",P73/COUNTIF('Data Input'!$C$8:$AQ$8,$P$2))","v":""},{"$f":"IF(ISBLANK('Data Input'!C77),\"\",SUM('Data Input'!P77))","v":""},{"$f":"IF(R73=\"\",\"\",R73/COUNTIF('Data Input'!$C$8:$AQ$8,$R$2))","v":""}]
[{"$f":"IF('Data Input'!A78=0,\"\",'Data Input'!A78)","v":""},{"$f":"IF(H74=\"\",\"\",IF(H74>Welcome!$K$23-1,\"Exceeding\",IF(H74>Welcome!$G$23-1,\"Expected\",IF(H74<Welcome!$G$23,\"Below\"))))","v":""},{"$f":"IF(ISBLANK('Data Input'!A78),\"\",COUNTIF('Data Input'!C78:AQ78,\"\")-1)","v":""},{"$f":"IF(ISBLANK('Data Input'!A78),\"\",COUNTIF('Data Input'!C78:AQ78,\"0\"))","v":""},{"$f":"IF(ISBLANK('Data Input'!A78),\"\",SUM(C74,D74))","v":""},{"$f":"IF(ISBLANK('Data Input'!A78),\"\",SUM('Data Input'!C78:V78))","v":""},{"$f":"IF(ISBLANK('Data Input'!A78),\"\",SUM('Data Input'!X78:AQ78))","v":""},{"$f":"IF(ISBLANK('Data Input'!A78),\"\",SUM('Data Input'!C78:AQ78))","v":""},{"$f":"IF(H74=\"\",\"\",H74/(COUNTA('Data Input'!$C$8:$AQ$8)-1))","v":""},{"$f":"IF(ISBLANK('Data Input'!A78),\"\",SUM('Data Input'!I78,'Data Input'!M78,'Data Input'!AB78,'Data Input'!AE78))","v":""},{"$f":"IF(J74=\"\",\"\",J74/COUNTIF('Data Input'!$C$8:$AQ$8,$J$2))","v":""},{"$f":"IF(ISBLANK('Data Input'!A78),\"\",SUM('Data Input'!E78,'Data Input'!G78,'Data Input'!H78,'Data Input'!L78,'Data Input'!N78,'Data Input'!Q78,'Data Input'!R78,'Data Input'!T78,'Data Input'!U78,'Data Input'!V78,'Data Input'!X78,'Data Input'!Y78,'Data Input'!Z78,'Data Input'!AA78,'Data Input'!AC78,'Data Input'!AD78,'Data Input'!AF78,'Data Input'!AG78,'Data Input'!AH78,'Data Input'!AI78,'Data Input'!AJ78,'Data Input'!AK78,'Data Input'!AL78))","v":""},{"$f":"IF(L74=\"\",\"\",L74/COUNTIF('Data Input'!$C$8:$AQ$8,$L$2))","v":""},{"$f":"IF(ISBLANK('Data Input'!A78),\"\",SUM('Data Input'!K78,'Data Input'!AQ78))","v":""},{"$f":"IF(N74=\"\",\"\",N74/COUNTIF('Data Input'!$C$8:$AQ$8,$N$2))","v":""},{"$f":"IF(ISBLANK('Data Input'!A78),\"\",SUM('Data Input'!C78,'Data Input'!D78,'Data Input'!F78,'Data Input'!J78,'Data Input'!O78,'Data Input'!S78,'Data Input'!AM78,'Data Input'!AN78,'Data Input'!AO78,'Data Input'!AP78))","v":""},{"$f":"IF(P74=\"\",\"\",P74/COUNTIF('Data Input'!$C$8:$AQ$8,$P$2))","v":""},{"$f":"IF(ISBLANK('Data Input'!C78),\"\",SUM('Data Input'!P78))","v":""},{"$f":"IF(R74=\"\",\"\",R74/COUNTIF('Data Input'!$C$8:$AQ$8,$R$2))","v":""}]
[{"$f":"IF('Data Input'!A79=0,\"\",'Data Input'!A79)","v":""},{"$f":"IF(H75=\"\",\"\",IF(H75>Welcome!$K$23-1,\"Exceeding\",IF(H75>Welcome!$G$23-1,\"Expected\",IF(H75<Welcome!$G$23,\"Below\"))))","v":""},{"$f":"IF(ISBLANK('Data Input'!A79),\"\",COUNTIF('Data Input'!C79:AQ79,\"\")-1)","v":""},{"$f":"IF(ISBLANK('Data Input'!A79),\"\",COUNTIF('Data Input'!C79:AQ79,\"0\"))","v":""},{"$f":"IF(ISBLANK('Data Input'!A79),\"\",SUM(C75,D75))","v":""},{"$f":"IF(ISBLANK('Data Input'!A79),\"\",SUM('Data Input'!C79:V79))","v":""},{"$f":"IF(ISBLANK('Data Input'!A79),\"\",SUM('Data Input'!X79:AQ79))","v":""},{"$f":"IF(ISBLANK('Data Input'!A79),\"\",SUM('Data Input'!C79:AQ79))","v":""},{"$f":"IF(H75=\"\",\"\",H75/(COUNTA('Data Input'!$C$8:$AQ$8)-1))","v":""},{"$f":"IF(ISBLANK('Data Input'!A79),\"\",SUM('Data Input'!I79,'Data Input'!M79,'Data Input'!AB79,'Data Input'!AE79))","v":""},{"$f":"IF(J75=\"\",\"\",J75/COUNTIF('Data Input'!$C$8:$AQ$8,$J$2))","v":""},{"$f":"IF(ISBLANK('Data Input'!A79),\"\",SUM('Data Input'!E79,'Data Input'!G79,'Data Input'!H79,'Data Input'!L79,'Data Input'!N79,'Data Input'!Q79,'Data Input'!R79,'Data Input'!T79,'Data Input'!U79,'Data Input'!V79,'Data Input'!X79,'Data Input'!Y79,'Data Input'!Z79,'Data Input'!AA79,'Data Input'!AC79,'Data Input'!AD79,'Data Input'!AF79,'Data Input'!AG79,'Data Input'!AH79,'Data Input'!AI79,'Data Input'!AJ79,'Data Input'!AK79,'Data Input'!AL79))","v":""},{"$f":"IF(L75=\"\",\"\",L75/COUNTIF('Data Input'!$C$8:$AQ$8,$L$2))","v":""},{"$f":"IF(ISBLANK('Data Input'!A79),\"\",SUM('Data Input'!K79,'Data Input'!AQ79))","v":""},{"$f":"IF(N75=\"\",\"\",N75/COUNTIF('Data Input'!$C$8:$AQ$8,$N$2))","v":""},{"$f":"IF(ISBLANK('Data Input'!A79),\"\",SUM('Data Input'!C79,'Data Input'!D79,'Data Input'!F79,'Data Input'!J79,'Data Input'!O79,'Data Input'!S79,'Data Input'!AM79,'Data Input'!AN79,'Data Input'!AO79,'Data Input'!AP79))","v":""},{"$f":"IF(P75=\"\",\"\",P75/COUNTIF('Data Input'!$C$8:$AQ$8,$P$2))","v":""},{"$f":"IF(ISBLANK('Data Input'!C79),\"\",SUM('Data Input'!P79))","v":""},{"$f":"IF(R75=\"\",\"\",R75/COUNTIF('Data Input'!$C$8:$AQ$8,$R$2))","v":""}]
[{"$f":"IF('Data Input'!A80=0,\"\",'Data Input'!A80)","v":""},{"$f":"IF(H76=\"\",\"\",IF(H76>Welcome!$K$23-1,\"Exceeding\",IF(H76>Welcome!$G$23-1,\"Expected\",IF(H76<Welcome!$G$23,\"Below\"))))","v":""},{"$f":"IF(ISBLANK('Data Input'!A80),\"\",COUNTIF('Data Input'!C80:AQ80,\"\")-1)","v":""},{"$f":"IF(ISBLANK('Data Input'!A80),\"\",COUNTIF('Data Input'!C80:AQ80,\"0\"))","v":""},{"$f":"IF(ISBLANK('Data Input'!A80),\"\",SUM(C76,D76))","v":""},{"$f":"IF(ISBLANK('Data Input'!A80),\"\",SUM('Data Input'!C80:V80))","v":""},{"$f":"IF(ISBLANK('Data Input'!A80),\"\",SUM('Data Input'!X80:AQ80))","v":""},{"$f":"IF(ISBLANK('Data Input'!A80),\"\",SUM('Data Input'!C80:AQ80))","v":""},{"$f":"IF(H76=\"\",\"\",H76/(COUNTA('Data Input'!$C$8:$AQ$8)-1))","v":""},{"$f":"IF(ISBLANK('Data Input'!A80),\"\",SUM('Data Input'!I80,'Data Input'!M80,'Data Input'!AB80,'Data Input'!AE80))","v":""},{"$f":"IF(J76=\"\",\"\",J76/COUNTIF('Data Input'!$C$8:$AQ$8,$J$2))","v":""},{"$f":"IF(ISBLANK('Data Input'!A80),\"\",SUM('Data Input'!E80,'Data Input'!G80,'Data Input'!H80,'Data Input'!L80,'Data Input'!N80,'Data Input'!Q80,'Data Input'!R80,'Data Input'!T80,'Data Input'!U80,'Data Input'!V80,'Data Input'!X80,'Data Input'!Y80,'Data Input'!Z80,'Data Input'!AA80,'Data Input'!AC80,'Data Input'!AD80,'Data Input'!AF80,'Data Input'!AG80,'Data Input'!AH80,'Data Input'!AI80,'Data Input'!AJ80,'Data Input'!AK80,'Data Input'!AL80))","v":""},{"$f":"IF(L76=\"\",\"\",L76/COUNTIF('Data Input'!$C$8:$AQ$8,$L$2))","v":""},{"$f":"IF(ISBLANK('Data Input'!A80),\"\",SUM('Data Input'!K80,'Data Input'!AQ80))","v":""},{"$f":"IF(N76=\"\",\"\",N76/COUNTIF('Data Input'!$C$8:$AQ$8,$N$2))","v":""},{"$f":"IF(ISBLANK('Data Input'!A80),\"\",SUM('Data Input'!C80,'Data Input'!D80,'Data Input'!F80,'Data Input'!J80,'Data Input'!O80,'Data Input'!S80,'Data Input'!AM80,'Data Input'!AN80,'Data Input'!AO80,'Data Input'!AP80))","v":""},{"$f":"IF(P76=\"\",\"\",P76/COUNTIF('Data Input'!$C$8:$AQ$8,$P$2))","v":""},{"$f":"IF(ISBLANK('Data Input'!C80),\"\",SUM('Data Input'!P80))","v":""},{"$f":"IF(R76=\"\",\"\",R76/COUNTIF('Data Input'!$C$8:$AQ$8,$R$2))","v":""}]
[{"$f":"IF('Data Input'!A81=0,\"\",'Data Input'!A81)","v":""},{"$f":"IF(H77=\"\",\"\",IF(H77>Welcome!$K$23-1,\"Exceeding\",IF(H77>Welcome!$G$23-1,\"Expected\",IF(H77<Welcome!$G$23,\"Below\"))))","v":""},{"$f":"IF(ISBLANK('Data Input'!A81),\"\",COUNTIF('Data Input'!C81:AQ81,\"\")-1)","v":""},{"$f":"IF(ISBLANK('Data Input'!A81),\"\",COUNTIF('Data Input'!C81:AQ81,\"0\"))","v":""},{"$f":"IF(ISBLANK('Data Input'!A81),\"\",SUM(C77,D77))","v":""},{"$f":"IF(ISBLANK('Data Input'!A81),\"\",SUM('Data Input'!C81:V81))","v":""},{"$f":"IF(ISBLANK('Data Input'!A81),\"\",SUM('Data Input'!X81:AQ81))","v":""},{"$f":"IF(ISBLANK('Data Input'!A81),\"\",SUM('Data Input'!C81:AQ81))","v":""},{"$f":"IF(H77=\"\",\"\",H77/(COUNTA('Data Input'!$C$8:$AQ$8)-1))","v":""},{"$f":"IF(ISBLANK('Data Input'!A81),\"\",SUM('Data Input'!I81,'Data Input'!M81,'Data Input'!AB81,'Data Input'!AE81))","v":""},{"$f":"IF(J77=\"\",\"\",J77/COUNTIF('Data Input'!$C$8:$AQ$8,$J$2))","v":""},{"$f":"IF(ISBLANK('Data Input'!A81),\"\",SUM('Data Input'!E81,'Data Input'!G81,'Data Input'!H81,'Data Input'!L81,'Data Input'!N81,'Data Input'!Q81,'Data Input'!R81,'Data Input'!T81,'Data Input'!U81,'Data Input'!V81,'Data Input'!X81,'Data Input'!Y81,'Data Input'!Z81,'Data Input'!AA81,'Data Input'!AC81,'Data Input'!AD81,'Data Input'!AF81,'Data Input'!AG81,'Data Input'!AH81,'Data Input'!AI81,'Data Input'!AJ81,'Data Input'!AK81,'Data Input'!AL81))","v":""},{"$f":"IF(L77=\"\",\"\",L77/COUNTIF('Data Input'!$C$8:$AQ$8,$L$2))","v":""},{"$f":"IF(ISBLANK('Data Input'!A81),\"\",SUM('Data Input'!K81,'Data Input'!AQ81))","v":""},{"$f":"IF(N77=\"\",\"\",N77/COUNTIF('Data Input'!$C$8:$AQ$8,$N$2))","v":""},{"$f":"IF(ISBLANK('Data Input'!A81),\"\",SUM('Data Input'!C81,'Data Input'!D81,'Data Input'!F81,'Data Input'!J81,'Data Input'!O81,'Data Input'!S81,'Data Input'!AM81,'Data Input'!AN81,'Data Input'!AO81,'Data Input'!AP81))","v":""},{"$f":"IF(P77=\"\",\"\",P77/COUNTIF('Data Input'!$C$8:$AQ$8,$P$2))","v":""},{"$f":"IF(ISBLANK('Data Input'!C81),\"\",SUM('Data Input'!P81))","v":""},{"$f":"IF(R77=\"\",\"\",R77/COUNTIF('Data Input'!$C$8:$AQ$8,$R$2))","v":""}]
[{"$f":"IF('Data Input'!A82=0,\"\",'Data Input'!A82)","v":""},{"$f":"IF(H78=\"\",\"\",IF(H78>Welcome!$K$23-1,\"Exceeding\",IF(H78>Welcome!$G$23-1,\"Expected\",IF(H78<Welcome!$G$23,\"Below\"))))","v":""},{"$f":"IF(ISBLANK('Data Input'!A82),\"\",COUNTIF('Data Input'!C82:AQ82,\"\")-1)","v":""},{"$f":"IF(ISBLANK('Data Input'!A82),\"\",COUNTIF('Data Input'!C82:AQ82,\"0\"))","v":""},{"$f":"IF(ISBLANK('Data Input'!A82),\"\",SUM(C78,D78))","v":""},{"$f":"IF(ISBLANK('Data Input'!A82),\"\",SUM('Data Input'!C82:V82))","v":""},{"$f":"IF(ISBLANK('Data Input'!A82),\"\",SUM('Data Input'!X82:AQ82))","v":""},{"$f":"IF(ISBLANK('Data Input'!A82),\"\",SUM('Data Input'!C82:AQ82))","v":""},{"$f":"IF(H78=\"\",\"\",H78/(COUNTA('Data Input'!$C$8:$AQ$8)-1))","v":""},{"$f":"IF(ISBLANK('Data Input'!A82),\"\",SUM('Data Input'!I82,'Data Input'!M82,'Data Input'!AB82,'Data Input'!AE82))","v":""},{"$f":"IF(J78=\"\",\"\",J78/COUNTIF('Data Input'!$C$8:$AQ$8,$J$2))","v":""},{"$f":"IF(ISBLANK('Data Input'!A82),\"\",SUM('Data Input'!E82,'Data Input'!G82,'Data Input'!H82,'Data Input'!L82,'Data Input'!N82,'Data Input'!Q82,'Data Input'!R82,'Data Input'!T82,'Data Input'!U82,'Data Input'!V82,'Data Input'!X82,'Data Input'!Y82,'Data Input'!Z82,'Data Input'!AA82,'Data Input'!AC82,'Data Input'!AD82,'Data Input'!AF82,'Data Input'!AG82,'Data Input'!AH82,'Data Input'!AI82,'Data Input'!AJ82,'Data Input'!AK82,'Data Input'!AL82))","v":""},{"$f":"IF(L78=\"\",\"\",L78/COUNTIF('Data Input'!$C$8:$AQ$8,$L$2))","v":""},{"$f":"IF(ISBLANK('Data Input'!A82),\"\",SUM('Data Input'!K82,'Data Input'!AQ82))","v":""},{"$f":"IF(N78=\"\",\"\",N78/COUNTIF('Data Input'!$C$8:$AQ$8,$N$2))","v":""},{"$f":"IF(ISBLANK('Data Input'!A82),\"\",SUM('Data Input'!C82,'Data Input'!D82,'Data Input'!F82,'Data Input'!J82,'Data Input'!O82,'Data Input'!S82,'Data Input'!AM82,'Data Input'!AN82,'Data Input'!AO82,'Data Input'!AP82))","v":""},{"$f":"IF(P78=\"\",\"\",P78/COUNTIF('Data Input'!$C$8:$AQ$8,$P$2))","v":""},{"$f":"IF(ISBLANK('Data Input'!C82),\"\",SUM('Data Input'!P82))","v":""},{"$f":"IF(R78=\"\",\"\",R78/COUNTIF('Data Input'!$C$8:$AQ$8,$R$2))","v":""}]
[{"$f":"IF('Data Input'!A83=0,\"\",'Data Input'!A83)","v":""},{"$f":"IF(H79=\"\",\"\",IF(H79>Welcome!$K$23-1,\"Exceeding\",IF(H79>Welcome!$G$23-1,\"Expected\",IF(H79<Welcome!$G$23,\"Below\"))))","v":""},{"$f":"IF(ISBLANK('Data Input'!A83),\"\",COUNTIF('Data Input'!C83:AQ83,\"\")-1)","v":""},{"$f":"IF(ISBLANK('Data Input'!A83),\"\",COUNTIF('Data Input'!C83:AQ83,\"0\"))","v":""},{"$f":"IF(ISBLANK('Data Input'!A83),\"\",SUM(C79,D79))","v":""},{"$f":"IF(ISBLANK('Data Input'!A83),\"\",SUM('Data Input'!C83:V83))","v":""},{"$f":"IF(ISBLANK('Data Input'!A83),\"\",SUM('Data Input'!X83:AQ83))","v":""},{"$f":"IF(ISBLANK('Data Input'!A83),\"\",SUM('Data Input'!C83:AQ83))","v":""},{"$f":"IF(H79=\"\",\"\",H79/(COUNTA('Data Input'!$C$8:$AQ$8)-1))","v":""},{"$f":"IF(ISBLANK('Data Input'!A83),\"\",SUM('Data Input'!I83,'Data Input'!M83,'Data Input'!AB83,'Data Input'!AE83))","v":""},{"$f":"IF(J79=\"\",\"\",J79/COUNTIF('Data Input'!$C$8:$AQ$8,$J$2))","v":""},{"$f":"IF(ISBLANK('Data Input'!A83),\"\",SUM('Data Input'!E83,'Data Input'!G83,'Data Input'!H83,'Data Input'!L83,'Data Input'!N83,'Data Input'!Q83,'Data Input'!R83,'Data Input'!T83,'Data Input'!U83,'Data Input'!V83,'Data Input'!X83,'Data Input'!Y83,'Data Input'!Z83,'Data Input'!AA83,'Data Input'!AC83,'Data Input'!AD83,'Data Input'!AF83,'Data Input'!AG83,'Data Input'!AH83,'Data Input'!AI83,'Data Input'!AJ83,'Data Input'!AK83,'Data Input'!AL83))","v":""},{"$f":"IF(L79=\"\",\"\",L79/COUNTIF('Data Input'!$C$8:$AQ$8,$L$2))","v":""},{"$f":"IF(ISBLANK('Data Input'!A83),\"\",SUM('Data Input'!K83,'Data Input'!AQ83))","v":""},{"$f":"IF(N79=\"\",\"\",N79/COUNTIF('Data Input'!$C$8:$AQ$8,$N$2))","v":""},{"$f":"IF(ISBLANK('Data Input'!A83),\"\",SUM('Data Input'!C83,'Data Input'!D83,'Data Input'!F83,'Data Input'!J83,'Data Input'!O83,'Data Input'!S83,'Data Input'!AM83,'Data Input'!AN83,'Data Input'!AO83,'Data Input'!AP83))","v":""},{"$f":"IF(P79=\"\",\"\",P79/COUNTIF('Data Input'!$C$8:$AQ$8,$P$2))","v":""},{"$f":"IF(ISBLANK('Data Input'!C83),\"\",SUM('Data Input'!P83))","v":""},{"$f":"IF(R79=\"\",\"\",R79/COUNTIF('Data Input'!$C$8:$AQ$8,$R$2))","v":""}]
[{"$f":"IF('Data Input'!A84=0,\"\",'Data Input'!A84)","v":""},{"$f":"IF(H80=\"\",\"\",IF(H80>Welcome!$K$23-1,\"Exceeding\",IF(H80>Welcome!$G$23-1,\"Expected\",IF(H80<Welcome!$G$23,\"Below\"))))","v":""},{"$f":"IF(ISBLANK('Data Input'!A84),\"\",COUNTIF('Data Input'!C84:AQ84,\"\")-1)","v":""},{"$f":"IF(ISBLANK('Data Input'!A84),\"\",COUNTIF('Data Input'!C84:AQ84,\"0\"))","v":""},{"$f":"IF(ISBLANK('Data Input'!A84),\"\",SUM(C80,D80))","v":""},{"$f":"IF(ISBLANK('Data Input'!A84),\"\",SUM('Data Input'!C84:V84))","v":""},{"$f":"IF(ISBLANK('Data Input'!A84),\"\",SUM('Data Input'!X84:AQ84))","v":""},{"$f":"IF(ISBLANK('Data Input'!A84),\"\",SUM('Data Input'!C84:AQ84))","v":""},{"$f":"IF(H80=\"\",\"\",H80/(COUNTA('Data Input'!$C$8:$AQ$8)-1))","v":""},{"$f":"IF(ISBLANK('Data Input'!A84),\"\",SUM('Data Input'!I84,'Data Input'!M84,'Data Input'!AB84,'Data Input'!AE84))","v":""},{"$f":"IF(J80=\"\",\"\",J80/COUNTIF('Data Input'!$C$8:$AQ$8,$J$2))","v":""},{"$f":"IF(ISBLANK('Data Input'!A84),\"\",SUM('Data Input'!E84,'Data Input'!G84,'Data Input'!H84,'Data Input'!L84,'Data Input'!N84,'Data Input'!Q84,'Data Input'!R84,'Data Input'!T84,'Data Input'!U84,'Data Input'!V84,'Data Input'!X84,'Data Input'!Y84,'Data Input'!Z84,'Data Input'!AA84,'Data Input'!AC84,'Data Input'!AD84,'Data Input'!AF84,'Data Input'!AG84,'Data Input'!AH84,'Data Input'!AI84,'Data Input'!AJ84,'Data Input'!AK84,'Data Input'!AL84))","v":""},{"$f":"IF(L80=\"\",\"\",L80/COUNTIF('Data Input'!$C$8:$AQ$8,$L$2))","v":""},{"$f":"IF(ISBLANK('Data Input'!A84),\"\",SUM('Data Input'!K84,'Data Input'!AQ84))","v":""},{"$f":"IF(N80=\"\",\"\",N80/COUNTIF('Data Input'!$C$8:$AQ$8,$N$2))","v":""},{"$f":"IF(ISBLANK('Data Input'!A84),\"\",SUM('Data Input'!C84,'Data Input'!D84,'Data Input'!F84,'Data Input'!J84,'Data Input'!O84,'Data Input'!S84,'Data Input'!AM84,'Data Input'!AN84,'Data Input'!AO84,'Data Input'!AP84))","v":""},{"$f":"IF(P80=\"\",\"\",P80/COUNTIF('Data Input'!$C$8:$AQ$8,$P$2))","v":""},{"$f":"IF(ISBLANK('Data Input'!C84),\"\",SUM('Data Input'!P84))","v":""},{"$f":"IF(R80=\"\",\"\",R80/COUNTIF('Data Input'!$C$8:$AQ$8,$R$2))","v":""}]
[{"$f":"IF('Data Input'!A85=0,\"\",'Data Input'!A85)","v":""},{"$f":"IF(H81=\"\",\"\",IF(H81>Welcome!$K$23-1,\"Exceeding\",IF(H81>Welcome!$G$23-1,\"Expected\",IF(H81<Welcome!$G$23,\"Below\"))))","v":""},{"$f":"IF(ISBLANK('Data Input'!A85),\"\",COUNTIF('Data Input'!C85:AQ85,\"\")-1)","v":""},{"$f":"IF(ISBLANK('Data Input'!A85),\"\",COUNTIF('Data Input'!C85:AQ85,\"0\"))","v":""},{"$f":"IF(ISBLANK('Data Input'!A85),\"\",SUM(C81,D81))","v":""},{"$f":"IF(ISBLANK('Data Input'!A85),\"\",SUM('Data Input'!C85:V85))","v":""},{"$f":"IF(ISBLANK('Data Input'!A85),\"\",SUM('Data Input'!X85:AQ85))","v":""},{"$f":"IF(ISBLANK('Data Input'!A85),\"\",SUM('Data Input'!C85:AQ85))","v":""},{"$f":"IF(H81=\"\",\"\",H81/(COUNTA('Data Input'!$C$8:$AQ$8)-1))","v":""},{"$f":"IF(ISBLANK('Data Input'!A85),\"\",SUM('Data Input'!I85,'Data Input'!M85,'Data Input'!AB85,'Data Input'!AE85))","v":""},{"$f":"IF(J81=\"\",\"\",J81/COUNTIF('Data Input'!$C$8:$AQ$8,$J$2))","v":""},{"$f":"IF(ISBLANK('Data Input'!A85),\"\",SUM('Data Input'!E85,'Data Input'!G85,'Data Input'!H85,'Data Input'!L85,'Data Input'!N85,'Data Input'!Q85,'Data Input'!R85,'Data Input'!T85,'Data Input'!U85,'Data Input'!V85,'Data Input'!X85,'Data Input'!Y85,'Data Input'!Z85,'Data Input'!AA85,'Data Input'!AC85,'Data Input'!AD85,'Data Input'!AF85,'Data Input'!AG85,'Data Input'!AH85,'Data Input'!AI85,'Data Input'!AJ85,'Data Input'!AK85,'Data Input'!AL85))","v":""},{"$f":"IF(L81=\"\",\"\",L81/COUNTIF('Data Input'!$C$8:$AQ$8,$L$2))","v":""},{"$f":"IF(ISBLANK('Data Input'!A85),\"\",SUM('Data Input'!K85,'Data Input'!AQ85))","v":""},{"$f":"IF(N81=\"\",\"\",N81/COUNTIF('Data Input'!$C$8:$AQ$8,$N$2))","v":""},{"$f":"IF(ISBLANK('Data Input'!A85),\"\",SUM('Data Input'!C85,'Data Input'!D85,'Data Input'!F85,'Data Input'!J85,'Data Input'!O85,'Data Input'!S85,'Data Input'!AM85,'Data Input'!AN85,'Data Input'!AO85,'Data Input'!AP85))","v":""},{"$f":"IF(P81=\"\",\"\",P81/COUNTIF('Data Input'!$C$8:$AQ$8,$P$2))","v":""},{"$f":"IF(ISBLANK('Data Input'!C85),\"\",SUM('Data Input'!P85))","v":""},{"$f":"IF(R81=\"\",\"\",R81/COUNTIF('Data Input'!$C$8:$AQ$8,$R$2))","v":""}]
[{"$f":"IF('Data Input'!A86=0,\"\",'Data Input'!A86)","v":""},{"$f":"IF(H82=\"\",\"\",IF(H82>Welcome!$K$23-1,\"Exceeding\",IF(H82>Welcome!$G$23-1,\"Expected\",IF(H82<Welcome!$G$23,\"Below\"))))","v":""},{"$f":"IF(ISBLANK('Data Input'!A86),\"\",COUNTIF('Data Input'!C86:AQ86,\"\")-1)","v":""},{"$f":"IF(ISBLANK('Data Input'!A86),\"\",COUNTIF('Data Input'!C86:AQ86,\"0\"))","v":""},{"$f":"IF(ISBLANK('Data Input'!A86),\"\",SUM(C82,D82))","v":""},{"$f":"IF(ISBLANK('Data Input'!A86),\"\",SUM('Data Input'!C86:V86))","v":""},{"$f":"IF(ISBLANK('Data Input'!A86),\"\",SUM('Data Input'!X86:AQ86))","v":""},{"$f":"IF(ISBLANK('Data Input'!A86),\"\",SUM('Data Input'!C86:AQ86))","v":""},{"$f":"IF(H82=\"\",\"\",H82/(COUNTA('Data Input'!$C$8:$AQ$8)-1))","v":""},{"$f":"IF(ISBLANK('Data Input'!A86),\"\",SUM('Data Input'!I86,'Data Input'!M86,'Data Input'!AB86,'Data Input'!AE86))","v":""},{"$f":"IF(J82=\"\",\"\",J82/COUNTIF('Data Input'!$C$8:$AQ$8,$J$2))","v":""},{"$f":"IF(ISBLANK('Data Input'!A86),\"\",SUM('Data Input'!E86,'Data Input'!G86,'Data Input'!H86,'Data Input'!L86,'Data Input'!N86,'Data Input'!Q86,'Data Input'!R86,'Data Input'!T86,'Data Input'!U86,'Data Input'!V86,'Data Input'!X86,'Data Input'!Y86,'Data Input'!Z86,'Data Input'!AA86,'Data Input'!AC86,'Data Input'!AD86,'Data Input'!AF86,'Data Input'!AG86,'Data Input'!AH86,'Data Input'!AI86,'Data Input'!AJ86,'Data Input'!AK86,'Data Input'!AL86))","v":""},{"$f":"IF(L82=\"\",\"\",L82/COUNTIF('Data Input'!$C$8:$AQ$8,$L$2))","v":""},{"$f":"IF(ISBLANK('Data Input'!A86),\"\",SUM('Data Input'!K86,'Data Input'!AQ86))","v":""},{"$f":"IF(N82=\"\",\"\",N82/COUNTIF('Data Input'!$C$8:$AQ$8,$N$2))","v":""},{"$f":"IF(ISBLANK('Data Input'!A86),\"\",SUM('Data Input'!C86,'Data Input'!D86,'Data Input'!F86,'Data Input'!J86,'Data Input'!O86,'Data Input'!S86,'Data Input'!AM86,'Data Input'!AN86,'Data Input'!AO86,'Data Input'!AP86))","v":""},{"$f":"IF(P82=\"\",\"\",P82/COUNTIF('Data Input'!$C$8:$AQ$8,$P$2))","v":""},{"$f":"IF(ISBLANK('Data Input'!C86),\"\",SUM('Data Input'!P86))","v":""},{"$f":"IF(R82=\"\",\"\",R82/COUNTIF('Data Input'!$C$8:$AQ$8,$R$2))","v":""}]
[{"$f":"IF('Data Input'!A87=0,\"\",'Data Input'!A87)","v":""},{"$f":"IF(H83=\"\",\"\",IF(H83>Welcome!$K$23-1,\"Exceeding\",IF(H83>Welcome!$G$23-1,\"Expected\",IF(H83<Welcome!$G$23,\"Below\"))))","v":""},{"$f":"IF(ISBLANK('Data Input'!A87),\"\",COUNTIF('Data Input'!C87:AQ87,\"\")-1)","v":""},{"$f":"IF(ISBLANK('Data Input'!A87),\"\",COUNTIF('Data Input'!C87:AQ87,\"0\"))","v":""},{"$f":"IF(ISBLANK('Data Input'!A87),\"\",SUM(C83,D83))","v":""},{"$f":"IF(ISBLANK('Data Input'!A87),\"\",SUM('Data Input'!C87:V87))","v":""},{"$f":"IF(ISBLANK('Data Input'!A87),\"\",SUM('Data Input'!X87:AQ87))","v":""},{"$f":"IF(ISBLANK('Data Input'!A87),\"\",SUM('Data Input'!C87:AQ87))","v":""},{"$f":"IF(H83=\"\",\"\",H83/(COUNTA('Data Input'!$C$8:$AQ$8)-1))","v":""},{"$f":"IF(ISBLANK('Data Input'!A87),\"\",SUM('Data Input'!I87,'Data Input'!M87,'Data Input'!AB87,'Data Input'!AE87))","v":""},{"$f":"IF(J83=\"\",\"\",J83/COUNTIF('Data Input'!$C$8:$AQ$8,$J$2))","v":""},{"$f":"IF(ISBLANK('Data Input'!A87),\"\",SUM('Data Input'!E87,'Data Input'!G87,'Data Input'!H87,'Data Input'!L87,'Data Input'!N87,'Data Input'!Q87,'Data Input'!R87,'Data Input'!T87,'Data Input'!U87,'Data Input'!V87,'Data Input'!X87,'Data Input'!Y87,'Data Input'!Z87,'Data Input'!AA87,'Data Input'!AC87,'Data Input'!AD87,'Data Input'!AF87,'Data Input'!AG87,'Data Input'!AH87,'Data Input'!AI87,'Data Input'!AJ87,'Data Input'!AK87,'Data Input'!AL87))","v":""},{"$f":"IF(L83=\"\",\"\",L83/COUNTIF('Data Input'!$C$8:$AQ$8,$L$2))","v":""},{"$f":"IF(ISBLANK('Data Input'!A87),\"\",SUM('Data Input'!K87,'Data Input'!AQ87))","v":""},{"$f":"IF(N83=\"\",\"\",N83/COUNTIF('Data Input'!$C$8:$AQ$8,$N$2))","v":""},{"$f":"IF(ISBLANK('Data Input'!A87),\"\",SUM('Data Input'!C87,'Data Input'!D87,'Data Input'!F87,'Data Input'!J87,'Data Input'!O87,'Data Input'!S87,'Data Input'!AM87,'Data Input'!AN87,'Data Input'!AO87,'Data Input'!AP87))","v":""},{"$f":"IF(P83=\"\",\"\",P83/COUNTIF('Data Input'!$C$8:$AQ$8,$P$2))","v":""},{"$f":"IF(ISBLANK('Data Input'!C87),\"\",SUM('Data Input'!P87))","v":""},{"$f":"IF(R83=\"\",\"\",R83/COUNTIF('Data Input'!$C$8:$AQ$8,$R$2))","v":""}]
[{"$f":"IF('Data Input'!A88=0,\"\",'Data Input'!A88)","v":""},{"$f":"IF(H84=\"\",\"\",IF(H84>Welcome!$K$23-1,\"Exceeding\",IF(H84>Welcome!$G$23-1,\"Expected\",IF(H84<Welcome!$G$23,\"Below\"))))","v":""},{"$f":"IF(ISBLANK('Data Input'!A88),\"\",COUNTIF('Data Input'!C88:AQ88,\"\")-1)","v":""},{"$f":"IF(ISBLANK('Data Input'!A88),\"\",COUNTIF('Data Input'!C88:AQ88,\"0\"))","v":""},{"$f":"IF(ISBLANK('Data Input'!A88),\"\",SUM(C84,D84))","v":""},{"$f":"IF(ISBLANK('Data Input'!A88),\"\",SUM('Data Input'!C88:V88))","v":""},{"$f":"IF(ISBLANK('Data Input'!A88),\"\",SUM('Data Input'!X88:AQ88))","v":""},{"$f":"IF(ISBLANK('Data Input'!A88),\"\",SUM('Data Input'!C88:AQ88))","v":""},{"$f":"IF(H84=\"\",\"\",H84/(COUNTA('Data Input'!$C$8:$AQ$8)-1))","v":""},{"$f":"IF(ISBLANK('Data Input'!A88),\"\",SUM('Data Input'!I88,'Data Input'!M88,'Data Input'!AB88,'Data Input'!AE88))","v":""},{"$f":"IF(J84=\"\",\"\",J84/COUNTIF('Data Input'!$C$8:$AQ$8,$J$2))","v":""},{"$f":"IF(ISBLANK('Data Input'!A88),\"\",SUM('Data Input'!E88,'Data Input'!G88,'Data Input'!H88,'Data Input'!L88,'Data Input'!N88,'Data Input'!Q88,'Data Input'!R88,'Data Input'!T88,'Data Input'!U88,'Data Input'!V88,'Data Input'!X88,'Data Input'!Y88,'Data Input'!Z88,'Data Input'!AA88,'Data Input'!AC88,'Data Input'!AD88,'Data Input'!AF88,'Data Input'!AG88,'Data Input'!AH88,'Data Input'!AI88,'Data Input'!AJ88,'Data Input'!AK88,'Data Input'!AL88))","v":""},{"$f":"IF(L84=\"\",\"\",L84/COUNTIF('Data Input'!$C$8:$AQ$8,$L$2))","v":""},{"$f":"IF(ISBLANK('Data Input'!A88),\"\",SUM('Data Input'!K88,'Data Input'!AQ88))","v":""},{"$f":"IF(N84=\"\",\"\",N84/COUNTIF('Data Input'!$C$8:$AQ$8,$N$2))","v":""},{"$f":"IF(ISBLANK('Data Input'!A88),\"\",SUM('Data Input'!C88,'Data Input'!D88,'Data Input'!F88,'Data Input'!J88,'Data Input'!O88,'Data Input'!S88,'Data Input'!AM88,'Data Input'!AN88,'Data Input'!AO88,'Data Input'!AP88))","v":""},{"$f":"IF(P84=\"\",\"\",P84/COUNTIF('Data Input'!$C$8:$AQ$8,$P$2))","v":""},{"$f":"IF(ISBLANK('Data Input'!C88),\"\",SUM('Data Input'!P88))","v":""},{"$f":"IF(R84=\"\",\"\",R84/COUNTIF('Data Input'!$C$8:$AQ$8,$R$2))","v":""}]
[{"$f":"IF('Data Input'!A89=0,\"\",'Data Input'!A89)","v":""},{"$f":"IF(H85=\"\",\"\",IF(H85>Welcome!$K$23-1,\"Exceeding\",IF(H85>Welcome!$G$23-1,\"Expected\",IF(H85<Welcome!$G$23,\"Below\"))))","v":""},{"$f":"IF(ISBLANK('Data Input'!A89),\"\",COUNTIF('Data Input'!C89:AQ89,\"\")-1)","v":""},{"$f":"IF(ISBLANK('Data Input'!A89),\"\",COUNTIF('Data Input'!C89:AQ89,\"0\"))","v":""},{"$f":"IF(ISBLANK('Data Input'!A89),\"\",SUM(C85,D85))","v":""},{"$f":"IF(ISBLANK('Data Input'!A89),\"\",SUM('Data Input'!C89:V89))","v":""},{"$f":"IF(ISBLANK('Data Input'!A89),\"\",SUM('Data Input'!X89:AQ89))","v":""},{"$f":"IF(ISBLANK('Data Input'!A89),\"\",SUM('Data Input'!C89:AQ89))","v":""},{"$f":"IF(H85=\"\",\"\",H85/(COUNTA('Data Input'!$C$8:$AQ$8)-1))","v":""},{"$f":"IF(ISBLANK('Data Input'!A89),\"\",SUM('Data Input'!I89,'Data Input'!M89,'Data Input'!AB89,'Data Input'!AE89))","v":""},{"$f":"IF(J85=\"\",\"\",J85/COUNTIF('Data Input'!$C$8:$AQ$8,$J$2))","v":""},{"$f":"IF(ISBLANK('Data Input'!A89),\"\",SUM('Data Input'!E89,'Data Input'!G89,'Data Input'!H89,'Data Input'!L89,'Data Input'!N89,'Data Input'!Q89,'Data Input'!R89,'Data Input'!T89,'Data Input'!U89,'Data Input'!V89,'Data Input'!X89,'Data Input'!Y89,'Data Input'!Z89,'Data Input'!AA89,'Data Input'!AC89,'Data Input'!AD89,'Data Input'!AF89,'Data Input'!AG89,'Data Input'!AH89,'Data Input'!AI89,'Data Input'!AJ89,'Data Input'!AK89,'Data Input'!AL89))","v":""},{"$f":"IF(L85=\"\",\"\",L85/COUNTIF('Data Input'!$C$8:$AQ$8,$L$2))","v":""},{"$f":"IF(ISBLANK('Data Input'!A89),\"\",SUM('Data Input'!K89,'Data Input'!AQ89))","v":""},{"$f":"IF(N85=\"\",\"\",N85/COUNTIF('Data Input'!$C$8:$AQ$8,$N$2))","v":""},{"$f":"IF(ISBLANK('Data Input'!A89),\"\",SUM('Data Input'!C89,'Data Input'!D89,'Data Input'!F89,'Data Input'!J89,'Data Input'!O89,'Data Input'!S89,'Data Input'!AM89,'Data Input'!AN89,'Data Input'!AO89,'Data Input'!AP89))","v":""},{"$f":"IF(P85=\"\",\"\",P85/COUNTIF('Data Input'!$C$8:$AQ$8,$P$2))","v":""},{"$f":"IF(ISBLANK('Data Input'!C89),\"\",SUM('Data Input'!P89))","v":""},{"$f":"IF(R85=\"\",\"\",R85/COUNTIF('Data Input'!$C$8:$AQ$8,$R$2))","v":""}]
[{"$f":"IF('Data Input'!A90=0,\"\",'Data Input'!A90)","v":""},{"$f":"IF(H86=\"\",\"\",IF(H86>Welcome!$K$23-1,\"Exceeding\",IF(H86>Welcome!$G$23-1,\"Expected\",IF(H86<Welcome!$G$23,\"Below\"))))","v":""},{"$f":"IF(ISBLANK('Data Input'!A90),\"\",COUNTIF('Data Input'!C90:AQ90,\"\")-1)","v":""},{"$f":"IF(ISBLANK('Data Input'!A90),\"\",COUNTIF('Data Input'!C90:AQ90,\"0\"))","v":""},{"$f":"IF(ISBLANK('Data Input'!A90),\"\",SUM(C86,D86))","v":""},{"$f":"IF(ISBLANK('Data Input'!A90),\"\",SUM('Data Input'!C90:V90))","v":""},{"$f":"IF(ISBLANK('Data Input'!A90),\"\",SUM('Data Input'!X90:AQ90))","v":""},{"$f":"IF(ISBLANK('Data Input'!A90),\"\",SUM('Data Input'!C90:AQ90))","v":""},{"$f":"IF(H86=\"\",\"\",H86/(COUNTA('Data Input'!$C$8:$AQ$8)-1))","v":""},{"$f":"IF(ISBLANK('Data Input'!A90),\"\",SUM('Data Input'!I90,'Data Input'!M90,'Data Input'!AB90,'Data Input'!AE90))","v":""},{"$f":"IF(J86=\"\",\"\",J86/COUNTIF('Data Input'!$C$8:$AQ$8,$J$2))","v":""},{"$f":"IF(ISBLANK('Data Input'!A90),\"\",SUM('Data Input'!E90,'Data Input'!G90,'Data Input'!H90,'Data Input'!L90,'Data Input'!N90,'Data Input'!Q90,'Data Input'!R90,'Data Input'!T90,'Data Input'!U90,'Data Input'!V90,'Data Input'!X90,'Data Input'!Y90,'Data Input'!Z90,'Data Input'!AA90,'Data Input'!AC90,'Data Input'!AD90,'Data Input'!AF90,'Data Input'!AG90,'Data Input'!AH90,'Data Input'!AI90,'Data Input'!AJ90,'Data Input'!AK90,'Data Input'!AL90))","v":""},{"$f":"IF(L86=\"\",\"\",L86/COUNTIF('Data Input'!$C$8:$AQ$8,$L$2))","v":""},{"$f":"IF(ISBLANK('Data Input'!A90),\"\",SUM('Data Input'!K90,'Data Input'!AQ90))","v":""},{"$f":"IF(N86=\"\",\"\",N86/COUNTIF('Data Input'!$C$8:$AQ$8,$N$2))","v":""},{"$f":"IF(ISBLANK('Data Input'!A90),\"\",SUM('Data Input'!C90,'Data Input'!D90,'Data Input'!F90,'Data Input'!J90,'Data Input'!O90,'Data Input'!S90,'Data Input'!AM90,'Data Input'!AN90,'Data Input'!AO90,'Data Input'!AP90))","v":""},{"$f":"IF(P86=\"\",\"\",P86/COUNTIF('Data Input'!$C$8:$AQ$8,$P$2))","v":""},{"$f":"IF(ISBLANK('Data Input'!C90),\"\",SUM('Data Input'!P90))","v":""},{"$f":"IF(R86=\"\",\"\",R86/COUNTIF('Data Input'!$C$8:$AQ$8,$R$2))","v":""}]
[{"$f":"IF('Data Input'!A91=0,\"\",'Data Input'!A91)","v":""},{"$f":"IF(H87=\"\",\"\",IF(H87>Welcome!$K$23-1,\"Exceeding\",IF(H87>Welcome!$G$23-1,\"Expected\",IF(H87<Welcome!$G$23,\"Below\"))))","v":""},{"$f":"IF(ISBLANK('Data Input'!A91),\"\",COUNTIF('Data Input'!C91:AQ91,\"\")-1)","v":""},{"$f":"IF(ISBLANK('Data Input'!A91),\"\",COUNTIF('Data Input'!C91:AQ91,\"0\"))","v":""},{"$f":"IF(ISBLANK('Data Input'!A91),\"\",SUM(C87,D87))","v":""},{"$f":"IF(ISBLANK('Data Input'!A91),\"\",SUM('Data Input'!C91:V91))","v":""},{"$f":"IF(ISBLANK('Data Input'!A91),\"\",SUM('Data Input'!X91:AQ91))","v":""},{"$f":"IF(ISBLANK('Data Input'!A91),\"\",SUM('Data Input'!C91:AQ91))","v":""},{"$f":"IF(H87=\"\",\"\",H87/(COUNTA('Data Input'!$C$8:$AQ$8)-1))","v":""},{"$f":"IF(ISBLANK('Data Input'!A91),\"\",SUM('Data Input'!I91,'Data Input'!M91,'Data Input'!AB91,'Data Input'!AE91))","v":""},{"$f":"IF(J87=\"\",\"\",J87/COUNTIF('Data Input'!$C$8:$AQ$8,$J$2))","v":""},{"$f":"IF(ISBLANK('Data Input'!A91),\"\",SUM('Data Input'!E91,'Data Input'!G91,'Data Input'!H91,'Data Input'!L91,'Data Input'!N91,'Data Input'!Q91,'Data Input'!R91,'Data Input'!T91,'Data Input'!U91,'Data Input'!V91,'Data Input'!X91,'Data Input'!Y91,'Data Input'!Z91,'Data Input'!AA91,'Data Input'!AC91,'Data Input'!AD91,'Data Input'!AF91,'Data Input'!AG91,'Data Input'!AH91,'Data Input'!AI91,'Data Input'!AJ91,'Data Input'!AK91,'Data Input'!AL91))","v":""},{"$f":"IF(L87=\"\",\"\",L87/COUNTIF('Data Input'!$C$8:$AQ$8,$L$2))","v":""},{"$f":"IF(ISBLANK('Data Input'!A91),\"\",SUM('Data Input'!K91,'Data Input'!AQ91))","v":""},{"$f":"IF(N87=\"\",\"\",N87/COUNTIF('Data Input'!$C$8:$AQ$8,$N$2))","v":""},{"$f":"IF(ISBLANK('Data Input'!A91),\"\",SUM('Data Input'!C91,'Data Input'!D91,'Data Input'!F91,'Data Input'!J91,'Data Input'!O91,'Data Input'!S91,'Data Input'!AM91,'Data Input'!AN91,'Data Input'!AO91,'Data Input'!AP91))","v":""},{"$f":"IF(P87=\"\",\"\",P87/COUNTIF('Data Input'!$C$8:$AQ$8,$P$2))","v":""},{"$f":"IF(ISBLANK('Data Input'!C91),\"\",SUM('Data Input'!P91))","v":""},{"$f":"IF(R87=\"\",\"\",R87/COUNTIF('Data Input'!$C$8:$AQ$8,$R$2))","v":""}]
[{"$f":"IF('Data Input'!A92=0,\"\",'Data Input'!A92)","v":""},{"$f":"IF(H88=\"\",\"\",IF(H88>Welcome!$K$23-1,\"Exceeding\",IF(H88>Welcome!$G$23-1,\"Expected\",IF(H88<Welcome!$G$23,\"Below\"))))","v":""},{"$f":"IF(ISBLANK('Data Input'!A92),\"\",COUNTIF('Data Input'!C92:AQ92,\"\")-1)","v":""},{"$f":"IF(ISBLANK('Data Input'!A92),\"\",COUNTIF('Data Input'!C92:AQ92,\"0\"))","v":""},{"$f":"IF(ISBLANK('Data Input'!A92),\"\",SUM(C88,D88))","v":""},{"$f":"IF(ISBLANK('Data Input'!A92),\"\",SUM('Data Input'!C92:V92))","v":""},{"$f":"IF(ISBLANK('Data Input'!A92),\"\",SUM('Data Input'!X92:AQ92))","v":""},{"$f":"IF(ISBLANK('Data Input'!A92),\"\",SUM('Data Input'!C92:AQ92))","v":""},{"$f":"IF(H88=\"\",\"\",H88/(COUNTA('Data Input'!$C$8:$AQ$8)-1))","v":""},{"$f":"IF(ISBLANK('Data Input'!A92),\"\",SUM('Data Input'!I92,'Data Input'!M92,'Data Input'!AB92,'Data Input'!AE92))","v":""},{"$f":"IF(J88=\"\",\"\",J88/COUNTIF('Data Input'!$C$8:$AQ$8,$J$2))","v":""},{"$f":"IF(ISBLANK('Data Input'!A92),\"\",SUM('Data Input'!E92,'Data Input'!G92,'Data Input'!H92,'Data Input'!L92,'Data Input'!N92,'Data Input'!Q92,'Data Input'!R92,'Data Input'!T92,'Data Input'!U92,'Data Input'!V92,'Data Input'!X92,'Data Input'!Y92,'Data Input'!Z92,'Data Input'!AA92,'Data Input'!AC92,'Data Input'!AD92,'Data Input'!AF92,'Data Input'!AG92,'Data Input'!AH92,'Data Input'!AI92,'Data Input'!AJ92,'Data Input'!AK92,'Data Input'!AL92))","v":""},{"$f":"IF(L88=\"\",\"\",L88/COUNTIF('Data Input'!$C$8:$AQ$8,$L$2))","v":""},{"$f":"IF(ISBLANK('Data Input'!A92),\"\",SUM('Data Input'!K92,'Data Input'!AQ92))","v":""},{"$f":"IF(N88=\"\",\"\",N88/COUNTIF('Data Input'!$C$8:$AQ$8,$N$2))","v":""},{"$f":"IF(ISBLANK('Data Input'!A92),\"\",SUM('Data Input'!C92,'Data Input'!D92,'Data Input'!F92,'Data Input'!J92,'Data Input'!O92,'Data Input'!S92,'Data Input'!AM92,'Data Input'!AN92,'Data Input'!AO92,'Data Input'!AP92))","v":""},{"$f":"IF(P88=\"\",\"\",P88/COUNTIF('Data Input'!$C$8:$AQ$8,$P$2))","v":""},{"$f":"IF(ISBLANK('Data Input'!C92),\"\",SUM('Data Input'!P92))","v":""},{"$f":"IF(R88=\"\",\"\",R88/COUNTIF('Data Input'!$C$8:$AQ$8,$R$2))","v":""}]
[{"$f":"IF('Data Input'!A93=0,\"\",'Data Input'!A93)","v":""},{"$f":"IF(H89=\"\",\"\",IF(H89>Welcome!$K$23-1,\"Exceeding\",IF(H89>Welcome!$G$23-1,\"Expected\",IF(H89<Welcome!$G$23,\"Below\"))))","v":""},{"$f":"IF(ISBLANK('Data Input'!A93),\"\",COUNTIF('Data Input'!C93:AQ93,\"\")-1)","v":""},{"$f":"IF(ISBLANK('Data Input'!A93),\"\",COUNTIF('Data Input'!C93:AQ93,\"0\"))","v":""},{"$f":"IF(ISBLANK('Data Input'!A93),\"\",SUM(C89,D89))","v":""},{"$f":"IF(ISBLANK('Data Input'!A93),\"\",SUM('Data Input'!C93:V93))","v":""},{"$f":"IF(ISBLANK('Data Input'!A93),\"\",SUM('Data Input'!X93:AQ93))","v":""},{"$f":"IF(ISBLANK('Data Input'!A93),\"\",SUM('Data Input'!C93:AQ93))","v":""},{"$f":"IF(H89=\"\",\"\",H89/(COUNTA('Data Input'!$C$8:$AQ$8)-1))","v":""},{"$f":"IF(ISBLANK('Data Input'!A93),\"\",SUM('Data Input'!I93,'Data Input'!M93,'Data Input'!AB93,'Data Input'!AE93))","v":""},{"$f":"IF(J89=\"\",\"\",J89/COUNTIF('Data Input'!$C$8:$AQ$8,$J$2))","v":""},{"$f":"IF(ISBLANK('Data Input'!A93),\"\",SUM('Data Input'!E93,'Data Input'!G93,'Data Input'!H93,'Data Input'!L93,'Data Input'!N93,'Data Input'!Q93,'Data Input'!R93,'Data Input'!T93,'Data Input'!U93,'Data Input'!V93,'Data Input'!X93,'Data Input'!Y93,'Data Input'!Z93,'Data Input'!AA93,'Data Input'!AC93,'Data Input'!AD93,'Data Input'!AF93,'Data Input'!AG93,'Data Input'!AH93,'Data Input'!AI93,'Data Input'!AJ93,'Data Input'!AK93,'Data Input'!AL93))","v":""},{"$f":"IF(L89=\"\",\"\",L89/COUNTIF('Data Input'!$C$8:$AQ$8,$L$2))","v":""},{"$f":"IF(ISBLANK('Data Input'!A93),\"\",SUM('Data Input'!K93,'Data Input'!AQ93))","v":""},{"$f":"IF(N89=\"\",\"\",N89/COUNTIF('Data Input'!$C$8:$AQ$8,$N$2))","v":""},{"$f":"IF(ISBLANK('Data Input'!A93),\"\",SUM('Data Input'!C93,'Data Input'!D93,'Data Input'!F93,'Data Input'!J93,'Data Input'!O93,'Data Input'!S93,'Data Input'!AM93,'Data Input'!AN93,'Data Input'!AO93,'Data Input'!AP93))","v":""},{"$f":"IF(P89=\"\",\"\",P89/COUNTIF('Data Input'!$C$8:$AQ$8,$P$2))","v":""},{"$f":"IF(ISBLANK('Data Input'!C93),\"\",SUM('Data Input'!P93))","v":""},{"$f":"IF(R89=\"\",\"\",R89/COUNTIF('Data Input'!$C$8:$AQ$8,$R$2))","v":""}]
[{"$f":"IF('Data Input'!A94=0,\"\",'Data Input'!A94)","v":""},{"$f":"IF(H90=\"\",\"\",IF(H90>Welcome!$K$23-1,\"Exceeding\",IF(H90>Welcome!$G$23-1,\"Expected\",IF(H90<Welcome!$G$23,\"Below\"))))","v":""},{"$f":"IF(ISBLANK('Data Input'!A94),\"\",COUNTIF('Data Input'!C94:AQ94,\"\")-1)","v":""},{"$f":"IF(ISBLANK('Data Input'!A94),\"\",COUNTIF('Data Input'!C94:AQ94,\"0\"))","v":""},{"$f":"IF(ISBLANK('Data Input'!A94),\"\",SUM(C90,D90))","v":""},{"$f":"IF(ISBLANK('Data Input'!A94),\"\",SUM('Data Input'!C94:V94))","v":""},{"$f":"IF(ISBLANK('Data Input'!A94),\"\",SUM('Data Input'!X94:AQ94))","v":""},{"$f":"IF(ISBLANK('Data Input'!A94),\"\",SUM('Data Input'!C94:AQ94))","v":""},{"$f":"IF(H90=\"\",\"\",H90/(COUNTA('Data Input'!$C$8:$AQ$8)-1))","v":""},{"$f":"IF(ISBLANK('Data Input'!A94),\"\",SUM('Data Input'!I94,'Data Input'!M94,'Data Input'!AB94,'Data Input'!AE94))","v":""},{"$f":"IF(J90=\"\",\"\",J90/COUNTIF('Data Input'!$C$8:$AQ$8,$J$2))","v":""},{"$f":"IF(ISBLANK('Data Input'!A94),\"\",SUM('Data Input'!E94,'Data Input'!G94,'Data Input'!H94,'Data Input'!L94,'Data Input'!N94,'Data Input'!Q94,'Data Input'!R94,'Data Input'!T94,'Data Input'!U94,'Data Input'!V94,'Data Input'!X94,'Data Input'!Y94,'Data Input'!Z94,'Data Input'!AA94,'Data Input'!AC94,'Data Input'!AD94,'Data Input'!AF94,'Data Input'!AG94,'Data Input'!AH94,'Data Input'!AI94,'Data Input'!AJ94,'Data Input'!AK94,'Data Input'!AL94))","v":""},{"$f":"IF(L90=\"\",\"\",L90/COUNTIF('Data Input'!$C$8:$AQ$8,$L$2))","v":""},{"$f":"IF(ISBLANK('Data Input'!A94),\"\",SUM('Data Input'!K94,'Data Input'!AQ94))","v":""},{"$f":"IF(N90=\"\",\"\",N90/COUNTIF('Data Input'!$C$8:$AQ$8,$N$2))","v":""},{"$f":"IF(ISBLANK('Data Input'!A94),\"\",SUM('Data Input'!C94,'Data Input'!D94,'Data Input'!F94,'Data Input'!J94,'Data Input'!O94,'Data Input'!S94,'Data Input'!AM94,'Data Input'!AN94,'Data Input'!AO94,'Data Input'!AP94))","v":""},{"$f":"IF(P90=\"\",\"\",P90/COUNTIF('Data Input'!$C$8:$AQ$8,$P$2))","v":""},{"$f":"IF(ISBLANK('Data Input'!C94),\"\",SUM('Data Input'!P94))","v":""},{"$f":"IF(R90=\"\",\"\",R90/COUNTIF('Data Input'!$C$8:$AQ$8,$R$2))","v":""}]
[{"$f":"IF('Data Input'!A95=0,\"\",'Data Input'!A95)","v":""},{"$f":"IF(H91=\"\",\"\",IF(H91>Welcome!$K$23-1,\"Exceeding\",IF(H91>Welcome!$G$23-1,\"Expected\",IF(H91<Welcome!$G$23,\"Below\"))))","v":""},{"$f":"IF(ISBLANK('Data Input'!A95),\"\",COUNTIF('Data Input'!C95:AQ95,\"\")-1)","v":""},{"$f":"IF(ISBLANK('Data Input'!A95),\"\",COUNTIF('Data Input'!C95:AQ95,\"0\"))","v":""},{"$f":"IF(ISBLANK('Data Input'!A95),\"\",SUM(C91,D91))","v":""},{"$f":"IF(ISBLANK('Data Input'!A95),\"\",SUM('Data Input'!C95:V95))","v":""},{"$f":"IF(ISBLANK('Data Input'!A95),\"\",SUM('Data Input'!X95:AQ95))","v":""},{"$f":"IF(ISBLANK('Data Input'!A95),\"\",SUM('Data Input'!C95:AQ95))","v":""},{"$f":"IF(H91=\"\",\"\",H91/(COUNTA('Data Input'!$C$8:$AQ$8)-1))","v":""},{"$f":"IF(ISBLANK('Data Input'!A95),\"\",SUM('Data Input'!I95,'Data Input'!M95,'Data Input'!AB95,'Data Input'!AE95))","v":""},{"$f":"IF(J91=\"\",\"\",J91/COUNTIF('Data Input'!$C$8:$AQ$8,$J$2))","v":""},{"$f":"IF(ISBLANK('Data Input'!A95),\"\",SUM('Data Input'!E95,'Data Input'!G95,'Data Input'!H95,'Data Input'!L95,'Data Input'!N95,'Data Input'!Q95,'Data Input'!R95,'Data Input'!T95,'Data Input'!U95,'Data Input'!V95,'Data Input'!X95,'Data Input'!Y95,'Data Input'!Z95,'Data Input'!AA95,'Data Input'!AC95,'Data Input'!AD95,'Data Input'!AF95,'Data Input'!AG95,'Data Input'!AH95,'Data Input'!AI95,'Data Input'!AJ95,'Data Input'!AK95,'Data Input'!AL95))","v":""},{"$f":"IF(L91=\"\",\"\",L91/COUNTIF('Data Input'!$C$8:$AQ$8,$L$2))","v":""},{"$f":"IF(ISBLANK('Data Input'!A95),\"\",SUM('Data Input'!K95,'Data Input'!AQ95))","v":""},{"$f":"IF(N91=\"\",\"\",N91/COUNTIF('Data Input'!$C$8:$AQ$8,$N$2))","v":""},{"$f":"IF(ISBLANK('Data Input'!A95),\"\",SUM('Data Input'!C95,'Data Input'!D95,'Data Input'!F95,'Data Input'!J95,'Data Input'!O95,'Data Input'!S95,'Data Input'!AM95,'Data Input'!AN95,'Data Input'!AO95,'Data Input'!AP95))","v":""},{"$f":"IF(P91=\"\",\"\",P91/COUNTIF('Data Input'!$C$8:$AQ$8,$P$2))","v":""},{"$f":"IF(ISBLANK('Data Input'!C95),\"\",SUM('Data Input'!P95))","v":""},{"$f":"IF(R91=\"\",\"\",R91/COUNTIF('Data Input'!$C$8:$AQ$8,$R$2))","v":""}]
[{"$f":"IF('Data Input'!A96=0,\"\",'Data Input'!A96)","v":""},{"$f":"IF(H92=\"\",\"\",IF(H92>Welcome!$K$23-1,\"Exceeding\",IF(H92>Welcome!$G$23-1,\"Expected\",IF(H92<Welcome!$G$23,\"Below\"))))","v":""},{"$f":"IF(ISBLANK('Data Input'!A96),\"\",COUNTIF('Data Input'!C96:AQ96,\"\")-1)","v":""},{"$f":"IF(ISBLANK('Data Input'!A96),\"\",COUNTIF('Data Input'!C96:AQ96,\"0\"))","v":""},{"$f":"IF(ISBLANK('Data Input'!A96),\"\",SUM(C92,D92))","v":""},{"$f":"IF(ISBLANK('Data Input'!A96),\"\",SUM('Data Input'!C96:V96))","v":""},{"$f":"IF(ISBLANK('Data Input'!A96),\"\",SUM('Data Input'!X96:AQ96))","v":""},{"$f":"IF(ISBLANK('Data Input'!A96),\"\",SUM('Data Input'!C96:AQ96))","v":""},{"$f":"IF(H92=\"\",\"\",H92/(COUNTA('Data Input'!$C$8:$AQ$8)-1))","v":""},{"$f":"IF(ISBLANK('Data Input'!A96),\"\",SUM('Data Input'!I96,'Data Input'!M96,'Data Input'!AB96,'Data Input'!AE96))","v":""},{"$f":"IF(J92=\"\",\"\",J92/COUNTIF('Data Input'!$C$8:$AQ$8,$J$2))","v":""},{"$f":"IF(ISBLANK('Data Input'!A96),\"\",SUM('Data Input'!E96,'Data Input'!G96,'Data Input'!H96,'Data Input'!L96,'Data Input'!N96,'Data Input'!Q96,'Data Input'!R96,'Data Input'!T96,'Data Input'!U96,'Data Input'!V96,'Data Input'!X96,'Data Input'!Y96,'Data Input'!Z96,'Data Input'!AA96,'Data Input'!AC96,'Data Input'!AD96,'Data Input'!AF96,'Data Input'!AG96,'Data Input'!AH96,'Data Input'!AI96,'Data Input'!AJ96,'Data Input'!AK96,'Data Input'!AL96))","v":""},{"$f":"IF(L92=\"\",\"\",L92/COUNTIF('Data Input'!$C$8:$AQ$8,$L$2))","v":""},{"$f":"IF(ISBLANK('Data Input'!A96),\"\",SUM('Data Input'!K96,'Data Input'!AQ96))","v":""},{"$f":"IF(N92=\"\",\"\",N92/COUNTIF('Data Input'!$C$8:$AQ$8,$N$2))","v":""},{"$f":"IF(ISBLANK('Data Input'!A96),\"\",SUM('Data Input'!C96,'Data Input'!D96,'Data Input'!F96,'Data Input'!J96,'Data Input'!O96,'Data Input'!S96,'Data Input'!AM96,'Data Input'!AN96,'Data Input'!AO96,'Data Input'!AP96))","v":""},{"$f":"IF(P92=\"\",\"\",P92/COUNTIF('Data Input'!$C$8:$AQ$8,$P$2))","v":""},{"$f":"IF(ISBLANK('Data Input'!C96),\"\",SUM('Data Input'!P96))","v":""},{"$f":"IF(R92=\"\",\"\",R92/COUNTIF('Data Input'!$C$8:$AQ$8,$R$2))","v":""}]
[{"$f":"IF('Data Input'!A97=0,\"\",'Data Input'!A97)","v":""},{"$f":"IF(H93=\"\",\"\",IF(H93>Welcome!$K$23-1,\"Exceeding\",IF(H93>Welcome!$G$23-1,\"Expected\",IF(H93<Welcome!$G$23,\"Below\"))))","v":""},{"$f":"IF(ISBLANK('Data Input'!A97),\"\",COUNTIF('Data Input'!C97:AQ97,\"\")-1)","v":""},{"$f":"IF(ISBLANK('Data Input'!A97),\"\",COUNTIF('Data Input'!C97:AQ97,\"0\"))","v":""},{"$f":"IF(ISBLANK('Data Input'!A97),\"\",SUM(C93,D93))","v":""},{"$f":"IF(ISBLANK('Data Input'!A97),\"\",SUM('Data Input'!C97:V97))","v":""},{"$f":"IF(ISBLANK('Data Input'!A97),\"\",SUM('Data Input'!X97:AQ97))","v":""},{"$f":"IF(ISBLANK('Data Input'!A97),\"\",SUM('Data Input'!C97:AQ97))","v":""},{"$f":"IF(H93=\"\",\"\",H93/(COUNTA('Data Input'!$C$8:$AQ$8)-1))","v":""},{"$f":"IF(ISBLANK('Data Input'!A97),\"\",SUM('Data Input'!I97,'Data Input'!M97,'Data Input'!AB97,'Data Input'!AE97))","v":""},{"$f":"IF(J93=\"\",\"\",J93/COUNTIF('Data Input'!$C$8:$AQ$8,$J$2))","v":""},{"$f":"IF(ISBLANK('Data Input'!A97),\"\",SUM('Data Input'!E97,'Data Input'!G97,'Data Input'!H97,'Data Input'!L97,'Data Input'!N97,'Data Input'!Q97,'Data Input'!R97,'Data Input'!T97,'Data Input'!U97,'Data Input'!V97,'Data Input'!X97,'Data Input'!Y97,'Data Input'!Z97,'Data Input'!AA97,'Data Input'!AC97,'Data Input'!AD97,'Data Input'!AF97,'Data Input'!AG97,'Data Input'!AH97,'Data Input'!AI97,'Data Input'!AJ97,'Data Input'!AK97,'Data Input'!AL97))","v":""},{"$f":"IF(L93=\"\",\"\",L93/COUNTIF('Data Input'!$C$8:$AQ$8,$L$2))","v":""},{"$f":"IF(ISBLANK('Data Input'!A97),\"\",SUM('Data Input'!K97,'Data Input'!AQ97))","v":""},{"$f":"IF(N93=\"\",\"\",N93/COUNTIF('Data Input'!$C$8:$AQ$8,$N$2))","v":""},{"$f":"IF(ISBLANK('Data Input'!A97),\"\",SUM('Data Input'!C97,'Data Input'!D97,'Data Input'!F97,'Data Input'!J97,'Data Input'!O97,'Data Input'!S97,'Data Input'!AM97,'Data Input'!AN97,'Data Input'!AO97,'Data Input'!AP97))","v":""},{"$f":"IF(P93=\"\",\"\",P93/COUNTIF('Data Input'!$C$8:$AQ$8,$P$2))","v":""},{"$f":"IF(ISBLANK('Data Input'!C97),\"\",SUM('Data Input'!P97))","v":""},{"$f":"IF(R93=\"\",\"\",R93/COUNTIF('Data Input'!$C$8:$AQ$8,$R$2))","v":""}]
[{"$f":"IF('Data Input'!A98=0,\"\",'Data Input'!A98)","v":""},{"$f":"IF(H94=\"\",\"\",IF(H94>Welcome!$K$23-1,\"Exceeding\",IF(H94>Welcome!$G$23-1,\"Expected\",IF(H94<Welcome!$G$23,\"Below\"))))","v":""},{"$f":"IF(ISBLANK('Data Input'!A98),\"\",COUNTIF('Data Input'!C98:AQ98,\"\")-1)","v":""},{"$f":"IF(ISBLANK('Data Input'!A98),\"\",COUNTIF('Data Input'!C98:AQ98,\"0\"))","v":""},{"$f":"IF(ISBLANK('Data Input'!A98),\"\",SUM(C94,D94))","v":""},{"$f":"IF(ISBLANK('Data Input'!A98),\"\",SUM('Data Input'!C98:V98))","v":""},{"$f":"IF(ISBLANK('Data Input'!A98),\"\",SUM('Data Input'!X98:AQ98))","v":""},{"$f":"IF(ISBLANK('Data Input'!A98),\"\",SUM('Data Input'!C98:AQ98))","v":""},{"$f":"IF(H94=\"\",\"\",H94/(COUNTA('Data Input'!$C$8:$AQ$8)-1))","v":""},{"$f":"IF(ISBLANK('Data Input'!A98),\"\",SUM('Data Input'!I98,'Data Input'!M98,'Data Input'!AB98,'Data Input'!AE98))","v":""},{"$f":"IF(J94=\"\",\"\",J94/COUNTIF('Data Input'!$C$8:$AQ$8,$J$2))","v":""},{"$f":"IF(ISBLANK('Data Input'!A98),\"\",SUM('Data Input'!E98,'Data Input'!G98,'Data Input'!H98,'Data Input'!L98,'Data Input'!N98,'Data Input'!Q98,'Data Input'!R98,'Data Input'!T98,'Data Input'!U98,'Data Input'!V98,'Data Input'!X98,'Data Input'!Y98,'Data Input'!Z98,'Data Input'!AA98,'Data Input'!AC98,'Data Input'!AD98,'Data Input'!AF98,'Data Input'!AG98,'Data Input'!AH98,'Data Input'!AI98,'Data Input'!AJ98,'Data Input'!AK98,'Data Input'!AL98))","v":""},{"$f":"IF(L94=\"\",\"\",L94/COUNTIF('Data Input'!$C$8:$AQ$8,$L$2))","v":""},{"$f":"IF(ISBLANK('Data Input'!A98),\"\",SUM('Data Input'!K98,'Data Input'!AQ98))","v":""},{"$f":"IF(N94=\"\",\"\",N94/COUNTIF('Data Input'!$C$8:$AQ$8,$N$2))","v":""},{"$f":"IF(ISBLANK('Data Input'!A98),\"\",SUM('Data Input'!C98,'Data Input'!D98,'Data Input'!F98,'Data Input'!J98,'Data Input'!O98,'Data Input'!S98,'Data Input'!AM98,'Data Input'!AN98,'Data Input'!AO98,'Data Input'!AP98))","v":""},{"$f":"IF(P94=\"\",\"\",P94/COUNTIF('Data Input'!$C$8:$AQ$8,$P$2))","v":""},{"$f":"IF(ISBLANK('Data Input'!C98),\"\",SUM('Data Input'!P98))","v":""},{"$f":"IF(R94=\"\",\"\",R94/COUNTIF('Data Input'!$C$8:$AQ$8,$R$2))","v":""}]
[{"$f":"IF('Data Input'!A99=0,\"\",'Data Input'!A99)","v":""},{"$f":"IF(H95=\"\",\"\",IF(H95>Welcome!$K$23-1,\"Exceeding\",IF(H95>Welcome!$G$23-1,\"Expected\",IF(H95<Welcome!$G$23,\"Below\"))))","v":""},{"$f":"IF(ISBLANK('Data Input'!A99),\"\",COUNTIF('Data Input'!C99:AQ99,\"\")-1)","v":""},{"$f":"IF(ISBLANK('Data Input'!A99),\"\",COUNTIF('Data Input'!C99:AQ99,\"0\"))","v":""},{"$f":"IF(ISBLANK('Data Input'!A99),\"\",SUM(C95,D95))","v":""},{"$f":"IF(ISBLANK('Data Input'!A99),\"\",SUM('Data Input'!C99:V99))","v":""},{"$f":"IF(ISBLANK('Data Input'!A99),\"\",SUM('Data Input'!X99:AQ99))","v":""},{"$f":"IF(ISBLANK('Data Input'!A99),\"\",SUM('Data Input'!C99:AQ99))","v":""},{"$f":"IF(H95=\"\",\"\",H95/(COUNTA('Data Input'!$C$8:$AQ$8)-1))","v":""},{"$f":"IF(ISBLANK('Data Input'!A99),\"\",SUM('Data Input'!I99,'Data Input'!M99,'Data Input'!AB99,'Data Input'!AE99))","v":""},{"$f":"IF(J95=\"\",\"\",J95/COUNTIF('Data Input'!$C$8:$AQ$8,$J$2))","v":""},{"$f":"IF(ISBLANK('Data Input'!A99),\"\",SUM('Data Input'!E99,'Data Input'!G99,'Data Input'!H99,'Data Input'!L99,'Data Input'!N99,'Data Input'!Q99,'Data Input'!R99,'Data Input'!T99,'Data Input'!U99,'Data Input'!V99,'Data Input'!X99,'Data Input'!Y99,'Data Input'!Z99,'Data Input'!AA99,'Data Input'!AC99,'Data Input'!AD99,'Data Input'!AF99,'Data Input'!AG99,'Data Input'!AH99,'Data Input'!AI99,'Data Input'!AJ99,'Data Input'!AK99,'Data Input'!AL99))","v":""},{"$f":"IF(L95=\"\",\"\",L95/COUNTIF('Data Input'!$C$8:$AQ$8,$L$2))","v":""},{"$f":"IF(ISBLANK('Data Input'!A99),\"\",SUM('Data Input'!K99,'Data Input'!AQ99))","v":""},{"$f":"IF(N95=\"\",\"\",N95/COUNTIF('Data Input'!$C$8:$AQ$8,$N$2))","v":""},{"$f":"IF(ISBLANK('Data Input'!A99),\"\",SUM('Data Input'!C99,'Data Input'!D99,'Data Input'!F99,'Data Input'!J99,'Data Input'!O99,'Data Input'!S99,'Data Input'!AM99,'Data Input'!AN99,'Data Input'!AO99,'Data Input'!AP99))","v":""},{"$f":"IF(P95=\"\",\"\",P95/COUNTIF('Data Input'!$C$8:$AQ$8,$P$2))","v":""},{"$f":"IF(ISBLANK('Data Input'!C99),\"\",SUM('Data Input'!P99))","v":""},{"$f":"IF(R95=\"\",\"\",R95/COUNTIF('Data Input'!$C$8:$AQ$8,$R$2))","v":""}]
[{"$f":"IF('Data Input'!A100=0,\"\",'Data Input'!A100)","v":""},{"$f":"IF(H96=\"\",\"\",IF(H96>Welcome!$K$23-1,\"Exceeding\",IF(H96>Welcome!$G$23-1,\"Expected\",IF(H96<Welcome!$G$23,\"Below\"))))","v":""},{"$f":"IF(ISBLANK('Data Input'!A100),\"\",COUNTIF('Data Input'!C100:AQ100,\"\")-1)","v":""},{"$f":"IF(ISBLANK('Data Input'!A100),\"\",COUNTIF('Data Input'!C100:AQ100,\"0\"))","v":""},{"$f":"IF(ISBLANK('Data Input'!A100),\"\",SUM(C96,D96))","v":""},{"$f":"IF(ISBLANK('Data Input'!A100),\"\",SUM('Data Input'!C100:V100))","v":""},{"$f":"IF(ISBLANK('Data Input'!A100),\"\",SUM('Data Input'!X100:AQ100))","v":""},{"$f":"IF(ISBLANK('Data Input'!A100),\"\",SUM('Data Input'!C100:AQ100))","v":""},{"$f":"IF(H96=\"\",\"\",H96/(COUNTA('Data Input'!$C$8:$AQ$8)-1))","v":""},{"$f":"IF(ISBLANK('Data Input'!A100),\"\",SUM('Data Input'!I100,'Data Input'!M100,'Data Input'!AB100,'Data Input'!AE100))","v":""},{"$f":"IF(J96=\"\",\"\",J96/COUNTIF('Data Input'!$C$8:$AQ$8,$J$2))","v":""},{"$f":"IF(ISBLANK('Data Input'!A100),\"\",SUM('Data Input'!E100,'Data Input'!G100,'Data Input'!H100,'Data Input'!L100,'Data Input'!N100,'Data Input'!Q100,'Data Input'!R100,'Data Input'!T100,'Data Input'!U100,'Data Input'!V100,'Data Input'!X100,'Data Input'!Y100,'Data Input'!Z100,'Data Input'!AA100,'Data Input'!AC100,'Data Input'!AD100,'Data Input'!AF100,'Data Input'!AG100,'Data Input'!AH100,'Data Input'!AI100,'Data Input'!AJ100,'Data Input'!AK100,'Data Input'!AL100))","v":""},{"$f":"IF(L96=\"\",\"\",L96/COUNTIF('Data Input'!$C$8:$AQ$8,$L$2))","v":""},{"$f":"IF(ISBLANK('Data Input'!A100),\"\",SUM('Data Input'!K100,'Data Input'!AQ100))","v":""},{"$f":"IF(N96=\"\",\"\",N96/COUNTIF('Data Input'!$C$8:$AQ$8,$N$2))","v":""},{"$f":"IF(ISBLANK('Data Input'!A100),\"\",SUM('Data Input'!C100,'Data Input'!D100,'Data Input'!F100,'Data Input'!J100,'Data Input'!O100,'Data Input'!S100,'Data Input'!AM100,'Data Input'!AN100,'Data Input'!AO100,'Data Input'!AP100))","v":""},{"$f":"IF(P96=\"\",\"\",P96/COUNTIF('Data Input'!$C$8:$AQ$8,$P$2))","v":""},{"$f":"IF(ISBLANK('Data Input'!C100),\"\",SUM('Data Input'!P100))","v":""},{"$f":"IF(R96=\"\",\"\",R96/COUNTIF('Data Input'!$C$8:$AQ$8,$R$2))","v":""}]
[{"$f":"IF('Data Input'!A101=0,\"\",'Data Input'!A101)","v":""},{"$f":"IF(H97=\"\",\"\",IF(H97>Welcome!$K$23-1,\"Exceeding\",IF(H97>Welcome!$G$23-1,\"Expected\",IF(H97<Welcome!$G$23,\"Below\"))))","v":""},{"$f":"IF(ISBLANK('Data Input'!A101),\"\",COUNTIF('Data Input'!C101:AQ101,\"\")-1)","v":""},{"$f":"IF(ISBLANK('Data Input'!A101),\"\",COUNTIF('Data Input'!C101:AQ101,\"0\"))","v":""},{"$f":"IF(ISBLANK('Data Input'!A101),\"\",SUM(C97,D97))","v":""},{"$f":"IF(ISBLANK('Data Input'!A101),\"\",SUM('Data Input'!C101:V101))","v":""},{"$f":"IF(ISBLANK('Data Input'!A101),\"\",SUM('Data Input'!X101:AQ101))","v":""},{"$f":"IF(ISBLANK('Data Input'!A101),\"\",SUM('Data Input'!C101:AQ101))","v":""},{"$f":"IF(H97=\"\",\"\",H97/(COUNTA('Data Input'!$C$8:$AQ$8)-1))","v":""},{"$f":"IF(ISBLANK('Data Input'!A101),\"\",SUM('Data Input'!I101,'Data Input'!M101,'Data Input'!AB101,'Data Input'!AE101))","v":""},{"$f":"IF(J97=\"\",\"\",J97/COUNTIF('Data Input'!$C$8:$AQ$8,$J$2))","v":""},{"$f":"IF(ISBLANK('Data Input'!A101),\"\",SUM('Data Input'!E101,'Data Input'!G101,'Data Input'!H101,'Data Input'!L101,'Data Input'!N101,'Data Input'!Q101,'Data Input'!R101,'Data Input'!T101,'Data Input'!U101,'Data Input'!V101,'Data Input'!X101,'Data Input'!Y101,'Data Input'!Z101,'Data Input'!AA101,'Data Input'!AC101,'Data Input'!AD101,'Data Input'!AF101,'Data Input'!AG101,'Data Input'!AH101,'Data Input'!AI101,'Data Input'!AJ101,'Data Input'!AK101,'Data Input'!AL101))","v":""},{"$f":"IF(L97=\"\",\"\",L97/COUNTIF('Data Input'!$C$8:$AQ$8,$L$2))","v":""},{"$f":"IF(ISBLANK('Data Input'!A101),\"\",SUM('Data Input'!K101,'Data Input'!AQ101))","v":""},{"$f":"IF(N97=\"\",\"\",N97/COUNTIF('Data Input'!$C$8:$AQ$8,$N$2))","v":""},{"$f":"IF(ISBLANK('Data Input'!A101),\"\",SUM('Data Input'!C101,'Data Input'!D101,'Data Input'!F101,'Data Input'!J101,'Data Input'!O101,'Data Input'!S101,'Data Input'!AM101,'Data Input'!AN101,'Data Input'!AO101,'Data Input'!AP101))","v":""},{"$f":"IF(P97=\"\",\"\",P97/COUNTIF('Data Input'!$C$8:$AQ$8,$P$2))","v":""},{"$f":"IF(ISBLANK('Data Input'!C101),\"\",SUM('Data Input'!P101))","v":""},{"$f":"IF(R97=\"\",\"\",R97/COUNTIF('Data Input'!$C$8:$AQ$8,$R$2))","v":""}]
[{"$f":"IF('Data Input'!A102=0,\"\",'Data Input'!A102)","v":""},{"$f":"IF(H98=\"\",\"\",IF(H98>Welcome!$K$23-1,\"Exceeding\",IF(H98>Welcome!$G$23-1,\"Expected\",IF(H98<Welcome!$G$23,\"Below\"))))","v":""},{"$f":"IF(ISBLANK('Data Input'!A102),\"\",COUNTIF('Data Input'!C102:AQ102,\"\")-1)","v":""},{"$f":"IF(ISBLANK('Data Input'!A102),\"\",COUNTIF('Data Input'!C102:AQ102,\"0\"))","v":""},{"$f":"IF(ISBLANK('Data Input'!A102),\"\",SUM(C98,D98))","v":""},{"$f":"IF(ISBLANK('Data Input'!A102),\"\",SUM('Data Input'!C102:V102))","v":""},{"$f":"IF(ISBLANK('Data Input'!A102),\"\",SUM('Data Input'!X102:AQ102))","v":""},{"$f":"IF(ISBLANK('Data Input'!A102),\"\",SUM('Data Input'!C102:AQ102))","v":""},{"$f":"IF(H98=\"\",\"\",H98/(COUNTA('Data Input'!$C$8:$AQ$8)-1))","v":""},{"$f":"IF(ISBLANK('Data Input'!A102),\"\",SUM('Data Input'!I102,'Data Input'!M102,'Data Input'!AB102,'Data Input'!AE102))","v":""},{"$f":"IF(J98=\"\",\"\",J98/COUNTIF('Data Input'!$C$8:$AQ$8,$J$2))","v":""},{"$f":"IF(ISBLANK('Data Input'!A102),\"\",SUM('Data Input'!E102,'Data Input'!G102,'Data Input'!H102,'Data Input'!L102,'Data Input'!N102,'Data Input'!Q102,'Data Input'!R102,'Data Input'!T102,'Data Input'!U102,'Data Input'!V102,'Data Input'!X102,'Data Input'!Y102,'Data Input'!Z102,'Data Input'!AA102,'Data Input'!AC102,'Data Input'!AD102,'Data Input'!AF102,'Data Input'!AG102,'Data Input'!AH102,'Data Input'!AI102,'Data Input'!AJ102,'Data Input'!AK102,'Data Input'!AL102))","v":""},{"$f":"IF(L98=\"\",\"\",L98/COUNTIF('Data Input'!$C$8:$AQ$8,$L$2))","v":""},{"$f":"IF(ISBLANK('Data Input'!A102),\"\",SUM('Data Input'!K102,'Data Input'!AQ102))","v":""},{"$f":"IF(N98=\"\",\"\",N98/COUNTIF('Data Input'!$C$8:$AQ$8,$N$2))","v":""},{"$f":"IF(ISBLANK('Data Input'!A102),\"\",SUM('Data Input'!C102,'Data Input'!D102,'Data Input'!F102,'Data Input'!J102,'Data Input'!O102,'Data Input'!S102,'Data Input'!AM102,'Data Input'!AN102,'Data Input'!AO102,'Data Input'!AP102))","v":""},{"$f":"IF(P98=\"\",\"\",P98/COUNTIF('Data Input'!$C$8:$AQ$8,$P$2))","v":""},{"$f":"IF(ISBLANK('Data Input'!C102),\"\",SUM('Data Input'!P102))","v":""},{"$f":"IF(R98=\"\",\"\",R98/COUNTIF('Data Input'!$C$8:$AQ$8,$R$2))","v":""}]
[{"$f":"IF('Data Input'!A103=0,\"\",'Data Input'!A103)","v":""},{"$f":"IF(H99=\"\",\"\",IF(H99>Welcome!$K$23-1,\"Exceeding\",IF(H99>Welcome!$G$23-1,\"Expected\",IF(H99<Welcome!$G$23,\"Below\"))))","v":""},{"$f":"IF(ISBLANK('Data Input'!A103),\"\",COUNTIF('Data Input'!C103:AQ103,\"\")-1)","v":""},{"$f":"IF(ISBLANK('Data Input'!A103),\"\",COUNTIF('Data Input'!C103:AQ103,\"0\"))","v":""},{"$f":"IF(ISBLANK('Data Input'!A103),\"\",SUM(C99,D99))","v":""},{"$f":"IF(ISBLANK('Data Input'!A103),\"\",SUM('Data Input'!C103:V103))","v":""},{"$f":"IF(ISBLANK('Data Input'!A103),\"\",SUM('Data Input'!X103:AQ103))","v":""},{"$f":"IF(ISBLANK('Data Input'!A103),\"\",SUM('Data Input'!C103:AQ103))","v":""},{"$f":"IF(H99=\"\",\"\",H99/(COUNTA('Data Input'!$C$8:$AQ$8)-1))","v":""},{"$f":"IF(ISBLANK('Data Input'!A103),\"\",SUM('Data Input'!I103,'Data Input'!M103,'Data Input'!AB103,'Data Input'!AE103))","v":""},{"$f":"IF(J99=\"\",\"\",J99/COUNTIF('Data Input'!$C$8:$AQ$8,$J$2))","v":""},{"$f":"IF(ISBLANK('Data Input'!A103),\"\",SUM('Data Input'!E103,'Data Input'!G103,'Data Input'!H103,'Data Input'!L103,'Data Input'!N103,'Data Input'!Q103,'Data Input'!R103,'Data Input'!T103,'Data Input'!U103,'Data Input'!V103,'Data Input'!X103,'Data Input'!Y103,'Data Input'!Z103,'Data Input'!AA103,'Data Input'!AC103,'Data Input'!AD103,'Data Input'!AF103,'Data Input'!AG103,'Data Input'!AH103,'Data Input'!AI103,'Data Input'!AJ103,'Data Input'!AK103,'Data Input'!AL103))","v":""},{"$f":"IF(L99=\"\",\"\",L99/COUNTIF('Data Input'!$C$8:$AQ$8,$L$2))","v":""},{"$f":"IF(ISBLANK('Data Input'!A103),\"\",SUM('Data Input'!K103,'Data Input'!AQ103))","v":""},{"$f":"IF(N99=\"\",\"\",N99/COUNTIF('Data Input'!$C$8:$AQ$8,$N$2))","v":""},{"$f":"IF(ISBLANK('Data Input'!A103),\"\",SUM('Data Input'!C103,'Data Input'!D103,'Data Input'!F103,'Data Input'!J103,'Data Input'!O103,'Data Input'!S103,'Data Input'!AM103,'Data Input'!AN103,'Data Input'!AO103,'Data Input'!AP103))","v":""},{"$f":"IF(P99=\"\",\"\",P99/COUNTIF('Data Input'!$C$8:$AQ$8,$P$2))","v":""},{"$f":"IF(ISBLANK('Data Input'!C103),\"\",SUM('Data Input'!P103))","v":""},{"$f":"IF(R99=\"\",\"\",R99/COUNTIF('Data Input'!$C$8:$AQ$8,$R$2))","v":""}]
[{"$f":"IF('Data Input'!A104=0,\"\",'Data Input'!A104)","v":""},{"$f":"IF(H100=\"\",\"\",IF(H100>Welcome!$K$23-1,\"Exceeding\",IF(H100>Welcome!$G$23-1,\"Expected\",IF(H100<Welcome!$G$23,\"Below\"))))","v":""},{"$f":"IF(ISBLANK('Data Input'!A104),\"\",COUNTIF('Data Input'!C104:AQ104,\"\")-1)","v":""},{"$f":"IF(ISBLANK('Data Input'!A104),\"\",COUNTIF('Data Input'!C104:AQ104,\"0\"))","v":""},{"$f":"IF(ISBLANK('Data Input'!A104),\"\",SUM(C100,D100))","v":""},{"$f":"IF(ISBLANK('Data Input'!A104),\"\",SUM('Data Input'!C104:V104))","v":""},{"$f":"IF(ISBLANK('Data Input'!A104),\"\",SUM('Data Input'!X104:AQ104))","v":""},{"$f":"IF(ISBLANK('Data Input'!A104),\"\",SUM('Data Input'!C104:AQ104))","v":""},{"$f":"IF(H100=\"\",\"\",H100/(COUNTA('Data Input'!$C$8:$AQ$8)-1))","v":""},{"$f":"IF(ISBLANK('Data Input'!A104),\"\",SUM('Data Input'!I104,'Data Input'!M104,'Data Input'!AB104,'Data Input'!AE104))","v":""},{"$f":"IF(J100=\"\",\"\",J100/COUNTIF('Data Input'!$C$8:$AQ$8,$J$2))","v":""},{"$f":"IF(ISBLANK('Data Input'!A104),\"\",SUM('Data Input'!E104,'Data Input'!G104,'Data Input'!H104,'Data Input'!L104,'Data Input'!N104,'Data Input'!Q104,'Data Input'!R104,'Data Input'!T104,'Data Input'!U104,'Data Input'!V104,'Data Input'!X104,'Data Input'!Y104,'Data Input'!Z104,'Data Input'!AA104,'Data Input'!AC104,'Data Input'!AD104,'Data Input'!AF104,'Data Input'!AG104,'Data Input'!AH104,'Data Input'!AI104,'Data Input'!AJ104,'Data Input'!AK104,'Data Input'!AL104))","v":""},{"$f":"IF(L100=\"\",\"\",L100/COUNTIF('Data Input'!$C$8:$AQ$8,$L$2))","v":""},{"$f":"IF(ISBLANK('Data Input'!A104),\"\",SUM('Data Input'!K104,'Data Input'!AQ104))","v":""},{"$f":"IF(N100=\"\",\"\",N100/COUNTIF('Data Input'!$C$8:$AQ$8,$N$2))","v":""},{"$f":"IF(ISBLANK('Data Input'!A104),\"\",SUM('Data Input'!C104,'Data Input'!D104,'Data Input'!F104,'Data Input'!J104,'Data Input'!O104,'Data Input'!S104,'Data Input'!AM104,'Data Input'!AN104,'Data Input'!AO104,'Data Input'!AP104))","v":""},{"$f":"IF(P100=\"\",\"\",P100/COUNTIF('Data Input'!$C$8:$AQ$8,$P$2))","v":""},{"$f":"IF(ISBLANK('Data Input'!C104),\"\",SUM('Data Input'!P104))","v":""},{"$f":"IF(R100=\"\",\"\",R100/COUNTIF('Data Input'!$C$8:$AQ$8,$R$2))","v":""}]
[{"$f":"IF('Data Input'!A105=0,\"\",'Data Input'!A105)","v":""},{"$f":"IF(H101=\"\",\"\",IF(H101>Welcome!$K$23-1,\"Exceeding\",IF(H101>Welcome!$G$23-1,\"Expected\",IF(H101<Welcome!$G$23,\"Below\"))))","v":""},{"$f":"IF(ISBLANK('Data Input'!A105),\"\",COUNTIF('Data Input'!C105:AQ105,\"\")-1)","v":""},{"$f":"IF(ISBLANK('Data Input'!A105),\"\",COUNTIF('Data Input'!C105:AQ105,\"0\"))","v":""},{"$f":"IF(ISBLANK('Data Input'!A105),\"\",SUM(C101,D101))","v":""},{"$f":"IF(ISBLANK('Data Input'!A105),\"\",SUM('Data Input'!C105:V105))","v":""},{"$f":"IF(ISBLANK('Data Input'!A105),\"\",SUM('Data Input'!X105:AQ105))","v":""},{"$f":"IF(ISBLANK('Data Input'!A105),\"\",SUM('Data Input'!C105:AQ105))","v":""},{"$f":"IF(H101=\"\",\"\",H101/(COUNTA('Data Input'!$C$8:$AQ$8)-1))","v":""},{"$f":"IF(ISBLANK('Data Input'!A105),\"\",SUM('Data Input'!I105,'Data Input'!M105,'Data Input'!AB105,'Data Input'!AE105))","v":""},{"$f":"IF(J101=\"\",\"\",J101/COUNTIF('Data Input'!$C$8:$AQ$8,$J$2))","v":""},{"$f":"IF(ISBLANK('Data Input'!A105),\"\",SUM('Data Input'!E105,'Data Input'!G105,'Data Input'!H105,'Data Input'!L105,'Data Input'!N105,'Data Input'!Q105,'Data Input'!R105,'Data Input'!T105,'Data Input'!U105,'Data Input'!V105,'Data Input'!X105,'Data Input'!Y105,'Data Input'!Z105,'Data Input'!AA105,'Data Input'!AC105,'Data Input'!AD105,'Data Input'!AF105,'Data Input'!AG105,'Data Input'!AH105,'Data Input'!AI105,'Data Input'!AJ105,'Data Input'!AK105,'Data Input'!AL105))","v":""},{"$f":"IF(L101=\"\",\"\",L101/COUNTIF('Data Input'!$C$8:$AQ$8,$L$2))","v":""},{"$f":"IF(ISBLANK('Data Input'!A105),\"\",SUM('Data Input'!K105,'Data Input'!AQ105))","v":""},{"$f":"IF(N101=\"\",\"\",N101/COUNTIF('Data Input'!$C$8:$AQ$8,$N$2))","v":""},{"$f":"IF(ISBLANK('Data Input'!A105),\"\",SUM('Data Input'!C105,'Data Input'!D105,'Data Input'!F105,'Data Input'!J105,'Data Input'!O105,'Data Input'!S105,'Data Input'!AM105,'Data Input'!AN105,'Data Input'!AO105,'Data Input'!AP105))","v":""},{"$f":"IF(P101=\"\",\"\",P101/COUNTIF('Data Input'!$C$8:$AQ$8,$P$2))","v":""},{"$f":"IF(ISBLANK('Data Input'!C105),\"\",SUM('Data Input'!P105))","v":""},{"$f":"IF(R101=\"\",\"\",R101/COUNTIF('Data Input'!$C$8:$AQ$8,$R$2))","v":""}]
[{"$f":"IF('Data Input'!A106=0,\"\",'Data Input'!A106)","v":""},{"$f":"IF(H102=\"\",\"\",IF(H102>Welcome!$K$23-1,\"Exceeding\",IF(H102>Welcome!$G$23-1,\"Expected\",IF(H102<Welcome!$G$23,\"Below\"))))","v":""},{"$f":"IF(ISBLANK('Data Input'!A106),\"\",COUNTIF('Data Input'!C106:AQ106,\"\")-1)","v":""},{"$f":"IF(ISBLANK('Data Input'!A106),\"\",COUNTIF('Data Input'!C106:AQ106,\"0\"))","v":""},{"$f":"IF(ISBLANK('Data Input'!A106),\"\",SUM(C102,D102))","v":""},{"$f":"IF(ISBLANK('Data Input'!A106),\"\",SUM('Data Input'!C106:V106))","v":""},{"$f":"IF(ISBLANK('Data Input'!A106),\"\",SUM('Data Input'!X106:AQ106))","v":""},{"$f":"IF(ISBLANK('Data Input'!A106),\"\",SUM('Data Input'!C106:AQ106))","v":""},{"$f":"IF(H102=\"\",\"\",H102/(COUNTA('Data Input'!$C$8:$AQ$8)-1))","v":""},{"$f":"IF(ISBLANK('Data Input'!A106),\"\",SUM('Data Input'!I106,'Data Input'!M106,'Data Input'!AB106,'Data Input'!AE106))","v":""},{"$f":"IF(J102=\"\",\"\",J102/COUNTIF('Data Input'!$C$8:$AQ$8,$J$2))","v":""},{"$f":"IF(ISBLANK('Data Input'!A106),\"\",SUM('Data Input'!E106,'Data Input'!G106,'Data Input'!H106,'Data Input'!L106,'Data Input'!N106,'Data Input'!Q106,'Data Input'!R106,'Data Input'!T106,'Data Input'!U106,'Data Input'!V106,'Data Input'!X106,'Data Input'!Y106,'Data Input'!Z106,'Data Input'!AA106,'Data Input'!AC106,'Data Input'!AD106,'Data Input'!AF106,'Data Input'!AG106,'Data Input'!AH106,'Data Input'!AI106,'Data Input'!AJ106,'Data Input'!AK106,'Data Input'!AL106))","v":""},{"$f":"IF(L102=\"\",\"\",L102/COUNTIF('Data Input'!$C$8:$AQ$8,$L$2))","v":""},{"$f":"IF(ISBLANK('Data Input'!A106),\"\",SUM('Data Input'!K106,'Data Input'!AQ106))","v":""},{"$f":"IF(N102=\"\",\"\",N102/COUNTIF('Data Input'!$C$8:$AQ$8,$N$2))","v":""},{"$f":"IF(ISBLANK('Data Input'!A106),\"\",SUM('Data Input'!C106,'Data Input'!D106,'Data Input'!F106,'Data Input'!J106,'Data Input'!O106,'Data Input'!S106,'Data Input'!AM106,'Data Input'!AN106,'Data Input'!AO106,'Data Input'!AP106))","v":""},{"$f":"IF(P102=\"\",\"\",P102/COUNTIF('Data Input'!$C$8:$AQ$8,$P$2))","v":""},{"$f":"IF(ISBLANK('Data Input'!C106),\"\",SUM('Data Input'!P106))","v":""},{"$f":"IF(R102=\"\",\"\",R102/COUNTIF('Data Input'!$C$8:$AQ$8,$R$2))","v":""}]
[{"$f":"IF('Data Input'!A107=0,\"\",'Data Input'!A107)","v":""},{"$f":"IF(H103=\"\",\"\",IF(H103>Welcome!$K$23-1,\"Exceeding\",IF(H103>Welcome!$G$23-1,\"Expected\",IF(H103<Welcome!$G$23,\"Below\"))))","v":""},{"$f":"IF(ISBLANK('Data Input'!A107),\"\",COUNTIF('Data Input'!C107:AQ107,\"\")-1)","v":""},{"$f":"IF(ISBLANK('Data Input'!A107),\"\",COUNTIF('Data Input'!C107:AQ107,\"0\"))","v":""},{"$f":"IF(ISBLANK('Data Input'!A107),\"\",SUM(C103,D103))","v":""},{"$f":"IF(ISBLANK('Data Input'!A107),\"\",SUM('Data Input'!C107:V107))","v":""},{"$f":"IF(ISBLANK('Data Input'!A107),\"\",SUM('Data Input'!X107:AQ107))","v":""},{"$f":"IF(ISBLANK('Data Input'!A107),\"\",SUM('Data Input'!C107:AQ107))","v":""},{"$f":"IF(H103=\"\",\"\",H103/(COUNTA('Data Input'!$C$8:$AQ$8)-1))","v":""},{"$f":"IF(ISBLANK('Data Input'!A107),\"\",SUM('Data Input'!I107,'Data Input'!M107,'Data Input'!AB107,'Data Input'!AE107))","v":""},{"$f":"IF(J103=\"\",\"\",J103/COUNTIF('Data Input'!$C$8:$AQ$8,$J$2))","v":""},{"$f":"IF(ISBLANK('Data Input'!A107),\"\",SUM('Data Input'!E107,'Data Input'!G107,'Data Input'!H107,'Data Input'!L107,'Data Input'!N107,'Data Input'!Q107,'Data Input'!R107,'Data Input'!T107,'Data Input'!U107,'Data Input'!V107,'Data Input'!X107,'Data Input'!Y107,'Data Input'!Z107,'Data Input'!AA107,'Data Input'!AC107,'Data Input'!AD107,'Data Input'!AF107,'Data Input'!AG107,'Data Input'!AH107,'Data Input'!AI107,'Data Input'!AJ107,'Data Input'!AK107,'Data Input'!AL107))","v":""},{"$f":"IF(L103=\"\",\"\",L103/COUNTIF('Data Input'!$C$8:$AQ$8,$L$2))","v":""},{"$f":"IF(ISBLANK('Data Input'!A107),\"\",SUM('Data Input'!K107,'Data Input'!AQ107))","v":""},{"$f":"IF(N103=\"\",\"\",N103/COUNTIF('Data Input'!$C$8:$AQ$8,$N$2))","v":""},{"$f":"IF(ISBLANK('Data Input'!A107),\"\",SUM('Data Input'!C107,'Data Input'!D107,'Data Input'!F107,'Data Input'!J107,'Data Input'!O107,'Data Input'!S107,'Data Input'!AM107,'Data Input'!AN107,'Data Input'!AO107,'Data Input'!AP107))","v":""},{"$f":"IF(P103=\"\",\"\",P103/COUNTIF('Data Input'!$C$8:$AQ$8,$P$2))","v":""},{"$f":"IF(ISBLANK('Data Input'!C107),\"\",SUM('Data Input'!P107))","v":""},{"$f":"IF(R103=\"\",\"\",R103/COUNTIF('Data Input'!$C$8:$AQ$8,$R$2))","v":""}]
[{"$f":"IF('Data Input'!A108=0,\"\",'Data Input'!A108)","v":""},{"$f":"IF(H104=\"\",\"\",IF(H104>Welcome!$K$23-1,\"Exceeding\",IF(H104>Welcome!$G$23-1,\"Expected\",IF(H104<Welcome!$G$23,\"Below\"))))","v":""},{"$f":"IF(ISBLANK('Data Input'!A108),\"\",COUNTIF('Data Input'!C108:AQ108,\"\")-1)","v":""},{"$f":"IF(ISBLANK('Data Input'!A108),\"\",COUNTIF('Data Input'!C108:AQ108,\"0\"))","v":""},{"$f":"IF(ISBLANK('Data Input'!A108),\"\",SUM(C104,D104))","v":""},{"$f":"IF(ISBLANK('Data Input'!A108),\"\",SUM('Data Input'!C108:V108))","v":""},{"$f":"IF(ISBLANK('Data Input'!A108),\"\",SUM('Data Input'!X108:AQ108))","v":""},{"$f":"IF(ISBLANK('Data Input'!A108),\"\",SUM('Data Input'!C108:AQ108))","v":""},{"$f":"IF(H104=\"\",\"\",H104/(COUNTA('Data Input'!$C$8:$AQ$8)-1))","v":""},{"$f":"IF(ISBLANK('Data Input'!A108),\"\",SUM('Data Input'!I108,'Data Input'!M108,'Data Input'!AB108,'Data Input'!AE108))","v":""},{"$f":"IF(J104=\"\",\"\",J104/COUNTIF('Data Input'!$C$8:$AQ$8,$J$2))","v":""},{"$f":"IF(ISBLANK('Data Input'!A108),\"\",SUM('Data Input'!E108,'Data Input'!G108,'Data Input'!H108,'Data Input'!L108,'Data Input'!N108,'Data Input'!Q108,'Data Input'!R108,'Data Input'!T108,'Data Input'!U108,'Data Input'!V108,'Data Input'!X108,'Data Input'!Y108,'Data Input'!Z108,'Data Input'!AA108,'Data Input'!AC108,'Data Input'!AD108,'Data Input'!AF108,'Data Input'!AG108,'Data Input'!AH108,'Data Input'!AI108,'Data Input'!AJ108,'Data Input'!AK108,'Data Input'!AL108))","v":""},{"$f":"IF(L104=\"\",\"\",L104/COUNTIF('Data Input'!$C$8:$AQ$8,$L$2))","v":""},{"$f":"IF(ISBLANK('Data Input'!A108),\"\",SUM('Data Input'!K108,'Data Input'!AQ108))","v":""},{"$f":"IF(N104=\"\",\"\",N104/COUNTIF('Data Input'!$C$8:$AQ$8,$N$2))","v":""},{"$f":"IF(ISBLANK('Data Input'!A108),\"\",SUM('Data Input'!C108,'Data Input'!D108,'Data Input'!F108,'Data Input'!J108,'Data Input'!O108,'Data Input'!S108,'Data Input'!AM108,'Data Input'!AN108,'Data Input'!AO108,'Data Input'!AP108))","v":""},{"$f":"IF(P104=\"\",\"\",P104/COUNTIF('Data Input'!$C$8:$AQ$8,$P$2))","v":""},{"$f":"IF(ISBLANK('Data Input'!C108),\"\",SUM('Data Input'!P108))","v":""},{"$f":"IF(R104=\"\",\"\",R104/COUNTIF('Data Input'!$C$8:$AQ$8,$R$2))","v":""}]
[{"$f":"IF('Data Input'!A109=0,\"\",'Data Input'!A109)","v":""},{"$f":"IF(H105=\"\",\"\",IF(H105>Welcome!$K$23-1,\"Exceeding\",IF(H105>Welcome!$G$23-1,\"Expected\",IF(H105<Welcome!$G$23,\"Below\"))))","v":""},{"$f":"IF(ISBLANK('Data Input'!A109),\"\",COUNTIF('Data Input'!C109:AQ109,\"\")-1)","v":""},{"$f":"IF(ISBLANK('Data Input'!A109),\"\",COUNTIF('Data Input'!C109:AQ109,\"0\"))","v":""},{"$f":"IF(ISBLANK('Data Input'!A109),\"\",SUM(C105,D105))","v":""},{"$f":"IF(ISBLANK('Data Input'!A109),\"\",SUM('Data Input'!C109:V109))","v":""},{"$f":"IF(ISBLANK('Data Input'!A109),\"\",SUM('Data Input'!X109:AQ109))","v":""},{"$f":"IF(ISBLANK('Data Input'!A109),\"\",SUM('Data Input'!C109:AQ109))","v":""},{"$f":"IF(H105=\"\",\"\",H105/(COUNTA('Data Input'!$C$8:$AQ$8)-1))","v":""},{"$f":"IF(ISBLANK('Data Input'!A109),\"\",SUM('Data Input'!I109,'Data Input'!M109,'Data Input'!AB109,'Data Input'!AE109))","v":""},{"$f":"IF(J105=\"\",\"\",J105/COUNTIF('Data Input'!$C$8:$AQ$8,$J$2))","v":""},{"$f":"IF(ISBLANK('Data Input'!A109),\"\",SUM('Data Input'!E109,'Data Input'!G109,'Data Input'!H109,'Data Input'!L109,'Data Input'!N109,'Data Input'!Q109,'Data Input'!R109,'Data Input'!T109,'Data Input'!U109,'Data Input'!V109,'Data Input'!X109,'Data Input'!Y109,'Data Input'!Z109,'Data Input'!AA109,'Data Input'!AC109,'Data Input'!AD109,'Data Input'!AF109,'Data Input'!AG109,'Data Input'!AH109,'Data Input'!AI109,'Data Input'!AJ109,'Data Input'!AK109,'Data Input'!AL109))","v":""},{"$f":"IF(L105=\"\",\"\",L105/COUNTIF('Data Input'!$C$8:$AQ$8,$L$2))","v":""},{"$f":"IF(ISBLANK('Data Input'!A109),\"\",SUM('Data Input'!K109,'Data Input'!AQ109))","v":""},{"$f":"IF(N105=\"\",\"\",N105/COUNTIF('Data Input'!$C$8:$AQ$8,$N$2))","v":""},{"$f":"IF(ISBLANK('Data Input'!A109),\"\",SUM('Data Input'!C109,'Data Input'!D109,'Data Input'!F109,'Data Input'!J109,'Data Input'!O109,'Data Input'!S109,'Data Input'!AM109,'Data Input'!AN109,'Data Input'!AO109,'Data Input'!AP109))","v":""},{"$f":"IF(P105=\"\",\"\",P105/COUNTIF('Data Input'!$C$8:$AQ$8,$P$2))","v":""},{"$f":"IF(ISBLANK('Data Input'!C109),\"\",SUM('Data Input'!P109))","v":""},{"$f":"IF(R105=\"\",\"\",R105/COUNTIF('Data Input'!$C$8:$AQ$8,$R$2))","v":""}]
[{"$f":"IF('Data Input'!A110=0,\"\",'Data Input'!A110)","v":""},{"$f":"IF(H106=\"\",\"\",IF(H106>Welcome!$K$23-1,\"Exceeding\",IF(H106>Welcome!$G$23-1,\"Expected\",IF(H106<Welcome!$G$23,\"Below\"))))","v":""},{"$f":"IF(ISBLANK('Data Input'!A110),\"\",COUNTIF('Data Input'!C110:AQ110,\"\")-1)","v":""},{"$f":"IF(ISBLANK('Data Input'!A110),\"\",COUNTIF('Data Input'!C110:AQ110,\"0\"))","v":""},{"$f":"IF(ISBLANK('Data Input'!A110),\"\",SUM(C106,D106))","v":""},{"$f":"IF(ISBLANK('Data Input'!A110),\"\",SUM('Data Input'!C110:V110))","v":""},{"$f":"IF(ISBLANK('Data Input'!A110),\"\",SUM('Data Input'!X110:AQ110))","v":""},{"$f":"IF(ISBLANK('Data Input'!A110),\"\",SUM('Data Input'!C110:AQ110))","v":""},{"$f":"IF(H106=\"\",\"\",H106/(COUNTA('Data Input'!$C$8:$AQ$8)-1))","v":""},{"$f":"IF(ISBLANK('Data Input'!A110),\"\",SUM('Data Input'!I110,'Data Input'!M110,'Data Input'!AB110,'Data Input'!AE110))","v":""},{"$f":"IF(J106=\"\",\"\",J106/COUNTIF('Data Input'!$C$8:$AQ$8,$J$2))","v":""},{"$f":"IF(ISBLANK('Data Input'!A110),\"\",SUM('Data Input'!E110,'Data Input'!G110,'Data Input'!H110,'Data Input'!L110,'Data Input'!N110,'Data Input'!Q110,'Data Input'!R110,'Data Input'!T110,'Data Input'!U110,'Data Input'!V110,'Data Input'!X110,'Data Input'!Y110,'Data Input'!Z110,'Data Input'!AA110,'Data Input'!AC110,'Data Input'!AD110,'Data Input'!AF110,'Data Input'!AG110,'Data Input'!AH110,'Data Input'!AI110,'Data Input'!AJ110,'Data Input'!AK110,'Data Input'!AL110))","v":""},{"$f":"IF(L106=\"\",\"\",L106/COUNTIF('Data Input'!$C$8:$AQ$8,$L$2))","v":""},{"$f":"IF(ISBLANK('Data Input'!A110),\"\",SUM('Data Input'!K110,'Data Input'!AQ110))","v":""},{"$f":"IF(N106=\"\",\"\",N106/COUNTIF('Data Input'!$C$8:$AQ$8,$N$2))","v":""},{"$f":"IF(ISBLANK('Data Input'!A110),\"\",SUM('Data Input'!C110,'Data Input'!D110,'Data Input'!F110,'Data Input'!J110,'Data Input'!O110,'Data Input'!S110,'Data Input'!AM110,'Data Input'!AN110,'Data Input'!AO110,'Data Input'!AP110))","v":""},{"$f":"IF(P106=\"\",\"\",P106/COUNTIF('Data Input'!$C$8:$AQ$8,$P$2))","v":""},{"$f":"IF(ISBLANK('Data Input'!C110),\"\",SUM('Data Input'!P110))","v":""},{"$f":"IF(R106=\"\",\"\",R106/COUNTIF('Data Input'!$C$8:$AQ$8,$R$2))","v":""}]
[{"$f":"IF('Data Input'!A111=0,\"\",'Data Input'!A111)","v":""},{"$f":"IF(H107=\"\",\"\",IF(H107>Welcome!$K$23-1,\"Exceeding\",IF(H107>Welcome!$G$23-1,\"Expected\",IF(H107<Welcome!$G$23,\"Below\"))))","v":""},{"$f":"IF(ISBLANK('Data Input'!A111),\"\",COUNTIF('Data Input'!C111:AQ111,\"\")-1)","v":""},{"$f":"IF(ISBLANK('Data Input'!A111),\"\",COUNTIF('Data Input'!C111:AQ111,\"0\"))","v":""},{"$f":"IF(ISBLANK('Data Input'!A111),\"\",SUM(C107,D107))","v":""},{"$f":"IF(ISBLANK('Data Input'!A111),\"\",SUM('Data Input'!C111:V111))","v":""},{"$f":"IF(ISBLANK('Data Input'!A111),\"\",SUM('Data Input'!X111:AQ111))","v":""},{"$f":"IF(ISBLANK('Data Input'!A111),\"\",SUM('Data Input'!C111:AQ111))","v":""},{"$f":"IF(H107=\"\",\"\",H107/(COUNTA('Data Input'!$C$8:$AQ$8)-1))","v":""},{"$f":"IF(ISBLANK('Data Input'!A111),\"\",SUM('Data Input'!I111,'Data Input'!M111,'Data Input'!AB111,'Data Input'!AE111))","v":""},{"$f":"IF(J107=\"\",\"\",J107/COUNTIF('Data Input'!$C$8:$AQ$8,$J$2))","v":""},{"$f":"IF(ISBLANK('Data Input'!A111),\"\",SUM('Data Input'!E111,'Data Input'!G111,'Data Input'!H111,'Data Input'!L111,'Data Input'!N111,'Data Input'!Q111,'Data Input'!R111,'Data Input'!T111,'Data Input'!U111,'Data Input'!V111,'Data Input'!X111,'Data Input'!Y111,'Data Input'!Z111,'Data Input'!AA111,'Data Input'!AC111,'Data Input'!AD111,'Data Input'!AF111,'Data Input'!AG111,'Data Input'!AH111,'Data Input'!AI111,'Data Input'!AJ111,'Data Input'!AK111,'Data Input'!AL111))","v":""},{"$f":"IF(L107=\"\",\"\",L107/COUNTIF('Data Input'!$C$8:$AQ$8,$L$2))","v":""},{"$f":"IF(ISBLANK('Data Input'!A111),\"\",SUM('Data Input'!K111,'Data Input'!AQ111))","v":""},{"$f":"IF(N107=\"\",\"\",N107/COUNTIF('Data Input'!$C$8:$AQ$8,$N$2))","v":""},{"$f":"IF(ISBLANK('Data Input'!A111),\"\",SUM('Data Input'!C111,'Data Input'!D111,'Data Input'!F111,'Data Input'!J111,'Data Input'!O111,'Data Input'!S111,'Data Input'!AM111,'Data Input'!AN111,'Data Input'!AO111,'Data Input'!AP111))","v":""},{"$f":"IF(P107=\"\",\"\",P107/COUNTIF('Data Input'!$C$8:$AQ$8,$P$2))","v":""},{"$f":"IF(ISBLANK('Data Input'!C111),\"\",SUM('Data Input'!P111))","v":""},{"$f":"IF(R107=\"\",\"\",R107/COUNTIF('Data Input'!$C$8:$AQ$8,$R$2))","v":""}]
[{"$f":"IF('Data Input'!A112=0,\"\",'Data Input'!A112)","v":""},{"$f":"IF(H108=\"\",\"\",IF(H108>Welcome!$K$23-1,\"Exceeding\",IF(H108>Welcome!$G$23-1,\"Expected\",IF(H108<Welcome!$G$23,\"Below\"))))","v":""},{"$f":"IF(ISBLANK('Data Input'!A112),\"\",COUNTIF('Data Input'!C112:AQ112,\"\")-1)","v":""},{"$f":"IF(ISBLANK('Data Input'!A112),\"\",COUNTIF('Data Input'!C112:AQ112,\"0\"))","v":""},{"$f":"IF(ISBLANK('Data Input'!A112),\"\",SUM(C108,D108))","v":""},{"$f":"IF(ISBLANK('Data Input'!A112),\"\",SUM('Data Input'!C112:V112))","v":""},{"$f":"IF(ISBLANK('Data Input'!A112),\"\",SUM('Data Input'!X112:AQ112))","v":""},{"$f":"IF(ISBLANK('Data Input'!A112),\"\",SUM('Data Input'!C112:AQ112))","v":""},{"$f":"IF(H108=\"\",\"\",H108/(COUNTA('Data Input'!$C$8:$AQ$8)-1))","v":""},{"$f":"IF(ISBLANK('Data Input'!A112),\"\",SUM('Data Input'!I112,'Data Input'!M112,'Data Input'!AB112,'Data Input'!AE112))","v":""},{"$f":"IF(J108=\"\",\"\",J108/COUNTIF('Data Input'!$C$8:$AQ$8,$J$2))","v":""},{"$f":"IF(ISBLANK('Data Input'!A112),\"\",SUM('Data Input'!E112,'Data Input'!G112,'Data Input'!H112,'Data Input'!L112,'Data Input'!N112,'Data Input'!Q112,'Data Input'!R112,'Data Input'!T112,'Data Input'!U112,'Data Input'!V112,'Data Input'!X112,'Data Input'!Y112,'Data Input'!Z112,'Data Input'!AA112,'Data Input'!AC112,'Data Input'!AD112,'Data Input'!AF112,'Data Input'!AG112,'Data Input'!AH112,'Data Input'!AI112,'Data Input'!AJ112,'Data Input'!AK112,'Data Input'!AL112))","v":""},{"$f":"IF(L108=\"\",\"\",L108/COUNTIF('Data Input'!$C$8:$AQ$8,$L$2))","v":""},{"$f":"IF(ISBLANK('Data Input'!A112),\"\",SUM('Data Input'!K112,'Data Input'!AQ112))","v":""},{"$f":"IF(N108=\"\",\"\",N108/COUNTIF('Data Input'!$C$8:$AQ$8,$N$2))","v":""},{"$f":"IF(ISBLANK('Data Input'!A112),\"\",SUM('Data Input'!C112,'Data Input'!D112,'Data Input'!F112,'Data Input'!J112,'Data Input'!O112,'Data Input'!S112,'Data Input'!AM112,'Data Input'!AN112,'Data Input'!AO112,'Data Input'!AP112))","v":""},{"$f":"IF(P108=\"\",\"\",P108/COUNTIF('Data Input'!$C$8:$AQ$8,$P$2))","v":""},{"$f":"IF(ISBLANK('Data Input'!C112),\"\",SUM('Data Input'!P112))","v":""},{"$f":"IF(R108=\"\",\"\",R108/COUNTIF('Data Input'!$C$8:$AQ$8,$R$2))","v":""}]
[{"$f":"IF('Data Input'!A113=0,\"\",'Data Input'!A113)","v":""},{"$f":"IF(H109=\"\",\"\",IF(H109>Welcome!$K$23-1,\"Exceeding\",IF(H109>Welcome!$G$23-1,\"Expected\",IF(H109<Welcome!$G$23,\"Below\"))))","v":""},{"$f":"IF(ISBLANK('Data Input'!A113),\"\",COUNTIF('Data Input'!C113:AQ113,\"\")-1)","v":""},{"$f":"IF(ISBLANK('Data Input'!A113),\"\",COUNTIF('Data Input'!C113:AQ113,\"0\"))","v":""},{"$f":"IF(ISBLANK('Data Input'!A113),\"\",SUM(C109,D109))","v":""},{"$f":"IF(ISBLANK('Data Input'!A113),\"\",SUM('Data Input'!C113:V113))","v":""},{"$f":"IF(ISBLANK('Data Input'!A113),\"\",SUM('Data Input'!X113:AQ113))","v":""},{"$f":"IF(ISBLANK('Data Input'!A113),\"\",SUM('Data Input'!C113:AQ113))","v":""},{"$f":"IF(H109=\"\",\"\",H109/(COUNTA('Data Input'!$C$8:$AQ$8)-1))","v":""},{"$f":"IF(ISBLANK('Data Input'!A113),\"\",SUM('Data Input'!I113,'Data Input'!M113,'Data Input'!AB113,'Data Input'!AE113))","v":""},{"$f":"IF(J109=\"\",\"\",J109/COUNTIF('Data Input'!$C$8:$AQ$8,$J$2))","v":""},{"$f":"IF(ISBLANK('Data Input'!A113),\"\",SUM('Data Input'!E113,'Data Input'!G113,'Data Input'!H113,'Data Input'!L113,'Data Input'!N113,'Data Input'!Q113,'Data Input'!R113,'Data Input'!T113,'Data Input'!U113,'Data Input'!V113,'Data Input'!X113,'Data Input'!Y113,'Data Input'!Z113,'Data Input'!AA113,'Data Input'!AC113,'Data Input'!AD113,'Data Input'!AF113,'Data Input'!AG113,'Data Input'!AH113,'Data Input'!AI113,'Data Input'!AJ113,'Data Input'!AK113,'Data Input'!AL113))","v":""},{"$f":"IF(L109=\"\",\"\",L109/COUNTIF('Data Input'!$C$8:$AQ$8,$L$2))","v":""},{"$f":"IF(ISBLANK('Data Input'!A113),\"\",SUM('Data Input'!K113,'Data Input'!AQ113))","v":""},{"$f":"IF(N109=\"\",\"\",N109/COUNTIF('Data Input'!$C$8:$AQ$8,$N$2))","v":""},{"$f":"IF(ISBLANK('Data Input'!A113),\"\",SUM('Data Input'!C113,'Data Input'!D113,'Data Input'!F113,'Data Input'!J113,'Data Input'!O113,'Data Input'!S113,'Data Input'!AM113,'Data Input'!AN113,'Data Input'!AO113,'Data Input'!AP113))","v":""},{"$f":"IF(P109=\"\",\"\",P109/COUNTIF('Data Input'!$C$8:$AQ$8,$P$2))","v":""},{"$f":"IF(ISBLANK('Data Input'!C113),\"\",SUM('Data Input'!P113))","v":""},{"$f":"IF(R109=\"\",\"\",R109/COUNTIF('Data Input'!$C$8:$AQ$8,$R$2))","v":""}]
[{"$f":"IF('Data Input'!A114=0,\"\",'Data Input'!A114)","v":""},{"$f":"IF(H110=\"\",\"\",IF(H110>Welcome!$K$23-1,\"Exceeding\",IF(H110>Welcome!$G$23-1,\"Expected\",IF(H110<Welcome!$G$23,\"Below\"))))","v":""},{"$f":"IF(ISBLANK('Data Input'!A114),\"\",COUNTIF('Data Input'!C114:AQ114,\"\")-1)","v":""},{"$f":"IF(ISBLANK('Data Input'!A114),\"\",COUNTIF('Data Input'!C114:AQ114,\"0\"))","v":""},{"$f":"IF(ISBLANK('Data Input'!A114),\"\",SUM(C110,D110))","v":""},{"$f":"IF(ISBLANK('Data Input'!A114),\"\",SUM('Data Input'!C114:V114))","v":""},{"$f":"IF(ISBLANK('Data Input'!A114),\"\",SUM('Data Input'!X114:AQ114))","v":""},{"$f":"IF(ISBLANK('Data Input'!A114),\"\",SUM('Data Input'!C114:AQ114))","v":""},{"$f":"IF(H110=\"\",\"\",H110/(COUNTA('Data Input'!$C$8:$AQ$8)-1))","v":""},{"$f":"IF(ISBLANK('Data Input'!A114),\"\",SUM('Data Input'!I114,'Data Input'!M114,'Data Input'!AB114,'Data Input'!AE114))","v":""},{"$f":"IF(J110=\"\",\"\",J110/COUNTIF('Data Input'!$C$8:$AQ$8,$J$2))","v":""},{"$f":"IF(ISBLANK('Data Input'!A114),\"\",SUM('Data Input'!E114,'Data Input'!G114,'Data Input'!H114,'Data Input'!L114,'Data Input'!N114,'Data Input'!Q114,'Data Input'!R114,'Data Input'!T114,'Data Input'!U114,'Data Input'!V114,'Data Input'!X114,'Data Input'!Y114,'Data Input'!Z114,'Data Input'!AA114,'Data Input'!AC114,'Data Input'!AD114,'Data Input'!AF114,'Data Input'!AG114,'Data Input'!AH114,'Data Input'!AI114,'Data Input'!AJ114,'Data Input'!AK114,'Data Input'!AL114))","v":""},{"$f":"IF(L110=\"\",\"\",L110/COUNTIF('Data Input'!$C$8:$AQ$8,$L$2))","v":""},{"$f":"IF(ISBLANK('Data Input'!A114),\"\",SUM('Data Input'!K114,'Data Input'!AQ114))","v":""},{"$f":"IF(N110=\"\",\"\",N110/COUNTIF('Data Input'!$C$8:$AQ$8,$N$2))","v":""},{"$f":"IF(ISBLANK('Data Input'!A114),\"\",SUM('Data Input'!C114,'Data Input'!D114,'Data Input'!F114,'Data Input'!J114,'Data Input'!O114,'Data Input'!S114,'Data Input'!AM114,'Data Input'!AN114,'Data Input'!AO114,'Data Input'!AP114))","v":""},{"$f":"IF(P110=\"\",\"\",P110/COUNTIF('Data Input'!$C$8:$AQ$8,$P$2))","v":""},{"$f":"IF(ISBLANK('Data Input'!C114),\"\",SUM('Data Input'!P114))","v":""},{"$f":"IF(R110=\"\",\"\",R110/COUNTIF('Data Input'!$C$8:$AQ$8,$R$2))","v":""}]
[{"$f":"IF('Data Input'!A115=0,\"\",'Data Input'!A115)","v":""},{"$f":"IF(H111=\"\",\"\",IF(H111>Welcome!$K$23-1,\"Exceeding\",IF(H111>Welcome!$G$23-1,\"Expected\",IF(H111<Welcome!$G$23,\"Below\"))))","v":""},{"$f":"IF(ISBLANK('Data Input'!A115),\"\",COUNTIF('Data Input'!C115:AQ115,\"\")-1)","v":""},{"$f":"IF(ISBLANK('Data Input'!A115),\"\",COUNTIF('Data Input'!C115:AQ115,\"0\"))","v":""},{"$f":"IF(ISBLANK('Data Input'!A115),\"\",SUM(C111,D111))","v":""},{"$f":"IF(ISBLANK('Data Input'!A115),\"\",SUM('Data Input'!C115:V115))","v":""},{"$f":"IF(ISBLANK('Data Input'!A115),\"\",SUM('Data Input'!X115:AQ115))","v":""},{"$f":"IF(ISBLANK('Data Input'!A115),\"\",SUM('Data Input'!C115:AQ115))","v":""},{"$f":"IF(H111=\"\",\"\",H111/(COUNTA('Data Input'!$C$8:$AQ$8)-1))","v":""},{"$f":"IF(ISBLANK('Data Input'!A115),\"\",SUM('Data Input'!I115,'Data Input'!M115,'Data Input'!AB115,'Data Input'!AE115))","v":""},{"$f":"IF(J111=\"\",\"\",J111/COUNTIF('Data Input'!$C$8:$AQ$8,$J$2))","v":""},{"$f":"IF(ISBLANK('Data Input'!A115),\"\",SUM('Data Input'!E115,'Data Input'!G115,'Data Input'!H115,'Data Input'!L115,'Data Input'!N115,'Data Input'!Q115,'Data Input'!R115,'Data Input'!T115,'Data Input'!U115,'Data Input'!V115,'Data Input'!X115,'Data Input'!Y115,'Data Input'!Z115,'Data Input'!AA115,'Data Input'!AC115,'Data Input'!AD115,'Data Input'!AF115,'Data Input'!AG115,'Data Input'!AH115,'Data Input'!AI115,'Data Input'!AJ115,'Data Input'!AK115,'Data Input'!AL115))","v":""},{"$f":"IF(L111=\"\",\"\",L111/COUNTIF('Data Input'!$C$8:$AQ$8,$L$2))","v":""},{"$f":"IF(ISBLANK('Data Input'!A115),\"\",SUM('Data Input'!K115,'Data Input'!AQ115))","v":""},{"$f":"IF(N111=\"\",\"\",N111/COUNTIF('Data Input'!$C$8:$AQ$8,$N$2))","v":""},{"$f":"IF(ISBLANK('Data Input'!A115),\"\",SUM('Data Input'!C115,'Data Input'!D115,'Data Input'!F115,'Data Input'!J115,'Data Input'!O115,'Data Input'!S115,'Data Input'!AM115,'Data Input'!AN115,'Data Input'!AO115,'Data Input'!AP115))","v":""},{"$f":"IF(P111=\"\",\"\",P111/COUNTIF('Data Input'!$C$8:$AQ$8,$P$2))","v":""},{"$f":"IF(ISBLANK('Data Input'!C115),\"\",SUM('Data Input'!P115))","v":""},{"$f":"IF(R111=\"\",\"\",R111/COUNTIF('Data Input'!$C$8:$AQ$8,$R$2))","v":""}]
[{"$f":"IF('Data Input'!A116=0,\"\",'Data Input'!A116)","v":""},{"$f":"IF(H112=\"\",\"\",IF(H112>Welcome!$K$23-1,\"Exceeding\",IF(H112>Welcome!$G$23-1,\"Expected\",IF(H112<Welcome!$G$23,\"Below\"))))","v":""},{"$f":"IF(ISBLANK('Data Input'!A116),\"\",COUNTIF('Data Input'!C116:AQ116,\"\")-1)","v":""},{"$f":"IF(ISBLANK('Data Input'!A116),\"\",COUNTIF('Data Input'!C116:AQ116,\"0\"))","v":""},{"$f":"IF(ISBLANK('Data Input'!A116),\"\",SUM(C112,D112))","v":""},{"$f":"IF(ISBLANK('Data Input'!A116),\"\",SUM('Data Input'!C116:V116))","v":""},{"$f":"IF(ISBLANK('Data Input'!A116),\"\",SUM('Data Input'!X116:AQ116))","v":""},{"$f":"IF(ISBLANK('Data Input'!A116),\"\",SUM('Data Input'!C116:AQ116))","v":""},{"$f":"IF(H112=\"\",\"\",H112/(COUNTA('Data Input'!$C$8:$AQ$8)-1))","v":""},{"$f":"IF(ISBLANK('Data Input'!A116),\"\",SUM('Data Input'!I116,'Data Input'!M116,'Data Input'!AB116,'Data Input'!AE116))","v":""},{"$f":"IF(J112=\"\",\"\",J112/COUNTIF('Data Input'!$C$8:$AQ$8,$J$2))","v":""},{"$f":"IF(ISBLANK('Data Input'!A116),\"\",SUM('Data Input'!E116,'Data Input'!G116,'Data Input'!H116,'Data Input'!L116,'Data Input'!N116,'Data Input'!Q116,'Data Input'!R116,'Data Input'!T116,'Data Input'!U116,'Data Input'!V116,'Data Input'!X116,'Data Input'!Y116,'Data Input'!Z116,'Data Input'!AA116,'Data Input'!AC116,'Data Input'!AD116,'Data Input'!AF116,'Data Input'!AG116,'Data Input'!AH116,'Data Input'!AI116,'Data Input'!AJ116,'Data Input'!AK116,'Data Input'!AL116))","v":""},{"$f":"IF(L112=\"\",\"\",L112/COUNTIF('Data Input'!$C$8:$AQ$8,$L$2))","v":""},{"$f":"IF(ISBLANK('Data Input'!A116),\"\",SUM('Data Input'!K116,'Data Input'!AQ116))","v":""},{"$f":"IF(N112=\"\",\"\",N112/COUNTIF('Data Input'!$C$8:$AQ$8,$N$2))","v":""},{"$f":"IF(ISBLANK('Data Input'!A116),\"\",SUM('Data Input'!C116,'Data Input'!D116,'Data Input'!F116,'Data Input'!J116,'Data Input'!O116,'Data Input'!S116,'Data Input'!AM116,'Data Input'!AN116,'Data Input'!AO116,'Data Input'!AP116))","v":""},{"$f":"IF(P112=\"\",\"\",P112/COUNTIF('Data Input'!$C$8:$AQ$8,$P$2))","v":""},{"$f":"IF(ISBLANK('Data Input'!C116),\"\",SUM('Data Input'!P116))","v":""},{"$f":"IF(R112=\"\",\"\",R112/COUNTIF('Data Input'!$C$8:$AQ$8,$R$2))","v":""}]
[{"$f":"IF('Data Input'!A117=0,\"\",'Data Input'!A117)","v":""},{"$f":"IF(H113=\"\",\"\",IF(H113>Welcome!$K$23-1,\"Exceeding\",IF(H113>Welcome!$G$23-1,\"Expected\",IF(H113<Welcome!$G$23,\"Below\"))))","v":""},{"$f":"IF(ISBLANK('Data Input'!A117),\"\",COUNTIF('Data Input'!C117:AQ117,\"\")-1)","v":""},{"$f":"IF(ISBLANK('Data Input'!A117),\"\",COUNTIF('Data Input'!C117:AQ117,\"0\"))","v":""},{"$f":"IF(ISBLANK('Data Input'!A117),\"\",SUM(C113,D113))","v":""},{"$f":"IF(ISBLANK('Data Input'!A117),\"\",SUM('Data Input'!C117:V117))","v":""},{"$f":"IF(ISBLANK('Data Input'!A117),\"\",SUM('Data Input'!X117:AQ117))","v":""},{"$f":"IF(ISBLANK('Data Input'!A117),\"\",SUM('Data Input'!C117:AQ117))","v":""},{"$f":"IF(H113=\"\",\"\",H113/(COUNTA('Data Input'!$C$8:$AQ$8)-1))","v":""},{"$f":"IF(ISBLANK('Data Input'!A117),\"\",SUM('Data Input'!I117,'Data Input'!M117,'Data Input'!AB117,'Data Input'!AE117))","v":""},{"$f":"IF(J113=\"\",\"\",J113/COUNTIF('Data Input'!$C$8:$AQ$8,$J$2))","v":""},{"$f":"IF(ISBLANK('Data Input'!A117),\"\",SUM('Data Input'!E117,'Data Input'!G117,'Data Input'!H117,'Data Input'!L117,'Data Input'!N117,'Data Input'!Q117,'Data Input'!R117,'Data Input'!T117,'Data Input'!U117,'Data Input'!V117,'Data Input'!X117,'Data Input'!Y117,'Data Input'!Z117,'Data Input'!AA117,'Data Input'!AC117,'Data Input'!AD117,'Data Input'!AF117,'Data Input'!AG117,'Data Input'!AH117,'Data Input'!AI117,'Data Input'!AJ117,'Data Input'!AK117,'Data Input'!AL117))","v":""},{"$f":"IF(L113=\"\",\"\",L113/COUNTIF('Data Input'!$C$8:$AQ$8,$L$2))","v":""},{"$f":"IF(ISBLANK('Data Input'!A117),\"\",SUM('Data Input'!K117,'Data Input'!AQ117))","v":""},{"$f":"IF(N113=\"\",\"\",N113/COUNTIF('Data Input'!$C$8:$AQ$8,$N$2))","v":""},{"$f":"IF(ISBLANK('Data Input'!A117),\"\",SUM('Data Input'!C117,'Data Input'!D117,'Data Input'!F117,'Data Input'!J117,'Data Input'!O117,'Data Input'!S117,'Data Input'!AM117,'Data Input'!AN117,'Data Input'!AO117,'Data Input'!AP117))","v":""},{"$f":"IF(P113=\"\",\"\",P113/COUNTIF('Data Input'!$C$8:$AQ$8,$P$2))","v":""},{"$f":"IF(ISBLANK('Data Input'!C117),\"\",SUM('Data Input'!P117))","v":""},{"$f":"IF(R113=\"\",\"\",R113/COUNTIF('Data Input'!$C$8:$AQ$8,$R$2))","v":""}]
[{"$f":"IF('Data Input'!A118=0,\"\",'Data Input'!A118)","v":""},{"$f":"IF(H114=\"\",\"\",IF(H114>Welcome!$K$23-1,\"Exceeding\",IF(H114>Welcome!$G$23-1,\"Expected\",IF(H114<Welcome!$G$23,\"Below\"))))","v":""},{"$f":"IF(ISBLANK('Data Input'!A118),\"\",COUNTIF('Data Input'!C118:AQ118,\"\")-1)","v":""},{"$f":"IF(ISBLANK('Data Input'!A118),\"\",COUNTIF('Data Input'!C118:AQ118,\"0\"))","v":""},{"$f":"IF(ISBLANK('Data Input'!A118),\"\",SUM(C114,D114))","v":""},{"$f":"IF(ISBLANK('Data Input'!A118),\"\",SUM('Data Input'!C118:V118))","v":""},{"$f":"IF(ISBLANK('Data Input'!A118),\"\",SUM('Data Input'!X118:AQ118))","v":""},{"$f":"IF(ISBLANK('Data Input'!A118),\"\",SUM('Data Input'!C118:AQ118))","v":""},{"$f":"IF(H114=\"\",\"\",H114/(COUNTA('Data Input'!$C$8:$AQ$8)-1))","v":""},{"$f":"IF(ISBLANK('Data Input'!A118),\"\",SUM('Data Input'!I118,'Data Input'!M118,'Data Input'!AB118,'Data Input'!AE118))","v":""},{"$f":"IF(J114=\"\",\"\",J114/COUNTIF('Data Input'!$C$8:$AQ$8,$J$2))","v":""},{"$f":"IF(ISBLANK('Data Input'!A118),\"\",SUM('Data Input'!E118,'Data Input'!G118,'Data Input'!H118,'Data Input'!L118,'Data Input'!N118,'Data Input'!Q118,'Data Input'!R118,'Data Input'!T118,'Data Input'!U118,'Data Input'!V118,'Data Input'!X118,'Data Input'!Y118,'Data Input'!Z118,'Data Input'!AA118,'Data Input'!AC118,'Data Input'!AD118,'Data Input'!AF118,'Data Input'!AG118,'Data Input'!AH118,'Data Input'!AI118,'Data Input'!AJ118,'Data Input'!AK118,'Data Input'!AL118))","v":""},{"$f":"IF(L114=\"\",\"\",L114/COUNTIF('Data Input'!$C$8:$AQ$8,$L$2))","v":""},{"$f":"IF(ISBLANK('Data Input'!A118),\"\",SUM('Data Input'!K118,'Data Input'!AQ118))","v":""},{"$f":"IF(N114=\"\",\"\",N114/COUNTIF('Data Input'!$C$8:$AQ$8,$N$2))","v":""},{"$f":"IF(ISBLANK('Data Input'!A118),\"\",SUM('Data Input'!C118,'Data Input'!D118,'Data Input'!F118,'Data Input'!J118,'Data Input'!O118,'Data Input'!S118,'Data Input'!AM118,'Data Input'!AN118,'Data Input'!AO118,'Data Input'!AP118))","v":""},{"$f":"IF(P114=\"\",\"\",P114/COUNTIF('Data Input'!$C$8:$AQ$8,$P$2))","v":""},{"$f":"IF(ISBLANK('Data Input'!C118),\"\",SUM('Data Input'!P118))","v":""},{"$f":"IF(R114=\"\",\"\",R114/COUNTIF('Data Input'!$C$8:$AQ$8,$R$2))","v":""}]
[{"$f":"IF('Data Input'!A119=0,\"\",'Data Input'!A119)","v":""},{"$f":"IF(H115=\"\",\"\",IF(H115>Welcome!$K$23-1,\"Exceeding\",IF(H115>Welcome!$G$23-1,\"Expected\",IF(H115<Welcome!$G$23,\"Below\"))))","v":""},{"$f":"IF(ISBLANK('Data Input'!A119),\"\",COUNTIF('Data Input'!C119:AQ119,\"\")-1)","v":""},{"$f":"IF(ISBLANK('Data Input'!A119),\"\",COUNTIF('Data Input'!C119:AQ119,\"0\"))","v":""},{"$f":"IF(ISBLANK('Data Input'!A119),\"\",SUM(C115,D115))","v":""},{"$f":"IF(ISBLANK('Data Input'!A119),\"\",SUM('Data Input'!C119:V119))","v":""},{"$f":"IF(ISBLANK('Data Input'!A119),\"\",SUM('Data Input'!X119:AQ119))","v":""},{"$f":"IF(ISBLANK('Data Input'!A119),\"\",SUM('Data Input'!C119:AQ119))","v":""},{"$f":"IF(H115=\"\",\"\",H115/(COUNTA('Data Input'!$C$8:$AQ$8)-1))","v":""},{"$f":"IF(ISBLANK('Data Input'!A119),\"\",SUM('Data Input'!I119,'Data Input'!M119,'Data Input'!AB119,'Data Input'!AE119))","v":""},{"$f":"IF(J115=\"\",\"\",J115/COUNTIF('Data Input'!$C$8:$AQ$8,$J$2))","v":""},{"$f":"IF(ISBLANK('Data Input'!A119),\"\",SUM('Data Input'!E119,'Data Input'!G119,'Data Input'!H119,'Data Input'!L119,'Data Input'!N119,'Data Input'!Q119,'Data Input'!R119,'Data Input'!T119,'Data Input'!U119,'Data Input'!V119,'Data Input'!X119,'Data Input'!Y119,'Data Input'!Z119,'Data Input'!AA119,'Data Input'!AC119,'Data Input'!AD119,'Data Input'!AF119,'Data Input'!AG119,'Data Input'!AH119,'Data Input'!AI119,'Data Input'!AJ119,'Data Input'!AK119,'Data Input'!AL119))","v":""},{"$f":"IF(L115=\"\",\"\",L115/COUNTIF('Data Input'!$C$8:$AQ$8,$L$2))","v":""},{"$f":"IF(ISBLANK('Data Input'!A119),\"\",SUM('Data Input'!K119,'Data Input'!AQ119))","v":""},{"$f":"IF(N115=\"\",\"\",N115/COUNTIF('Data Input'!$C$8:$AQ$8,$N$2))","v":""},{"$f":"IF(ISBLANK('Data Input'!A119),\"\",SUM('Data Input'!C119,'Data Input'!D119,'Data Input'!F119,'Data Input'!J119,'Data Input'!O119,'Data Input'!S119,'Data Input'!AM119,'Data Input'!AN119,'Data Input'!AO119,'Data Input'!AP119))","v":""},{"$f":"IF(P115=\"\",\"\",P115/COUNTIF('Data Input'!$C$8:$AQ$8,$P$2))","v":""},{"$f":"IF(ISBLANK('Data Input'!C119),\"\",SUM('Data Input'!P119))","v":""},{"$f":"IF(R115=\"\",\"\",R115/COUNTIF('Data Input'!$C$8:$AQ$8,$R$2))","v":""}]
[{"$f":"IF('Data Input'!A120=0,\"\",'Data Input'!A120)","v":""},{"$f":"IF(H116=\"\",\"\",IF(H116>Welcome!$K$23-1,\"Exceeding\",IF(H116>Welcome!$G$23-1,\"Expected\",IF(H116<Welcome!$G$23,\"Below\"))))","v":""},{"$f":"IF(ISBLANK('Data Input'!A120),\"\",COUNTIF('Data Input'!C120:AQ120,\"\")-1)","v":""},{"$f":"IF(ISBLANK('Data Input'!A120),\"\",COUNTIF('Data Input'!C120:AQ120,\"0\"))","v":""},{"$f":"IF(ISBLANK('Data Input'!A120),\"\",SUM(C116,D116))","v":""},{"$f":"IF(ISBLANK('Data Input'!A120),\"\",SUM('Data Input'!C120:V120))","v":""},{"$f":"IF(ISBLANK('Data Input'!A120),\"\",SUM('Data Input'!X120:AQ120))","v":""},{"$f":"IF(ISBLANK('Data Input'!A120),\"\",SUM('Data Input'!C120:AQ120))","v":""},{"$f":"IF(H116=\"\",\"\",H116/(COUNTA('Data Input'!$C$8:$AQ$8)-1))","v":""},{"$f":"IF(ISBLANK('Data Input'!A120),\"\",SUM('Data Input'!I120,'Data Input'!M120,'Data Input'!AB120,'Data Input'!AE120))","v":""},{"$f":"IF(J116=\"\",\"\",J116/COUNTIF('Data Input'!$C$8:$AQ$8,$J$2))","v":""},{"$f":"IF(ISBLANK('Data Input'!A120),\"\",SUM('Data Input'!E120,'Data Input'!G120,'Data Input'!H120,'Data Input'!L120,'Data Input'!N120,'Data Input'!Q120,'Data Input'!R120,'Data Input'!T120,'Data Input'!U120,'Data Input'!V120,'Data Input'!X120,'Data Input'!Y120,'Data Input'!Z120,'Data Input'!AA120,'Data Input'!AC120,'Data Input'!AD120,'Data Input'!AF120,'Data Input'!AG120,'Data Input'!AH120,'Data Input'!AI120,'Data Input'!AJ120,'Data Input'!AK120,'Data Input'!AL120))","v":""},{"$f":"IF(L116=\"\",\"\",L116/COUNTIF('Data Input'!$C$8:$AQ$8,$L$2))","v":""},{"$f":"IF(ISBLANK('Data Input'!A120),\"\",SUM('Data Input'!K120,'Data Input'!AQ120))","v":""},{"$f":"IF(N116=\"\",\"\",N116/COUNTIF('Data Input'!$C$8:$AQ$8,$N$2))","v":""},{"$f":"IF(ISBLANK('Data Input'!A120),\"\",SUM('Data Input'!C120,'Data Input'!D120,'Data Input'!F120,'Data Input'!J120,'Data Input'!O120,'Data Input'!S120,'Data Input'!AM120,'Data Input'!AN120,'Data Input'!AO120,'Data Input'!AP120))","v":""},{"$f":"IF(P116=\"\",\"\",P116/COUNTIF('Data Input'!$C$8:$AQ$8,$P$2))","v":""},{"$f":"IF(ISBLANK('Data Input'!C120),\"\",SUM('Data Input'!P120))","v":""},{"$f":"IF(R116=\"\",\"\",R116/COUNTIF('Data Input'!$C$8:$AQ$8,$R$2))","v":""}]
[{"$f":"IF('Data Input'!A121=0,\"\",'Data Input'!A121)","v":""},{"$f":"IF(H117=\"\",\"\",IF(H117>Welcome!$K$23-1,\"Exceeding\",IF(H117>Welcome!$G$23-1,\"Expected\",IF(H117<Welcome!$G$23,\"Below\"))))","v":""},{"$f":"IF(ISBLANK('Data Input'!A121),\"\",COUNTIF('Data Input'!C121:AQ121,\"\")-1)","v":""},{"$f":"IF(ISBLANK('Data Input'!A121),\"\",COUNTIF('Data Input'!C121:AQ121,\"0\"))","v":""},{"$f":"IF(ISBLANK('Data Input'!A121),\"\",SUM(C117,D117))","v":""},{"$f":"IF(ISBLANK('Data Input'!A121),\"\",SUM('Data Input'!C121:V121))","v":""},{"$f":"IF(ISBLANK('Data Input'!A121),\"\",SUM('Data Input'!X121:AQ121))","v":""},{"$f":"IF(ISBLANK('Data Input'!A121),\"\",SUM('Data Input'!C121:AQ121))","v":""},{"$f":"IF(H117=\"\",\"\",H117/(COUNTA('Data Input'!$C$8:$AQ$8)-1))","v":""},{"$f":"IF(ISBLANK('Data Input'!A121),\"\",SUM('Data Input'!I121,'Data Input'!M121,'Data Input'!AB121,'Data Input'!AE121))","v":""},{"$f":"IF(J117=\"\",\"\",J117/COUNTIF('Data Input'!$C$8:$AQ$8,$J$2))","v":""},{"$f":"IF(ISBLANK('Data Input'!A121),\"\",SUM('Data Input'!E121,'Data Input'!G121,'Data Input'!H121,'Data Input'!L121,'Data Input'!N121,'Data Input'!Q121,'Data Input'!R121,'Data Input'!T121,'Data Input'!U121,'Data Input'!V121,'Data Input'!X121,'Data Input'!Y121,'Data Input'!Z121,'Data Input'!AA121,'Data Input'!AC121,'Data Input'!AD121,'Data Input'!AF121,'Data Input'!AG121,'Data Input'!AH121,'Data Input'!AI121,'Data Input'!AJ121,'Data Input'!AK121,'Data Input'!AL121))","v":""},{"$f":"IF(L117=\"\",\"\",L117/COUNTIF('Data Input'!$C$8:$AQ$8,$L$2))","v":""},{"$f":"IF(ISBLANK('Data Input'!A121),\"\",SUM('Data Input'!K121,'Data Input'!AQ121))","v":""},{"$f":"IF(N117=\"\",\"\",N117/COUNTIF('Data Input'!$C$8:$AQ$8,$N$2))","v":""},{"$f":"IF(ISBLANK('Data Input'!A121),\"\",SUM('Data Input'!C121,'Data Input'!D121,'Data Input'!F121,'Data Input'!J121,'Data Input'!O121,'Data Input'!S121,'Data Input'!AM121,'Data Input'!AN121,'Data Input'!AO121,'Data Input'!AP121))","v":""},{"$f":"IF(P117=\"\",\"\",P117/COUNTIF('Data Input'!$C$8:$AQ$8,$P$2))","v":""},{"$f":"IF(ISBLANK('Data Input'!C121),\"\",SUM('Data Input'!P121))","v":""},{"$f":"IF(R117=\"\",\"\",R117/COUNTIF('Data Input'!$C$8:$AQ$8,$R$2))","v":""}]
[{"$f":"IF('Data Input'!A122=0,\"\",'Data Input'!A122)","v":""},{"$f":"IF(H118=\"\",\"\",IF(H118>Welcome!$K$23-1,\"Exceeding\",IF(H118>Welcome!$G$23-1,\"Expected\",IF(H118<Welcome!$G$23,\"Below\"))))","v":""},{"$f":"IF(ISBLANK('Data Input'!A122),\"\",COUNTIF('Data Input'!C122:AQ122,\"\")-1)","v":""},{"$f":"IF(ISBLANK('Data Input'!A122),\"\",COUNTIF('Data Input'!C122:AQ122,\"0\"))","v":""},{"$f":"IF(ISBLANK('Data Input'!A122),\"\",SUM(C118,D118))","v":""},{"$f":"IF(ISBLANK('Data Input'!A122),\"\",SUM('Data Input'!C122:V122))","v":""},{"$f":"IF(ISBLANK('Data Input'!A122),\"\",SUM('Data Input'!X122:AQ122))","v":""},{"$f":"IF(ISBLANK('Data Input'!A122),\"\",SUM('Data Input'!C122:AQ122))","v":""},{"$f":"IF(H118=\"\",\"\",H118/(COUNTA('Data Input'!$C$8:$AQ$8)-1))","v":""},{"$f":"IF(ISBLANK('Data Input'!A122),\"\",SUM('Data Input'!I122,'Data Input'!M122,'Data Input'!AB122,'Data Input'!AE122))","v":""},{"$f":"IF(J118=\"\",\"\",J118/COUNTIF('Data Input'!$C$8:$AQ$8,$J$2))","v":""},{"$f":"IF(ISBLANK('Data Input'!A122),\"\",SUM('Data Input'!E122,'Data Input'!G122,'Data Input'!H122,'Data Input'!L122,'Data Input'!N122,'Data Input'!Q122,'Data Input'!R122,'Data Input'!T122,'Data Input'!U122,'Data Input'!V122,'Data Input'!X122,'Data Input'!Y122,'Data Input'!Z122,'Data Input'!AA122,'Data Input'!AC122,'Data Input'!AD122,'Data Input'!AF122,'Data Input'!AG122,'Data Input'!AH122,'Data Input'!AI122,'Data Input'!AJ122,'Data Input'!AK122,'Data Input'!AL122))","v":""},{"$f":"IF(L118=\"\",\"\",L118/COUNTIF('Data Input'!$C$8:$AQ$8,$L$2))","v":""},{"$f":"IF(ISBLANK('Data Input'!A122),\"\",SUM('Data Input'!K122,'Data Input'!AQ122))","v":""},{"$f":"IF(N118=\"\",\"\",N118/COUNTIF('Data Input'!$C$8:$AQ$8,$N$2))","v":""},{"$f":"IF(ISBLANK('Data Input'!A122),\"\",SUM('Data Input'!C122,'Data Input'!D122,'Data Input'!F122,'Data Input'!J122,'Data Input'!O122,'Data Input'!S122,'Data Input'!AM122,'Data Input'!AN122,'Data Input'!AO122,'Data Input'!AP122))","v":""},{"$f":"IF(P118=\"\",\"\",P118/COUNTIF('Data Input'!$C$8:$AQ$8,$P$2))","v":""},{"$f":"IF(ISBLANK('Data Input'!C122),\"\",SUM('Data Input'!P122))","v":""},{"$f":"IF(R118=\"\",\"\",R118/COUNTIF('Data Input'!$C$8:$AQ$8,$R$2))","v":""}]
[{"$f":"IF('Data Input'!A123=0,\"\",'Data Input'!A123)","v":""},{"$f":"IF(H119=\"\",\"\",IF(H119>Welcome!$K$23-1,\"Exceeding\",IF(H119>Welcome!$G$23-1,\"Expected\",IF(H119<Welcome!$G$23,\"Below\"))))","v":""},{"$f":"IF(ISBLANK('Data Input'!A123),\"\",COUNTIF('Data Input'!C123:AQ123,\"\")-1)","v":""},{"$f":"IF(ISBLANK('Data Input'!A123),\"\",COUNTIF('Data Input'!C123:AQ123,\"0\"))","v":""},{"$f":"IF(ISBLANK('Data Input'!A123),\"\",SUM(C119,D119))","v":""},{"$f":"IF(ISBLANK('Data Input'!A123),\"\",SUM('Data Input'!C123:V123))","v":""},{"$f":"IF(ISBLANK('Data Input'!A123),\"\",SUM('Data Input'!X123:AQ123))","v":""},{"$f":"IF(ISBLANK('Data Input'!A123),\"\",SUM('Data Input'!C123:AQ123))","v":""},{"$f":"IF(H119=\"\",\"\",H119/(COUNTA('Data Input'!$C$8:$AQ$8)-1))","v":""},{"$f":"IF(ISBLANK('Data Input'!A123),\"\",SUM('Data Input'!I123,'Data Input'!M123,'Data Input'!AB123,'Data Input'!AE123))","v":""},{"$f":"IF(J119=\"\",\"\",J119/COUNTIF('Data Input'!$C$8:$AQ$8,$J$2))","v":""},{"$f":"IF(ISBLANK('Data Input'!A123),\"\",SUM('Data Input'!E123,'Data Input'!G123,'Data Input'!H123,'Data Input'!L123,'Data Input'!N123,'Data Input'!Q123,'Data Input'!R123,'Data Input'!T123,'Data Input'!U123,'Data Input'!V123,'Data Input'!X123,'Data Input'!Y123,'Data Input'!Z123,'Data Input'!AA123,'Data Input'!AC123,'Data Input'!AD123,'Data Input'!AF123,'Data Input'!AG123,'Data Input'!AH123,'Data Input'!AI123,'Data Input'!AJ123,'Data Input'!AK123,'Data Input'!AL123))","v":""},{"$f":"IF(L119=\"\",\"\",L119/COUNTIF('Data Input'!$C$8:$AQ$8,$L$2))","v":""},{"$f":"IF(ISBLANK('Data Input'!A123),\"\",SUM('Data Input'!K123,'Data Input'!AQ123))","v":""},{"$f":"IF(N119=\"\",\"\",N119/COUNTIF('Data Input'!$C$8:$AQ$8,$N$2))","v":""},{"$f":"IF(ISBLANK('Data Input'!A123),\"\",SUM('Data Input'!C123,'Data Input'!D123,'Data Input'!F123,'Data Input'!J123,'Data Input'!O123,'Data Input'!S123,'Data Input'!AM123,'Data Input'!AN123,'Data Input'!AO123,'Data Input'!AP123))","v":""},{"$f":"IF(P119=\"\",\"\",P119/COUNTIF('Data Input'!$C$8:$AQ$8,$P$2))","v":""},{"$f":"IF(ISBLANK('Data Input'!C123),\"\",SUM('Data Input'!P123))","v":""},{"$f":"IF(R119=\"\",\"\",R119/COUNTIF('Data Input'!$C$8:$AQ$8,$R$2))","v":""}]
[{"$f":"IF('Data Input'!A124=0,\"\",'Data Input'!A124)","v":""},{"$f":"IF(H120=\"\",\"\",IF(H120>Welcome!$K$23-1,\"Exceeding\",IF(H120>Welcome!$G$23-1,\"Expected\",IF(H120<Welcome!$G$23,\"Below\"))))","v":""},{"$f":"IF(ISBLANK('Data Input'!A124),\"\",COUNTIF('Data Input'!C124:AQ124,\"\")-1)","v":""},{"$f":"IF(ISBLANK('Data Input'!A124),\"\",COUNTIF('Data Input'!C124:AQ124,\"0\"))","v":""},{"$f":"IF(ISBLANK('Data Input'!A124),\"\",SUM(C120,D120))","v":""},{"$f":"IF(ISBLANK('Data Input'!A124),\"\",SUM('Data Input'!C124:V124))","v":""},{"$f":"IF(ISBLANK('Data Input'!A124),\"\",SUM('Data Input'!X124:AQ124))","v":""},{"$f":"IF(ISBLANK('Data Input'!A124),\"\",SUM('Data Input'!C124:AQ124))","v":""},{"$f":"IF(H120=\"\",\"\",H120/(COUNTA('Data Input'!$C$8:$AQ$8)-1))","v":""},{"$f":"IF(ISBLANK('Data Input'!A124),\"\",SUM('Data Input'!I124,'Data Input'!M124,'Data Input'!AB124,'Data Input'!AE124))","v":""},{"$f":"IF(J120=\"\",\"\",J120/COUNTIF('Data Input'!$C$8:$AQ$8,$J$2))","v":""},{"$f":"IF(ISBLANK('Data Input'!A124),\"\",SUM('Data Input'!E124,'Data Input'!G124,'Data Input'!H124,'Data Input'!L124,'Data Input'!N124,'Data Input'!Q124,'Data Input'!R124,'Data Input'!T124,'Data Input'!U124,'Data Input'!V124,'Data Input'!X124,'Data Input'!Y124,'Data Input'!Z124,'Data Input'!AA124,'Data Input'!AC124,'Data Input'!AD124,'Data Input'!AF124,'Data Input'!AG124,'Data Input'!AH124,'Data Input'!AI124,'Data Input'!AJ124,'Data Input'!AK124,'Data Input'!AL124))","v":""},{"$f":"IF(L120=\"\",\"\",L120/COUNTIF('Data Input'!$C$8:$AQ$8,$L$2))","v":""},{"$f":"IF(ISBLANK('Data Input'!A124),\"\",SUM('Data Input'!K124,'Data Input'!AQ124))","v":""},{"$f":"IF(N120=\"\",\"\",N120/COUNTIF('Data Input'!$C$8:$AQ$8,$N$2))","v":""},{"$f":"IF(ISBLANK('Data Input'!A124),\"\",SUM('Data Input'!C124,'Data Input'!D124,'Data Input'!F124,'Data Input'!J124,'Data Input'!O124,'Data Input'!S124,'Data Input'!AM124,'Data Input'!AN124,'Data Input'!AO124,'Data Input'!AP124))","v":""},{"$f":"IF(P120=\"\",\"\",P120/COUNTIF('Data Input'!$C$8:$AQ$8,$P$2))","v":""},{"$f":"IF(ISBLANK('Data Input'!C124),\"\",SUM('Data Input'!P124))","v":""},{"$f":"IF(R120=\"\",\"\",R120/COUNTIF('Data Input'!$C$8:$AQ$8,$R$2))","v":""}]
[{"$f":"IF('Data Input'!A125=0,\"\",'Data Input'!A125)","v":""},{"$f":"IF(H121=\"\",\"\",IF(H121>Welcome!$K$23-1,\"Exceeding\",IF(H121>Welcome!$G$23-1,\"Expected\",IF(H121<Welcome!$G$23,\"Below\"))))","v":""},{"$f":"IF(ISBLANK('Data Input'!A125),\"\",COUNTIF('Data Input'!C125:AQ125,\"\")-1)","v":""},{"$f":"IF(ISBLANK('Data Input'!A125),\"\",COUNTIF('Data Input'!C125:AQ125,\"0\"))","v":""},{"$f":"IF(ISBLANK('Data Input'!A125),\"\",SUM(C121,D121))","v":""},{"$f":"IF(ISBLANK('Data Input'!A125),\"\",SUM('Data Input'!C125:V125))","v":""},{"$f":"IF(ISBLANK('Data Input'!A125),\"\",SUM('Data Input'!X125:AQ125))","v":""},{"$f":"IF(ISBLANK('Data Input'!A125),\"\",SUM('Data Input'!C125:AQ125))","v":""},{"$f":"IF(H121=\"\",\"\",H121/(COUNTA('Data Input'!$C$8:$AQ$8)-1))","v":""},{"$f":"IF(ISBLANK('Data Input'!A125),\"\",SUM('Data Input'!I125,'Data Input'!M125,'Data Input'!AB125,'Data Input'!AE125))","v":""},{"$f":"IF(J121=\"\",\"\",J121/COUNTIF('Data Input'!$C$8:$AQ$8,$J$2))","v":""},{"$f":"IF(ISBLANK('Data Input'!A125),\"\",SUM('Data Input'!E125,'Data Input'!G125,'Data Input'!H125,'Data Input'!L125,'Data Input'!N125,'Data Input'!Q125,'Data Input'!R125,'Data Input'!T125,'Data Input'!U125,'Data Input'!V125,'Data Input'!X125,'Data Input'!Y125,'Data Input'!Z125,'Data Input'!AA125,'Data Input'!AC125,'Data Input'!AD125,'Data Input'!AF125,'Data Input'!AG125,'Data Input'!AH125,'Data Input'!AI125,'Data Input'!AJ125,'Data Input'!AK125,'Data Input'!AL125))","v":""},{"$f":"IF(L121=\"\",\"\",L121/COUNTIF('Data Input'!$C$8:$AQ$8,$L$2))","v":""},{"$f":"IF(ISBLANK('Data Input'!A125),\"\",SUM('Data Input'!K125,'Data Input'!AQ125))","v":""},{"$f":"IF(N121=\"\",\"\",N121/COUNTIF('Data Input'!$C$8:$AQ$8,$N$2))","v":""},{"$f":"IF(ISBLANK('Data Input'!A125),\"\",SUM('Data Input'!C125,'Data Input'!D125,'Data Input'!F125,'Data Input'!J125,'Data Input'!O125,'Data Input'!S125,'Data Input'!AM125,'Data Input'!AN125,'Data Input'!AO125,'Data Input'!AP125))","v":""},{"$f":"IF(P121=\"\",\"\",P121/COUNTIF('Data Input'!$C$8:$AQ$8,$P$2))","v":""},{"$f":"IF(ISBLANK('Data Input'!C125),\"\",SUM('Data Input'!P125))","v":""},{"$f":"IF(R121=\"\",\"\",R121/COUNTIF('Data Input'!$C$8:$AQ$8,$R$2))","v":""}]
[{"$f":"IF('Data Input'!A126=0,\"\",'Data Input'!A126)","v":""},{"$f":"IF(H122=\"\",\"\",IF(H122>Welcome!$K$23-1,\"Exceeding\",IF(H122>Welcome!$G$23-1,\"Expected\",IF(H122<Welcome!$G$23,\"Below\"))))","v":""},{"$f":"IF(ISBLANK('Data Input'!A126),\"\",COUNTIF('Data Input'!C126:AQ126,\"\")-1)","v":""},{"$f":"IF(ISBLANK('Data Input'!A126),\"\",COUNTIF('Data Input'!C126:AQ126,\"0\"))","v":""},{"$f":"IF(ISBLANK('Data Input'!A126),\"\",SUM(C122,D122))","v":""},{"$f":"IF(ISBLANK('Data Input'!A126),\"\",SUM('Data Input'!C126:V126))","v":""},{"$f":"IF(ISBLANK('Data Input'!A126),\"\",SUM('Data Input'!X126:AQ126))","v":""},{"$f":"IF(ISBLANK('Data Input'!A126),\"\",SUM('Data Input'!C126:AQ126))","v":""},{"$f":"IF(H122=\"\",\"\",H122/(COUNTA('Data Input'!$C$8:$AQ$8)-1))","v":""},{"$f":"IF(ISBLANK('Data Input'!A126),\"\",SUM('Data Input'!I126,'Data Input'!M126,'Data Input'!AB126,'Data Input'!AE126))","v":""},{"$f":"IF(J122=\"\",\"\",J122/COUNTIF('Data Input'!$C$8:$AQ$8,$J$2))","v":""},{"$f":"IF(ISBLANK('Data Input'!A126),\"\",SUM('Data Input'!E126,'Data Input'!G126,'Data Input'!H126,'Data Input'!L126,'Data Input'!N126,'Data Input'!Q126,'Data Input'!R126,'Data Input'!T126,'Data Input'!U126,'Data Input'!V126,'Data Input'!X126,'Data Input'!Y126,'Data Input'!Z126,'Data Input'!AA126,'Data Input'!AC126,'Data Input'!AD126,'Data Input'!AF126,'Data Input'!AG126,'Data Input'!AH126,'Data Input'!AI126,'Data Input'!AJ126,'Data Input'!AK126,'Data Input'!AL126))","v":""},{"$f":"IF(L122=\"\",\"\",L122/COUNTIF('Data Input'!$C$8:$AQ$8,$L$2))","v":""},{"$f":"IF(ISBLANK('Data Input'!A126),\"\",SUM('Data Input'!K126,'Data Input'!AQ126))","v":""},{"$f":"IF(N122=\"\",\"\",N122/COUNTIF('Data Input'!$C$8:$AQ$8,$N$2))","v":""},{"$f":"IF(ISBLANK('Data Input'!A126),\"\",SUM('Data Input'!C126,'Data Input'!D126,'Data Input'!F126,'Data Input'!J126,'Data Input'!O126,'Data Input'!S126,'Data Input'!AM126,'Data Input'!AN126,'Data Input'!AO126,'Data Input'!AP126))","v":""},{"$f":"IF(P122=\"\",\"\",P122/COUNTIF('Data Input'!$C$8:$AQ$8,$P$2))","v":""},{"$f":"IF(ISBLANK('Data Input'!C126),\"\",SUM('Data Input'!P126))","v":""},{"$f":"IF(R122=\"\",\"\",R122/COUNTIF('Data Input'!$C$8:$AQ$8,$R$2))","v":""}]
[{"$f":"IF('Data Input'!A127=0,\"\",'Data Input'!A127)","v":""},{"$f":"IF(H123=\"\",\"\",IF(H123>Welcome!$K$23-1,\"Exceeding\",IF(H123>Welcome!$G$23-1,\"Expected\",IF(H123<Welcome!$G$23,\"Below\"))))","v":""},{"$f":"IF(ISBLANK('Data Input'!A127),\"\",COUNTIF('Data Input'!C127:AQ127,\"\")-1)","v":""},{"$f":"IF(ISBLANK('Data Input'!A127),\"\",COUNTIF('Data Input'!C127:AQ127,\"0\"))","v":""},{"$f":"IF(ISBLANK('Data Input'!A127),\"\",SUM(C123,D123))","v":""},{"$f":"IF(ISBLANK('Data Input'!A127),\"\",SUM('Data Input'!C127:V127))","v":""},{"$f":"IF(ISBLANK('Data Input'!A127),\"\",SUM('Data Input'!X127:AQ127))","v":""},{"$f":"IF(ISBLANK('Data Input'!A127),\"\",SUM('Data Input'!C127:AQ127))","v":""},{"$f":"IF(H123=\"\",\"\",H123/(COUNTA('Data Input'!$C$8:$AQ$8)-1))","v":""},{"$f":"IF(ISBLANK('Data Input'!A127),\"\",SUM('Data Input'!I127,'Data Input'!M127,'Data Input'!AB127,'Data Input'!AE127))","v":""},{"$f":"IF(J123=\"\",\"\",J123/COUNTIF('Data Input'!$C$8:$AQ$8,$J$2))","v":""},{"$f":"IF(ISBLANK('Data Input'!A127),\"\",SUM('Data Input'!E127,'Data Input'!G127,'Data Input'!H127,'Data Input'!L127,'Data Input'!N127,'Data Input'!Q127,'Data Input'!R127,'Data Input'!T127,'Data Input'!U127,'Data Input'!V127,'Data Input'!X127,'Data Input'!Y127,'Data Input'!Z127,'Data Input'!AA127,'Data Input'!AC127,'Data Input'!AD127,'Data Input'!AF127,'Data Input'!AG127,'Data Input'!AH127,'Data Input'!AI127,'Data Input'!AJ127,'Data Input'!AK127,'Data Input'!AL127))","v":""},{"$f":"IF(L123=\"\",\"\",L123/COUNTIF('Data Input'!$C$8:$AQ$8,$L$2))","v":""},{"$f":"IF(ISBLANK('Data Input'!A127),\"\",SUM('Data Input'!K127,'Data Input'!AQ127))","v":""},{"$f":"IF(N123=\"\",\"\",N123/COUNTIF('Data Input'!$C$8:$AQ$8,$N$2))","v":""},{"$f":"IF(ISBLANK('Data Input'!A127),\"\",SUM('Data Input'!C127,'Data Input'!D127,'Data Input'!F127,'Data Input'!J127,'Data Input'!O127,'Data Input'!S127,'Data Input'!AM127,'Data Input'!AN127,'Data Input'!AO127,'Data Input'!AP127))","v":""},{"$f":"IF(P123=\"\",\"\",P123/COUNTIF('Data Input'!$C$8:$AQ$8,$P$2))","v":""},{"$f":"IF(ISBLANK('Data Input'!C127),\"\",SUM('Data Input'!P127))","v":""},{"$f":"IF(R123=\"\",\"\",R123/COUNTIF('Data Input'!$C$8:$AQ$8,$R$2))","v":""}]
[{"$f":"IF('Data Input'!A128=0,\"\",'Data Input'!A128)","v":""},{"$f":"IF(H124=\"\",\"\",IF(H124>Welcome!$K$23-1,\"Exceeding\",IF(H124>Welcome!$G$23-1,\"Expected\",IF(H124<Welcome!$G$23,\"Below\"))))","v":""},{"$f":"IF(ISBLANK('Data Input'!A128),\"\",COUNTIF('Data Input'!C128:AQ128,\"\")-1)","v":""},{"$f":"IF(ISBLANK('Data Input'!A128),\"\",COUNTIF('Data Input'!C128:AQ128,\"0\"))","v":""},{"$f":"IF(ISBLANK('Data Input'!A128),\"\",SUM(C124,D124))","v":""},{"$f":"IF(ISBLANK('Data Input'!A128),\"\",SUM('Data Input'!C128:V128))","v":""},{"$f":"IF(ISBLANK('Data Input'!A128),\"\",SUM('Data Input'!X128:AQ128))","v":""},{"$f":"IF(ISBLANK('Data Input'!A128),\"\",SUM('Data Input'!C128:AQ128))","v":""},{"$f":"IF(H124=\"\",\"\",H124/(COUNTA('Data Input'!$C$8:$AQ$8)-1))","v":""},{"$f":"IF(ISBLANK('Data Input'!A128),\"\",SUM('Data Input'!I128,'Data Input'!M128,'Data Input'!AB128,'Data Input'!AE128))","v":""},{"$f":"IF(J124=\"\",\"\",J124/COUNTIF('Data Input'!$C$8:$AQ$8,$J$2))","v":""},{"$f":"IF(ISBLANK('Data Input'!A128),\"\",SUM('Data Input'!E128,'Data Input'!G128,'Data Input'!H128,'Data Input'!L128,'Data Input'!N128,'Data Input'!Q128,'Data Input'!R128,'Data Input'!T128,'Data Input'!U128,'Data Input'!V128,'Data Input'!X128,'Data Input'!Y128,'Data Input'!Z128,'Data Input'!AA128,'Data Input'!AC128,'Data Input'!AD128,'Data Input'!AF128,'Data Input'!AG128,'Data Input'!AH128,'Data Input'!AI128,'Data Input'!AJ128,'Data Input'!AK128,'Data Input'!AL128))","v":""},{"$f":"IF(L124=\"\",\"\",L124/COUNTIF('Data Input'!$C$8:$AQ$8,$L$2))","v":""},{"$f":"IF(ISBLANK('Data Input'!A128),\"\",SUM('Data Input'!K128,'Data Input'!AQ128))","v":""},{"$f":"IF(N124=\"\",\"\",N124/COUNTIF('Data Input'!$C$8:$AQ$8,$N$2))","v":""},{"$f":"IF(ISBLANK('Data Input'!A128),\"\",SUM('Data Input'!C128,'Data Input'!D128,'Data Input'!F128,'Data Input'!J128,'Data Input'!O128,'Data Input'!S128,'Data Input'!AM128,'Data Input'!AN128,'Data Input'!AO128,'Data Input'!AP128))","v":""},{"$f":"IF(P124=\"\",\"\",P124/COUNTIF('Data Input'!$C$8:$AQ$8,$P$2))","v":""},{"$f":"IF(ISBLANK('Data Input'!C128),\"\",SUM('Data Input'!P128))","v":""},{"$f":"IF(R124=\"\",\"\",R124/COUNTIF('Data Input'!$C$8:$AQ$8,$R$2))","v":""}]
[{"$f":"IF('Data Input'!A129=0,\"\",'Data Input'!A129)","v":""},{"$f":"IF(H125=\"\",\"\",IF(H125>Welcome!$K$23-1,\"Exceeding\",IF(H125>Welcome!$G$23-1,\"Expected\",IF(H125<Welcome!$G$23,\"Below\"))))","v":""},{"$f":"IF(ISBLANK('Data Input'!A129),\"\",COUNTIF('Data Input'!C129:AQ129,\"\")-1)","v":""},{"$f":"IF(ISBLANK('Data Input'!A129),\"\",COUNTIF('Data Input'!C129:AQ129,\"0\"))","v":""},{"$f":"IF(ISBLANK('Data Input'!A129),\"\",SUM(C125,D125))","v":""},{"$f":"IF(ISBLANK('Data Input'!A129),\"\",SUM('Data Input'!C129:V129))","v":""},{"$f":"IF(ISBLANK('Data Input'!A129),\"\",SUM('Data Input'!X129:AQ129))","v":""},{"$f":"IF(ISBLANK('Data Input'!A129),\"\",SUM('Data Input'!C129:AQ129))","v":""},{"$f":"IF(H125=\"\",\"\",H125/(COUNTA('Data Input'!$C$8:$AQ$8)-1))","v":""},{"$f":"IF(ISBLANK('Data Input'!A129),\"\",SUM('Data Input'!I129,'Data Input'!M129,'Data Input'!AB129,'Data Input'!AE129))","v":""},{"$f":"IF(J125=\"\",\"\",J125/COUNTIF('Data Input'!$C$8:$AQ$8,$J$2))","v":""},{"$f":"IF(ISBLANK('Data Input'!A129),\"\",SUM('Data Input'!E129,'Data Input'!G129,'Data Input'!H129,'Data Input'!L129,'Data Input'!N129,'Data Input'!Q129,'Data Input'!R129,'Data Input'!T129,'Data Input'!U129,'Data Input'!V129,'Data Input'!X129,'Data Input'!Y129,'Data Input'!Z129,'Data Input'!AA129,'Data Input'!AC129,'Data Input'!AD129,'Data Input'!AF129,'Data Input'!AG129,'Data Input'!AH129,'Data Input'!AI129,'Data Input'!AJ129,'Data Input'!AK129,'Data Input'!AL129))","v":""},{"$f":"IF(L125=\"\",\"\",L125/COUNTIF('Data Input'!$C$8:$AQ$8,$L$2))","v":""},{"$f":"IF(ISBLANK('Data Input'!A129),\"\",SUM('Data Input'!K129,'Data Input'!AQ129))","v":""},{"$f":"IF(N125=\"\",\"\",N125/COUNTIF('Data Input'!$C$8:$AQ$8,$N$2))","v":""},{"$f":"IF(ISBLANK('Data Input'!A129),\"\",SUM('Data Input'!C129,'Data Input'!D129,'Data Input'!F129,'Data Input'!J129,'Data Input'!O129,'Data Input'!S129,'Data Input'!AM129,'Data Input'!AN129,'Data Input'!AO129,'Data Input'!AP129))","v":""},{"$f":"IF(P125=\"\",\"\",P125/COUNTIF('Data Input'!$C$8:$AQ$8,$P$2))","v":""},{"$f":"IF(ISBLANK('Data Input'!C129),\"\",SUM('Data Input'!P129))","v":""},{"$f":"IF(R125=\"\",\"\",R125/COUNTIF('Data Input'!$C$8:$AQ$8,$R$2))","v":""}]
[{"$f":"IF('Data Input'!A130=0,\"\",'Data Input'!A130)","v":""},{"$f":"IF(H126=\"\",\"\",IF(H126>Welcome!$K$23-1,\"Exceeding\",IF(H126>Welcome!$G$23-1,\"Expected\",IF(H126<Welcome!$G$23,\"Below\"))))","v":""},{"$f":"IF(ISBLANK('Data Input'!A130),\"\",COUNTIF('Data Input'!C130:AQ130,\"\")-1)","v":""},{"$f":"IF(ISBLANK('Data Input'!A130),\"\",COUNTIF('Data Input'!C130:AQ130,\"0\"))","v":""},{"$f":"IF(ISBLANK('Data Input'!A130),\"\",SUM(C126,D126))","v":""},{"$f":"IF(ISBLANK('Data Input'!A130),\"\",SUM('Data Input'!C130:V130))","v":""},{"$f":"IF(ISBLANK('Data Input'!A130),\"\",SUM('Data Input'!X130:AQ130))","v":""},{"$f":"IF(ISBLANK('Data Input'!A130),\"\",SUM('Data Input'!C130:AQ130))","v":""},{"$f":"IF(H126=\"\",\"\",H126/(COUNTA('Data Input'!$C$8:$AQ$8)-1))","v":""},{"$f":"IF(ISBLANK('Data Input'!A130),\"\",SUM('Data Input'!I130,'Data Input'!M130,'Data Input'!AB130,'Data Input'!AE130))","v":""},{"$f":"IF(J126=\"\",\"\",J126/COUNTIF('Data Input'!$C$8:$AQ$8,$J$2))","v":""},{"$f":"IF(ISBLANK('Data Input'!A130),\"\",SUM('Data Input'!E130,'Data Input'!G130,'Data Input'!H130,'Data Input'!L130,'Data Input'!N130,'Data Input'!Q130,'Data Input'!R130,'Data Input'!T130,'Data Input'!U130,'Data Input'!V130,'Data Input'!X130,'Data Input'!Y130,'Data Input'!Z130,'Data Input'!AA130,'Data Input'!AC130,'Data Input'!AD130,'Data Input'!AF130,'Data Input'!AG130,'Data Input'!AH130,'Data Input'!AI130,'Data Input'!AJ130,'Data Input'!AK130,'Data Input'!AL130))","v":""},{"$f":"IF(L126=\"\",\"\",L126/COUNTIF('Data Input'!$C$8:$AQ$8,$L$2))","v":""},{"$f":"IF(ISBLANK('Data Input'!A130),\"\",SUM('Data Input'!K130,'Data Input'!AQ130))","v":""},{"$f":"IF(N126=\"\",\"\",N126/COUNTIF('Data Input'!$C$8:$AQ$8,$N$2))","v":""},{"$f":"IF(ISBLANK('Data Input'!A130),\"\",SUM('Data Input'!C130,'Data Input'!D130,'Data Input'!F130,'Data Input'!J130,'Data Input'!O130,'Data Input'!S130,'Data Input'!AM130,'Data Input'!AN130,'Data Input'!AO130,'Data Input'!AP130))","v":""},{"$f":"IF(P126=\"\",\"\",P126/COUNTIF('Data Input'!$C$8:$AQ$8,$P$2))","v":""},{"$f":"IF(ISBLANK('Data Input'!C130),\"\",SUM('Data Input'!P130))","v":""},{"$f":"IF(R126=\"\",\"\",R126/COUNTIF('Data Input'!$C$8:$AQ$8,$R$2))","v":""}]
[{"$f":"IF('Data Input'!A131=0,\"\",'Data Input'!A131)","v":""},{"$f":"IF(H127=\"\",\"\",IF(H127>Welcome!$K$23-1,\"Exceeding\",IF(H127>Welcome!$G$23-1,\"Expected\",IF(H127<Welcome!$G$23,\"Below\"))))","v":""},{"$f":"IF(ISBLANK('Data Input'!A131),\"\",COUNTIF('Data Input'!C131:AQ131,\"\")-1)","v":""},{"$f":"IF(ISBLANK('Data Input'!A131),\"\",COUNTIF('Data Input'!C131:AQ131,\"0\"))","v":""},{"$f":"IF(ISBLANK('Data Input'!A131),\"\",SUM(C127,D127))","v":""},{"$f":"IF(ISBLANK('Data Input'!A131),\"\",SUM('Data Input'!C131:V131))","v":""},{"$f":"IF(ISBLANK('Data Input'!A131),\"\",SUM('Data Input'!X131:AQ131))","v":""},{"$f":"IF(ISBLANK('Data Input'!A131),\"\",SUM('Data Input'!C131:AQ131))","v":""},{"$f":"IF(H127=\"\",\"\",H127/(COUNTA('Data Input'!$C$8:$AQ$8)-1))","v":""},{"$f":"IF(ISBLANK('Data Input'!A131),\"\",SUM('Data Input'!I131,'Data Input'!M131,'Data Input'!AB131,'Data Input'!AE131))","v":""},{"$f":"IF(J127=\"\",\"\",J127/COUNTIF('Data Input'!$C$8:$AQ$8,$J$2))","v":""},{"$f":"IF(ISBLANK('Data Input'!A131),\"\",SUM('Data Input'!E131,'Data Input'!G131,'Data Input'!H131,'Data Input'!L131,'Data Input'!N131,'Data Input'!Q131,'Data Input'!R131,'Data Input'!T131,'Data Input'!U131,'Data Input'!V131,'Data Input'!X131,'Data Input'!Y131,'Data Input'!Z131,'Data Input'!AA131,'Data Input'!AC131,'Data Input'!AD131,'Data Input'!AF131,'Data Input'!AG131,'Data Input'!AH131,'Data Input'!AI131,'Data Input'!AJ131,'Data Input'!AK131,'Data Input'!AL131))","v":""},{"$f":"IF(L127=\"\",\"\",L127/COUNTIF('Data Input'!$C$8:$AQ$8,$L$2))","v":""},{"$f":"IF(ISBLANK('Data Input'!A131),\"\",SUM('Data Input'!K131,'Data Input'!AQ131))","v":""},{"$f":"IF(N127=\"\",\"\",N127/COUNTIF('Data Input'!$C$8:$AQ$8,$N$2))","v":""},{"$f":"IF(ISBLANK('Data Input'!A131),\"\",SUM('Data Input'!C131,'Data Input'!D131,'Data Input'!F131,'Data Input'!J131,'Data Input'!O131,'Data Input'!S131,'Data Input'!AM131,'Data Input'!AN131,'Data Input'!AO131,'Data Input'!AP131))","v":""},{"$f":"IF(P127=\"\",\"\",P127/COUNTIF('Data Input'!$C$8:$AQ$8,$P$2))","v":""},{"$f":"IF(ISBLANK('Data Input'!C131),\"\",SUM('Data Input'!P131))","v":""},{"$f":"IF(R127=\"\",\"\",R127/COUNTIF('Data Input'!$C$8:$AQ$8,$R$2))","v":""}]
[{"$f":"IF('Data Input'!A132=0,\"\",'Data Input'!A132)","v":""},{"$f":"IF(H128=\"\",\"\",IF(H128>Welcome!$K$23-1,\"Exceeding\",IF(H128>Welcome!$G$23-1,\"Expected\",IF(H128<Welcome!$G$23,\"Below\"))))","v":""},{"$f":"IF(ISBLANK('Data Input'!A132),\"\",COUNTIF('Data Input'!C132:AQ132,\"\")-1)","v":""},{"$f":"IF(ISBLANK('Data Input'!A132),\"\",COUNTIF('Data Input'!C132:AQ132,\"0\"))","v":""},{"$f":"IF(ISBLANK('Data Input'!A132),\"\",SUM(C128,D128))","v":""},{"$f":"IF(ISBLANK('Data Input'!A132),\"\",SUM('Data Input'!C132:V132))","v":""},{"$f":"IF(ISBLANK('Data Input'!A132),\"\",SUM('Data Input'!X132:AQ132))","v":""},{"$f":"IF(ISBLANK('Data Input'!A132),\"\",SUM('Data Input'!C132:AQ132))","v":""},{"$f":"IF(H128=\"\",\"\",H128/(COUNTA('Data Input'!$C$8:$AQ$8)-1))","v":""},{"$f":"IF(ISBLANK('Data Input'!A132),\"\",SUM('Data Input'!I132,'Data Input'!M132,'Data Input'!AB132,'Data Input'!AE132))","v":""},{"$f":"IF(J128=\"\",\"\",J128/COUNTIF('Data Input'!$C$8:$AQ$8,$J$2))","v":""},{"$f":"IF(ISBLANK('Data Input'!A132),\"\",SUM('Data Input'!E132,'Data Input'!G132,'Data Input'!H132,'Data Input'!L132,'Data Input'!N132,'Data Input'!Q132,'Data Input'!R132,'Data Input'!T132,'Data Input'!U132,'Data Input'!V132,'Data Input'!X132,'Data Input'!Y132,'Data Input'!Z132,'Data Input'!AA132,'Data Input'!AC132,'Data Input'!AD132,'Data Input'!AF132,'Data Input'!AG132,'Data Input'!AH132,'Data Input'!AI132,'Data Input'!AJ132,'Data Input'!AK132,'Data Input'!AL132))","v":""},{"$f":"IF(L128=\"\",\"\",L128/COUNTIF('Data Input'!$C$8:$AQ$8,$L$2))","v":""},{"$f":"IF(ISBLANK('Data Input'!A132),\"\",SUM('Data Input'!K132,'Data Input'!AQ132))","v":""},{"$f":"IF(N128=\"\",\"\",N128/COUNTIF('Data Input'!$C$8:$AQ$8,$N$2))","v":""},{"$f":"IF(ISBLANK('Data Input'!A132),\"\",SUM('Data Input'!C132,'Data Input'!D132,'Data Input'!F132,'Data Input'!J132,'Data Input'!O132,'Data Input'!S132,'Data Input'!AM132,'Data Input'!AN132,'Data Input'!AO132,'Data Input'!AP132))","v":""},{"$f":"IF(P128=\"\",\"\",P128/COUNTIF('Data Input'!$C$8:$AQ$8,$P$2))","v":""},{"$f":"IF(ISBLANK('Data Input'!C132),\"\",SUM('Data Input'!P132))","v":""},{"$f":"IF(R128=\"\",\"\",R128/COUNTIF('Data Input'!$C$8:$AQ$8,$R$2))","v":""}]
[{"$f":"IF('Data Input'!A133=0,\"\",'Data Input'!A133)","v":""},{"$f":"IF(H129=\"\",\"\",IF(H129>Welcome!$K$23-1,\"Exceeding\",IF(H129>Welcome!$G$23-1,\"Expected\",IF(H129<Welcome!$G$23,\"Below\"))))","v":""},{"$f":"IF(ISBLANK('Data Input'!A133),\"\",COUNTIF('Data Input'!C133:AQ133,\"\")-1)","v":""},{"$f":"IF(ISBLANK('Data Input'!A133),\"\",COUNTIF('Data Input'!C133:AQ133,\"0\"))","v":""},{"$f":"IF(ISBLANK('Data Input'!A133),\"\",SUM(C129,D129))","v":""},{"$f":"IF(ISBLANK('Data Input'!A133),\"\",SUM('Data Input'!C133:V133))","v":""},{"$f":"IF(ISBLANK('Data Input'!A133),\"\",SUM('Data Input'!X133:AQ133))","v":""},{"$f":"IF(ISBLANK('Data Input'!A133),\"\",SUM('Data Input'!C133:AQ133))","v":""},{"$f":"IF(H129=\"\",\"\",H129/(COUNTA('Data Input'!$C$8:$AQ$8)-1))","v":""},{"$f":"IF(ISBLANK('Data Input'!A133),\"\",SUM('Data Input'!I133,'Data Input'!M133,'Data Input'!AB133,'Data Input'!AE133))","v":""},{"$f":"IF(J129=\"\",\"\",J129/COUNTIF('Data Input'!$C$8:$AQ$8,$J$2))","v":""},{"$f":"IF(ISBLANK('Data Input'!A133),\"\",SUM('Data Input'!E133,'Data Input'!G133,'Data Input'!H133,'Data Input'!L133,'Data Input'!N133,'Data Input'!Q133,'Data Input'!R133,'Data Input'!T133,'Data Input'!U133,'Data Input'!V133,'Data Input'!X133,'Data Input'!Y133,'Data Input'!Z133,'Data Input'!AA133,'Data Input'!AC133,'Data Input'!AD133,'Data Input'!AF133,'Data Input'!AG133,'Data Input'!AH133,'Data Input'!AI133,'Data Input'!AJ133,'Data Input'!AK133,'Data Input'!AL133))","v":""},{"$f":"IF(L129=\"\",\"\",L129/COUNTIF('Data Input'!$C$8:$AQ$8,$L$2))","v":""},{"$f":"IF(ISBLANK('Data Input'!A133),\"\",SUM('Data Input'!K133,'Data Input'!AQ133))","v":""},{"$f":"IF(N129=\"\",\"\",N129/COUNTIF('Data Input'!$C$8:$AQ$8,$N$2))","v":""},{"$f":"IF(ISBLANK('Data Input'!A133),\"\",SUM('Data Input'!C133,'Data Input'!D133,'Data Input'!F133,'Data Input'!J133,'Data Input'!O133,'Data Input'!S133,'Data Input'!AM133,'Data Input'!AN133,'Data Input'!AO133,'Data Input'!AP133))","v":""},{"$f":"IF(P129=\"\",\"\",P129/COUNTIF('Data Input'!$C$8:$AQ$8,$P$2))","v":""},{"$f":"IF(ISBLANK('Data Input'!C133),\"\",SUM('Data Input'!P133))","v":""},{"$f":"IF(R129=\"\",\"\",R129/COUNTIF('Data Input'!$C$8:$AQ$8,$R$2))","v":""}]
[{"$f":"IF('Data Input'!A134=0,\"\",'Data Input'!A134)","v":""},{"$f":"IF(H130=\"\",\"\",IF(H130>Welcome!$K$23-1,\"Exceeding\",IF(H130>Welcome!$G$23-1,\"Expected\",IF(H130<Welcome!$G$23,\"Below\"))))","v":""},{"$f":"IF(ISBLANK('Data Input'!A134),\"\",COUNTIF('Data Input'!C134:AQ134,\"\")-1)","v":""},{"$f":"IF(ISBLANK('Data Input'!A134),\"\",COUNTIF('Data Input'!C134:AQ134,\"0\"))","v":""},{"$f":"IF(ISBLANK('Data Input'!A134),\"\",SUM(C130,D130))","v":""},{"$f":"IF(ISBLANK('Data Input'!A134),\"\",SUM('Data Input'!C134:V134))","v":""},{"$f":"IF(ISBLANK('Data Input'!A134),\"\",SUM('Data Input'!X134:AQ134))","v":""},{"$f":"IF(ISBLANK('Data Input'!A134),\"\",SUM('Data Input'!C134:AQ134))","v":""},{"$f":"IF(H130=\"\",\"\",H130/(COUNTA('Data Input'!$C$8:$AQ$8)-1))","v":""},{"$f":"IF(ISBLANK('Data Input'!A134),\"\",SUM('Data Input'!I134,'Data Input'!M134,'Data Input'!AB134,'Data Input'!AE134))","v":""},{"$f":"IF(J130=\"\",\"\",J130/COUNTIF('Data Input'!$C$8:$AQ$8,$J$2))","v":""},{"$f":"IF(ISBLANK('Data Input'!A134),\"\",SUM('Data Input'!E134,'Data Input'!G134,'Data Input'!H134,'Data Input'!L134,'Data Input'!N134,'Data Input'!Q134,'Data Input'!R134,'Data Input'!T134,'Data Input'!U134,'Data Input'!V134,'Data Input'!X134,'Data Input'!Y134,'Data Input'!Z134,'Data Input'!AA134,'Data Input'!AC134,'Data Input'!AD134,'Data Input'!AF134,'Data Input'!AG134,'Data Input'!AH134,'Data Input'!AI134,'Data Input'!AJ134,'Data Input'!AK134,'Data Input'!AL134))","v":""},{"$f":"IF(L130=\"\",\"\",L130/COUNTIF('Data Input'!$C$8:$AQ$8,$L$2))","v":""},{"$f":"IF(ISBLANK('Data Input'!A134),\"\",SUM('Data Input'!K134,'Data Input'!AQ134))","v":""},{"$f":"IF(N130=\"\",\"\",N130/COUNTIF('Data Input'!$C$8:$AQ$8,$N$2))","v":""},{"$f":"IF(ISBLANK('Data Input'!A134),\"\",SUM('Data Input'!C134,'Data Input'!D134,'Data Input'!F134,'Data Input'!J134,'Data Input'!O134,'Data Input'!S134,'Data Input'!AM134,'Data Input'!AN134,'Data Input'!AO134,'Data Input'!AP134))","v":""},{"$f":"IF(P130=\"\",\"\",P130/COUNTIF('Data Input'!$C$8:$AQ$8,$P$2))","v":""},{"$f":"IF(ISBLANK('Data Input'!C134),\"\",SUM('Data Input'!P134))","v":""},{"$f":"IF(R130=\"\",\"\",R130/COUNTIF('Data Input'!$C$8:$AQ$8,$R$2))","v":""}]
[{"$f":"IF('Data Input'!A135=0,\"\",'Data Input'!A135)","v":""},{"$f":"IF(H131=\"\",\"\",IF(H131>Welcome!$K$23-1,\"Exceeding\",IF(H131>Welcome!$G$23-1,\"Expected\",IF(H131<Welcome!$G$23,\"Below\"))))","v":""},{"$f":"IF(ISBLANK('Data Input'!A135),\"\",COUNTIF('Data Input'!C135:AQ135,\"\")-1)","v":""},{"$f":"IF(ISBLANK('Data Input'!A135),\"\",COUNTIF('Data Input'!C135:AQ135,\"0\"))","v":""},{"$f":"IF(ISBLANK('Data Input'!A135),\"\",SUM(C131,D131))","v":""},{"$f":"IF(ISBLANK('Data Input'!A135),\"\",SUM('Data Input'!C135:V135))","v":""},{"$f":"IF(ISBLANK('Data Input'!A135),\"\",SUM('Data Input'!X135:AQ135))","v":""},{"$f":"IF(ISBLANK('Data Input'!A135),\"\",SUM('Data Input'!C135:AQ135))","v":""},{"$f":"IF(H131=\"\",\"\",H131/(COUNTA('Data Input'!$C$8:$AQ$8)-1))","v":""},{"$f":"IF(ISBLANK('Data Input'!A135),\"\",SUM('Data Input'!I135,'Data Input'!M135,'Data Input'!AB135,'Data Input'!AE135))","v":""},{"$f":"IF(J131=\"\",\"\",J131/COUNTIF('Data Input'!$C$8:$AQ$8,$J$2))","v":""},{"$f":"IF(ISBLANK('Data Input'!A135),\"\",SUM('Data Input'!E135,'Data Input'!G135,'Data Input'!H135,'Data Input'!L135,'Data Input'!N135,'Data Input'!Q135,'Data Input'!R135,'Data Input'!T135,'Data Input'!U135,'Data Input'!V135,'Data Input'!X135,'Data Input'!Y135,'Data Input'!Z135,'Data Input'!AA135,'Data Input'!AC135,'Data Input'!AD135,'Data Input'!AF135,'Data Input'!AG135,'Data Input'!AH135,'Data Input'!AI135,'Data Input'!AJ135,'Data Input'!AK135,'Data Input'!AL135))","v":""},{"$f":"IF(L131=\"\",\"\",L131/COUNTIF('Data Input'!$C$8:$AQ$8,$L$2))","v":""},{"$f":"IF(ISBLANK('Data Input'!A135),\"\",SUM('Data Input'!K135,'Data Input'!AQ135))","v":""},{"$f":"IF(N131=\"\",\"\",N131/COUNTIF('Data Input'!$C$8:$AQ$8,$N$2))","v":""},{"$f":"IF(ISBLANK('Data Input'!A135),\"\",SUM('Data Input'!C135,'Data Input'!D135,'Data Input'!F135,'Data Input'!J135,'Data Input'!O135,'Data Input'!S135,'Data Input'!AM135,'Data Input'!AN135,'Data Input'!AO135,'Data Input'!AP135))","v":""},{"$f":"IF(P131=\"\",\"\",P131/COUNTIF('Data Input'!$C$8:$AQ$8,$P$2))","v":""},{"$f":"IF(ISBLANK('Data Input'!C135),\"\",SUM('Data Input'!P135))","v":""},{"$f":"IF(R131=\"\",\"\",R131/COUNTIF('Data Input'!$C$8:$AQ$8,$R$2))","v":""}]
[{"$f":"IF('Data Input'!A136=0,\"\",'Data Input'!A136)","v":""},{"$f":"IF(H132=\"\",\"\",IF(H132>Welcome!$K$23-1,\"Exceeding\",IF(H132>Welcome!$G$23-1,\"Expected\",IF(H132<Welcome!$G$23,\"Below\"))))","v":""},{"$f":"IF(ISBLANK('Data Input'!A136),\"\",COUNTIF('Data Input'!C136:AQ136,\"\")-1)","v":""},{"$f":"IF(ISBLANK('Data Input'!A136),\"\",COUNTIF('Data Input'!C136:AQ136,\"0\"))","v":""},{"$f":"IF(ISBLANK('Data Input'!A136),\"\",SUM(C132,D132))","v":""},{"$f":"IF(ISBLANK('Data Input'!A136),\"\",SUM('Data Input'!C136:V136))","v":""},{"$f":"IF(ISBLANK('Data Input'!A136),\"\",SUM('Data Input'!X136:AQ136))","v":""},{"$f":"IF(ISBLANK('Data Input'!A136),\"\",SUM('Data Input'!C136:AQ136))","v":""},{"$f":"IF(H132=\"\",\"\",H132/(COUNTA('Data Input'!$C$8:$AQ$8)-1))","v":""},{"$f":"IF(ISBLANK('Data Input'!A136),\"\",SUM('Data Input'!I136,'Data Input'!M136,'Data Input'!AB136,'Data Input'!AE136))","v":""},{"$f":"IF(J132=\"\",\"\",J132/COUNTIF('Data Input'!$C$8:$AQ$8,$J$2))","v":""},{"$f":"IF(ISBLANK('Data Input'!A136),\"\",SUM('Data Input'!E136,'Data Input'!G136,'Data Input'!H136,'Data Input'!L136,'Data Input'!N136,'Data Input'!Q136,'Data Input'!R136,'Data Input'!T136,'Data Input'!U136,'Data Input'!V136,'Data Input'!X136,'Data Input'!Y136,'Data Input'!Z136,'Data Input'!AA136,'Data Input'!AC136,'Data Input'!AD136,'Data Input'!AF136,'Data Input'!AG136,'Data Input'!AH136,'Data Input'!AI136,'Data Input'!AJ136,'Data Input'!AK136,'Data Input'!AL136))","v":""},{"$f":"IF(L132=\"\",\"\",L132/COUNTIF('Data Input'!$C$8:$AQ$8,$L$2))","v":""},{"$f":"IF(ISBLANK('Data Input'!A136),\"\",SUM('Data Input'!K136,'Data Input'!AQ136))","v":""},{"$f":"IF(N132=\"\",\"\",N132/COUNTIF('Data Input'!$C$8:$AQ$8,$N$2))","v":""},{"$f":"IF(ISBLANK('Data Input'!A136),\"\",SUM('Data Input'!C136,'Data Input'!D136,'Data Input'!F136,'Data Input'!J136,'Data Input'!O136,'Data Input'!S136,'Data Input'!AM136,'Data Input'!AN136,'Data Input'!AO136,'Data Input'!AP136))","v":""},{"$f":"IF(P132=\"\",\"\",P132/COUNTIF('Data Input'!$C$8:$AQ$8,$P$2))","v":""},{"$f":"IF(ISBLANK('Data Input'!C136),\"\",SUM('Data Input'!P136))","v":""},{"$f":"IF(R132=\"\",\"\",R132/COUNTIF('Data Input'!$C$8:$AQ$8,$R$2))","v":""}]
[{"$f":"IF('Data Input'!A137=0,\"\",'Data Input'!A137)","v":""},{"$f":"IF(H133=\"\",\"\",IF(H133>Welcome!$K$23-1,\"Exceeding\",IF(H133>Welcome!$G$23-1,\"Expected\",IF(H133<Welcome!$G$23,\"Below\"))))","v":""},{"$f":"IF(ISBLANK('Data Input'!A137),\"\",COUNTIF('Data Input'!C137:AQ137,\"\")-1)","v":""},{"$f":"IF(ISBLANK('Data Input'!A137),\"\",COUNTIF('Data Input'!C137:AQ137,\"0\"))","v":""},{"$f":"IF(ISBLANK('Data Input'!A137),\"\",SUM(C133,D133))","v":""},{"$f":"IF(ISBLANK('Data Input'!A137),\"\",SUM('Data Input'!C137:V137))","v":""},{"$f":"IF(ISBLANK('Data Input'!A137),\"\",SUM('Data Input'!X137:AQ137))","v":""},{"$f":"IF(ISBLANK('Data Input'!A137),\"\",SUM('Data Input'!C137:AQ137))","v":""},{"$f":"IF(H133=\"\",\"\",H133/(COUNTA('Data Input'!$C$8:$AQ$8)-1))","v":""},{"$f":"IF(ISBLANK('Data Input'!A137),\"\",SUM('Data Input'!I137,'Data Input'!M137,'Data Input'!AB137,'Data Input'!AE137))","v":""},{"$f":"IF(J133=\"\",\"\",J133/COUNTIF('Data Input'!$C$8:$AQ$8,$J$2))","v":""},{"$f":"IF(ISBLANK('Data Input'!A137),\"\",SUM('Data Input'!E137,'Data Input'!G137,'Data Input'!H137,'Data Input'!L137,'Data Input'!N137,'Data Input'!Q137,'Data Input'!R137,'Data Input'!T137,'Data Input'!U137,'Data Input'!V137,'Data Input'!X137,'Data Input'!Y137,'Data Input'!Z137,'Data Input'!AA137,'Data Input'!AC137,'Data Input'!AD137,'Data Input'!AF137,'Data Input'!AG137,'Data Input'!AH137,'Data Input'!AI137,'Data Input'!AJ137,'Data Input'!AK137,'Data Input'!AL137))","v":""},{"$f":"IF(L133=\"\",\"\",L133/COUNTIF('Data Input'!$C$8:$AQ$8,$L$2))","v":""},{"$f":"IF(ISBLANK('Data Input'!A137),\"\",SUM('Data Input'!K137,'Data Input'!AQ137))","v":""},{"$f":"IF(N133=\"\",\"\",N133/COUNTIF('Data Input'!$C$8:$AQ$8,$N$2))","v":""},{"$f":"IF(ISBLANK('Data Input'!A137),\"\",SUM('Data Input'!C137,'Data Input'!D137,'Data Input'!F137,'Data Input'!J137,'Data Input'!O137,'Data Input'!S137,'Data Input'!AM137,'Data Input'!AN137,'Data Input'!AO137,'Data Input'!AP137))","v":""},{"$f":"IF(P133=\"\",\"\",P133/COUNTIF('Data Input'!$C$8:$AQ$8,$P$2))","v":""},{"$f":"IF(ISBLANK('Data Input'!C137),\"\",SUM('Data Input'!P137))","v":""},{"$f":"IF(R133=\"\",\"\",R133/COUNTIF('Data Input'!$C$8:$AQ$8,$R$2))","v":""}]
[{"$f":"IF('Data Input'!A138=0,\"\",'Data Input'!A138)","v":""},{"$f":"IF(H134=\"\",\"\",IF(H134>Welcome!$K$23-1,\"Exceeding\",IF(H134>Welcome!$G$23-1,\"Expected\",IF(H134<Welcome!$G$23,\"Below\"))))","v":""},{"$f":"IF(ISBLANK('Data Input'!A138),\"\",COUNTIF('Data Input'!C138:AQ138,\"\")-1)","v":""},{"$f":"IF(ISBLANK('Data Input'!A138),\"\",COUNTIF('Data Input'!C138:AQ138,\"0\"))","v":""},{"$f":"IF(ISBLANK('Data Input'!A138),\"\",SUM(C134,D134))","v":""},{"$f":"IF(ISBLANK('Data Input'!A138),\"\",SUM('Data Input'!C138:V138))","v":""},{"$f":"IF(ISBLANK('Data Input'!A138),\"\",SUM('Data Input'!X138:AQ138))","v":""},{"$f":"IF(ISBLANK('Data Input'!A138),\"\",SUM('Data Input'!C138:AQ138))","v":""},{"$f":"IF(H134=\"\",\"\",H134/(COUNTA('Data Input'!$C$8:$AQ$8)-1))","v":""},{"$f":"IF(ISBLANK('Data Input'!A138),\"\",SUM('Data Input'!I138,'Data Input'!M138,'Data Input'!AB138,'Data Input'!AE138))","v":""},{"$f":"IF(J134=\"\",\"\",J134/COUNTIF('Data Input'!$C$8:$AQ$8,$J$2))","v":""},{"$f":"IF(ISBLANK('Data Input'!A138),\"\",SUM('Data Input'!E138,'Data Input'!G138,'Data Input'!H138,'Data Input'!L138,'Data Input'!N138,'Data Input'!Q138,'Data Input'!R138,'Data Input'!T138,'Data Input'!U138,'Data Input'!V138,'Data Input'!X138,'Data Input'!Y138,'Data Input'!Z138,'Data Input'!AA138,'Data Input'!AC138,'Data Input'!AD138,'Data Input'!AF138,'Data Input'!AG138,'Data Input'!AH138,'Data Input'!AI138,'Data Input'!AJ138,'Data Input'!AK138,'Data Input'!AL138))","v":""},{"$f":"IF(L134=\"\",\"\",L134/COUNTIF('Data Input'!$C$8:$AQ$8,$L$2))","v":""},{"$f":"IF(ISBLANK('Data Input'!A138),\"\",SUM('Data Input'!K138,'Data Input'!AQ138))","v":""},{"$f":"IF(N134=\"\",\"\",N134/COUNTIF('Data Input'!$C$8:$AQ$8,$N$2))","v":""},{"$f":"IF(ISBLANK('Data Input'!A138),\"\",SUM('Data Input'!C138,'Data Input'!D138,'Data Input'!F138,'Data Input'!J138,'Data Input'!O138,'Data Input'!S138,'Data Input'!AM138,'Data Input'!AN138,'Data Input'!AO138,'Data Input'!AP138))","v":""},{"$f":"IF(P134=\"\",\"\",P134/COUNTIF('Data Input'!$C$8:$AQ$8,$P$2))","v":""},{"$f":"IF(ISBLANK('Data Input'!C138),\"\",SUM('Data Input'!P138))","v":""},{"$f":"IF(R134=\"\",\"\",R134/COUNTIF('Data Input'!$C$8:$AQ$8,$R$2))","v":""}]
[{"$f":"IF('Data Input'!A139=0,\"\",'Data Input'!A139)","v":""},{"$f":"IF(H135=\"\",\"\",IF(H135>Welcome!$K$23-1,\"Exceeding\",IF(H135>Welcome!$G$23-1,\"Expected\",IF(H135<Welcome!$G$23,\"Below\"))))","v":""},{"$f":"IF(ISBLANK('Data Input'!A139),\"\",COUNTIF('Data Input'!C139:AQ139,\"\")-1)","v":""},{"$f":"IF(ISBLANK('Data Input'!A139),\"\",COUNTIF('Data Input'!C139:AQ139,\"0\"))","v":""},{"$f":"IF(ISBLANK('Data Input'!A139),\"\",SUM(C135,D135))","v":""},{"$f":"IF(ISBLANK('Data Input'!A139),\"\",SUM('Data Input'!C139:V139))","v":""},{"$f":"IF(ISBLANK('Data Input'!A139),\"\",SUM('Data Input'!X139:AQ139))","v":""},{"$f":"IF(ISBLANK('Data Input'!A139),\"\",SUM('Data Input'!C139:AQ139))","v":""},{"$f":"IF(H135=\"\",\"\",H135/(COUNTA('Data Input'!$C$8:$AQ$8)-1))","v":""},{"$f":"IF(ISBLANK('Data Input'!A139),\"\",SUM('Data Input'!I139,'Data Input'!M139,'Data Input'!AB139,'Data Input'!AE139))","v":""},{"$f":"IF(J135=\"\",\"\",J135/COUNTIF('Data Input'!$C$8:$AQ$8,$J$2))","v":""},{"$f":"IF(ISBLANK('Data Input'!A139),\"\",SUM('Data Input'!E139,'Data Input'!G139,'Data Input'!H139,'Data Input'!L139,'Data Input'!N139,'Data Input'!Q139,'Data Input'!R139,'Data Input'!T139,'Data Input'!U139,'Data Input'!V139,'Data Input'!X139,'Data Input'!Y139,'Data Input'!Z139,'Data Input'!AA139,'Data Input'!AC139,'Data Input'!AD139,'Data Input'!AF139,'Data Input'!AG139,'Data Input'!AH139,'Data Input'!AI139,'Data Input'!AJ139,'Data Input'!AK139,'Data Input'!AL139))","v":""},{"$f":"IF(L135=\"\",\"\",L135/COUNTIF('Data Input'!$C$8:$AQ$8,$L$2))","v":""},{"$f":"IF(ISBLANK('Data Input'!A139),\"\",SUM('Data Input'!K139,'Data Input'!AQ139))","v":""},{"$f":"IF(N135=\"\",\"\",N135/COUNTIF('Data Input'!$C$8:$AQ$8,$N$2))","v":""},{"$f":"IF(ISBLANK('Data Input'!A139),\"\",SUM('Data Input'!C139,'Data Input'!D139,'Data Input'!F139,'Data Input'!J139,'Data Input'!O139,'Data Input'!S139,'Data Input'!AM139,'Data Input'!AN139,'Data Input'!AO139,'Data Input'!AP139))","v":""},{"$f":"IF(P135=\"\",\"\",P135/COUNTIF('Data Input'!$C$8:$AQ$8,$P$2))","v":""},{"$f":"IF(ISBLANK('Data Input'!C139),\"\",SUM('Data Input'!P139))","v":""},{"$f":"IF(R135=\"\",\"\",R135/COUNTIF('Data Input'!$C$8:$AQ$8,$R$2))","v":""}]
[{"$f":"IF('Data Input'!A140=0,\"\",'Data Input'!A140)","v":""},{"$f":"IF(H136=\"\",\"\",IF(H136>Welcome!$K$23-1,\"Exceeding\",IF(H136>Welcome!$G$23-1,\"Expected\",IF(H136<Welcome!$G$23,\"Below\"))))","v":""},{"$f":"IF(ISBLANK('Data Input'!A140),\"\",COUNTIF('Data Input'!C140:AQ140,\"\")-1)","v":""},{"$f":"IF(ISBLANK('Data Input'!A140),\"\",COUNTIF('Data Input'!C140:AQ140,\"0\"))","v":""},{"$f":"IF(ISBLANK('Data Input'!A140),\"\",SUM(C136,D136))","v":""},{"$f":"IF(ISBLANK('Data Input'!A140),\"\",SUM('Data Input'!C140:V140))","v":""},{"$f":"IF(ISBLANK('Data Input'!A140),\"\",SUM('Data Input'!X140:AQ140))","v":""},{"$f":"IF(ISBLANK('Data Input'!A140),\"\",SUM('Data Input'!C140:AQ140))","v":""},{"$f":"IF(H136=\"\",\"\",H136/(COUNTA('Data Input'!$C$8:$AQ$8)-1))","v":""},{"$f":"IF(ISBLANK('Data Input'!A140),\"\",SUM('Data Input'!I140,'Data Input'!M140,'Data Input'!AB140,'Data Input'!AE140))","v":""},{"$f":"IF(J136=\"\",\"\",J136/COUNTIF('Data Input'!$C$8:$AQ$8,$J$2))","v":""},{"$f":"IF(ISBLANK('Data Input'!A140),\"\",SUM('Data Input'!E140,'Data Input'!G140,'Data Input'!H140,'Data Input'!L140,'Data Input'!N140,'Data Input'!Q140,'Data Input'!R140,'Data Input'!T140,'Data Input'!U140,'Data Input'!V140,'Data Input'!X140,'Data Input'!Y140,'Data Input'!Z140,'Data Input'!AA140,'Data Input'!AC140,'Data Input'!AD140,'Data Input'!AF140,'Data Input'!AG140,'Data Input'!AH140,'Data Input'!AI140,'Data Input'!AJ140,'Data Input'!AK140,'Data Input'!AL140))","v":""},{"$f":"IF(L136=\"\",\"\",L136/COUNTIF('Data Input'!$C$8:$AQ$8,$L$2))","v":""},{"$f":"IF(ISBLANK('Data Input'!A140),\"\",SUM('Data Input'!K140,'Data Input'!AQ140))","v":""},{"$f":"IF(N136=\"\",\"\",N136/COUNTIF('Data Input'!$C$8:$AQ$8,$N$2))","v":""},{"$f":"IF(ISBLANK('Data Input'!A140),\"\",SUM('Data Input'!C140,'Data Input'!D140,'Data Input'!F140,'Data Input'!J140,'Data Input'!O140,'Data Input'!S140,'Data Input'!AM140,'Data Input'!AN140,'Data Input'!AO140,'Data Input'!AP140))","v":""},{"$f":"IF(P136=\"\",\"\",P136/COUNTIF('Data Input'!$C$8:$AQ$8,$P$2))","v":""},{"$f":"IF(ISBLANK('Data Input'!C140),\"\",SUM('Data Input'!P140))","v":""},{"$f":"IF(R136=\"\",\"\",R136/COUNTIF('Data Input'!$C$8:$AQ$8,$R$2))","v":""}]
[{"$f":"IF('Data Input'!A141=0,\"\",'Data Input'!A141)","v":""},{"$f":"IF(H137=\"\",\"\",IF(H137>Welcome!$K$23-1,\"Exceeding\",IF(H137>Welcome!$G$23-1,\"Expected\",IF(H137<Welcome!$G$23,\"Below\"))))","v":""},{"$f":"IF(ISBLANK('Data Input'!A141),\"\",COUNTIF('Data Input'!C141:AQ141,\"\")-1)","v":""},{"$f":"IF(ISBLANK('Data Input'!A141),\"\",COUNTIF('Data Input'!C141:AQ141,\"0\"))","v":""},{"$f":"IF(ISBLANK('Data Input'!A141),\"\",SUM(C137,D137))","v":""},{"$f":"IF(ISBLANK('Data Input'!A141),\"\",SUM('Data Input'!C141:V141))","v":""},{"$f":"IF(ISBLANK('Data Input'!A141),\"\",SUM('Data Input'!X141:AQ141))","v":""},{"$f":"IF(ISBLANK('Data Input'!A141),\"\",SUM('Data Input'!C141:AQ141))","v":""},{"$f":"IF(H137=\"\",\"\",H137/(COUNTA('Data Input'!$C$8:$AQ$8)-1))","v":""},{"$f":"IF(ISBLANK('Data Input'!A141),\"\",SUM('Data Input'!I141,'Data Input'!M141,'Data Input'!AB141,'Data Input'!AE141))","v":""},{"$f":"IF(J137=\"\",\"\",J137/COUNTIF('Data Input'!$C$8:$AQ$8,$J$2))","v":""},{"$f":"IF(ISBLANK('Data Input'!A141),\"\",SUM('Data Input'!E141,'Data Input'!G141,'Data Input'!H141,'Data Input'!L141,'Data Input'!N141,'Data Input'!Q141,'Data Input'!R141,'Data Input'!T141,'Data Input'!U141,'Data Input'!V141,'Data Input'!X141,'Data Input'!Y141,'Data Input'!Z141,'Data Input'!AA141,'Data Input'!AC141,'Data Input'!AD141,'Data Input'!AF141,'Data Input'!AG141,'Data Input'!AH141,'Data Input'!AI141,'Data Input'!AJ141,'Data Input'!AK141,'Data Input'!AL141))","v":""},{"$f":"IF(L137=\"\",\"\",L137/COUNTIF('Data Input'!$C$8:$AQ$8,$L$2))","v":""},{"$f":"IF(ISBLANK('Data Input'!A141),\"\",SUM('Data Input'!K141,'Data Input'!AQ141))","v":""},{"$f":"IF(N137=\"\",\"\",N137/COUNTIF('Data Input'!$C$8:$AQ$8,$N$2))","v":""},{"$f":"IF(ISBLANK('Data Input'!A141),\"\",SUM('Data Input'!C141,'Data Input'!D141,'Data Input'!F141,'Data Input'!J141,'Data Input'!O141,'Data Input'!S141,'Data Input'!AM141,'Data Input'!AN141,'Data Input'!AO141,'Data Input'!AP141))","v":""},{"$f":"IF(P137=\"\",\"\",P137/COUNTIF('Data Input'!$C$8:$AQ$8,$P$2))","v":""},{"$f":"IF(ISBLANK('Data Input'!C141),\"\",SUM('Data Input'!P141))","v":""},{"$f":"IF(R137=\"\",\"\",R137/COUNTIF('Data Input'!$C$8:$AQ$8,$R$2))","v":""}]
[{"$f":"IF('Data Input'!A142=0,\"\",'Data Input'!A142)","v":""},{"$f":"IF(H138=\"\",\"\",IF(H138>Welcome!$K$23-1,\"Exceeding\",IF(H138>Welcome!$G$23-1,\"Expected\",IF(H138<Welcome!$G$23,\"Below\"))))","v":""},{"$f":"IF(ISBLANK('Data Input'!A142),\"\",COUNTIF('Data Input'!C142:AQ142,\"\")-1)","v":""},{"$f":"IF(ISBLANK('Data Input'!A142),\"\",COUNTIF('Data Input'!C142:AQ142,\"0\"))","v":""},{"$f":"IF(ISBLANK('Data Input'!A142),\"\",SUM(C138,D138))","v":""},{"$f":"IF(ISBLANK('Data Input'!A142),\"\",SUM('Data Input'!C142:V142))","v":""},{"$f":"IF(ISBLANK('Data Input'!A142),\"\",SUM('Data Input'!X142:AQ142))","v":""},{"$f":"IF(ISBLANK('Data Input'!A142),\"\",SUM('Data Input'!C142:AQ142))","v":""},{"$f":"IF(H138=\"\",\"\",H138/(COUNTA('Data Input'!$C$8:$AQ$8)-1))","v":""},{"$f":"IF(ISBLANK('Data Input'!A142),\"\",SUM('Data Input'!I142,'Data Input'!M142,'Data Input'!AB142,'Data Input'!AE142))","v":""},{"$f":"IF(J138=\"\",\"\",J138/COUNTIF('Data Input'!$C$8:$AQ$8,$J$2))","v":""},{"$f":"IF(ISBLANK('Data Input'!A142),\"\",SUM('Data Input'!E142,'Data Input'!G142,'Data Input'!H142,'Data Input'!L142,'Data Input'!N142,'Data Input'!Q142,'Data Input'!R142,'Data Input'!T142,'Data Input'!U142,'Data Input'!V142,'Data Input'!X142,'Data Input'!Y142,'Data Input'!Z142,'Data Input'!AA142,'Data Input'!AC142,'Data Input'!AD142,'Data Input'!AF142,'Data Input'!AG142,'Data Input'!AH142,'Data Input'!AI142,'Data Input'!AJ142,'Data Input'!AK142,'Data Input'!AL142))","v":""},{"$f":"IF(L138=\"\",\"\",L138/COUNTIF('Data Input'!$C$8:$AQ$8,$L$2))","v":""},{"$f":"IF(ISBLANK('Data Input'!A142),\"\",SUM('Data Input'!K142,'Data Input'!AQ142))","v":""},{"$f":"IF(N138=\"\",\"\",N138/COUNTIF('Data Input'!$C$8:$AQ$8,$N$2))","v":""},{"$f":"IF(ISBLANK('Data Input'!A142),\"\",SUM('Data Input'!C142,'Data Input'!D142,'Data Input'!F142,'Data Input'!J142,'Data Input'!O142,'Data Input'!S142,'Data Input'!AM142,'Data Input'!AN142,'Data Input'!AO142,'Data Input'!AP142))","v":""},{"$f":"IF(P138=\"\",\"\",P138/COUNTIF('Data Input'!$C$8:$AQ$8,$P$2))","v":""},{"$f":"IF(ISBLANK('Data Input'!C142),\"\",SUM('Data Input'!P142))","v":""},{"$f":"IF(R138=\"\",\"\",R138/COUNTIF('Data Input'!$C$8:$AQ$8,$R$2))","v":""}]
[{"$f":"IF('Data Input'!A143=0,\"\",'Data Input'!A143)","v":""},{"$f":"IF(H139=\"\",\"\",IF(H139>Welcome!$K$23-1,\"Exceeding\",IF(H139>Welcome!$G$23-1,\"Expected\",IF(H139<Welcome!$G$23,\"Below\"))))","v":""},{"$f":"IF(ISBLANK('Data Input'!A143),\"\",COUNTIF('Data Input'!C143:AQ143,\"\")-1)","v":""},{"$f":"IF(ISBLANK('Data Input'!A143),\"\",COUNTIF('Data Input'!C143:AQ143,\"0\"))","v":""},{"$f":"IF(ISBLANK('Data Input'!A143),\"\",SUM(C139,D139))","v":""},{"$f":"IF(ISBLANK('Data Input'!A143),\"\",SUM('Data Input'!C143:V143))","v":""},{"$f":"IF(ISBLANK('Data Input'!A143),\"\",SUM('Data Input'!X143:AQ143))","v":""},{"$f":"IF(ISBLANK('Data Input'!A143),\"\",SUM('Data Input'!C143:AQ143))","v":""},{"$f":"IF(H139=\"\",\"\",H139/(COUNTA('Data Input'!$C$8:$AQ$8)-1))","v":""},{"$f":"IF(ISBLANK('Data Input'!A143),\"\",SUM('Data Input'!I143,'Data Input'!M143,'Data Input'!AB143,'Data Input'!AE143))","v":""},{"$f":"IF(J139=\"\",\"\",J139/COUNTIF('Data Input'!$C$8:$AQ$8,$J$2))","v":""},{"$f":"IF(ISBLANK('Data Input'!A143),\"\",SUM('Data Input'!E143,'Data Input'!G143,'Data Input'!H143,'Data Input'!L143,'Data Input'!N143,'Data Input'!Q143,'Data Input'!R143,'Data Input'!T143,'Data Input'!U143,'Data Input'!V143,'Data Input'!X143,'Data Input'!Y143,'Data Input'!Z143,'Data Input'!AA143,'Data Input'!AC143,'Data Input'!AD143,'Data Input'!AF143,'Data Input'!AG143,'Data Input'!AH143,'Data Input'!AI143,'Data Input'!AJ143,'Data Input'!AK143,'Data Input'!AL143))","v":""},{"$f":"IF(L139=\"\",\"\",L139/COUNTIF('Data Input'!$C$8:$AQ$8,$L$2))","v":""},{"$f":"IF(ISBLANK('Data Input'!A143),\"\",SUM('Data Input'!K143,'Data Input'!AQ143))","v":""},{"$f":"IF(N139=\"\",\"\",N139/COUNTIF('Data Input'!$C$8:$AQ$8,$N$2))","v":""},{"$f":"IF(ISBLANK('Data Input'!A143),\"\",SUM('Data Input'!C143,'Data Input'!D143,'Data Input'!F143,'Data Input'!J143,'Data Input'!O143,'Data Input'!S143,'Data Input'!AM143,'Data Input'!AN143,'Data Input'!AO143,'Data Input'!AP143))","v":""},{"$f":"IF(P139=\"\",\"\",P139/COUNTIF('Data Input'!$C$8:$AQ$8,$P$2))","v":""},{"$f":"IF(ISBLANK('Data Input'!C143),\"\",SUM('Data Input'!P143))","v":""},{"$f":"IF(R139=\"\",\"\",R139/COUNTIF('Data Input'!$C$8:$AQ$8,$R$2))","v":""}]
[{"$f":"IF('Data Input'!A144=0,\"\",'Data Input'!A144)","v":""},{"$f":"IF(H140=\"\",\"\",IF(H140>Welcome!$K$23-1,\"Exceeding\",IF(H140>Welcome!$G$23-1,\"Expected\",IF(H140<Welcome!$G$23,\"Below\"))))","v":""},{"$f":"IF(ISBLANK('Data Input'!A144),\"\",COUNTIF('Data Input'!C144:AQ144,\"\")-1)","v":""},{"$f":"IF(ISBLANK('Data Input'!A144),\"\",COUNTIF('Data Input'!C144:AQ144,\"0\"))","v":""},{"$f":"IF(ISBLANK('Data Input'!A144),\"\",SUM(C140,D140))","v":""},{"$f":"IF(ISBLANK('Data Input'!A144),\"\",SUM('Data Input'!C144:V144))","v":""},{"$f":"IF(ISBLANK('Data Input'!A144),\"\",SUM('Data Input'!X144:AQ144))","v":""},{"$f":"IF(ISBLANK('Data Input'!A144),\"\",SUM('Data Input'!C144:AQ144))","v":""},{"$f":"IF(H140=\"\",\"\",H140/(COUNTA('Data Input'!$C$8:$AQ$8)-1))","v":""},{"$f":"IF(ISBLANK('Data Input'!A144),\"\",SUM('Data Input'!I144,'Data Input'!M144,'Data Input'!AB144,'Data Input'!AE144))","v":""},{"$f":"IF(J140=\"\",\"\",J140/COUNTIF('Data Input'!$C$8:$AQ$8,$J$2))","v":""},{"$f":"IF(ISBLANK('Data Input'!A144),\"\",SUM('Data Input'!E144,'Data Input'!G144,'Data Input'!H144,'Data Input'!L144,'Data Input'!N144,'Data Input'!Q144,'Data Input'!R144,'Data Input'!T144,'Data Input'!U144,'Data Input'!V144,'Data Input'!X144,'Data Input'!Y144,'Data Input'!Z144,'Data Input'!AA144,'Data Input'!AC144,'Data Input'!AD144,'Data Input'!AF144,'Data Input'!AG144,'Data Input'!AH144,'Data Input'!AI144,'Data Input'!AJ144,'Data Input'!AK144,'Data Input'!AL144))","v":""},{"$f":"IF(L140=\"\",\"\",L140/COUNTIF('Data Input'!$C$8:$AQ$8,$L$2))","v":""},{"$f":"IF(ISBLANK('Data Input'!A144),\"\",SUM('Data Input'!K144,'Data Input'!AQ144))","v":""},{"$f":"IF(N140=\"\",\"\",N140/COUNTIF('Data Input'!$C$8:$AQ$8,$N$2))","v":""},{"$f":"IF(ISBLANK('Data Input'!A144),\"\",SUM('Data Input'!C144,'Data Input'!D144,'Data Input'!F144,'Data Input'!J144,'Data Input'!O144,'Data Input'!S144,'Data Input'!AM144,'Data Input'!AN144,'Data Input'!AO144,'Data Input'!AP144))","v":""},{"$f":"IF(P140=\"\",\"\",P140/COUNTIF('Data Input'!$C$8:$AQ$8,$P$2))","v":""},{"$f":"IF(ISBLANK('Data Input'!C144),\"\",SUM('Data Input'!P144))","v":""},{"$f":"IF(R140=\"\",\"\",R140/COUNTIF('Data Input'!$C$8:$AQ$8,$R$2))","v":""}]
[{"$f":"IF('Data Input'!A145=0,\"\",'Data Input'!A145)","v":""},{"$f":"IF(H141=\"\",\"\",IF(H141>Welcome!$K$23-1,\"Exceeding\",IF(H141>Welcome!$G$23-1,\"Expected\",IF(H141<Welcome!$G$23,\"Below\"))))","v":""},{"$f":"IF(ISBLANK('Data Input'!A145),\"\",COUNTIF('Data Input'!C145:AQ145,\"\")-1)","v":""},{"$f":"IF(ISBLANK('Data Input'!A145),\"\",COUNTIF('Data Input'!C145:AQ145,\"0\"))","v":""},{"$f":"IF(ISBLANK('Data Input'!A145),\"\",SUM(C141,D141))","v":""},{"$f":"IF(ISBLANK('Data Input'!A145),\"\",SUM('Data Input'!C145:V145))","v":""},{"$f":"IF(ISBLANK('Data Input'!A145),\"\",SUM('Data Input'!X145:AQ145))","v":""},{"$f":"IF(ISBLANK('Data Input'!A145),\"\",SUM('Data Input'!C145:AQ145))","v":""},{"$f":"IF(H141=\"\",\"\",H141/(COUNTA('Data Input'!$C$8:$AQ$8)-1))","v":""},{"$f":"IF(ISBLANK('Data Input'!A145),\"\",SUM('Data Input'!I145,'Data Input'!M145,'Data Input'!AB145,'Data Input'!AE145))","v":""},{"$f":"IF(J141=\"\",\"\",J141/COUNTIF('Data Input'!$C$8:$AQ$8,$J$2))","v":""},{"$f":"IF(ISBLANK('Data Input'!A145),\"\",SUM('Data Input'!E145,'Data Input'!G145,'Data Input'!H145,'Data Input'!L145,'Data Input'!N145,'Data Input'!Q145,'Data Input'!R145,'Data Input'!T145,'Data Input'!U145,'Data Input'!V145,'Data Input'!X145,'Data Input'!Y145,'Data Input'!Z145,'Data Input'!AA145,'Data Input'!AC145,'Data Input'!AD145,'Data Input'!AF145,'Data Input'!AG145,'Data Input'!AH145,'Data Input'!AI145,'Data Input'!AJ145,'Data Input'!AK145,'Data Input'!AL145))","v":""},{"$f":"IF(L141=\"\",\"\",L141/COUNTIF('Data Input'!$C$8:$AQ$8,$L$2))","v":""},{"$f":"IF(ISBLANK('Data Input'!A145),\"\",SUM('Data Input'!K145,'Data Input'!AQ145))","v":""},{"$f":"IF(N141=\"\",\"\",N141/COUNTIF('Data Input'!$C$8:$AQ$8,$N$2))","v":""},{"$f":"IF(ISBLANK('Data Input'!A145),\"\",SUM('Data Input'!C145,'Data Input'!D145,'Data Input'!F145,'Data Input'!J145,'Data Input'!O145,'Data Input'!S145,'Data Input'!AM145,'Data Input'!AN145,'Data Input'!AO145,'Data Input'!AP145))","v":""},{"$f":"IF(P141=\"\",\"\",P141/COUNTIF('Data Input'!$C$8:$AQ$8,$P$2))","v":""},{"$f":"IF(ISBLANK('Data Input'!C145),\"\",SUM('Data Input'!P145))","v":""},{"$f":"IF(R141=\"\",\"\",R141/COUNTIF('Data Input'!$C$8:$AQ$8,$R$2))","v":""}]
[{"$f":"IF('Data Input'!A146=0,\"\",'Data Input'!A146)","v":""},{"$f":"IF(H142=\"\",\"\",IF(H142>Welcome!$K$23-1,\"Exceeding\",IF(H142>Welcome!$G$23-1,\"Expected\",IF(H142<Welcome!$G$23,\"Below\"))))","v":""},{"$f":"IF(ISBLANK('Data Input'!A146),\"\",COUNTIF('Data Input'!C146:AQ146,\"\")-1)","v":""},{"$f":"IF(ISBLANK('Data Input'!A146),\"\",COUNTIF('Data Input'!C146:AQ146,\"0\"))","v":""},{"$f":"IF(ISBLANK('Data Input'!A146),\"\",SUM(C142,D142))","v":""},{"$f":"IF(ISBLANK('Data Input'!A146),\"\",SUM('Data Input'!C146:V146))","v":""},{"$f":"IF(ISBLANK('Data Input'!A146),\"\",SUM('Data Input'!X146:AQ146))","v":""},{"$f":"IF(ISBLANK('Data Input'!A146),\"\",SUM('Data Input'!C146:AQ146))","v":""},{"$f":"IF(H142=\"\",\"\",H142/(COUNTA('Data Input'!$C$8:$AQ$8)-1))","v":""},{"$f":"IF(ISBLANK('Data Input'!A146),\"\",SUM('Data Input'!I146,'Data Input'!M146,'Data Input'!AB146,'Data Input'!AE146))","v":""},{"$f":"IF(J142=\"\",\"\",J142/COUNTIF('Data Input'!$C$8:$AQ$8,$J$2))","v":""},{"$f":"IF(ISBLANK('Data Input'!A146),\"\",SUM('Data Input'!E146,'Data Input'!G146,'Data Input'!H146,'Data Input'!L146,'Data Input'!N146,'Data Input'!Q146,'Data Input'!R146,'Data Input'!T146,'Data Input'!U146,'Data Input'!V146,'Data Input'!X146,'Data Input'!Y146,'Data Input'!Z146,'Data Input'!AA146,'Data Input'!AC146,'Data Input'!AD146,'Data Input'!AF146,'Data Input'!AG146,'Data Input'!AH146,'Data Input'!AI146,'Data Input'!AJ146,'Data Input'!AK146,'Data Input'!AL146))","v":""},{"$f":"IF(L142=\"\",\"\",L142/COUNTIF('Data Input'!$C$8:$AQ$8,$L$2))","v":""},{"$f":"IF(ISBLANK('Data Input'!A146),\"\",SUM('Data Input'!K146,'Data Input'!AQ146))","v":""},{"$f":"IF(N142=\"\",\"\",N142/COUNTIF('Data Input'!$C$8:$AQ$8,$N$2))","v":""},{"$f":"IF(ISBLANK('Data Input'!A146),\"\",SUM('Data Input'!C146,'Data Input'!D146,'Data Input'!F146,'Data Input'!J146,'Data Input'!O146,'Data Input'!S146,'Data Input'!AM146,'Data Input'!AN146,'Data Input'!AO146,'Data Input'!AP146))","v":""},{"$f":"IF(P142=\"\",\"\",P142/COUNTIF('Data Input'!$C$8:$AQ$8,$P$2))","v":""},{"$f":"IF(ISBLANK('Data Input'!C146),\"\",SUM('Data Input'!P146))","v":""},{"$f":"IF(R142=\"\",\"\",R142/COUNTIF('Data Input'!$C$8:$AQ$8,$R$2))","v":""}]
[{"$f":"IF('Data Input'!A147=0,\"\",'Data Input'!A147)","v":""},{"$f":"IF(H143=\"\",\"\",IF(H143>Welcome!$K$23-1,\"Exceeding\",IF(H143>Welcome!$G$23-1,\"Expected\",IF(H143<Welcome!$G$23,\"Below\"))))","v":""},{"$f":"IF(ISBLANK('Data Input'!A147),\"\",COUNTIF('Data Input'!C147:AQ147,\"\")-1)","v":""},{"$f":"IF(ISBLANK('Data Input'!A147),\"\",COUNTIF('Data Input'!C147:AQ147,\"0\"))","v":""},{"$f":"IF(ISBLANK('Data Input'!A147),\"\",SUM(C143,D143))","v":""},{"$f":"IF(ISBLANK('Data Input'!A147),\"\",SUM('Data Input'!C147:V147))","v":""},{"$f":"IF(ISBLANK('Data Input'!A147),\"\",SUM('Data Input'!X147:AQ147))","v":""},{"$f":"IF(ISBLANK('Data Input'!A147),\"\",SUM('Data Input'!C147:AQ147))","v":""},{"$f":"IF(H143=\"\",\"\",H143/(COUNTA('Data Input'!$C$8:$AQ$8)-1))","v":""},{"$f":"IF(ISBLANK('Data Input'!A147),\"\",SUM('Data Input'!I147,'Data Input'!M147,'Data Input'!AB147,'Data Input'!AE147))","v":""},{"$f":"IF(J143=\"\",\"\",J143/COUNTIF('Data Input'!$C$8:$AQ$8,$J$2))","v":""},{"$f":"IF(ISBLANK('Data Input'!A147),\"\",SUM('Data Input'!E147,'Data Input'!G147,'Data Input'!H147,'Data Input'!L147,'Data Input'!N147,'Data Input'!Q147,'Data Input'!R147,'Data Input'!T147,'Data Input'!U147,'Data Input'!V147,'Data Input'!X147,'Data Input'!Y147,'Data Input'!Z147,'Data Input'!AA147,'Data Input'!AC147,'Data Input'!AD147,'Data Input'!AF147,'Data Input'!AG147,'Data Input'!AH147,'Data Input'!AI147,'Data Input'!AJ147,'Data Input'!AK147,'Data Input'!AL147))","v":""},{"$f":"IF(L143=\"\",\"\",L143/COUNTIF('Data Input'!$C$8:$AQ$8,$L$2))","v":""},{"$f":"IF(ISBLANK('Data Input'!A147),\"\",SUM('Data Input'!K147,'Data Input'!AQ147))","v":""},{"$f":"IF(N143=\"\",\"\",N143/COUNTIF('Data Input'!$C$8:$AQ$8,$N$2))","v":""},{"$f":"IF(ISBLANK('Data Input'!A147),\"\",SUM('Data Input'!C147,'Data Input'!D147,'Data Input'!F147,'Data Input'!J147,'Data Input'!O147,'Data Input'!S147,'Data Input'!AM147,'Data Input'!AN147,'Data Input'!AO147,'Data Input'!AP147))","v":""},{"$f":"IF(P143=\"\",\"\",P143/COUNTIF('Data Input'!$C$8:$AQ$8,$P$2))","v":""},{"$f":"IF(ISBLANK('Data Input'!C147),\"\",SUM('Data Input'!P147))","v":""},{"$f":"IF(R143=\"\",\"\",R143/COUNTIF('Data Input'!$C$8:$AQ$8,$R$2))","v":""}]
[{"$f":"IF('Data Input'!A148=0,\"\",'Data Input'!A148)","v":""},{"$f":"IF(H144=\"\",\"\",IF(H144>Welcome!$K$23-1,\"Exceeding\",IF(H144>Welcome!$G$23-1,\"Expected\",IF(H144<Welcome!$G$23,\"Below\"))))","v":""},{"$f":"IF(ISBLANK('Data Input'!A148),\"\",COUNTIF('Data Input'!C148:AQ148,\"\")-1)","v":""},{"$f":"IF(ISBLANK('Data Input'!A148),\"\",COUNTIF('Data Input'!C148:AQ148,\"0\"))","v":""},{"$f":"IF(ISBLANK('Data Input'!A148),\"\",SUM(C144,D144))","v":""},{"$f":"IF(ISBLANK('Data Input'!A148),\"\",SUM('Data Input'!C148:V148))","v":""},{"$f":"IF(ISBLANK('Data Input'!A148),\"\",SUM('Data Input'!X148:AQ148))","v":""},{"$f":"IF(ISBLANK('Data Input'!A148),\"\",SUM('Data Input'!C148:AQ148))","v":""},{"$f":"IF(H144=\"\",\"\",H144/(COUNTA('Data Input'!$C$8:$AQ$8)-1))","v":""},{"$f":"IF(ISBLANK('Data Input'!A148),\"\",SUM('Data Input'!I148,'Data Input'!M148,'Data Input'!AB148,'Data Input'!AE148))","v":""},{"$f":"IF(J144=\"\",\"\",J144/COUNTIF('Data Input'!$C$8:$AQ$8,$J$2))","v":""},{"$f":"IF(ISBLANK('Data Input'!A148),\"\",SUM('Data Input'!E148,'Data Input'!G148,'Data Input'!H148,'Data Input'!L148,'Data Input'!N148,'Data Input'!Q148,'Data Input'!R148,'Data Input'!T148,'Data Input'!U148,'Data Input'!V148,'Data Input'!X148,'Data Input'!Y148,'Data Input'!Z148,'Data Input'!AA148,'Data Input'!AC148,'Data Input'!AD148,'Data Input'!AF148,'Data Input'!AG148,'Data Input'!AH148,'Data Input'!AI148,'Data Input'!AJ148,'Data Input'!AK148,'Data Input'!AL148))","v":""},{"$f":"IF(L144=\"\",\"\",L144/COUNTIF('Data Input'!$C$8:$AQ$8,$L$2))","v":""},{"$f":"IF(ISBLANK('Data Input'!A148),\"\",SUM('Data Input'!K148,'Data Input'!AQ148))","v":""},{"$f":"IF(N144=\"\",\"\",N144/COUNTIF('Data Input'!$C$8:$AQ$8,$N$2))","v":""},{"$f":"IF(ISBLANK('Data Input'!A148),\"\",SUM('Data Input'!C148,'Data Input'!D148,'Data Input'!F148,'Data Input'!J148,'Data Input'!O148,'Data Input'!S148,'Data Input'!AM148,'Data Input'!AN148,'Data Input'!AO148,'Data Input'!AP148))","v":""},{"$f":"IF(P144=\"\",\"\",P144/COUNTIF('Data Input'!$C$8:$AQ$8,$P$2))","v":""},{"$f":"IF(ISBLANK('Data Input'!C148),\"\",SUM('Data Input'!P148))","v":""},{"$f":"IF(R144=\"\",\"\",R144/COUNTIF('Data Input'!$C$8:$AQ$8,$R$2))","v":""}]
[{"$f":"IF('Data Input'!A149=0,\"\",'Data Input'!A149)","v":""},{"$f":"IF(H145=\"\",\"\",IF(H145>Welcome!$K$23-1,\"Exceeding\",IF(H145>Welcome!$G$23-1,\"Expected\",IF(H145<Welcome!$G$23,\"Below\"))))","v":""},{"$f":"IF(ISBLANK('Data Input'!A149),\"\",COUNTIF('Data Input'!C149:AQ149,\"\")-1)","v":""},{"$f":"IF(ISBLANK('Data Input'!A149),\"\",COUNTIF('Data Input'!C149:AQ149,\"0\"))","v":""},{"$f":"IF(ISBLANK('Data Input'!A149),\"\",SUM(C145,D145))","v":""},{"$f":"IF(ISBLANK('Data Input'!A149),\"\",SUM('Data Input'!C149:V149))","v":""},{"$f":"IF(ISBLANK('Data Input'!A149),\"\",SUM('Data Input'!X149:AQ149))","v":""},{"$f":"IF(ISBLANK('Data Input'!A149),\"\",SUM('Data Input'!C149:AQ149))","v":""},{"$f":"IF(H145=\"\",\"\",H145/(COUNTA('Data Input'!$C$8:$AQ$8)-1))","v":""},{"$f":"IF(ISBLANK('Data Input'!A149),\"\",SUM('Data Input'!I149,'Data Input'!M149,'Data Input'!AB149,'Data Input'!AE149))","v":""},{"$f":"IF(J145=\"\",\"\",J145/COUNTIF('Data Input'!$C$8:$AQ$8,$J$2))","v":""},{"$f":"IF(ISBLANK('Data Input'!A149),\"\",SUM('Data Input'!E149,'Data Input'!G149,'Data Input'!H149,'Data Input'!L149,'Data Input'!N149,'Data Input'!Q149,'Data Input'!R149,'Data Input'!T149,'Data Input'!U149,'Data Input'!V149,'Data Input'!X149,'Data Input'!Y149,'Data Input'!Z149,'Data Input'!AA149,'Data Input'!AC149,'Data Input'!AD149,'Data Input'!AF149,'Data Input'!AG149,'Data Input'!AH149,'Data Input'!AI149,'Data Input'!AJ149,'Data Input'!AK149,'Data Input'!AL149))","v":""},{"$f":"IF(L145=\"\",\"\",L145/COUNTIF('Data Input'!$C$8:$AQ$8,$L$2))","v":""},{"$f":"IF(ISBLANK('Data Input'!A149),\"\",SUM('Data Input'!K149,'Data Input'!AQ149))","v":""},{"$f":"IF(N145=\"\",\"\",N145/COUNTIF('Data Input'!$C$8:$AQ$8,$N$2))","v":""},{"$f":"IF(ISBLANK('Data Input'!A149),\"\",SUM('Data Input'!C149,'Data Input'!D149,'Data Input'!F149,'Data Input'!J149,'Data Input'!O149,'Data Input'!S149,'Data Input'!AM149,'Data Input'!AN149,'Data Input'!AO149,'Data Input'!AP149))","v":""},{"$f":"IF(P145=\"\",\"\",P145/COUNTIF('Data Input'!$C$8:$AQ$8,$P$2))","v":""},{"$f":"IF(ISBLANK('Data Input'!C149),\"\",SUM('Data Input'!P149))","v":""},{"$f":"IF(R145=\"\",\"\",R145/COUNTIF('Data Input'!$C$8:$AQ$8,$R$2))","v":""}]
[{"$f":"IF('Data Input'!A150=0,\"\",'Data Input'!A150)","v":""},{"$f":"IF(H146=\"\",\"\",IF(H146>Welcome!$K$23-1,\"Exceeding\",IF(H146>Welcome!$G$23-1,\"Expected\",IF(H146<Welcome!$G$23,\"Below\"))))","v":""},{"$f":"IF(ISBLANK('Data Input'!A150),\"\",COUNTIF('Data Input'!C150:AQ150,\"\")-1)","v":""},{"$f":"IF(ISBLANK('Data Input'!A150),\"\",COUNTIF('Data Input'!C150:AQ150,\"0\"))","v":""},{"$f":"IF(ISBLANK('Data Input'!A150),\"\",SUM(C146,D146))","v":""},{"$f":"IF(ISBLANK('Data Input'!A150),\"\",SUM('Data Input'!C150:V150))","v":""},{"$f":"IF(ISBLANK('Data Input'!A150),\"\",SUM('Data Input'!X150:AQ150))","v":""},{"$f":"IF(ISBLANK('Data Input'!A150),\"\",SUM('Data Input'!C150:AQ150))","v":""},{"$f":"IF(H146=\"\",\"\",H146/(COUNTA('Data Input'!$C$8:$AQ$8)-1))","v":""},{"$f":"IF(ISBLANK('Data Input'!A150),\"\",SUM('Data Input'!I150,'Data Input'!M150,'Data Input'!AB150,'Data Input'!AE150))","v":""},{"$f":"IF(J146=\"\",\"\",J146/COUNTIF('Data Input'!$C$8:$AQ$8,$J$2))","v":""},{"$f":"IF(ISBLANK('Data Input'!A150),\"\",SUM('Data Input'!E150,'Data Input'!G150,'Data Input'!H150,'Data Input'!L150,'Data Input'!N150,'Data Input'!Q150,'Data Input'!R150,'Data Input'!T150,'Data Input'!U150,'Data Input'!V150,'Data Input'!X150,'Data Input'!Y150,'Data Input'!Z150,'Data Input'!AA150,'Data Input'!AC150,'Data Input'!AD150,'Data Input'!AF150,'Data Input'!AG150,'Data Input'!AH150,'Data Input'!AI150,'Data Input'!AJ150,'Data Input'!AK150,'Data Input'!AL150))","v":""},{"$f":"IF(L146=\"\",\"\",L146/COUNTIF('Data Input'!$C$8:$AQ$8,$L$2))","v":""},{"$f":"IF(ISBLANK('Data Input'!A150),\"\",SUM('Data Input'!K150,'Data Input'!AQ150))","v":""},{"$f":"IF(N146=\"\",\"\",N146/COUNTIF('Data Input'!$C$8:$AQ$8,$N$2))","v":""},{"$f":"IF(ISBLANK('Data Input'!A150),\"\",SUM('Data Input'!C150,'Data Input'!D150,'Data Input'!F150,'Data Input'!J150,'Data Input'!O150,'Data Input'!S150,'Data Input'!AM150,'Data Input'!AN150,'Data Input'!AO150,'Data Input'!AP150))","v":""},{"$f":"IF(P146=\"\",\"\",P146/COUNTIF('Data Input'!$C$8:$AQ$8,$P$2))","v":""},{"$f":"IF(ISBLANK('Data Input'!C150),\"\",SUM('Data Input'!P150))","v":""},{"$f":"IF(R146=\"\",\"\",R146/COUNTIF('Data Input'!$C$8:$AQ$8,$R$2))","v":""}]
[{"$f":"IF('Data Input'!A151=0,\"\",'Data Input'!A151)","v":""},{"$f":"IF(H147=\"\",\"\",IF(H147>Welcome!$K$23-1,\"Exceeding\",IF(H147>Welcome!$G$23-1,\"Expected\",IF(H147<Welcome!$G$23,\"Below\"))))","v":""},{"$f":"IF(ISBLANK('Data Input'!A151),\"\",COUNTIF('Data Input'!C151:AQ151,\"\")-1)","v":""},{"$f":"IF(ISBLANK('Data Input'!A151),\"\",COUNTIF('Data Input'!C151:AQ151,\"0\"))","v":""},{"$f":"IF(ISBLANK('Data Input'!A151),\"\",SUM(C147,D147))","v":""},{"$f":"IF(ISBLANK('Data Input'!A151),\"\",SUM('Data Input'!C151:V151))","v":""},{"$f":"IF(ISBLANK('Data Input'!A151),\"\",SUM('Data Input'!X151:AQ151))","v":""},{"$f":"IF(ISBLANK('Data Input'!A151),\"\",SUM('Data Input'!C151:AQ151))","v":""},{"$f":"IF(H147=\"\",\"\",H147/(COUNTA('Data Input'!$C$8:$AQ$8)-1))","v":""},{"$f":"IF(ISBLANK('Data Input'!A151),\"\",SUM('Data Input'!I151,'Data Input'!M151,'Data Input'!AB151,'Data Input'!AE151))","v":""},{"$f":"IF(J147=\"\",\"\",J147/COUNTIF('Data Input'!$C$8:$AQ$8,$J$2))","v":""},{"$f":"IF(ISBLANK('Data Input'!A151),\"\",SUM('Data Input'!E151,'Data Input'!G151,'Data Input'!H151,'Data Input'!L151,'Data Input'!N151,'Data Input'!Q151,'Data Input'!R151,'Data Input'!T151,'Data Input'!U151,'Data Input'!V151,'Data Input'!X151,'Data Input'!Y151,'Data Input'!Z151,'Data Input'!AA151,'Data Input'!AC151,'Data Input'!AD151,'Data Input'!AF151,'Data Input'!AG151,'Data Input'!AH151,'Data Input'!AI151,'Data Input'!AJ151,'Data Input'!AK151,'Data Input'!AL151))","v":""},{"$f":"IF(L147=\"\",\"\",L147/COUNTIF('Data Input'!$C$8:$AQ$8,$L$2))","v":""},{"$f":"IF(ISBLANK('Data Input'!A151),\"\",SUM('Data Input'!K151,'Data Input'!AQ151))","v":""},{"$f":"IF(N147=\"\",\"\",N147/COUNTIF('Data Input'!$C$8:$AQ$8,$N$2))","v":""},{"$f":"IF(ISBLANK('Data Input'!A151),\"\",SUM('Data Input'!C151,'Data Input'!D151,'Data Input'!F151,'Data Input'!J151,'Data Input'!O151,'Data Input'!S151,'Data Input'!AM151,'Data Input'!AN151,'Data Input'!AO151,'Data Input'!AP151))","v":""},{"$f":"IF(P147=\"\",\"\",P147/COUNTIF('Data Input'!$C$8:$AQ$8,$P$2))","v":""},{"$f":"IF(ISBLANK('Data Input'!C151),\"\",SUM('Data Input'!P151))","v":""},{"$f":"IF(R147=\"\",\"\",R147/COUNTIF('Data Input'!$C$8:$AQ$8,$R$2))","v":""}]
[{"$f":"IF('Data Input'!A152=0,\"\",'Data Input'!A152)","v":""},{"$f":"IF(H148=\"\",\"\",IF(H148>Welcome!$K$23-1,\"Exceeding\",IF(H148>Welcome!$G$23-1,\"Expected\",IF(H148<Welcome!$G$23,\"Below\"))))","v":""},{"$f":"IF(ISBLANK('Data Input'!A152),\"\",COUNTIF('Data Input'!C152:AQ152,\"\")-1)","v":""},{"$f":"IF(ISBLANK('Data Input'!A152),\"\",COUNTIF('Data Input'!C152:AQ152,\"0\"))","v":""},{"$f":"IF(ISBLANK('Data Input'!A152),\"\",SUM(C148,D148))","v":""},{"$f":"IF(ISBLANK('Data Input'!A152),\"\",SUM('Data Input'!C152:V152))","v":""},{"$f":"IF(ISBLANK('Data Input'!A152),\"\",SUM('Data Input'!X152:AQ152))","v":""},{"$f":"IF(ISBLANK('Data Input'!A152),\"\",SUM('Data Input'!C152:AQ152))","v":""},{"$f":"IF(H148=\"\",\"\",H148/(COUNTA('Data Input'!$C$8:$AQ$8)-1))","v":""},{"$f":"IF(ISBLANK('Data Input'!A152),\"\",SUM('Data Input'!I152,'Data Input'!M152,'Data Input'!AB152,'Data Input'!AE152))","v":""},{"$f":"IF(J148=\"\",\"\",J148/COUNTIF('Data Input'!$C$8:$AQ$8,$J$2))","v":""},{"$f":"IF(ISBLANK('Data Input'!A152),\"\",SUM('Data Input'!E152,'Data Input'!G152,'Data Input'!H152,'Data Input'!L152,'Data Input'!N152,'Data Input'!Q152,'Data Input'!R152,'Data Input'!T152,'Data Input'!U152,'Data Input'!V152,'Data Input'!X152,'Data Input'!Y152,'Data Input'!Z152,'Data Input'!AA152,'Data Input'!AC152,'Data Input'!AD152,'Data Input'!AF152,'Data Input'!AG152,'Data Input'!AH152,'Data Input'!AI152,'Data Input'!AJ152,'Data Input'!AK152,'Data Input'!AL152))","v":""},{"$f":"IF(L148=\"\",\"\",L148/COUNTIF('Data Input'!$C$8:$AQ$8,$L$2))","v":""},{"$f":"IF(ISBLANK('Data Input'!A152),\"\",SUM('Data Input'!K152,'Data Input'!AQ152))","v":""},{"$f":"IF(N148=\"\",\"\",N148/COUNTIF('Data Input'!$C$8:$AQ$8,$N$2))","v":""},{"$f":"IF(ISBLANK('Data Input'!A152),\"\",SUM('Data Input'!C152,'Data Input'!D152,'Data Input'!F152,'Data Input'!J152,'Data Input'!O152,'Data Input'!S152,'Data Input'!AM152,'Data Input'!AN152,'Data Input'!AO152,'Data Input'!AP152))","v":""},{"$f":"IF(P148=\"\",\"\",P148/COUNTIF('Data Input'!$C$8:$AQ$8,$P$2))","v":""},{"$f":"IF(ISBLANK('Data Input'!C152),\"\",SUM('Data Input'!P152))","v":""},{"$f":"IF(R148=\"\",\"\",R148/COUNTIF('Data Input'!$C$8:$AQ$8,$R$2))","v":""}]
[{"$f":"IF('Data Input'!A153=0,\"\",'Data Input'!A153)","v":""},{"$f":"IF(H149=\"\",\"\",IF(H149>Welcome!$K$23-1,\"Exceeding\",IF(H149>Welcome!$G$23-1,\"Expected\",IF(H149<Welcome!$G$23,\"Below\"))))","v":""},{"$f":"IF(ISBLANK('Data Input'!A153),\"\",COUNTIF('Data Input'!C153:AQ153,\"\")-1)","v":""},{"$f":"IF(ISBLANK('Data Input'!A153),\"\",COUNTIF('Data Input'!C153:AQ153,\"0\"))","v":""},{"$f":"IF(ISBLANK('Data Input'!A153),\"\",SUM(C149,D149))","v":""},{"$f":"IF(ISBLANK('Data Input'!A153),\"\",SUM('Data Input'!C153:V153))","v":""},{"$f":"IF(ISBLANK('Data Input'!A153),\"\",SUM('Data Input'!X153:AQ153))","v":""},{"$f":"IF(ISBLANK('Data Input'!A153),\"\",SUM('Data Input'!C153:AQ153))","v":""},{"$f":"IF(H149=\"\",\"\",H149/(COUNTA('Data Input'!$C$8:$AQ$8)-1))","v":""},{"$f":"IF(ISBLANK('Data Input'!A153),\"\",SUM('Data Input'!I153,'Data Input'!M153,'Data Input'!AB153,'Data Input'!AE153))","v":""},{"$f":"IF(J149=\"\",\"\",J149/COUNTIF('Data Input'!$C$8:$AQ$8,$J$2))","v":""},{"$f":"IF(ISBLANK('Data Input'!A153),\"\",SUM('Data Input'!E153,'Data Input'!G153,'Data Input'!H153,'Data Input'!L153,'Data Input'!N153,'Data Input'!Q153,'Data Input'!R153,'Data Input'!T153,'Data Input'!U153,'Data Input'!V153,'Data Input'!X153,'Data Input'!Y153,'Data Input'!Z153,'Data Input'!AA153,'Data Input'!AC153,'Data Input'!AD153,'Data Input'!AF153,'Data Input'!AG153,'Data Input'!AH153,'Data Input'!AI153,'Data Input'!AJ153,'Data Input'!AK153,'Data Input'!AL153))","v":""},{"$f":"IF(L149=\"\",\"\",L149/COUNTIF('Data Input'!$C$8:$AQ$8,$L$2))","v":""},{"$f":"IF(ISBLANK('Data Input'!A153),\"\",SUM('Data Input'!K153,'Data Input'!AQ153))","v":""},{"$f":"IF(N149=\"\",\"\",N149/COUNTIF('Data Input'!$C$8:$AQ$8,$N$2))","v":""},{"$f":"IF(ISBLANK('Data Input'!A153),\"\",SUM('Data Input'!C153,'Data Input'!D153,'Data Input'!F153,'Data Input'!J153,'Data Input'!O153,'Data Input'!S153,'Data Input'!AM153,'Data Input'!AN153,'Data Input'!AO153,'Data Input'!AP153))","v":""},{"$f":"IF(P149=\"\",\"\",P149/COUNTIF('Data Input'!$C$8:$AQ$8,$P$2))","v":""},{"$f":"IF(ISBLANK('Data Input'!C153),\"\",SUM('Data Input'!P153))","v":""},{"$f":"IF(R149=\"\",\"\",R149/COUNTIF('Data Input'!$C$8:$AQ$8,$R$2))","v":""}]
[{"$f":"IF('Data Input'!A154=0,\"\",'Data Input'!A154)","v":""},{"$f":"IF(H150=\"\",\"\",IF(H150>Welcome!$K$23-1,\"Exceeding\",IF(H150>Welcome!$G$23-1,\"Expected\",IF(H150<Welcome!$G$23,\"Below\"))))","v":""},{"$f":"IF(ISBLANK('Data Input'!A154),\"\",COUNTIF('Data Input'!C154:AQ154,\"\")-1)","v":""},{"$f":"IF(ISBLANK('Data Input'!A154),\"\",COUNTIF('Data Input'!C154:AQ154,\"0\"))","v":""},{"$f":"IF(ISBLANK('Data Input'!A154),\"\",SUM(C150,D150))","v":""},{"$f":"IF(ISBLANK('Data Input'!A154),\"\",SUM('Data Input'!C154:V154))","v":""},{"$f":"IF(ISBLANK('Data Input'!A154),\"\",SUM('Data Input'!X154:AQ154))","v":""},{"$f":"IF(ISBLANK('Data Input'!A154),\"\",SUM('Data Input'!C154:AQ154))","v":""},{"$f":"IF(H150=\"\",\"\",H150/(COUNTA('Data Input'!$C$8:$AQ$8)-1))","v":""},{"$f":"IF(ISBLANK('Data Input'!A154),\"\",SUM('Data Input'!I154,'Data Input'!M154,'Data Input'!AB154,'Data Input'!AE154))","v":""},{"$f":"IF(J150=\"\",\"\",J150/COUNTIF('Data Input'!$C$8:$AQ$8,$J$2))","v":""},{"$f":"IF(ISBLANK('Data Input'!A154),\"\",SUM('Data Input'!E154,'Data Input'!G154,'Data Input'!H154,'Data Input'!L154,'Data Input'!N154,'Data Input'!Q154,'Data Input'!R154,'Data Input'!T154,'Data Input'!U154,'Data Input'!V154,'Data Input'!X154,'Data Input'!Y154,'Data Input'!Z154,'Data Input'!AA154,'Data Input'!AC154,'Data Input'!AD154,'Data Input'!AF154,'Data Input'!AG154,'Data Input'!AH154,'Data Input'!AI154,'Data Input'!AJ154,'Data Input'!AK154,'Data Input'!AL154))","v":""},{"$f":"IF(L150=\"\",\"\",L150/COUNTIF('Data Input'!$C$8:$AQ$8,$L$2))","v":""},{"$f":"IF(ISBLANK('Data Input'!A154),\"\",SUM('Data Input'!K154,'Data Input'!AQ154))","v":""},{"$f":"IF(N150=\"\",\"\",N150/COUNTIF('Data Input'!$C$8:$AQ$8,$N$2))","v":""},{"$f":"IF(ISBLANK('Data Input'!A154),\"\",SUM('Data Input'!C154,'Data Input'!D154,'Data Input'!F154,'Data Input'!J154,'Data Input'!O154,'Data Input'!S154,'Data Input'!AM154,'Data Input'!AN154,'Data Input'!AO154,'Data Input'!AP154))","v":""},{"$f":"IF(P150=\"\",\"\",P150/COUNTIF('Data Input'!$C$8:$AQ$8,$P$2))","v":""},{"$f":"IF(ISBLANK('Data Input'!C154),\"\",SUM('Data Input'!P154))","v":""},{"$f":"IF(R150=\"\",\"\",R150/COUNTIF('Data Input'!$C$8:$AQ$8,$R$2))","v":""}]
[{"$f":"IF('Data Input'!A155=0,\"\",'Data Input'!A155)","v":""},{"$f":"IF(H151=\"\",\"\",IF(H151>Welcome!$K$23-1,\"Exceeding\",IF(H151>Welcome!$G$23-1,\"Expected\",IF(H151<Welcome!$G$23,\"Below\"))))","v":""},{"$f":"IF(ISBLANK('Data Input'!A155),\"\",COUNTIF('Data Input'!C155:AQ155,\"\")-1)","v":""},{"$f":"IF(ISBLANK('Data Input'!A155),\"\",COUNTIF('Data Input'!C155:AQ155,\"0\"))","v":""},{"$f":"IF(ISBLANK('Data Input'!A155),\"\",SUM(C151,D151))","v":""},{"$f":"IF(ISBLANK('Data Input'!A155),\"\",SUM('Data Input'!C155:V155))","v":""},{"$f":"IF(ISBLANK('Data Input'!A155),\"\",SUM('Data Input'!X155:AQ155))","v":""},{"$f":"IF(ISBLANK('Data Input'!A155),\"\",SUM('Data Input'!C155:AQ155))","v":""},{"$f":"IF(H151=\"\",\"\",H151/(COUNTA('Data Input'!$C$8:$AQ$8)-1))","v":""},{"$f":"IF(ISBLANK('Data Input'!A155),\"\",SUM('Data Input'!I155,'Data Input'!M155,'Data Input'!AB155,'Data Input'!AE155))","v":""},{"$f":"IF(J151=\"\",\"\",J151/COUNTIF('Data Input'!$C$8:$AQ$8,$J$2))","v":""},{"$f":"IF(ISBLANK('Data Input'!A155),\"\",SUM('Data Input'!E155,'Data Input'!G155,'Data Input'!H155,'Data Input'!L155,'Data Input'!N155,'Data Input'!Q155,'Data Input'!R155,'Data Input'!T155,'Data Input'!U155,'Data Input'!V155,'Data Input'!X155,'Data Input'!Y155,'Data Input'!Z155,'Data Input'!AA155,'Data Input'!AC155,'Data Input'!AD155,'Data Input'!AF155,'Data Input'!AG155,'Data Input'!AH155,'Data Input'!AI155,'Data Input'!AJ155,'Data Input'!AK155,'Data Input'!AL155))","v":""},{"$f":"IF(L151=\"\",\"\",L151/COUNTIF('Data Input'!$C$8:$AQ$8,$L$2))","v":""},{"$f":"IF(ISBLANK('Data Input'!A155),\"\",SUM('Data Input'!K155,'Data Input'!AQ155))","v":""},{"$f":"IF(N151=\"\",\"\",N151/COUNTIF('Data Input'!$C$8:$AQ$8,$N$2))","v":""},{"$f":"IF(ISBLANK('Data Input'!A155),\"\",SUM('Data Input'!C155,'Data Input'!D155,'Data Input'!F155,'Data Input'!J155,'Data Input'!O155,'Data Input'!S155,'Data Input'!AM155,'Data Input'!AN155,'Data Input'!AO155,'Data Input'!AP155))","v":""},{"$f":"IF(P151=\"\",\"\",P151/COUNTIF('Data Input'!$C$8:$AQ$8,$P$2))","v":""},{"$f":"IF(ISBLANK('Data Input'!C155),\"\",SUM('Data Input'!P155))","v":""},{"$f":"IF(R151=\"\",\"\",R151/COUNTIF('Data Input'!$C$8:$AQ$8,$R$2))","v":""}]
[{"$f":"IF('Data Input'!A156=0,\"\",'Data Input'!A156)","v":""},{"$f":"IF(H152=\"\",\"\",IF(H152>Welcome!$K$23-1,\"Exceeding\",IF(H152>Welcome!$G$23-1,\"Expected\",IF(H152<Welcome!$G$23,\"Below\"))))","v":""},{"$f":"IF(ISBLANK('Data Input'!A156),\"\",COUNTIF('Data Input'!C156:AQ156,\"\")-1)","v":""},{"$f":"IF(ISBLANK('Data Input'!A156),\"\",COUNTIF('Data Input'!C156:AQ156,\"0\"))","v":""},{"$f":"IF(ISBLANK('Data Input'!A156),\"\",SUM(C152,D152))","v":""},{"$f":"IF(ISBLANK('Data Input'!A156),\"\",SUM('Data Input'!C156:V156))","v":""},{"$f":"IF(ISBLANK('Data Input'!A156),\"\",SUM('Data Input'!X156:AQ156))","v":""},{"$f":"IF(ISBLANK('Data Input'!A156),\"\",SUM('Data Input'!C156:AQ156))","v":""},{"$f":"IF(H152=\"\",\"\",H152/(COUNTA('Data Input'!$C$8:$AQ$8)-1))","v":""},{"$f":"IF(ISBLANK('Data Input'!A156),\"\",SUM('Data Input'!I156,'Data Input'!M156,'Data Input'!AB156,'Data Input'!AE156))","v":""},{"$f":"IF(J152=\"\",\"\",J152/COUNTIF('Data Input'!$C$8:$AQ$8,$J$2))","v":""},{"$f":"IF(ISBLANK('Data Input'!A156),\"\",SUM('Data Input'!E156,'Data Input'!G156,'Data Input'!H156,'Data Input'!L156,'Data Input'!N156,'Data Input'!Q156,'Data Input'!R156,'Data Input'!T156,'Data Input'!U156,'Data Input'!V156,'Data Input'!X156,'Data Input'!Y156,'Data Input'!Z156,'Data Input'!AA156,'Data Input'!AC156,'Data Input'!AD156,'Data Input'!AF156,'Data Input'!AG156,'Data Input'!AH156,'Data Input'!AI156,'Data Input'!AJ156,'Data Input'!AK156,'Data Input'!AL156))","v":""},{"$f":"IF(L152=\"\",\"\",L152/COUNTIF('Data Input'!$C$8:$AQ$8,$L$2))","v":""},{"$f":"IF(ISBLANK('Data Input'!A156),\"\",SUM('Data Input'!K156,'Data Input'!AQ156))","v":""},{"$f":"IF(N152=\"\",\"\",N152/COUNTIF('Data Input'!$C$8:$AQ$8,$N$2))","v":""},{"$f":"IF(ISBLANK('Data Input'!A156),\"\",SUM('Data Input'!C156,'Data Input'!D156,'Data Input'!F156,'Data Input'!J156,'Data Input'!O156,'Data Input'!S156,'Data Input'!AM156,'Data Input'!AN156,'Data Input'!AO156,'Data Input'!AP156))","v":""},{"$f":"IF(P152=\"\",\"\",P152/COUNTIF('Data Input'!$C$8:$AQ$8,$P$2))","v":""},{"$f":"IF(ISBLANK('Data Input'!C156),\"\",SUM('Data Input'!P156))","v":""},{"$f":"IF(R152=\"\",\"\",R152/COUNTIF('Data Input'!$C$8:$AQ$8,$R$2))","v":""}]
[{"$f":"IF('Data Input'!A157=0,\"\",'Data Input'!A157)","v":""},{"$f":"IF(H153=\"\",\"\",IF(H153>Welcome!$K$23-1,\"Exceeding\",IF(H153>Welcome!$G$23-1,\"Expected\",IF(H153<Welcome!$G$23,\"Below\"))))","v":""},{"$f":"IF(ISBLANK('Data Input'!A157),\"\",COUNTIF('Data Input'!C157:AQ157,\"\")-1)","v":""},{"$f":"IF(ISBLANK('Data Input'!A157),\"\",COUNTIF('Data Input'!C157:AQ157,\"0\"))","v":""},{"$f":"IF(ISBLANK('Data Input'!A157),\"\",SUM(C153,D153))","v":""},{"$f":"IF(ISBLANK('Data Input'!A157),\"\",SUM('Data Input'!C157:V157))","v":""},{"$f":"IF(ISBLANK('Data Input'!A157),\"\",SUM('Data Input'!X157:AQ157))","v":""},{"$f":"IF(ISBLANK('Data Input'!A157),\"\",SUM('Data Input'!C157:AQ157))","v":""},{"$f":"IF(H153=\"\",\"\",H153/(COUNTA('Data Input'!$C$8:$AQ$8)-1))","v":""},{"$f":"IF(ISBLANK('Data Input'!A157),\"\",SUM('Data Input'!I157,'Data Input'!M157,'Data Input'!AB157,'Data Input'!AE157))","v":""},{"$f":"IF(J153=\"\",\"\",J153/COUNTIF('Data Input'!$C$8:$AQ$8,$J$2))","v":""},{"$f":"IF(ISBLANK('Data Input'!A157),\"\",SUM('Data Input'!E157,'Data Input'!G157,'Data Input'!H157,'Data Input'!L157,'Data Input'!N157,'Data Input'!Q157,'Data Input'!R157,'Data Input'!T157,'Data Input'!U157,'Data Input'!V157,'Data Input'!X157,'Data Input'!Y157,'Data Input'!Z157,'Data Input'!AA157,'Data Input'!AC157,'Data Input'!AD157,'Data Input'!AF157,'Data Input'!AG157,'Data Input'!AH157,'Data Input'!AI157,'Data Input'!AJ157,'Data Input'!AK157,'Data Input'!AL157))","v":""},{"$f":"IF(L153=\"\",\"\",L153/COUNTIF('Data Input'!$C$8:$AQ$8,$L$2))","v":""},{"$f":"IF(ISBLANK('Data Input'!A157),\"\",SUM('Data Input'!K157,'Data Input'!AQ157))","v":""},{"$f":"IF(N153=\"\",\"\",N153/COUNTIF('Data Input'!$C$8:$AQ$8,$N$2))","v":""},{"$f":"IF(ISBLANK('Data Input'!A157),\"\",SUM('Data Input'!C157,'Data Input'!D157,'Data Input'!F157,'Data Input'!J157,'Data Input'!O157,'Data Input'!S157,'Data Input'!AM157,'Data Input'!AN157,'Data Input'!AO157,'Data Input'!AP157))","v":""},{"$f":"IF(P153=\"\",\"\",P153/COUNTIF('Data Input'!$C$8:$AQ$8,$P$2))","v":""},{"$f":"IF(ISBLANK('Data Input'!C157),\"\",SUM('Data Input'!P157))","v":""},{"$f":"IF(R153=\"\",\"\",R153/COUNTIF('Data Input'!$C$8:$AQ$8,$R$2))","v":""}]
[{"$f":"IF('Data Input'!A158=0,\"\",'Data Input'!A158)","v":""},{"$f":"IF(H154=\"\",\"\",IF(H154>Welcome!$K$23-1,\"Exceeding\",IF(H154>Welcome!$G$23-1,\"Expected\",IF(H154<Welcome!$G$23,\"Below\"))))","v":""},{"$f":"IF(ISBLANK('Data Input'!A158),\"\",COUNTIF('Data Input'!C158:AQ158,\"\")-1)","v":""},{"$f":"IF(ISBLANK('Data Input'!A158),\"\",COUNTIF('Data Input'!C158:AQ158,\"0\"))","v":""},{"$f":"IF(ISBLANK('Data Input'!A158),\"\",SUM(C154,D154))","v":""},{"$f":"IF(ISBLANK('Data Input'!A158),\"\",SUM('Data Input'!C158:V158))","v":""},{"$f":"IF(ISBLANK('Data Input'!A158),\"\",SUM('Data Input'!X158:AQ158))","v":""},{"$f":"IF(ISBLANK('Data Input'!A158),\"\",SUM('Data Input'!C158:AQ158))","v":""},{"$f":"IF(H154=\"\",\"\",H154/(COUNTA('Data Input'!$C$8:$AQ$8)-1))","v":""},{"$f":"IF(ISBLANK('Data Input'!A158),\"\",SUM('Data Input'!I158,'Data Input'!M158,'Data Input'!AB158,'Data Input'!AE158))","v":""},{"$f":"IF(J154=\"\",\"\",J154/COUNTIF('Data Input'!$C$8:$AQ$8,$J$2))","v":""},{"$f":"IF(ISBLANK('Data Input'!A158),\"\",SUM('Data Input'!E158,'Data Input'!G158,'Data Input'!H158,'Data Input'!L158,'Data Input'!N158,'Data Input'!Q158,'Data Input'!R158,'Data Input'!T158,'Data Input'!U158,'Data Input'!V158,'Data Input'!X158,'Data Input'!Y158,'Data Input'!Z158,'Data Input'!AA158,'Data Input'!AC158,'Data Input'!AD158,'Data Input'!AF158,'Data Input'!AG158,'Data Input'!AH158,'Data Input'!AI158,'Data Input'!AJ158,'Data Input'!AK158,'Data Input'!AL158))","v":""},{"$f":"IF(L154=\"\",\"\",L154/COUNTIF('Data Input'!$C$8:$AQ$8,$L$2))","v":""},{"$f":"IF(ISBLANK('Data Input'!A158),\"\",SUM('Data Input'!K158,'Data Input'!AQ158))","v":""},{"$f":"IF(N154=\"\",\"\",N154/COUNTIF('Data Input'!$C$8:$AQ$8,$N$2))","v":""},{"$f":"IF(ISBLANK('Data Input'!A158),\"\",SUM('Data Input'!C158,'Data Input'!D158,'Data Input'!F158,'Data Input'!J158,'Data Input'!O158,'Data Input'!S158,'Data Input'!AM158,'Data Input'!AN158,'Data Input'!AO158,'Data Input'!AP158))","v":""},{"$f":"IF(P154=\"\",\"\",P154/COUNTIF('Data Input'!$C$8:$AQ$8,$P$2))","v":""},{"$f":"IF(ISBLANK('Data Input'!C158),\"\",SUM('Data Input'!P158))","v":""},{"$f":"IF(R154=\"\",\"\",R154/COUNTIF('Data Input'!$C$8:$AQ$8,$R$2))","v":""}]
[{"$f":"IF('Data Input'!A159=0,\"\",'Data Input'!A159)","v":""},{"$f":"IF(H155=\"\",\"\",IF(H155>Welcome!$K$23-1,\"Exceeding\",IF(H155>Welcome!$G$23-1,\"Expected\",IF(H155<Welcome!$G$23,\"Below\"))))","v":""},{"$f":"IF(ISBLANK('Data Input'!A159),\"\",COUNTIF('Data Input'!C159:AQ159,\"\")-1)","v":""},{"$f":"IF(ISBLANK('Data Input'!A159),\"\",COUNTIF('Data Input'!C159:AQ159,\"0\"))","v":""},{"$f":"IF(ISBLANK('Data Input'!A159),\"\",SUM(C155,D155))","v":""},{"$f":"IF(ISBLANK('Data Input'!A159),\"\",SUM('Data Input'!C159:V159))","v":""},{"$f":"IF(ISBLANK('Data Input'!A159),\"\",SUM('Data Input'!X159:AQ159))","v":""},{"$f":"IF(ISBLANK('Data Input'!A159),\"\",SUM('Data Input'!C159:AQ159))","v":""},{"$f":"IF(H155=\"\",\"\",H155/(COUNTA('Data Input'!$C$8:$AQ$8)-1))","v":""},{"$f":"IF(ISBLANK('Data Input'!A159),\"\",SUM('Data Input'!I159,'Data Input'!M159,'Data Input'!AB159,'Data Input'!AE159))","v":""},{"$f":"IF(J155=\"\",\"\",J155/COUNTIF('Data Input'!$C$8:$AQ$8,$J$2))","v":""},{"$f":"IF(ISBLANK('Data Input'!A159),\"\",SUM('Data Input'!E159,'Data Input'!G159,'Data Input'!H159,'Data Input'!L159,'Data Input'!N159,'Data Input'!Q159,'Data Input'!R159,'Data Input'!T159,'Data Input'!U159,'Data Input'!V159,'Data Input'!X159,'Data Input'!Y159,'Data Input'!Z159,'Data Input'!AA159,'Data Input'!AC159,'Data Input'!AD159,'Data Input'!AF159,'Data Input'!AG159,'Data Input'!AH159,'Data Input'!AI159,'Data Input'!AJ159,'Data Input'!AK159,'Data Input'!AL159))","v":""},{"$f":"IF(L155=\"\",\"\",L155/COUNTIF('Data Input'!$C$8:$AQ$8,$L$2))","v":""},{"$f":"IF(ISBLANK('Data Input'!A159),\"\",SUM('Data Input'!K159,'Data Input'!AQ159))","v":""},{"$f":"IF(N155=\"\",\"\",N155/COUNTIF('Data Input'!$C$8:$AQ$8,$N$2))","v":""},{"$f":"IF(ISBLANK('Data Input'!A159),\"\",SUM('Data Input'!C159,'Data Input'!D159,'Data Input'!F159,'Data Input'!J159,'Data Input'!O159,'Data Input'!S159,'Data Input'!AM159,'Data Input'!AN159,'Data Input'!AO159,'Data Input'!AP159))","v":""},{"$f":"IF(P155=\"\",\"\",P155/COUNTIF('Data Input'!$C$8:$AQ$8,$P$2))","v":""},{"$f":"IF(ISBLANK('Data Input'!C159),\"\",SUM('Data Input'!P159))","v":""},{"$f":"IF(R155=\"\",\"\",R155/COUNTIF('Data Input'!$C$8:$AQ$8,$R$2))","v":""}]
[{"$f":"IF('Data Input'!A160=0,\"\",'Data Input'!A160)","v":""},{"$f":"IF(H156=\"\",\"\",IF(H156>Welcome!$K$23-1,\"Exceeding\",IF(H156>Welcome!$G$23-1,\"Expected\",IF(H156<Welcome!$G$23,\"Below\"))))","v":""},{"$f":"IF(ISBLANK('Data Input'!A160),\"\",COUNTIF('Data Input'!C160:AQ160,\"\")-1)","v":""},{"$f":"IF(ISBLANK('Data Input'!A160),\"\",COUNTIF('Data Input'!C160:AQ160,\"0\"))","v":""},{"$f":"IF(ISBLANK('Data Input'!A160),\"\",SUM(C156,D156))","v":""},{"$f":"IF(ISBLANK('Data Input'!A160),\"\",SUM('Data Input'!C160:V160))","v":""},{"$f":"IF(ISBLANK('Data Input'!A160),\"\",SUM('Data Input'!X160:AQ160))","v":""},{"$f":"IF(ISBLANK('Data Input'!A160),\"\",SUM('Data Input'!C160:AQ160))","v":""},{"$f":"IF(H156=\"\",\"\",H156/(COUNTA('Data Input'!$C$8:$AQ$8)-1))","v":""},{"$f":"IF(ISBLANK('Data Input'!A160),\"\",SUM('Data Input'!I160,'Data Input'!M160,'Data Input'!AB160,'Data Input'!AE160))","v":""},{"$f":"IF(J156=\"\",\"\",J156/COUNTIF('Data Input'!$C$8:$AQ$8,$J$2))","v":""},{"$f":"IF(ISBLANK('Data Input'!A160),\"\",SUM('Data Input'!E160,'Data Input'!G160,'Data Input'!H160,'Data Input'!L160,'Data Input'!N160,'Data Input'!Q160,'Data Input'!R160,'Data Input'!T160,'Data Input'!U160,'Data Input'!V160,'Data Input'!X160,'Data Input'!Y160,'Data Input'!Z160,'Data Input'!AA160,'Data Input'!AC160,'Data Input'!AD160,'Data Input'!AF160,'Data Input'!AG160,'Data Input'!AH160,'Data Input'!AI160,'Data Input'!AJ160,'Data Input'!AK160,'Data Input'!AL160))","v":""},{"$f":"IF(L156=\"\",\"\",L156/COUNTIF('Data Input'!$C$8:$AQ$8,$L$2))","v":""},{"$f":"IF(ISBLANK('Data Input'!A160),\"\",SUM('Data Input'!K160,'Data Input'!AQ160))","v":""},{"$f":"IF(N156=\"\",\"\",N156/COUNTIF('Data Input'!$C$8:$AQ$8,$N$2))","v":""},{"$f":"IF(ISBLANK('Data Input'!A160),\"\",SUM('Data Input'!C160,'Data Input'!D160,'Data Input'!F160,'Data Input'!J160,'Data Input'!O160,'Data Input'!S160,'Data Input'!AM160,'Data Input'!AN160,'Data Input'!AO160,'Data Input'!AP160))","v":""},{"$f":"IF(P156=\"\",\"\",P156/COUNTIF('Data Input'!$C$8:$AQ$8,$P$2))","v":""},{"$f":"IF(ISBLANK('Data Input'!C160),\"\",SUM('Data Input'!P160))","v":""},{"$f":"IF(R156=\"\",\"\",R156/COUNTIF('Data Input'!$C$8:$AQ$8,$R$2))","v":""}]
[{"$f":"IF('Data Input'!A161=0,\"\",'Data Input'!A161)","v":""},{"$f":"IF(H157=\"\",\"\",IF(H157>Welcome!$K$23-1,\"Exceeding\",IF(H157>Welcome!$G$23-1,\"Expected\",IF(H157<Welcome!$G$23,\"Below\"))))","v":""},{"$f":"IF(ISBLANK('Data Input'!A161),\"\",COUNTIF('Data Input'!C161:AQ161,\"\")-1)","v":""},{"$f":"IF(ISBLANK('Data Input'!A161),\"\",COUNTIF('Data Input'!C161:AQ161,\"0\"))","v":""},{"$f":"IF(ISBLANK('Data Input'!A161),\"\",SUM(C157,D157))","v":""},{"$f":"IF(ISBLANK('Data Input'!A161),\"\",SUM('Data Input'!C161:V161))","v":""},{"$f":"IF(ISBLANK('Data Input'!A161),\"\",SUM('Data Input'!X161:AQ161))","v":""},{"$f":"IF(ISBLANK('Data Input'!A161),\"\",SUM('Data Input'!C161:AQ161))","v":""},{"$f":"IF(H157=\"\",\"\",H157/(COUNTA('Data Input'!$C$8:$AQ$8)-1))","v":""},{"$f":"IF(ISBLANK('Data Input'!A161),\"\",SUM('Data Input'!I161,'Data Input'!M161,'Data Input'!AB161,'Data Input'!AE161))","v":""},{"$f":"IF(J157=\"\",\"\",J157/COUNTIF('Data Input'!$C$8:$AQ$8,$J$2))","v":""},{"$f":"IF(ISBLANK('Data Input'!A161),\"\",SUM('Data Input'!E161,'Data Input'!G161,'Data Input'!H161,'Data Input'!L161,'Data Input'!N161,'Data Input'!Q161,'Data Input'!R161,'Data Input'!T161,'Data Input'!U161,'Data Input'!V161,'Data Input'!X161,'Data Input'!Y161,'Data Input'!Z161,'Data Input'!AA161,'Data Input'!AC161,'Data Input'!AD161,'Data Input'!AF161,'Data Input'!AG161,'Data Input'!AH161,'Data Input'!AI161,'Data Input'!AJ161,'Data Input'!AK161,'Data Input'!AL161))","v":""},{"$f":"IF(L157=\"\",\"\",L157/COUNTIF('Data Input'!$C$8:$AQ$8,$L$2))","v":""},{"$f":"IF(ISBLANK('Data Input'!A161),\"\",SUM('Data Input'!K161,'Data Input'!AQ161))","v":""},{"$f":"IF(N157=\"\",\"\",N157/COUNTIF('Data Input'!$C$8:$AQ$8,$N$2))","v":""},{"$f":"IF(ISBLANK('Data Input'!A161),\"\",SUM('Data Input'!C161,'Data Input'!D161,'Data Input'!F161,'Data Input'!J161,'Data Input'!O161,'Data Input'!S161,'Data Input'!AM161,'Data Input'!AN161,'Data Input'!AO161,'Data Input'!AP161))","v":""},{"$f":"IF(P157=\"\",\"\",P157/COUNTIF('Data Input'!$C$8:$AQ$8,$P$2))","v":""},{"$f":"IF(ISBLANK('Data Input'!C161),\"\",SUM('Data Input'!P161))","v":""},{"$f":"IF(R157=\"\",\"\",R157/COUNTIF('Data Input'!$C$8:$AQ$8,$R$2))","v":""}]
[{"$f":"IF('Data Input'!A162=0,\"\",'Data Input'!A162)","v":""},{"$f":"IF(H158=\"\",\"\",IF(H158>Welcome!$K$23-1,\"Exceeding\",IF(H158>Welcome!$G$23-1,\"Expected\",IF(H158<Welcome!$G$23,\"Below\"))))","v":""},{"$f":"IF(ISBLANK('Data Input'!A162),\"\",COUNTIF('Data Input'!C162:AQ162,\"\")-1)","v":""},{"$f":"IF(ISBLANK('Data Input'!A162),\"\",COUNTIF('Data Input'!C162:AQ162,\"0\"))","v":""},{"$f":"IF(ISBLANK('Data Input'!A162),\"\",SUM(C158,D158))","v":""},{"$f":"IF(ISBLANK('Data Input'!A162),\"\",SUM('Data Input'!C162:V162))","v":""},{"$f":"IF(ISBLANK('Data Input'!A162),\"\",SUM('Data Input'!X162:AQ162))","v":""},{"$f":"IF(ISBLANK('Data Input'!A162),\"\",SUM('Data Input'!C162:AQ162))","v":""},{"$f":"IF(H158=\"\",\"\",H158/(COUNTA('Data Input'!$C$8:$AQ$8)-1))","v":""},{"$f":"IF(ISBLANK('Data Input'!A162),\"\",SUM('Data Input'!I162,'Data Input'!M162,'Data Input'!AB162,'Data Input'!AE162))","v":""},{"$f":"IF(J158=\"\",\"\",J158/COUNTIF('Data Input'!$C$8:$AQ$8,$J$2))","v":""},{"$f":"IF(ISBLANK('Data Input'!A162),\"\",SUM('Data Input'!E162,'Data Input'!G162,'Data Input'!H162,'Data Input'!L162,'Data Input'!N162,'Data Input'!Q162,'Data Input'!R162,'Data Input'!T162,'Data Input'!U162,'Data Input'!V162,'Data Input'!X162,'Data Input'!Y162,'Data Input'!Z162,'Data Input'!AA162,'Data Input'!AC162,'Data Input'!AD162,'Data Input'!AF162,'Data Input'!AG162,'Data Input'!AH162,'Data Input'!AI162,'Data Input'!AJ162,'Data Input'!AK162,'Data Input'!AL162))","v":""},{"$f":"IF(L158=\"\",\"\",L158/COUNTIF('Data Input'!$C$8:$AQ$8,$L$2))","v":""},{"$f":"IF(ISBLANK('Data Input'!A162),\"\",SUM('Data Input'!K162,'Data Input'!AQ162))","v":""},{"$f":"IF(N158=\"\",\"\",N158/COUNTIF('Data Input'!$C$8:$AQ$8,$N$2))","v":""},{"$f":"IF(ISBLANK('Data Input'!A162),\"\",SUM('Data Input'!C162,'Data Input'!D162,'Data Input'!F162,'Data Input'!J162,'Data Input'!O162,'Data Input'!S162,'Data Input'!AM162,'Data Input'!AN162,'Data Input'!AO162,'Data Input'!AP162))","v":""},{"$f":"IF(P158=\"\",\"\",P158/COUNTIF('Data Input'!$C$8:$AQ$8,$P$2))","v":""},{"$f":"IF(ISBLANK('Data Input'!C162),\"\",SUM('Data Input'!P162))","v":""},{"$f":"IF(R158=\"\",\"\",R158/COUNTIF('Data Input'!$C$8:$AQ$8,$R$2))","v":""}]
[{"$f":"IF('Data Input'!A163=0,\"\",'Data Input'!A163)","v":""},{"$f":"IF(H159=\"\",\"\",IF(H159>Welcome!$K$23-1,\"Exceeding\",IF(H159>Welcome!$G$23-1,\"Expected\",IF(H159<Welcome!$G$23,\"Below\"))))","v":""},{"$f":"IF(ISBLANK('Data Input'!A163),\"\",COUNTIF('Data Input'!C163:AQ163,\"\")-1)","v":""},{"$f":"IF(ISBLANK('Data Input'!A163),\"\",COUNTIF('Data Input'!C163:AQ163,\"0\"))","v":""},{"$f":"IF(ISBLANK('Data Input'!A163),\"\",SUM(C159,D159))","v":""},{"$f":"IF(ISBLANK('Data Input'!A163),\"\",SUM('Data Input'!C163:V163))","v":""},{"$f":"IF(ISBLANK('Data Input'!A163),\"\",SUM('Data Input'!X163:AQ163))","v":""},{"$f":"IF(ISBLANK('Data Input'!A163),\"\",SUM('Data Input'!C163:AQ163))","v":""},{"$f":"IF(H159=\"\",\"\",H159/(COUNTA('Data Input'!$C$8:$AQ$8)-1))","v":""},{"$f":"IF(ISBLANK('Data Input'!A163),\"\",SUM('Data Input'!I163,'Data Input'!M163,'Data Input'!AB163,'Data Input'!AE163))","v":""},{"$f":"IF(J159=\"\",\"\",J159/COUNTIF('Data Input'!$C$8:$AQ$8,$J$2))","v":""},{"$f":"IF(ISBLANK('Data Input'!A163),\"\",SUM('Data Input'!E163,'Data Input'!G163,'Data Input'!H163,'Data Input'!L163,'Data Input'!N163,'Data Input'!Q163,'Data Input'!R163,'Data Input'!T163,'Data Input'!U163,'Data Input'!V163,'Data Input'!X163,'Data Input'!Y163,'Data Input'!Z163,'Data Input'!AA163,'Data Input'!AC163,'Data Input'!AD163,'Data Input'!AF163,'Data Input'!AG163,'Data Input'!AH163,'Data Input'!AI163,'Data Input'!AJ163,'Data Input'!AK163,'Data Input'!AL163))","v":""},{"$f":"IF(L159=\"\",\"\",L159/COUNTIF('Data Input'!$C$8:$AQ$8,$L$2))","v":""},{"$f":"IF(ISBLANK('Data Input'!A163),\"\",SUM('Data Input'!K163,'Data Input'!AQ163))","v":""},{"$f":"IF(N159=\"\",\"\",N159/COUNTIF('Data Input'!$C$8:$AQ$8,$N$2))","v":""},{"$f":"IF(ISBLANK('Data Input'!A163),\"\",SUM('Data Input'!C163,'Data Input'!D163,'Data Input'!F163,'Data Input'!J163,'Data Input'!O163,'Data Input'!S163,'Data Input'!AM163,'Data Input'!AN163,'Data Input'!AO163,'Data Input'!AP163))","v":""},{"$f":"IF(P159=\"\",\"\",P159/COUNTIF('Data Input'!$C$8:$AQ$8,$P$2))","v":""},{"$f":"IF(ISBLANK('Data Input'!C163),\"\",SUM('Data Input'!P163))","v":""},{"$f":"IF(R159=\"\",\"\",R159/COUNTIF('Data Input'!$C$8:$AQ$8,$R$2))","v":""}]
[{"$f":"IF('Data Input'!A164=0,\"\",'Data Input'!A164)","v":""},{"$f":"IF(H160=\"\",\"\",IF(H160>Welcome!$K$23-1,\"Exceeding\",IF(H160>Welcome!$G$23-1,\"Expected\",IF(H160<Welcome!$G$23,\"Below\"))))","v":""},{"$f":"IF(ISBLANK('Data Input'!A164),\"\",COUNTIF('Data Input'!C164:AQ164,\"\")-1)","v":""},{"$f":"IF(ISBLANK('Data Input'!A164),\"\",COUNTIF('Data Input'!C164:AQ164,\"0\"))","v":""},{"$f":"IF(ISBLANK('Data Input'!A164),\"\",SUM(C160,D160))","v":""},{"$f":"IF(ISBLANK('Data Input'!A164),\"\",SUM('Data Input'!C164:V164))","v":""},{"$f":"IF(ISBLANK('Data Input'!A164),\"\",SUM('Data Input'!X164:AQ164))","v":""},{"$f":"IF(ISBLANK('Data Input'!A164),\"\",SUM('Data Input'!C164:AQ164))","v":""},{"$f":"IF(H160=\"\",\"\",H160/(COUNTA('Data Input'!$C$8:$AQ$8)-1))","v":""},{"$f":"IF(ISBLANK('Data Input'!A164),\"\",SUM('Data Input'!I164,'Data Input'!M164,'Data Input'!AB164,'Data Input'!AE164))","v":""},{"$f":"IF(J160=\"\",\"\",J160/COUNTIF('Data Input'!$C$8:$AQ$8,$J$2))","v":""},{"$f":"IF(ISBLANK('Data Input'!A164),\"\",SUM('Data Input'!E164,'Data Input'!G164,'Data Input'!H164,'Data Input'!L164,'Data Input'!N164,'Data Input'!Q164,'Data Input'!R164,'Data Input'!T164,'Data Input'!U164,'Data Input'!V164,'Data Input'!X164,'Data Input'!Y164,'Data Input'!Z164,'Data Input'!AA164,'Data Input'!AC164,'Data Input'!AD164,'Data Input'!AF164,'Data Input'!AG164,'Data Input'!AH164,'Data Input'!AI164,'Data Input'!AJ164,'Data Input'!AK164,'Data Input'!AL164))","v":""},{"$f":"IF(L160=\"\",\"\",L160/COUNTIF('Data Input'!$C$8:$AQ$8,$L$2))","v":""},{"$f":"IF(ISBLANK('Data Input'!A164),\"\",SUM('Data Input'!K164,'Data Input'!AQ164))","v":""},{"$f":"IF(N160=\"\",\"\",N160/COUNTIF('Data Input'!$C$8:$AQ$8,$N$2))","v":""},{"$f":"IF(ISBLANK('Data Input'!A164),\"\",SUM('Data Input'!C164,'Data Input'!D164,'Data Input'!F164,'Data Input'!J164,'Data Input'!O164,'Data Input'!S164,'Data Input'!AM164,'Data Input'!AN164,'Data Input'!AO164,'Data Input'!AP164))","v":""},{"$f":"IF(P160=\"\",\"\",P160/COUNTIF('Data Input'!$C$8:$AQ$8,$P$2))","v":""},{"$f":"IF(ISBLANK('Data Input'!C164),\"\",SUM('Data Input'!P164))","v":""},{"$f":"IF(R160=\"\",\"\",R160/COUNTIF('Data Input'!$C$8:$AQ$8,$R$2))","v":""}]
[{"$f":"IF('Data Input'!A165=0,\"\",'Data Input'!A165)","v":""},{"$f":"IF(H161=\"\",\"\",IF(H161>Welcome!$K$23-1,\"Exceeding\",IF(H161>Welcome!$G$23-1,\"Expected\",IF(H161<Welcome!$G$23,\"Below\"))))","v":""},{"$f":"IF(ISBLANK('Data Input'!A165),\"\",COUNTIF('Data Input'!C165:AQ165,\"\")-1)","v":""},{"$f":"IF(ISBLANK('Data Input'!A165),\"\",COUNTIF('Data Input'!C165:AQ165,\"0\"))","v":""},{"$f":"IF(ISBLANK('Data Input'!A165),\"\",SUM(C161,D161))","v":""},{"$f":"IF(ISBLANK('Data Input'!A165),\"\",SUM('Data Input'!C165:V165))","v":""},{"$f":"IF(ISBLANK('Data Input'!A165),\"\",SUM('Data Input'!X165:AQ165))","v":""},{"$f":"IF(ISBLANK('Data Input'!A165),\"\",SUM('Data Input'!C165:AQ165))","v":""},{"$f":"IF(H161=\"\",\"\",H161/(COUNTA('Data Input'!$C$8:$AQ$8)-1))","v":""},{"$f":"IF(ISBLANK('Data Input'!A165),\"\",SUM('Data Input'!I165,'Data Input'!M165,'Data Input'!AB165,'Data Input'!AE165))","v":""},{"$f":"IF(J161=\"\",\"\",J161/COUNTIF('Data Input'!$C$8:$AQ$8,$J$2))","v":""},{"$f":"IF(ISBLANK('Data Input'!A165),\"\",SUM('Data Input'!E165,'Data Input'!G165,'Data Input'!H165,'Data Input'!L165,'Data Input'!N165,'Data Input'!Q165,'Data Input'!R165,'Data Input'!T165,'Data Input'!U165,'Data Input'!V165,'Data Input'!X165,'Data Input'!Y165,'Data Input'!Z165,'Data Input'!AA165,'Data Input'!AC165,'Data Input'!AD165,'Data Input'!AF165,'Data Input'!AG165,'Data Input'!AH165,'Data Input'!AI165,'Data Input'!AJ165,'Data Input'!AK165,'Data Input'!AL165))","v":""},{"$f":"IF(L161=\"\",\"\",L161/COUNTIF('Data Input'!$C$8:$AQ$8,$L$2))","v":""},{"$f":"IF(ISBLANK('Data Input'!A165),\"\",SUM('Data Input'!K165,'Data Input'!AQ165))","v":""},{"$f":"IF(N161=\"\",\"\",N161/COUNTIF('Data Input'!$C$8:$AQ$8,$N$2))","v":""},{"$f":"IF(ISBLANK('Data Input'!A165),\"\",SUM('Data Input'!C165,'Data Input'!D165,'Data Input'!F165,'Data Input'!J165,'Data Input'!O165,'Data Input'!S165,'Data Input'!AM165,'Data Input'!AN165,'Data Input'!AO165,'Data Input'!AP165))","v":""},{"$f":"IF(P161=\"\",\"\",P161/COUNTIF('Data Input'!$C$8:$AQ$8,$P$2))","v":""},{"$f":"IF(ISBLANK('Data Input'!C165),\"\",SUM('Data Input'!P165))","v":""},{"$f":"IF(R161=\"\",\"\",R161/COUNTIF('Data Input'!$C$8:$AQ$8,$R$2))","v":""}]
[{"$f":"IF('Data Input'!A166=0,\"\",'Data Input'!A166)","v":""},{"$f":"IF(H162=\"\",\"\",IF(H162>Welcome!$K$23-1,\"Exceeding\",IF(H162>Welcome!$G$23-1,\"Expected\",IF(H162<Welcome!$G$23,\"Below\"))))","v":""},{"$f":"IF(ISBLANK('Data Input'!A166),\"\",COUNTIF('Data Input'!C166:AQ166,\"\")-1)","v":""},{"$f":"IF(ISBLANK('Data Input'!A166),\"\",COUNTIF('Data Input'!C166:AQ166,\"0\"))","v":""},{"$f":"IF(ISBLANK('Data Input'!A166),\"\",SUM(C162,D162))","v":""},{"$f":"IF(ISBLANK('Data Input'!A166),\"\",SUM('Data Input'!C166:V166))","v":""},{"$f":"IF(ISBLANK('Data Input'!A166),\"\",SUM('Data Input'!X166:AQ166))","v":""},{"$f":"IF(ISBLANK('Data Input'!A166),\"\",SUM('Data Input'!C166:AQ166))","v":""},{"$f":"IF(H162=\"\",\"\",H162/(COUNTA('Data Input'!$C$8:$AQ$8)-1))","v":""},{"$f":"IF(ISBLANK('Data Input'!A166),\"\",SUM('Data Input'!I166,'Data Input'!M166,'Data Input'!AB166,'Data Input'!AE166))","v":""},{"$f":"IF(J162=\"\",\"\",J162/COUNTIF('Data Input'!$C$8:$AQ$8,$J$2))","v":""},{"$f":"IF(ISBLANK('Data Input'!A166),\"\",SUM('Data Input'!E166,'Data Input'!G166,'Data Input'!H166,'Data Input'!L166,'Data Input'!N166,'Data Input'!Q166,'Data Input'!R166,'Data Input'!T166,'Data Input'!U166,'Data Input'!V166,'Data Input'!X166,'Data Input'!Y166,'Data Input'!Z166,'Data Input'!AA166,'Data Input'!AC166,'Data Input'!AD166,'Data Input'!AF166,'Data Input'!AG166,'Data Input'!AH166,'Data Input'!AI166,'Data Input'!AJ166,'Data Input'!AK166,'Data Input'!AL166))","v":""},{"$f":"IF(L162=\"\",\"\",L162/COUNTIF('Data Input'!$C$8:$AQ$8,$L$2))","v":""},{"$f":"IF(ISBLANK('Data Input'!A166),\"\",SUM('Data Input'!K166,'Data Input'!AQ166))","v":""},{"$f":"IF(N162=\"\",\"\",N162/COUNTIF('Data Input'!$C$8:$AQ$8,$N$2))","v":""},{"$f":"IF(ISBLANK('Data Input'!A166),\"\",SUM('Data Input'!C166,'Data Input'!D166,'Data Input'!F166,'Data Input'!J166,'Data Input'!O166,'Data Input'!S166,'Data Input'!AM166,'Data Input'!AN166,'Data Input'!AO166,'Data Input'!AP166))","v":""},{"$f":"IF(P162=\"\",\"\",P162/COUNTIF('Data Input'!$C$8:$AQ$8,$P$2))","v":""},{"$f":"IF(ISBLANK('Data Input'!C166),\"\",SUM('Data Input'!P166))","v":""},{"$f":"IF(R162=\"\",\"\",R162/COUNTIF('Data Input'!$C$8:$AQ$8,$R$2))","v":""}]
[{"$f":"IF('Data Input'!A167=0,\"\",'Data Input'!A167)","v":""},{"$f":"IF(H163=\"\",\"\",IF(H163>Welcome!$K$23-1,\"Exceeding\",IF(H163>Welcome!$G$23-1,\"Expected\",IF(H163<Welcome!$G$23,\"Below\"))))","v":""},{"$f":"IF(ISBLANK('Data Input'!A167),\"\",COUNTIF('Data Input'!C167:AQ167,\"\")-1)","v":""},{"$f":"IF(ISBLANK('Data Input'!A167),\"\",COUNTIF('Data Input'!C167:AQ167,\"0\"))","v":""},{"$f":"IF(ISBLANK('Data Input'!A167),\"\",SUM(C163,D163))","v":""},{"$f":"IF(ISBLANK('Data Input'!A167),\"\",SUM('Data Input'!C167:V167))","v":""},{"$f":"IF(ISBLANK('Data Input'!A167),\"\",SUM('Data Input'!X167:AQ167))","v":""},{"$f":"IF(ISBLANK('Data Input'!A167),\"\",SUM('Data Input'!C167:AQ167))","v":""},{"$f":"IF(H163=\"\",\"\",H163/(COUNTA('Data Input'!$C$8:$AQ$8)-1))","v":""},{"$f":"IF(ISBLANK('Data Input'!A167),\"\",SUM('Data Input'!I167,'Data Input'!M167,'Data Input'!AB167,'Data Input'!AE167))","v":""},{"$f":"IF(J163=\"\",\"\",J163/COUNTIF('Data Input'!$C$8:$AQ$8,$J$2))","v":""},{"$f":"IF(ISBLANK('Data Input'!A167),\"\",SUM('Data Input'!E167,'Data Input'!G167,'Data Input'!H167,'Data Input'!L167,'Data Input'!N167,'Data Input'!Q167,'Data Input'!R167,'Data Input'!T167,'Data Input'!U167,'Data Input'!V167,'Data Input'!X167,'Data Input'!Y167,'Data Input'!Z167,'Data Input'!AA167,'Data Input'!AC167,'Data Input'!AD167,'Data Input'!AF167,'Data Input'!AG167,'Data Input'!AH167,'Data Input'!AI167,'Data Input'!AJ167,'Data Input'!AK167,'Data Input'!AL167))","v":""},{"$f":"IF(L163=\"\",\"\",L163/COUNTIF('Data Input'!$C$8:$AQ$8,$L$2))","v":""},{"$f":"IF(ISBLANK('Data Input'!A167),\"\",SUM('Data Input'!K167,'Data Input'!AQ167))","v":""},{"$f":"IF(N163=\"\",\"\",N163/COUNTIF('Data Input'!$C$8:$AQ$8,$N$2))","v":""},{"$f":"IF(ISBLANK('Data Input'!A167),\"\",SUM('Data Input'!C167,'Data Input'!D167,'Data Input'!F167,'Data Input'!J167,'Data Input'!O167,'Data Input'!S167,'Data Input'!AM167,'Data Input'!AN167,'Data Input'!AO167,'Data Input'!AP167))","v":""},{"$f":"IF(P163=\"\",\"\",P163/COUNTIF('Data Input'!$C$8:$AQ$8,$P$2))","v":""},{"$f":"IF(ISBLANK('Data Input'!C167),\"\",SUM('Data Input'!P167))","v":""},{"$f":"IF(R163=\"\",\"\",R163/COUNTIF('Data Input'!$C$8:$AQ$8,$R$2))","v":""}]
[{"$f":"IF('Data Input'!A168=0,\"\",'Data Input'!A168)","v":""},{"$f":"IF(H164=\"\",\"\",IF(H164>Welcome!$K$23-1,\"Exceeding\",IF(H164>Welcome!$G$23-1,\"Expected\",IF(H164<Welcome!$G$23,\"Below\"))))","v":""},{"$f":"IF(ISBLANK('Data Input'!A168),\"\",COUNTIF('Data Input'!C168:AQ168,\"\")-1)","v":""},{"$f":"IF(ISBLANK('Data Input'!A168),\"\",COUNTIF('Data Input'!C168:AQ168,\"0\"))","v":""},{"$f":"IF(ISBLANK('Data Input'!A168),\"\",SUM(C164,D164))","v":""},{"$f":"IF(ISBLANK('Data Input'!A168),\"\",SUM('Data Input'!C168:V168))","v":""},{"$f":"IF(ISBLANK('Data Input'!A168),\"\",SUM('Data Input'!X168:AQ168))","v":""},{"$f":"IF(ISBLANK('Data Input'!A168),\"\",SUM('Data Input'!C168:AQ168))","v":""},{"$f":"IF(H164=\"\",\"\",H164/(COUNTA('Data Input'!$C$8:$AQ$8)-1))","v":""},{"$f":"IF(ISBLANK('Data Input'!A168),\"\",SUM('Data Input'!I168,'Data Input'!M168,'Data Input'!AB168,'Data Input'!AE168))","v":""},{"$f":"IF(J164=\"\",\"\",J164/COUNTIF('Data Input'!$C$8:$AQ$8,$J$2))","v":""},{"$f":"IF(ISBLANK('Data Input'!A168),\"\",SUM('Data Input'!E168,'Data Input'!G168,'Data Input'!H168,'Data Input'!L168,'Data Input'!N168,'Data Input'!Q168,'Data Input'!R168,'Data Input'!T168,'Data Input'!U168,'Data Input'!V168,'Data Input'!X168,'Data Input'!Y168,'Data Input'!Z168,'Data Input'!AA168,'Data Input'!AC168,'Data Input'!AD168,'Data Input'!AF168,'Data Input'!AG168,'Data Input'!AH168,'Data Input'!AI168,'Data Input'!AJ168,'Data Input'!AK168,'Data Input'!AL168))","v":""},{"$f":"IF(L164=\"\",\"\",L164/COUNTIF('Data Input'!$C$8:$AQ$8,$L$2))","v":""},{"$f":"IF(ISBLANK('Data Input'!A168),\"\",SUM('Data Input'!K168,'Data Input'!AQ168))","v":""},{"$f":"IF(N164=\"\",\"\",N164/COUNTIF('Data Input'!$C$8:$AQ$8,$N$2))","v":""},{"$f":"IF(ISBLANK('Data Input'!A168),\"\",SUM('Data Input'!C168,'Data Input'!D168,'Data Input'!F168,'Data Input'!J168,'Data Input'!O168,'Data Input'!S168,'Data Input'!AM168,'Data Input'!AN168,'Data Input'!AO168,'Data Input'!AP168))","v":""},{"$f":"IF(P164=\"\",\"\",P164/COUNTIF('Data Input'!$C$8:$AQ$8,$P$2))","v":""},{"$f":"IF(ISBLANK('Data Input'!C168),\"\",SUM('Data Input'!P168))","v":""},{"$f":"IF(R164=\"\",\"\",R164/COUNTIF('Data Input'!$C$8:$AQ$8,$R$2))","v":""}]
[{"$f":"IF('Data Input'!A169=0,\"\",'Data Input'!A169)","v":""},{"$f":"IF(H165=\"\",\"\",IF(H165>Welcome!$K$23-1,\"Exceeding\",IF(H165>Welcome!$G$23-1,\"Expected\",IF(H165<Welcome!$G$23,\"Below\"))))","v":""},{"$f":"IF(ISBLANK('Data Input'!A169),\"\",COUNTIF('Data Input'!C169:AQ169,\"\")-1)","v":""},{"$f":"IF(ISBLANK('Data Input'!A169),\"\",COUNTIF('Data Input'!C169:AQ169,\"0\"))","v":""},{"$f":"IF(ISBLANK('Data Input'!A169),\"\",SUM(C165,D165))","v":""},{"$f":"IF(ISBLANK('Data Input'!A169),\"\",SUM('Data Input'!C169:V169))","v":""},{"$f":"IF(ISBLANK('Data Input'!A169),\"\",SUM('Data Input'!X169:AQ169))","v":""},{"$f":"IF(ISBLANK('Data Input'!A169),\"\",SUM('Data Input'!C169:AQ169))","v":""},{"$f":"IF(H165=\"\",\"\",H165/(COUNTA('Data Input'!$C$8:$AQ$8)-1))","v":""},{"$f":"IF(ISBLANK('Data Input'!A169),\"\",SUM('Data Input'!I169,'Data Input'!M169,'Data Input'!AB169,'Data Input'!AE169))","v":""},{"$f":"IF(J165=\"\",\"\",J165/COUNTIF('Data Input'!$C$8:$AQ$8,$J$2))","v":""},{"$f":"IF(ISBLANK('Data Input'!A169),\"\",SUM('Data Input'!E169,'Data Input'!G169,'Data Input'!H169,'Data Input'!L169,'Data Input'!N169,'Data Input'!Q169,'Data Input'!R169,'Data Input'!T169,'Data Input'!U169,'Data Input'!V169,'Data Input'!X169,'Data Input'!Y169,'Data Input'!Z169,'Data Input'!AA169,'Data Input'!AC169,'Data Input'!AD169,'Data Input'!AF169,'Data Input'!AG169,'Data Input'!AH169,'Data Input'!AI169,'Data Input'!AJ169,'Data Input'!AK169,'Data Input'!AL169))","v":""},{"$f":"IF(L165=\"\",\"\",L165/COUNTIF('Data Input'!$C$8:$AQ$8,$L$2))","v":""},{"$f":"IF(ISBLANK('Data Input'!A169),\"\",SUM('Data Input'!K169,'Data Input'!AQ169))","v":""},{"$f":"IF(N165=\"\",\"\",N165/COUNTIF('Data Input'!$C$8:$AQ$8,$N$2))","v":""},{"$f":"IF(ISBLANK('Data Input'!A169),\"\",SUM('Data Input'!C169,'Data Input'!D169,'Data Input'!F169,'Data Input'!J169,'Data Input'!O169,'Data Input'!S169,'Data Input'!AM169,'Data Input'!AN169,'Data Input'!AO169,'Data Input'!AP169))","v":""},{"$f":"IF(P165=\"\",\"\",P165/COUNTIF('Data Input'!$C$8:$AQ$8,$P$2))","v":""},{"$f":"IF(ISBLANK('Data Input'!C169),\"\",SUM('Data Input'!P169))","v":""},{"$f":"IF(R165=\"\",\"\",R165/COUNTIF('Data Input'!$C$8:$AQ$8,$R$2))","v":""}]
[{"$f":"IF('Data Input'!A170=0,\"\",'Data Input'!A170)","v":""},{"$f":"IF(H166=\"\",\"\",IF(H166>Welcome!$K$23-1,\"Exceeding\",IF(H166>Welcome!$G$23-1,\"Expected\",IF(H166<Welcome!$G$23,\"Below\"))))","v":""},{"$f":"IF(ISBLANK('Data Input'!A170),\"\",COUNTIF('Data Input'!C170:AQ170,\"\")-1)","v":""},{"$f":"IF(ISBLANK('Data Input'!A170),\"\",COUNTIF('Data Input'!C170:AQ170,\"0\"))","v":""},{"$f":"IF(ISBLANK('Data Input'!A170),\"\",SUM(C166,D166))","v":""},{"$f":"IF(ISBLANK('Data Input'!A170),\"\",SUM('Data Input'!C170:V170))","v":""},{"$f":"IF(ISBLANK('Data Input'!A170),\"\",SUM('Data Input'!X170:AQ170))","v":""},{"$f":"IF(ISBLANK('Data Input'!A170),\"\",SUM('Data Input'!C170:AQ170))","v":""},{"$f":"IF(H166=\"\",\"\",H166/(COUNTA('Data Input'!$C$8:$AQ$8)-1))","v":""},{"$f":"IF(ISBLANK('Data Input'!A170),\"\",SUM('Data Input'!I170,'Data Input'!M170,'Data Input'!AB170,'Data Input'!AE170))","v":""},{"$f":"IF(J166=\"\",\"\",J166/COUNTIF('Data Input'!$C$8:$AQ$8,$J$2))","v":""},{"$f":"IF(ISBLANK('Data Input'!A170),\"\",SUM('Data Input'!E170,'Data Input'!G170,'Data Input'!H170,'Data Input'!L170,'Data Input'!N170,'Data Input'!Q170,'Data Input'!R170,'Data Input'!T170,'Data Input'!U170,'Data Input'!V170,'Data Input'!X170,'Data Input'!Y170,'Data Input'!Z170,'Data Input'!AA170,'Data Input'!AC170,'Data Input'!AD170,'Data Input'!AF170,'Data Input'!AG170,'Data Input'!AH170,'Data Input'!AI170,'Data Input'!AJ170,'Data Input'!AK170,'Data Input'!AL170))","v":""},{"$f":"IF(L166=\"\",\"\",L166/COUNTIF('Data Input'!$C$8:$AQ$8,$L$2))","v":""},{"$f":"IF(ISBLANK('Data Input'!A170),\"\",SUM('Data Input'!K170,'Data Input'!AQ170))","v":""},{"$f":"IF(N166=\"\",\"\",N166/COUNTIF('Data Input'!$C$8:$AQ$8,$N$2))","v":""},{"$f":"IF(ISBLANK('Data Input'!A170),\"\",SUM('Data Input'!C170,'Data Input'!D170,'Data Input'!F170,'Data Input'!J170,'Data Input'!O170,'Data Input'!S170,'Data Input'!AM170,'Data Input'!AN170,'Data Input'!AO170,'Data Input'!AP170))","v":""},{"$f":"IF(P166=\"\",\"\",P166/COUNTIF('Data Input'!$C$8:$AQ$8,$P$2))","v":""},{"$f":"IF(ISBLANK('Data Input'!C170),\"\",SUM('Data Input'!P170))","v":""},{"$f":"IF(R166=\"\",\"\",R166/COUNTIF('Data Input'!$C$8:$AQ$8,$R$2))","v":""}]
[{"$f":"IF('Data Input'!A171=0,\"\",'Data Input'!A171)","v":""},{"$f":"IF(H167=\"\",\"\",IF(H167>Welcome!$K$23-1,\"Exceeding\",IF(H167>Welcome!$G$23-1,\"Expected\",IF(H167<Welcome!$G$23,\"Below\"))))","v":""},{"$f":"IF(ISBLANK('Data Input'!A171),\"\",COUNTIF('Data Input'!C171:AQ171,\"\")-1)","v":""},{"$f":"IF(ISBLANK('Data Input'!A171),\"\",COUNTIF('Data Input'!C171:AQ171,\"0\"))","v":""},{"$f":"IF(ISBLANK('Data Input'!A171),\"\",SUM(C167,D167))","v":""},{"$f":"IF(ISBLANK('Data Input'!A171),\"\",SUM('Data Input'!C171:V171))","v":""},{"$f":"IF(ISBLANK('Data Input'!A171),\"\",SUM('Data Input'!X171:AQ171))","v":""},{"$f":"IF(ISBLANK('Data Input'!A171),\"\",SUM('Data Input'!C171:AQ171))","v":""},{"$f":"IF(H167=\"\",\"\",H167/(COUNTA('Data Input'!$C$8:$AQ$8)-1))","v":""},{"$f":"IF(ISBLANK('Data Input'!A171),\"\",SUM('Data Input'!I171,'Data Input'!M171,'Data Input'!AB171,'Data Input'!AE171))","v":""},{"$f":"IF(J167=\"\",\"\",J167/COUNTIF('Data Input'!$C$8:$AQ$8,$J$2))","v":""},{"$f":"IF(ISBLANK('Data Input'!A171),\"\",SUM('Data Input'!E171,'Data Input'!G171,'Data Input'!H171,'Data Input'!L171,'Data Input'!N171,'Data Input'!Q171,'Data Input'!R171,'Data Input'!T171,'Data Input'!U171,'Data Input'!V171,'Data Input'!X171,'Data Input'!Y171,'Data Input'!Z171,'Data Input'!AA171,'Data Input'!AC171,'Data Input'!AD171,'Data Input'!AF171,'Data Input'!AG171,'Data Input'!AH171,'Data Input'!AI171,'Data Input'!AJ171,'Data Input'!AK171,'Data Input'!AL171))","v":""},{"$f":"IF(L167=\"\",\"\",L167/COUNTIF('Data Input'!$C$8:$AQ$8,$L$2))","v":""},{"$f":"IF(ISBLANK('Data Input'!A171),\"\",SUM('Data Input'!K171,'Data Input'!AQ171))","v":""},{"$f":"IF(N167=\"\",\"\",N167/COUNTIF('Data Input'!$C$8:$AQ$8,$N$2))","v":""},{"$f":"IF(ISBLANK('Data Input'!A171),\"\",SUM('Data Input'!C171,'Data Input'!D171,'Data Input'!F171,'Data Input'!J171,'Data Input'!O171,'Data Input'!S171,'Data Input'!AM171,'Data Input'!AN171,'Data Input'!AO171,'Data Input'!AP171))","v":""},{"$f":"IF(P167=\"\",\"\",P167/COUNTIF('Data Input'!$C$8:$AQ$8,$P$2))","v":""},{"$f":"IF(ISBLANK('Data Input'!C171),\"\",SUM('Data Input'!P171))","v":""},{"$f":"IF(R167=\"\",\"\",R167/COUNTIF('Data Input'!$C$8:$AQ$8,$R$2))","v":""}]
[{"$f":"IF('Data Input'!A172=0,\"\",'Data Input'!A172)","v":""},{"$f":"IF(H168=\"\",\"\",IF(H168>Welcome!$K$23-1,\"Exceeding\",IF(H168>Welcome!$G$23-1,\"Expected\",IF(H168<Welcome!$G$23,\"Below\"))))","v":""},{"$f":"IF(ISBLANK('Data Input'!A172),\"\",COUNTIF('Data Input'!C172:AQ172,\"\")-1)","v":""},{"$f":"IF(ISBLANK('Data Input'!A172),\"\",COUNTIF('Data Input'!C172:AQ172,\"0\"))","v":""},{"$f":"IF(ISBLANK('Data Input'!A172),\"\",SUM(C168,D168))","v":""},{"$f":"IF(ISBLANK('Data Input'!A172),\"\",SUM('Data Input'!C172:V172))","v":""},{"$f":"IF(ISBLANK('Data Input'!A172),\"\",SUM('Data Input'!X172:AQ172))","v":""},{"$f":"IF(ISBLANK('Data Input'!A172),\"\",SUM('Data Input'!C172:AQ172))","v":""},{"$f":"IF(H168=\"\",\"\",H168/(COUNTA('Data Input'!$C$8:$AQ$8)-1))","v":""},{"$f":"IF(ISBLANK('Data Input'!A172),\"\",SUM('Data Input'!I172,'Data Input'!M172,'Data Input'!AB172,'Data Input'!AE172))","v":""},{"$f":"IF(J168=\"\",\"\",J168/COUNTIF('Data Input'!$C$8:$AQ$8,$J$2))","v":""},{"$f":"IF(ISBLANK('Data Input'!A172),\"\",SUM('Data Input'!E172,'Data Input'!G172,'Data Input'!H172,'Data Input'!L172,'Data Input'!N172,'Data Input'!Q172,'Data Input'!R172,'Data Input'!T172,'Data Input'!U172,'Data Input'!V172,'Data Input'!X172,'Data Input'!Y172,'Data Input'!Z172,'Data Input'!AA172,'Data Input'!AC172,'Data Input'!AD172,'Data Input'!AF172,'Data Input'!AG172,'Data Input'!AH172,'Data Input'!AI172,'Data Input'!AJ172,'Data Input'!AK172,'Data Input'!AL172))","v":""},{"$f":"IF(L168=\"\",\"\",L168/COUNTIF('Data Input'!$C$8:$AQ$8,$L$2))","v":""},{"$f":"IF(ISBLANK('Data Input'!A172),\"\",SUM('Data Input'!K172,'Data Input'!AQ172))","v":""},{"$f":"IF(N168=\"\",\"\",N168/COUNTIF('Data Input'!$C$8:$AQ$8,$N$2))","v":""},{"$f":"IF(ISBLANK('Data Input'!A172),\"\",SUM('Data Input'!C172,'Data Input'!D172,'Data Input'!F172,'Data Input'!J172,'Data Input'!O172,'Data Input'!S172,'Data Input'!AM172,'Data Input'!AN172,'Data Input'!AO172,'Data Input'!AP172))","v":""},{"$f":"IF(P168=\"\",\"\",P168/COUNTIF('Data Input'!$C$8:$AQ$8,$P$2))","v":""},{"$f":"IF(ISBLANK('Data Input'!C172),\"\",SUM('Data Input'!P172))","v":""},{"$f":"IF(R168=\"\",\"\",R168/COUNTIF('Data Input'!$C$8:$AQ$8,$R$2))","v":""}]
[{"$f":"IF('Data Input'!A173=0,\"\",'Data Input'!A173)","v":""},{"$f":"IF(H169=\"\",\"\",IF(H169>Welcome!$K$23-1,\"Exceeding\",IF(H169>Welcome!$G$23-1,\"Expected\",IF(H169<Welcome!$G$23,\"Below\"))))","v":""},{"$f":"IF(ISBLANK('Data Input'!A173),\"\",COUNTIF('Data Input'!C173:AQ173,\"\")-1)","v":""},{"$f":"IF(ISBLANK('Data Input'!A173),\"\",COUNTIF('Data Input'!C173:AQ173,\"0\"))","v":""},{"$f":"IF(ISBLANK('Data Input'!A173),\"\",SUM(C169,D169))","v":""},{"$f":"IF(ISBLANK('Data Input'!A173),\"\",SUM('Data Input'!C173:V173))","v":""},{"$f":"IF(ISBLANK('Data Input'!A173),\"\",SUM('Data Input'!X173:AQ173))","v":""},{"$f":"IF(ISBLANK('Data Input'!A173),\"\",SUM('Data Input'!C173:AQ173))","v":""},{"$f":"IF(H169=\"\",\"\",H169/(COUNTA('Data Input'!$C$8:$AQ$8)-1))","v":""},{"$f":"IF(ISBLANK('Data Input'!A173),\"\",SUM('Data Input'!I173,'Data Input'!M173,'Data Input'!AB173,'Data Input'!AE173))","v":""},{"$f":"IF(J169=\"\",\"\",J169/COUNTIF('Data Input'!$C$8:$AQ$8,$J$2))","v":""},{"$f":"IF(ISBLANK('Data Input'!A173),\"\",SUM('Data Input'!E173,'Data Input'!G173,'Data Input'!H173,'Data Input'!L173,'Data Input'!N173,'Data Input'!Q173,'Data Input'!R173,'Data Input'!T173,'Data Input'!U173,'Data Input'!V173,'Data Input'!X173,'Data Input'!Y173,'Data Input'!Z173,'Data Input'!AA173,'Data Input'!AC173,'Data Input'!AD173,'Data Input'!AF173,'Data Input'!AG173,'Data Input'!AH173,'Data Input'!AI173,'Data Input'!AJ173,'Data Input'!AK173,'Data Input'!AL173))","v":""},{"$f":"IF(L169=\"\",\"\",L169/COUNTIF('Data Input'!$C$8:$AQ$8,$L$2))","v":""},{"$f":"IF(ISBLANK('Data Input'!A173),\"\",SUM('Data Input'!K173,'Data Input'!AQ173))","v":""},{"$f":"IF(N169=\"\",\"\",N169/COUNTIF('Data Input'!$C$8:$AQ$8,$N$2))","v":""},{"$f":"IF(ISBLANK('Data Input'!A173),\"\",SUM('Data Input'!C173,'Data Input'!D173,'Data Input'!F173,'Data Input'!J173,'Data Input'!O173,'Data Input'!S173,'Data Input'!AM173,'Data Input'!AN173,'Data Input'!AO173,'Data Input'!AP173))","v":""},{"$f":"IF(P169=\"\",\"\",P169/COUNTIF('Data Input'!$C$8:$AQ$8,$P$2))","v":""},{"$f":"IF(ISBLANK('Data Input'!C173),\"\",SUM('Data Input'!P173))","v":""},{"$f":"IF(R169=\"\",\"\",R169/COUNTIF('Data Input'!$C$8:$AQ$8,$R$2))","v":""}]
[{"$f":"IF('Data Input'!A174=0,\"\",'Data Input'!A174)","v":""},{"$f":"IF(H170=\"\",\"\",IF(H170>Welcome!$K$23-1,\"Exceeding\",IF(H170>Welcome!$G$23-1,\"Expected\",IF(H170<Welcome!$G$23,\"Below\"))))","v":""},{"$f":"IF(ISBLANK('Data Input'!A174),\"\",COUNTIF('Data Input'!C174:AQ174,\"\")-1)","v":""},{"$f":"IF(ISBLANK('Data Input'!A174),\"\",COUNTIF('Data Input'!C174:AQ174,\"0\"))","v":""},{"$f":"IF(ISBLANK('Data Input'!A174),\"\",SUM(C170,D170))","v":""},{"$f":"IF(ISBLANK('Data Input'!A174),\"\",SUM('Data Input'!C174:V174))","v":""},{"$f":"IF(ISBLANK('Data Input'!A174),\"\",SUM('Data Input'!X174:AQ174))","v":""},{"$f":"IF(ISBLANK('Data Input'!A174),\"\",SUM('Data Input'!C174:AQ174))","v":""},{"$f":"IF(H170=\"\",\"\",H170/(COUNTA('Data Input'!$C$8:$AQ$8)-1))","v":""},{"$f":"IF(ISBLANK('Data Input'!A174),\"\",SUM('Data Input'!I174,'Data Input'!M174,'Data Input'!AB174,'Data Input'!AE174))","v":""},{"$f":"IF(J170=\"\",\"\",J170/COUNTIF('Data Input'!$C$8:$AQ$8,$J$2))","v":""},{"$f":"IF(ISBLANK('Data Input'!A174),\"\",SUM('Data Input'!E174,'Data Input'!G174,'Data Input'!H174,'Data Input'!L174,'Data Input'!N174,'Data Input'!Q174,'Data Input'!R174,'Data Input'!T174,'Data Input'!U174,'Data Input'!V174,'Data Input'!X174,'Data Input'!Y174,'Data Input'!Z174,'Data Input'!AA174,'Data Input'!AC174,'Data Input'!AD174,'Data Input'!AF174,'Data Input'!AG174,'Data Input'!AH174,'Data Input'!AI174,'Data Input'!AJ174,'Data Input'!AK174,'Data Input'!AL174))","v":""},{"$f":"IF(L170=\"\",\"\",L170/COUNTIF('Data Input'!$C$8:$AQ$8,$L$2))","v":""},{"$f":"IF(ISBLANK('Data Input'!A174),\"\",SUM('Data Input'!K174,'Data Input'!AQ174))","v":""},{"$f":"IF(N170=\"\",\"\",N170/COUNTIF('Data Input'!$C$8:$AQ$8,$N$2))","v":""},{"$f":"IF(ISBLANK('Data Input'!A174),\"\",SUM('Data Input'!C174,'Data Input'!D174,'Data Input'!F174,'Data Input'!J174,'Data Input'!O174,'Data Input'!S174,'Data Input'!AM174,'Data Input'!AN174,'Data Input'!AO174,'Data Input'!AP174))","v":""},{"$f":"IF(P170=\"\",\"\",P170/COUNTIF('Data Input'!$C$8:$AQ$8,$P$2))","v":""},{"$f":"IF(ISBLANK('Data Input'!C174),\"\",SUM('Data Input'!P174))","v":""},{"$f":"IF(R170=\"\",\"\",R170/COUNTIF('Data Input'!$C$8:$AQ$8,$R$2))","v":""}]
[{"$f":"IF('Data Input'!A175=0,\"\",'Data Input'!A175)","v":""},{"$f":"IF(H171=\"\",\"\",IF(H171>Welcome!$K$23-1,\"Exceeding\",IF(H171>Welcome!$G$23-1,\"Expected\",IF(H171<Welcome!$G$23,\"Below\"))))","v":""},{"$f":"IF(ISBLANK('Data Input'!A175),\"\",COUNTIF('Data Input'!C175:AQ175,\"\")-1)","v":""},{"$f":"IF(ISBLANK('Data Input'!A175),\"\",COUNTIF('Data Input'!C175:AQ175,\"0\"))","v":""},{"$f":"IF(ISBLANK('Data Input'!A175),\"\",SUM(C171,D171))","v":""},{"$f":"IF(ISBLANK('Data Input'!A175),\"\",SUM('Data Input'!C175:V175))","v":""},{"$f":"IF(ISBLANK('Data Input'!A175),\"\",SUM('Data Input'!X175:AQ175))","v":""},{"$f":"IF(ISBLANK('Data Input'!A175),\"\",SUM('Data Input'!C175:AQ175))","v":""},{"$f":"IF(H171=\"\",\"\",H171/(COUNTA('Data Input'!$C$8:$AQ$8)-1))","v":""},{"$f":"IF(ISBLANK('Data Input'!A175),\"\",SUM('Data Input'!I175,'Data Input'!M175,'Data Input'!AB175,'Data Input'!AE175))","v":""},{"$f":"IF(J171=\"\",\"\",J171/COUNTIF('Data Input'!$C$8:$AQ$8,$J$2))","v":""},{"$f":"IF(ISBLANK('Data Input'!A175),\"\",SUM('Data Input'!E175,'Data Input'!G175,'Data Input'!H175,'Data Input'!L175,'Data Input'!N175,'Data Input'!Q175,'Data Input'!R175,'Data Input'!T175,'Data Input'!U175,'Data Input'!V175,'Data Input'!X175,'Data Input'!Y175,'Data Input'!Z175,'Data Input'!AA175,'Data Input'!AC175,'Data Input'!AD175,'Data Input'!AF175,'Data Input'!AG175,'Data Input'!AH175,'Data Input'!AI175,'Data Input'!AJ175,'Data Input'!AK175,'Data Input'!AL175))","v":""},{"$f":"IF(L171=\"\",\"\",L171/COUNTIF('Data Input'!$C$8:$AQ$8,$L$2))","v":""},{"$f":"IF(ISBLANK('Data Input'!A175),\"\",SUM('Data Input'!K175,'Data Input'!AQ175))","v":""},{"$f":"IF(N171=\"\",\"\",N171/COUNTIF('Data Input'!$C$8:$AQ$8,$N$2))","v":""},{"$f":"IF(ISBLANK('Data Input'!A175),\"\",SUM('Data Input'!C175,'Data Input'!D175,'Data Input'!F175,'Data Input'!J175,'Data Input'!O175,'Data Input'!S175,'Data Input'!AM175,'Data Input'!AN175,'Data Input'!AO175,'Data Input'!AP175))","v":""},{"$f":"IF(P171=\"\",\"\",P171/COUNTIF('Data Input'!$C$8:$AQ$8,$P$2))","v":""},{"$f":"IF(ISBLANK('Data Input'!C175),\"\",SUM('Data Input'!P175))","v":""},{"$f":"IF(R171=\"\",\"\",R171/COUNTIF('Data Input'!$C$8:$AQ$8,$R$2))","v":""}]
[{"$f":"IF('Data Input'!A176=0,\"\",'Data Input'!A176)","v":""},{"$f":"IF(H172=\"\",\"\",IF(H172>Welcome!$K$23-1,\"Exceeding\",IF(H172>Welcome!$G$23-1,\"Expected\",IF(H172<Welcome!$G$23,\"Below\"))))","v":""},{"$f":"IF(ISBLANK('Data Input'!A176),\"\",COUNTIF('Data Input'!C176:AQ176,\"\")-1)","v":""},{"$f":"IF(ISBLANK('Data Input'!A176),\"\",COUNTIF('Data Input'!C176:AQ176,\"0\"))","v":""},{"$f":"IF(ISBLANK('Data Input'!A176),\"\",SUM(C172,D172))","v":""},{"$f":"IF(ISBLANK('Data Input'!A176),\"\",SUM('Data Input'!C176:V176))","v":""},{"$f":"IF(ISBLANK('Data Input'!A176),\"\",SUM('Data Input'!X176:AQ176))","v":""},{"$f":"IF(ISBLANK('Data Input'!A176),\"\",SUM('Data Input'!C176:AQ176))","v":""},{"$f":"IF(H172=\"\",\"\",H172/(COUNTA('Data Input'!$C$8:$AQ$8)-1))","v":""},{"$f":"IF(ISBLANK('Data Input'!A176),\"\",SUM('Data Input'!I176,'Data Input'!M176,'Data Input'!AB176,'Data Input'!AE176))","v":""},{"$f":"IF(J172=\"\",\"\",J172/COUNTIF('Data Input'!$C$8:$AQ$8,$J$2))","v":""},{"$f":"IF(ISBLANK('Data Input'!A176),\"\",SUM('Data Input'!E176,'Data Input'!G176,'Data Input'!H176,'Data Input'!L176,'Data Input'!N176,'Data Input'!Q176,'Data Input'!R176,'Data Input'!T176,'Data Input'!U176,'Data Input'!V176,'Data Input'!X176,'Data Input'!Y176,'Data Input'!Z176,'Data Input'!AA176,'Data Input'!AC176,'Data Input'!AD176,'Data Input'!AF176,'Data Input'!AG176,'Data Input'!AH176,'Data Input'!AI176,'Data Input'!AJ176,'Data Input'!AK176,'Data Input'!AL176))","v":""},{"$f":"IF(L172=\"\",\"\",L172/COUNTIF('Data Input'!$C$8:$AQ$8,$L$2))","v":""},{"$f":"IF(ISBLANK('Data Input'!A176),\"\",SUM('Data Input'!K176,'Data Input'!AQ176))","v":""},{"$f":"IF(N172=\"\",\"\",N172/COUNTIF('Data Input'!$C$8:$AQ$8,$N$2))","v":""},{"$f":"IF(ISBLANK('Data Input'!A176),\"\",SUM('Data Input'!C176,'Data Input'!D176,'Data Input'!F176,'Data Input'!J176,'Data Input'!O176,'Data Input'!S176,'Data Input'!AM176,'Data Input'!AN176,'Data Input'!AO176,'Data Input'!AP176))","v":""},{"$f":"IF(P172=\"\",\"\",P172/COUNTIF('Data Input'!$C$8:$AQ$8,$P$2))","v":""},{"$f":"IF(ISBLANK('Data Input'!C176),\"\",SUM('Data Input'!P176))","v":""},{"$f":"IF(R172=\"\",\"\",R172/COUNTIF('Data Input'!$C$8:$AQ$8,$R$2))","v":""}]
[{"$f":"IF('Data Input'!A177=0,\"\",'Data Input'!A177)","v":""},{"$f":"IF(H173=\"\",\"\",IF(H173>Welcome!$K$23-1,\"Exceeding\",IF(H173>Welcome!$G$23-1,\"Expected\",IF(H173<Welcome!$G$23,\"Below\"))))","v":""},{"$f":"IF(ISBLANK('Data Input'!A177),\"\",COUNTIF('Data Input'!C177:AQ177,\"\")-1)","v":""},{"$f":"IF(ISBLANK('Data Input'!A177),\"\",COUNTIF('Data Input'!C177:AQ177,\"0\"))","v":""},{"$f":"IF(ISBLANK('Data Input'!A177),\"\",SUM(C173,D173))","v":""},{"$f":"IF(ISBLANK('Data Input'!A177),\"\",SUM('Data Input'!C177:V177))","v":""},{"$f":"IF(ISBLANK('Data Input'!A177),\"\",SUM('Data Input'!X177:AQ177))","v":""},{"$f":"IF(ISBLANK('Data Input'!A177),\"\",SUM('Data Input'!C177:AQ177))","v":""},{"$f":"IF(H173=\"\",\"\",H173/(COUNTA('Data Input'!$C$8:$AQ$8)-1))","v":""},{"$f":"IF(ISBLANK('Data Input'!A177),\"\",SUM('Data Input'!I177,'Data Input'!M177,'Data Input'!AB177,'Data Input'!AE177))","v":""},{"$f":"IF(J173=\"\",\"\",J173/COUNTIF('Data Input'!$C$8:$AQ$8,$J$2))","v":""},{"$f":"IF(ISBLANK('Data Input'!A177),\"\",SUM('Data Input'!E177,'Data Input'!G177,'Data Input'!H177,'Data Input'!L177,'Data Input'!N177,'Data Input'!Q177,'Data Input'!R177,'Data Input'!T177,'Data Input'!U177,'Data Input'!V177,'Data Input'!X177,'Data Input'!Y177,'Data Input'!Z177,'Data Input'!AA177,'Data Input'!AC177,'Data Input'!AD177,'Data Input'!AF177,'Data Input'!AG177,'Data Input'!AH177,'Data Input'!AI177,'Data Input'!AJ177,'Data Input'!AK177,'Data Input'!AL177))","v":""},{"$f":"IF(L173=\"\",\"\",L173/COUNTIF('Data Input'!$C$8:$AQ$8,$L$2))","v":""},{"$f":"IF(ISBLANK('Data Input'!A177),\"\",SUM('Data Input'!K177,'Data Input'!AQ177))","v":""},{"$f":"IF(N173=\"\",\"\",N173/COUNTIF('Data Input'!$C$8:$AQ$8,$N$2))","v":""},{"$f":"IF(ISBLANK('Data Input'!A177),\"\",SUM('Data Input'!C177,'Data Input'!D177,'Data Input'!F177,'Data Input'!J177,'Data Input'!O177,'Data Input'!S177,'Data Input'!AM177,'Data Input'!AN177,'Data Input'!AO177,'Data Input'!AP177))","v":""},{"$f":"IF(P173=\"\",\"\",P173/COUNTIF('Data Input'!$C$8:$AQ$8,$P$2))","v":""},{"$f":"IF(ISBLANK('Data Input'!C177),\"\",SUM('Data Input'!P177))","v":""},{"$f":"IF(R173=\"\",\"\",R173/COUNTIF('Data Input'!$C$8:$AQ$8,$R$2))","v":""}]
[{"$f":"IF('Data Input'!A178=0,\"\",'Data Input'!A178)","v":""},{"$f":"IF(H174=\"\",\"\",IF(H174>Welcome!$K$23-1,\"Exceeding\",IF(H174>Welcome!$G$23-1,\"Expected\",IF(H174<Welcome!$G$23,\"Below\"))))","v":""},{"$f":"IF(ISBLANK('Data Input'!A178),\"\",COUNTIF('Data Input'!C178:AQ178,\"\")-1)","v":""},{"$f":"IF(ISBLANK('Data Input'!A178),\"\",COUNTIF('Data Input'!C178:AQ178,\"0\"))","v":""},{"$f":"IF(ISBLANK('Data Input'!A178),\"\",SUM(C174,D174))","v":""},{"$f":"IF(ISBLANK('Data Input'!A178),\"\",SUM('Data Input'!C178:V178))","v":""},{"$f":"IF(ISBLANK('Data Input'!A178),\"\",SUM('Data Input'!X178:AQ178))","v":""},{"$f":"IF(ISBLANK('Data Input'!A178),\"\",SUM('Data Input'!C178:AQ178))","v":""},{"$f":"IF(H174=\"\",\"\",H174/(COUNTA('Data Input'!$C$8:$AQ$8)-1))","v":""},{"$f":"IF(ISBLANK('Data Input'!A178),\"\",SUM('Data Input'!I178,'Data Input'!M178,'Data Input'!AB178,'Data Input'!AE178))","v":""},{"$f":"IF(J174=\"\",\"\",J174/COUNTIF('Data Input'!$C$8:$AQ$8,$J$2))","v":""},{"$f":"IF(ISBLANK('Data Input'!A178),\"\",SUM('Data Input'!E178,'Data Input'!G178,'Data Input'!H178,'Data Input'!L178,'Data Input'!N178,'Data Input'!Q178,'Data Input'!R178,'Data Input'!T178,'Data Input'!U178,'Data Input'!V178,'Data Input'!X178,'Data Input'!Y178,'Data Input'!Z178,'Data Input'!AA178,'Data Input'!AC178,'Data Input'!AD178,'Data Input'!AF178,'Data Input'!AG178,'Data Input'!AH178,'Data Input'!AI178,'Data Input'!AJ178,'Data Input'!AK178,'Data Input'!AL178))","v":""},{"$f":"IF(L174=\"\",\"\",L174/COUNTIF('Data Input'!$C$8:$AQ$8,$L$2))","v":""},{"$f":"IF(ISBLANK('Data Input'!A178),\"\",SUM('Data Input'!K178,'Data Input'!AQ178))","v":""},{"$f":"IF(N174=\"\",\"\",N174/COUNTIF('Data Input'!$C$8:$AQ$8,$N$2))","v":""},{"$f":"IF(ISBLANK('Data Input'!A178),\"\",SUM('Data Input'!C178,'Data Input'!D178,'Data Input'!F178,'Data Input'!J178,'Data Input'!O178,'Data Input'!S178,'Data Input'!AM178,'Data Input'!AN178,'Data Input'!AO178,'Data Input'!AP178))","v":""},{"$f":"IF(P174=\"\",\"\",P174/COUNTIF('Data Input'!$C$8:$AQ$8,$P$2))","v":""},{"$f":"IF(ISBLANK('Data Input'!C178),\"\",SUM('Data Input'!P178))","v":""},{"$f":"IF(R174=\"\",\"\",R174/COUNTIF('Data Input'!$C$8:$AQ$8,$R$2))","v":""}]
[{"$f":"IF('Data Input'!A179=0,\"\",'Data Input'!A179)","v":""},{"$f":"IF(H175=\"\",\"\",IF(H175>Welcome!$K$23-1,\"Exceeding\",IF(H175>Welcome!$G$23-1,\"Expected\",IF(H175<Welcome!$G$23,\"Below\"))))","v":""},{"$f":"IF(ISBLANK('Data Input'!A179),\"\",COUNTIF('Data Input'!C179:AQ179,\"\")-1)","v":""},{"$f":"IF(ISBLANK('Data Input'!A179),\"\",COUNTIF('Data Input'!C179:AQ179,\"0\"))","v":""},{"$f":"IF(ISBLANK('Data Input'!A179),\"\",SUM(C175,D175))","v":""},{"$f":"IF(ISBLANK('Data Input'!A179),\"\",SUM('Data Input'!C179:V179))","v":""},{"$f":"IF(ISBLANK('Data Input'!A179),\"\",SUM('Data Input'!X179:AQ179))","v":""},{"$f":"IF(ISBLANK('Data Input'!A179),\"\",SUM('Data Input'!C179:AQ179))","v":""},{"$f":"IF(H175=\"\",\"\",H175/(COUNTA('Data Input'!$C$8:$AQ$8)-1))","v":""},{"$f":"IF(ISBLANK('Data Input'!A179),\"\",SUM('Data Input'!I179,'Data Input'!M179,'Data Input'!AB179,'Data Input'!AE179))","v":""},{"$f":"IF(J175=\"\",\"\",J175/COUNTIF('Data Input'!$C$8:$AQ$8,$J$2))","v":""},{"$f":"IF(ISBLANK('Data Input'!A179),\"\",SUM('Data Input'!E179,'Data Input'!G179,'Data Input'!H179,'Data Input'!L179,'Data Input'!N179,'Data Input'!Q179,'Data Input'!R179,'Data Input'!T179,'Data Input'!U179,'Data Input'!V179,'Data Input'!X179,'Data Input'!Y179,'Data Input'!Z179,'Data Input'!AA179,'Data Input'!AC179,'Data Input'!AD179,'Data Input'!AF179,'Data Input'!AG179,'Data Input'!AH179,'Data Input'!AI179,'Data Input'!AJ179,'Data Input'!AK179,'Data Input'!AL179))","v":""},{"$f":"IF(L175=\"\",\"\",L175/COUNTIF('Data Input'!$C$8:$AQ$8,$L$2))","v":""},{"$f":"IF(ISBLANK('Data Input'!A179),\"\",SUM('Data Input'!K179,'Data Input'!AQ179))","v":""},{"$f":"IF(N175=\"\",\"\",N175/COUNTIF('Data Input'!$C$8:$AQ$8,$N$2))","v":""},{"$f":"IF(ISBLANK('Data Input'!A179),\"\",SUM('Data Input'!C179,'Data Input'!D179,'Data Input'!F179,'Data Input'!J179,'Data Input'!O179,'Data Input'!S179,'Data Input'!AM179,'Data Input'!AN179,'Data Input'!AO179,'Data Input'!AP179))","v":""},{"$f":"IF(P175=\"\",\"\",P175/COUNTIF('Data Input'!$C$8:$AQ$8,$P$2))","v":""},{"$f":"IF(ISBLANK('Data Input'!C179),\"\",SUM('Data Input'!P179))","v":""},{"$f":"IF(R175=\"\",\"\",R175/COUNTIF('Data Input'!$C$8:$AQ$8,$R$2))","v":""}]
[{"$f":"IF('Data Input'!A180=0,\"\",'Data Input'!A180)","v":""},{"$f":"IF(H176=\"\",\"\",IF(H176>Welcome!$K$23-1,\"Exceeding\",IF(H176>Welcome!$G$23-1,\"Expected\",IF(H176<Welcome!$G$23,\"Below\"))))","v":""},{"$f":"IF(ISBLANK('Data Input'!A180),\"\",COUNTIF('Data Input'!C180:AQ180,\"\")-1)","v":""},{"$f":"IF(ISBLANK('Data Input'!A180),\"\",COUNTIF('Data Input'!C180:AQ180,\"0\"))","v":""},{"$f":"IF(ISBLANK('Data Input'!A180),\"\",SUM(C176,D176))","v":""},{"$f":"IF(ISBLANK('Data Input'!A180),\"\",SUM('Data Input'!C180:V180))","v":""},{"$f":"IF(ISBLANK('Data Input'!A180),\"\",SUM('Data Input'!X180:AQ180))","v":""},{"$f":"IF(ISBLANK('Data Input'!A180),\"\",SUM('Data Input'!C180:AQ180))","v":""},{"$f":"IF(H176=\"\",\"\",H176/(COUNTA('Data Input'!$C$8:$AQ$8)-1))","v":""},{"$f":"IF(ISBLANK('Data Input'!A180),\"\",SUM('Data Input'!I180,'Data Input'!M180,'Data Input'!AB180,'Data Input'!AE180))","v":""},{"$f":"IF(J176=\"\",\"\",J176/COUNTIF('Data Input'!$C$8:$AQ$8,$J$2))","v":""},{"$f":"IF(ISBLANK('Data Input'!A180),\"\",SUM('Data Input'!E180,'Data Input'!G180,'Data Input'!H180,'Data Input'!L180,'Data Input'!N180,'Data Input'!Q180,'Data Input'!R180,'Data Input'!T180,'Data Input'!U180,'Data Input'!V180,'Data Input'!X180,'Data Input'!Y180,'Data Input'!Z180,'Data Input'!AA180,'Data Input'!AC180,'Data Input'!AD180,'Data Input'!AF180,'Data Input'!AG180,'Data Input'!AH180,'Data Input'!AI180,'Data Input'!AJ180,'Data Input'!AK180,'Data Input'!AL180))","v":""},{"$f":"IF(L176=\"\",\"\",L176/COUNTIF('Data Input'!$C$8:$AQ$8,$L$2))","v":""},{"$f":"IF(ISBLANK('Data Input'!A180),\"\",SUM('Data Input'!K180,'Data Input'!AQ180))","v":""},{"$f":"IF(N176=\"\",\"\",N176/COUNTIF('Data Input'!$C$8:$AQ$8,$N$2))","v":""},{"$f":"IF(ISBLANK('Data Input'!A180),\"\",SUM('Data Input'!C180,'Data Input'!D180,'Data Input'!F180,'Data Input'!J180,'Data Input'!O180,'Data Input'!S180,'Data Input'!AM180,'Data Input'!AN180,'Data Input'!AO180,'Data Input'!AP180))","v":""},{"$f":"IF(P176=\"\",\"\",P176/COUNTIF('Data Input'!$C$8:$AQ$8,$P$2))","v":""},{"$f":"IF(ISBLANK('Data Input'!C180),\"\",SUM('Data Input'!P180))","v":""},{"$f":"IF(R176=\"\",\"\",R176/COUNTIF('Data Input'!$C$8:$AQ$8,$R$2))","v":""}]
[{"$f":"IF('Data Input'!A181=0,\"\",'Data Input'!A181)","v":""},{"$f":"IF(H177=\"\",\"\",IF(H177>Welcome!$K$23-1,\"Exceeding\",IF(H177>Welcome!$G$23-1,\"Expected\",IF(H177<Welcome!$G$23,\"Below\"))))","v":""},{"$f":"IF(ISBLANK('Data Input'!A181),\"\",COUNTIF('Data Input'!C181:AQ181,\"\")-1)","v":""},{"$f":"IF(ISBLANK('Data Input'!A181),\"\",COUNTIF('Data Input'!C181:AQ181,\"0\"))","v":""},{"$f":"IF(ISBLANK('Data Input'!A181),\"\",SUM(C177,D177))","v":""},{"$f":"IF(ISBLANK('Data Input'!A181),\"\",SUM('Data Input'!C181:V181))","v":""},{"$f":"IF(ISBLANK('Data Input'!A181),\"\",SUM('Data Input'!X181:AQ181))","v":""},{"$f":"IF(ISBLANK('Data Input'!A181),\"\",SUM('Data Input'!C181:AQ181))","v":""},{"$f":"IF(H177=\"\",\"\",H177/(COUNTA('Data Input'!$C$8:$AQ$8)-1))","v":""},{"$f":"IF(ISBLANK('Data Input'!A181),\"\",SUM('Data Input'!I181,'Data Input'!M181,'Data Input'!AB181,'Data Input'!AE181))","v":""},{"$f":"IF(J177=\"\",\"\",J177/COUNTIF('Data Input'!$C$8:$AQ$8,$J$2))","v":""},{"$f":"IF(ISBLANK('Data Input'!A181),\"\",SUM('Data Input'!E181,'Data Input'!G181,'Data Input'!H181,'Data Input'!L181,'Data Input'!N181,'Data Input'!Q181,'Data Input'!R181,'Data Input'!T181,'Data Input'!U181,'Data Input'!V181,'Data Input'!X181,'Data Input'!Y181,'Data Input'!Z181,'Data Input'!AA181,'Data Input'!AC181,'Data Input'!AD181,'Data Input'!AF181,'Data Input'!AG181,'Data Input'!AH181,'Data Input'!AI181,'Data Input'!AJ181,'Data Input'!AK181,'Data Input'!AL181))","v":""},{"$f":"IF(L177=\"\",\"\",L177/COUNTIF('Data Input'!$C$8:$AQ$8,$L$2))","v":""},{"$f":"IF(ISBLANK('Data Input'!A181),\"\",SUM('Data Input'!K181,'Data Input'!AQ181))","v":""},{"$f":"IF(N177=\"\",\"\",N177/COUNTIF('Data Input'!$C$8:$AQ$8,$N$2))","v":""},{"$f":"IF(ISBLANK('Data Input'!A181),\"\",SUM('Data Input'!C181,'Data Input'!D181,'Data Input'!F181,'Data Input'!J181,'Data Input'!O181,'Data Input'!S181,'Data Input'!AM181,'Data Input'!AN181,'Data Input'!AO181,'Data Input'!AP181))","v":""},{"$f":"IF(P177=\"\",\"\",P177/COUNTIF('Data Input'!$C$8:$AQ$8,$P$2))","v":""},{"$f":"IF(ISBLANK('Data Input'!C181),\"\",SUM('Data Input'!P181))","v":""},{"$f":"IF(R177=\"\",\"\",R177/COUNTIF('Data Input'!$C$8:$AQ$8,$R$2))","v":""}]
[{"$f":"IF('Data Input'!A182=0,\"\",'Data Input'!A182)","v":""},{"$f":"IF(H178=\"\",\"\",IF(H178>Welcome!$K$23-1,\"Exceeding\",IF(H178>Welcome!$G$23-1,\"Expected\",IF(H178<Welcome!$G$23,\"Below\"))))","v":""},{"$f":"IF(ISBLANK('Data Input'!A182),\"\",COUNTIF('Data Input'!C182:AQ182,\"\")-1)","v":""},{"$f":"IF(ISBLANK('Data Input'!A182),\"\",COUNTIF('Data Input'!C182:AQ182,\"0\"))","v":""},{"$f":"IF(ISBLANK('Data Input'!A182),\"\",SUM(C178,D178))","v":""},{"$f":"IF(ISBLANK('Data Input'!A182),\"\",SUM('Data Input'!C182:V182))","v":""},{"$f":"IF(ISBLANK('Data Input'!A182),\"\",SUM('Data Input'!X182:AQ182))","v":""},{"$f":"IF(ISBLANK('Data Input'!A182),\"\",SUM('Data Input'!C182:AQ182))","v":""},{"$f":"IF(H178=\"\",\"\",H178/(COUNTA('Data Input'!$C$8:$AQ$8)-1))","v":""},{"$f":"IF(ISBLANK('Data Input'!A182),\"\",SUM('Data Input'!I182,'Data Input'!M182,'Data Input'!AB182,'Data Input'!AE182))","v":""},{"$f":"IF(J178=\"\",\"\",J178/COUNTIF('Data Input'!$C$8:$AQ$8,$J$2))","v":""},{"$f":"IF(ISBLANK('Data Input'!A182),\"\",SUM('Data Input'!E182,'Data Input'!G182,'Data Input'!H182,'Data Input'!L182,'Data Input'!N182,'Data Input'!Q182,'Data Input'!R182,'Data Input'!T182,'Data Input'!U182,'Data Input'!V182,'Data Input'!X182,'Data Input'!Y182,'Data Input'!Z182,'Data Input'!AA182,'Data Input'!AC182,'Data Input'!AD182,'Data Input'!AF182,'Data Input'!AG182,'Data Input'!AH182,'Data Input'!AI182,'Data Input'!AJ182,'Data Input'!AK182,'Data Input'!AL182))","v":""},{"$f":"IF(L178=\"\",\"\",L178/COUNTIF('Data Input'!$C$8:$AQ$8,$L$2))","v":""},{"$f":"IF(ISBLANK('Data Input'!A182),\"\",SUM('Data Input'!K182,'Data Input'!AQ182))","v":""},{"$f":"IF(N178=\"\",\"\",N178/COUNTIF('Data Input'!$C$8:$AQ$8,$N$2))","v":""},{"$f":"IF(ISBLANK('Data Input'!A182),\"\",SUM('Data Input'!C182,'Data Input'!D182,'Data Input'!F182,'Data Input'!J182,'Data Input'!O182,'Data Input'!S182,'Data Input'!AM182,'Data Input'!AN182,'Data Input'!AO182,'Data Input'!AP182))","v":""},{"$f":"IF(P178=\"\",\"\",P178/COUNTIF('Data Input'!$C$8:$AQ$8,$P$2))","v":""},{"$f":"IF(ISBLANK('Data Input'!C182),\"\",SUM('Data Input'!P182))","v":""},{"$f":"IF(R178=\"\",\"\",R178/COUNTIF('Data Input'!$C$8:$AQ$8,$R$2))","v":""}]
[{"$f":"IF('Data Input'!A183=0,\"\",'Data Input'!A183)","v":""},{"$f":"IF(H179=\"\",\"\",IF(H179>Welcome!$K$23-1,\"Exceeding\",IF(H179>Welcome!$G$23-1,\"Expected\",IF(H179<Welcome!$G$23,\"Below\"))))","v":""},{"$f":"IF(ISBLANK('Data Input'!A183),\"\",COUNTIF('Data Input'!C183:AQ183,\"\")-1)","v":""},{"$f":"IF(ISBLANK('Data Input'!A183),\"\",COUNTIF('Data Input'!C183:AQ183,\"0\"))","v":""},{"$f":"IF(ISBLANK('Data Input'!A183),\"\",SUM(C179,D179))","v":""},{"$f":"IF(ISBLANK('Data Input'!A183),\"\",SUM('Data Input'!C183:V183))","v":""},{"$f":"IF(ISBLANK('Data Input'!A183),\"\",SUM('Data Input'!X183:AQ183))","v":""},{"$f":"IF(ISBLANK('Data Input'!A183),\"\",SUM('Data Input'!C183:AQ183))","v":""},{"$f":"IF(H179=\"\",\"\",H179/(COUNTA('Data Input'!$C$8:$AQ$8)-1))","v":""},{"$f":"IF(ISBLANK('Data Input'!A183),\"\",SUM('Data Input'!I183,'Data Input'!M183,'Data Input'!AB183,'Data Input'!AE183))","v":""},{"$f":"IF(J179=\"\",\"\",J179/COUNTIF('Data Input'!$C$8:$AQ$8,$J$2))","v":""},{"$f":"IF(ISBLANK('Data Input'!A183),\"\",SUM('Data Input'!E183,'Data Input'!G183,'Data Input'!H183,'Data Input'!L183,'Data Input'!N183,'Data Input'!Q183,'Data Input'!R183,'Data Input'!T183,'Data Input'!U183,'Data Input'!V183,'Data Input'!X183,'Data Input'!Y183,'Data Input'!Z183,'Data Input'!AA183,'Data Input'!AC183,'Data Input'!AD183,'Data Input'!AF183,'Data Input'!AG183,'Data Input'!AH183,'Data Input'!AI183,'Data Input'!AJ183,'Data Input'!AK183,'Data Input'!AL183))","v":""},{"$f":"IF(L179=\"\",\"\",L179/COUNTIF('Data Input'!$C$8:$AQ$8,$L$2))","v":""},{"$f":"IF(ISBLANK('Data Input'!A183),\"\",SUM('Data Input'!K183,'Data Input'!AQ183))","v":""},{"$f":"IF(N179=\"\",\"\",N179/COUNTIF('Data Input'!$C$8:$AQ$8,$N$2))","v":""},{"$f":"IF(ISBLANK('Data Input'!A183),\"\",SUM('Data Input'!C183,'Data Input'!D183,'Data Input'!F183,'Data Input'!J183,'Data Input'!O183,'Data Input'!S183,'Data Input'!AM183,'Data Input'!AN183,'Data Input'!AO183,'Data Input'!AP183))","v":""},{"$f":"IF(P179=\"\",\"\",P179/COUNTIF('Data Input'!$C$8:$AQ$8,$P$2))","v":""},{"$f":"IF(ISBLANK('Data Input'!C183),\"\",SUM('Data Input'!P183))","v":""},{"$f":"IF(R179=\"\",\"\",R179/COUNTIF('Data Input'!$C$8:$AQ$8,$R$2))","v":""}]
[{"$f":"IF('Data Input'!A184=0,\"\",'Data Input'!A184)","v":""},{"$f":"IF(H180=\"\",\"\",IF(H180>Welcome!$K$23-1,\"Exceeding\",IF(H180>Welcome!$G$23-1,\"Expected\",IF(H180<Welcome!$G$23,\"Below\"))))","v":""},{"$f":"IF(ISBLANK('Data Input'!A184),\"\",COUNTIF('Data Input'!C184:AQ184,\"\")-1)","v":""},{"$f":"IF(ISBLANK('Data Input'!A184),\"\",COUNTIF('Data Input'!C184:AQ184,\"0\"))","v":""},{"$f":"IF(ISBLANK('Data Input'!A184),\"\",SUM(C180,D180))","v":""},{"$f":"IF(ISBLANK('Data Input'!A184),\"\",SUM('Data Input'!C184:V184))","v":""},{"$f":"IF(ISBLANK('Data Input'!A184),\"\",SUM('Data Input'!X184:AQ184))","v":""},{"$f":"IF(ISBLANK('Data Input'!A184),\"\",SUM('Data Input'!C184:AQ184))","v":""},{"$f":"IF(H180=\"\",\"\",H180/(COUNTA('Data Input'!$C$8:$AQ$8)-1))","v":""},{"$f":"IF(ISBLANK('Data Input'!A184),\"\",SUM('Data Input'!I184,'Data Input'!M184,'Data Input'!AB184,'Data Input'!AE184))","v":""},{"$f":"IF(J180=\"\",\"\",J180/COUNTIF('Data Input'!$C$8:$AQ$8,$J$2))","v":""},{"$f":"IF(ISBLANK('Data Input'!A184),\"\",SUM('Data Input'!E184,'Data Input'!G184,'Data Input'!H184,'Data Input'!L184,'Data Input'!N184,'Data Input'!Q184,'Data Input'!R184,'Data Input'!T184,'Data Input'!U184,'Data Input'!V184,'Data Input'!X184,'Data Input'!Y184,'Data Input'!Z184,'Data Input'!AA184,'Data Input'!AC184,'Data Input'!AD184,'Data Input'!AF184,'Data Input'!AG184,'Data Input'!AH184,'Data Input'!AI184,'Data Input'!AJ184,'Data Input'!AK184,'Data Input'!AL184))","v":""},{"$f":"IF(L180=\"\",\"\",L180/COUNTIF('Data Input'!$C$8:$AQ$8,$L$2))","v":""},{"$f":"IF(ISBLANK('Data Input'!A184),\"\",SUM('Data Input'!K184,'Data Input'!AQ184))","v":""},{"$f":"IF(N180=\"\",\"\",N180/COUNTIF('Data Input'!$C$8:$AQ$8,$N$2))","v":""},{"$f":"IF(ISBLANK('Data Input'!A184),\"\",SUM('Data Input'!C184,'Data Input'!D184,'Data Input'!F184,'Data Input'!J184,'Data Input'!O184,'Data Input'!S184,'Data Input'!AM184,'Data Input'!AN184,'Data Input'!AO184,'Data Input'!AP184))","v":""},{"$f":"IF(P180=\"\",\"\",P180/COUNTIF('Data Input'!$C$8:$AQ$8,$P$2))","v":""},{"$f":"IF(ISBLANK('Data Input'!C184),\"\",SUM('Data Input'!P184))","v":""},{"$f":"IF(R180=\"\",\"\",R180/COUNTIF('Data Input'!$C$8:$AQ$8,$R$2))","v":""}]
[{"$f":"IF('Data Input'!A185=0,\"\",'Data Input'!A185)","v":""},{"$f":"IF(H181=\"\",\"\",IF(H181>Welcome!$K$23-1,\"Exceeding\",IF(H181>Welcome!$G$23-1,\"Expected\",IF(H181<Welcome!$G$23,\"Below\"))))","v":""},{"$f":"IF(ISBLANK('Data Input'!A185),\"\",COUNTIF('Data Input'!C185:AQ185,\"\")-1)","v":""},{"$f":"IF(ISBLANK('Data Input'!A185),\"\",COUNTIF('Data Input'!C185:AQ185,\"0\"))","v":""},{"$f":"IF(ISBLANK('Data Input'!A185),\"\",SUM(C181,D181))","v":""},{"$f":"IF(ISBLANK('Data Input'!A185),\"\",SUM('Data Input'!C185:V185))","v":""},{"$f":"IF(ISBLANK('Data Input'!A185),\"\",SUM('Data Input'!X185:AQ185))","v":""},{"$f":"IF(ISBLANK('Data Input'!A185),\"\",SUM('Data Input'!C185:AQ185))","v":""},{"$f":"IF(H181=\"\",\"\",H181/(COUNTA('Data Input'!$C$8:$AQ$8)-1))","v":""},{"$f":"IF(ISBLANK('Data Input'!A185),\"\",SUM('Data Input'!I185,'Data Input'!M185,'Data Input'!AB185,'Data Input'!AE185))","v":""},{"$f":"IF(J181=\"\",\"\",J181/COUNTIF('Data Input'!$C$8:$AQ$8,$J$2))","v":""},{"$f":"IF(ISBLANK('Data Input'!A185),\"\",SUM('Data Input'!E185,'Data Input'!G185,'Data Input'!H185,'Data Input'!L185,'Data Input'!N185,'Data Input'!Q185,'Data Input'!R185,'Data Input'!T185,'Data Input'!U185,'Data Input'!V185,'Data Input'!X185,'Data Input'!Y185,'Data Input'!Z185,'Data Input'!AA185,'Data Input'!AC185,'Data Input'!AD185,'Data Input'!AF185,'Data Input'!AG185,'Data Input'!AH185,'Data Input'!AI185,'Data Input'!AJ185,'Data Input'!AK185,'Data Input'!AL185))","v":""},{"$f":"IF(L181=\"\",\"\",L181/COUNTIF('Data Input'!$C$8:$AQ$8,$L$2))","v":""},{"$f":"IF(ISBLANK('Data Input'!A185),\"\",SUM('Data Input'!K185,'Data Input'!AQ185))","v":""},{"$f":"IF(N181=\"\",\"\",N181/COUNTIF('Data Input'!$C$8:$AQ$8,$N$2))","v":""},{"$f":"IF(ISBLANK('Data Input'!A185),\"\",SUM('Data Input'!C185,'Data Input'!D185,'Data Input'!F185,'Data Input'!J185,'Data Input'!O185,'Data Input'!S185,'Data Input'!AM185,'Data Input'!AN185,'Data Input'!AO185,'Data Input'!AP185))","v":""},{"$f":"IF(P181=\"\",\"\",P181/COUNTIF('Data Input'!$C$8:$AQ$8,$P$2))","v":""},{"$f":"IF(ISBLANK('Data Input'!C185),\"\",SUM('Data Input'!P185))","v":""},{"$f":"IF(R181=\"\",\"\",R181/COUNTIF('Data Input'!$C$8:$AQ$8,$R$2))","v":""}]
[{"$f":"IF('Data Input'!A186=0,\"\",'Data Input'!A186)","v":""},{"$f":"IF(H182=\"\",\"\",IF(H182>Welcome!$K$23-1,\"Exceeding\",IF(H182>Welcome!$G$23-1,\"Expected\",IF(H182<Welcome!$G$23,\"Below\"))))","v":""},{"$f":"IF(ISBLANK('Data Input'!A186),\"\",COUNTIF('Data Input'!C186:AQ186,\"\")-1)","v":""},{"$f":"IF(ISBLANK('Data Input'!A186),\"\",COUNTIF('Data Input'!C186:AQ186,\"0\"))","v":""},{"$f":"IF(ISBLANK('Data Input'!A186),\"\",SUM(C182,D182))","v":""},{"$f":"IF(ISBLANK('Data Input'!A186),\"\",SUM('Data Input'!C186:V186))","v":""},{"$f":"IF(ISBLANK('Data Input'!A186),\"\",SUM('Data Input'!X186:AQ186))","v":""},{"$f":"IF(ISBLANK('Data Input'!A186),\"\",SUM('Data Input'!C186:AQ186))","v":""},{"$f":"IF(H182=\"\",\"\",H182/(COUNTA('Data Input'!$C$8:$AQ$8)-1))","v":""},{"$f":"IF(ISBLANK('Data Input'!A186),\"\",SUM('Data Input'!I186,'Data Input'!M186,'Data Input'!AB186,'Data Input'!AE186))","v":""},{"$f":"IF(J182=\"\",\"\",J182/COUNTIF('Data Input'!$C$8:$AQ$8,$J$2))","v":""},{"$f":"IF(ISBLANK('Data Input'!A186),\"\",SUM('Data Input'!E186,'Data Input'!G186,'Data Input'!H186,'Data Input'!L186,'Data Input'!N186,'Data Input'!Q186,'Data Input'!R186,'Data Input'!T186,'Data Input'!U186,'Data Input'!V186,'Data Input'!X186,'Data Input'!Y186,'Data Input'!Z186,'Data Input'!AA186,'Data Input'!AC186,'Data Input'!AD186,'Data Input'!AF186,'Data Input'!AG186,'Data Input'!AH186,'Data Input'!AI186,'Data Input'!AJ186,'Data Input'!AK186,'Data Input'!AL186))","v":""},{"$f":"IF(L182=\"\",\"\",L182/COUNTIF('Data Input'!$C$8:$AQ$8,$L$2))","v":""},{"$f":"IF(ISBLANK('Data Input'!A186),\"\",SUM('Data Input'!K186,'Data Input'!AQ186))","v":""},{"$f":"IF(N182=\"\",\"\",N182/COUNTIF('Data Input'!$C$8:$AQ$8,$N$2))","v":""},{"$f":"IF(ISBLANK('Data Input'!A186),\"\",SUM('Data Input'!C186,'Data Input'!D186,'Data Input'!F186,'Data Input'!J186,'Data Input'!O186,'Data Input'!S186,'Data Input'!AM186,'Data Input'!AN186,'Data Input'!AO186,'Data Input'!AP186))","v":""},{"$f":"IF(P182=\"\",\"\",P182/COUNTIF('Data Input'!$C$8:$AQ$8,$P$2))","v":""},{"$f":"IF(ISBLANK('Data Input'!C186),\"\",SUM('Data Input'!P186))","v":""},{"$f":"IF(R182=\"\",\"\",R182/COUNTIF('Data Input'!$C$8:$AQ$8,$R$2))","v":""}]
[{"$f":"IF('Data Input'!A187=0,\"\",'Data Input'!A187)","v":""},{"$f":"IF(H183=\"\",\"\",IF(H183>Welcome!$K$23-1,\"Exceeding\",IF(H183>Welcome!$G$23-1,\"Expected\",IF(H183<Welcome!$G$23,\"Below\"))))","v":""},{"$f":"IF(ISBLANK('Data Input'!A187),\"\",COUNTIF('Data Input'!C187:AQ187,\"\")-1)","v":""},{"$f":"IF(ISBLANK('Data Input'!A187),\"\",COUNTIF('Data Input'!C187:AQ187,\"0\"))","v":""},{"$f":"IF(ISBLANK('Data Input'!A187),\"\",SUM(C183,D183))","v":""},{"$f":"IF(ISBLANK('Data Input'!A187),\"\",SUM('Data Input'!C187:V187))","v":""},{"$f":"IF(ISBLANK('Data Input'!A187),\"\",SUM('Data Input'!X187:AQ187))","v":""},{"$f":"IF(ISBLANK('Data Input'!A187),\"\",SUM('Data Input'!C187:AQ187))","v":""},{"$f":"IF(H183=\"\",\"\",H183/(COUNTA('Data Input'!$C$8:$AQ$8)-1))","v":""},{"$f":"IF(ISBLANK('Data Input'!A187),\"\",SUM('Data Input'!I187,'Data Input'!M187,'Data Input'!AB187,'Data Input'!AE187))","v":""},{"$f":"IF(J183=\"\",\"\",J183/COUNTIF('Data Input'!$C$8:$AQ$8,$J$2))","v":""},{"$f":"IF(ISBLANK('Data Input'!A187),\"\",SUM('Data Input'!E187,'Data Input'!G187,'Data Input'!H187,'Data Input'!L187,'Data Input'!N187,'Data Input'!Q187,'Data Input'!R187,'Data Input'!T187,'Data Input'!U187,'Data Input'!V187,'Data Input'!X187,'Data Input'!Y187,'Data Input'!Z187,'Data Input'!AA187,'Data Input'!AC187,'Data Input'!AD187,'Data Input'!AF187,'Data Input'!AG187,'Data Input'!AH187,'Data Input'!AI187,'Data Input'!AJ187,'Data Input'!AK187,'Data Input'!AL187))","v":""},{"$f":"IF(L183=\"\",\"\",L183/COUNTIF('Data Input'!$C$8:$AQ$8,$L$2))","v":""},{"$f":"IF(ISBLANK('Data Input'!A187),\"\",SUM('Data Input'!K187,'Data Input'!AQ187))","v":""},{"$f":"IF(N183=\"\",\"\",N183/COUNTIF('Data Input'!$C$8:$AQ$8,$N$2))","v":""},{"$f":"IF(ISBLANK('Data Input'!A187),\"\",SUM('Data Input'!C187,'Data Input'!D187,'Data Input'!F187,'Data Input'!J187,'Data Input'!O187,'Data Input'!S187,'Data Input'!AM187,'Data Input'!AN187,'Data Input'!AO187,'Data Input'!AP187))","v":""},{"$f":"IF(P183=\"\",\"\",P183/COUNTIF('Data Input'!$C$8:$AQ$8,$P$2))","v":""},{"$f":"IF(ISBLANK('Data Input'!C187),\"\",SUM('Data Input'!P187))","v":""},{"$f":"IF(R183=\"\",\"\",R183/COUNTIF('Data Input'!$C$8:$AQ$8,$R$2))","v":""}]
[{"$f":"IF('Data Input'!A188=0,\"\",'Data Input'!A188)","v":""},{"$f":"IF(H184=\"\",\"\",IF(H184>Welcome!$K$23-1,\"Exceeding\",IF(H184>Welcome!$G$23-1,\"Expected\",IF(H184<Welcome!$G$23,\"Below\"))))","v":""},{"$f":"IF(ISBLANK('Data Input'!A188),\"\",COUNTIF('Data Input'!C188:AQ188,\"\")-1)","v":""},{"$f":"IF(ISBLANK('Data Input'!A188),\"\",COUNTIF('Data Input'!C188:AQ188,\"0\"))","v":""},{"$f":"IF(ISBLANK('Data Input'!A188),\"\",SUM(C184,D184))","v":""},{"$f":"IF(ISBLANK('Data Input'!A188),\"\",SUM('Data Input'!C188:V188))","v":""},{"$f":"IF(ISBLANK('Data Input'!A188),\"\",SUM('Data Input'!X188:AQ188))","v":""},{"$f":"IF(ISBLANK('Data Input'!A188),\"\",SUM('Data Input'!C188:AQ188))","v":""},{"$f":"IF(H184=\"\",\"\",H184/(COUNTA('Data Input'!$C$8:$AQ$8)-1))","v":""},{"$f":"IF(ISBLANK('Data Input'!A188),\"\",SUM('Data Input'!I188,'Data Input'!M188,'Data Input'!AB188,'Data Input'!AE188))","v":""},{"$f":"IF(J184=\"\",\"\",J184/COUNTIF('Data Input'!$C$8:$AQ$8,$J$2))","v":""},{"$f":"IF(ISBLANK('Data Input'!A188),\"\",SUM('Data Input'!E188,'Data Input'!G188,'Data Input'!H188,'Data Input'!L188,'Data Input'!N188,'Data Input'!Q188,'Data Input'!R188,'Data Input'!T188,'Data Input'!U188,'Data Input'!V188,'Data Input'!X188,'Data Input'!Y188,'Data Input'!Z188,'Data Input'!AA188,'Data Input'!AC188,'Data Input'!AD188,'Data Input'!AF188,'Data Input'!AG188,'Data Input'!AH188,'Data Input'!AI188,'Data Input'!AJ188,'Data Input'!AK188,'Data Input'!AL188))","v":""},{"$f":"IF(L184=\"\",\"\",L184/COUNTIF('Data Input'!$C$8:$AQ$8,$L$2))","v":""},{"$f":"IF(ISBLANK('Data Input'!A188),\"\",SUM('Data Input'!K188,'Data Input'!AQ188))","v":""},{"$f":"IF(N184=\"\",\"\",N184/COUNTIF('Data Input'!$C$8:$AQ$8,$N$2))","v":""},{"$f":"IF(ISBLANK('Data Input'!A188),\"\",SUM('Data Input'!C188,'Data Input'!D188,'Data Input'!F188,'Data Input'!J188,'Data Input'!O188,'Data Input'!S188,'Data Input'!AM188,'Data Input'!AN188,'Data Input'!AO188,'Data Input'!AP188))","v":""},{"$f":"IF(P184=\"\",\"\",P184/COUNTIF('Data Input'!$C$8:$AQ$8,$P$2))","v":""},{"$f":"IF(ISBLANK('Data Input'!C188),\"\",SUM('Data Input'!P188))","v":""},{"$f":"IF(R184=\"\",\"\",R184/COUNTIF('Data Input'!$C$8:$AQ$8,$R$2))","v":""}]
[{"$f":"IF('Data Input'!A189=0,\"\",'Data Input'!A189)","v":""},{"$f":"IF(H185=\"\",\"\",IF(H185>Welcome!$K$23-1,\"Exceeding\",IF(H185>Welcome!$G$23-1,\"Expected\",IF(H185<Welcome!$G$23,\"Below\"))))","v":""},{"$f":"IF(ISBLANK('Data Input'!A189),\"\",COUNTIF('Data Input'!C189:AQ189,\"\")-1)","v":""},{"$f":"IF(ISBLANK('Data Input'!A189),\"\",COUNTIF('Data Input'!C189:AQ189,\"0\"))","v":""},{"$f":"IF(ISBLANK('Data Input'!A189),\"\",SUM(C185,D185))","v":""},{"$f":"IF(ISBLANK('Data Input'!A189),\"\",SUM('Data Input'!C189:V189))","v":""},{"$f":"IF(ISBLANK('Data Input'!A189),\"\",SUM('Data Input'!X189:AQ189))","v":""},{"$f":"IF(ISBLANK('Data Input'!A189),\"\",SUM('Data Input'!C189:AQ189))","v":""},{"$f":"IF(H185=\"\",\"\",H185/(COUNTA('Data Input'!$C$8:$AQ$8)-1))","v":""},{"$f":"IF(ISBLANK('Data Input'!A189),\"\",SUM('Data Input'!I189,'Data Input'!M189,'Data Input'!AB189,'Data Input'!AE189))","v":""},{"$f":"IF(J185=\"\",\"\",J185/COUNTIF('Data Input'!$C$8:$AQ$8,$J$2))","v":""},{"$f":"IF(ISBLANK('Data Input'!A189),\"\",SUM('Data Input'!E189,'Data Input'!G189,'Data Input'!H189,'Data Input'!L189,'Data Input'!N189,'Data Input'!Q189,'Data Input'!R189,'Data Input'!T189,'Data Input'!U189,'Data Input'!V189,'Data Input'!X189,'Data Input'!Y189,'Data Input'!Z189,'Data Input'!AA189,'Data Input'!AC189,'Data Input'!AD189,'Data Input'!AF189,'Data Input'!AG189,'Data Input'!AH189,'Data Input'!AI189,'Data Input'!AJ189,'Data Input'!AK189,'Data Input'!AL189))","v":""},{"$f":"IF(L185=\"\",\"\",L185/COUNTIF('Data Input'!$C$8:$AQ$8,$L$2))","v":""},{"$f":"IF(ISBLANK('Data Input'!A189),\"\",SUM('Data Input'!K189,'Data Input'!AQ189))","v":""},{"$f":"IF(N185=\"\",\"\",N185/COUNTIF('Data Input'!$C$8:$AQ$8,$N$2))","v":""},{"$f":"IF(ISBLANK('Data Input'!A189),\"\",SUM('Data Input'!C189,'Data Input'!D189,'Data Input'!F189,'Data Input'!J189,'Data Input'!O189,'Data Input'!S189,'Data Input'!AM189,'Data Input'!AN189,'Data Input'!AO189,'Data Input'!AP189))","v":""},{"$f":"IF(P185=\"\",\"\",P185/COUNTIF('Data Input'!$C$8:$AQ$8,$P$2))","v":""},{"$f":"IF(ISBLANK('Data Input'!C189),\"\",SUM('Data Input'!P189))","v":""},{"$f":"IF(R185=\"\",\"\",R185/COUNTIF('Data Input'!$C$8:$AQ$8,$R$2))","v":""}]
[{"$f":"IF('Data Input'!A190=0,\"\",'Data Input'!A190)","v":""},{"$f":"IF(H186=\"\",\"\",IF(H186>Welcome!$K$23-1,\"Exceeding\",IF(H186>Welcome!$G$23-1,\"Expected\",IF(H186<Welcome!$G$23,\"Below\"))))","v":""},{"$f":"IF(ISBLANK('Data Input'!A190),\"\",COUNTIF('Data Input'!C190:AQ190,\"\")-1)","v":""},{"$f":"IF(ISBLANK('Data Input'!A190),\"\",COUNTIF('Data Input'!C190:AQ190,\"0\"))","v":""},{"$f":"IF(ISBLANK('Data Input'!A190),\"\",SUM(C186,D186))","v":""},{"$f":"IF(ISBLANK('Data Input'!A190),\"\",SUM('Data Input'!C190:V190))","v":""},{"$f":"IF(ISBLANK('Data Input'!A190),\"\",SUM('Data Input'!X190:AQ190))","v":""},{"$f":"IF(ISBLANK('Data Input'!A190),\"\",SUM('Data Input'!C190:AQ190))","v":""},{"$f":"IF(H186=\"\",\"\",H186/(COUNTA('Data Input'!$C$8:$AQ$8)-1))","v":""},{"$f":"IF(ISBLANK('Data Input'!A190),\"\",SUM('Data Input'!I190,'Data Input'!M190,'Data Input'!AB190,'Data Input'!AE190))","v":""},{"$f":"IF(J186=\"\",\"\",J186/COUNTIF('Data Input'!$C$8:$AQ$8,$J$2))","v":""},{"$f":"IF(ISBLANK('Data Input'!A190),\"\",SUM('Data Input'!E190,'Data Input'!G190,'Data Input'!H190,'Data Input'!L190,'Data Input'!N190,'Data Input'!Q190,'Data Input'!R190,'Data Input'!T190,'Data Input'!U190,'Data Input'!V190,'Data Input'!X190,'Data Input'!Y190,'Data Input'!Z190,'Data Input'!AA190,'Data Input'!AC190,'Data Input'!AD190,'Data Input'!AF190,'Data Input'!AG190,'Data Input'!AH190,'Data Input'!AI190,'Data Input'!AJ190,'Data Input'!AK190,'Data Input'!AL190))","v":""},{"$f":"IF(L186=\"\",\"\",L186/COUNTIF('Data Input'!$C$8:$AQ$8,$L$2))","v":""},{"$f":"IF(ISBLANK('Data Input'!A190),\"\",SUM('Data Input'!K190,'Data Input'!AQ190))","v":""},{"$f":"IF(N186=\"\",\"\",N186/COUNTIF('Data Input'!$C$8:$AQ$8,$N$2))","v":""},{"$f":"IF(ISBLANK('Data Input'!A190),\"\",SUM('Data Input'!C190,'Data Input'!D190,'Data Input'!F190,'Data Input'!J190,'Data Input'!O190,'Data Input'!S190,'Data Input'!AM190,'Data Input'!AN190,'Data Input'!AO190,'Data Input'!AP190))","v":""},{"$f":"IF(P186=\"\",\"\",P186/COUNTIF('Data Input'!$C$8:$AQ$8,$P$2))","v":""},{"$f":"IF(ISBLANK('Data Input'!C190),\"\",SUM('Data Input'!P190))","v":""},{"$f":"IF(R186=\"\",\"\",R186/COUNTIF('Data Input'!$C$8:$AQ$8,$R$2))","v":""}]
[{"$f":"IF('Data Input'!A191=0,\"\",'Data Input'!A191)","v":""},{"$f":"IF(H187=\"\",\"\",IF(H187>Welcome!$K$23-1,\"Exceeding\",IF(H187>Welcome!$G$23-1,\"Expected\",IF(H187<Welcome!$G$23,\"Below\"))))","v":""},{"$f":"IF(ISBLANK('Data Input'!A191),\"\",COUNTIF('Data Input'!C191:AQ191,\"\")-1)","v":""},{"$f":"IF(ISBLANK('Data Input'!A191),\"\",COUNTIF('Data Input'!C191:AQ191,\"0\"))","v":""},{"$f":"IF(ISBLANK('Data Input'!A191),\"\",SUM(C187,D187))","v":""},{"$f":"IF(ISBLANK('Data Input'!A191),\"\",SUM('Data Input'!C191:V191))","v":""},{"$f":"IF(ISBLANK('Data Input'!A191),\"\",SUM('Data Input'!X191:AQ191))","v":""},{"$f":"IF(ISBLANK('Data Input'!A191),\"\",SUM('Data Input'!C191:AQ191))","v":""},{"$f":"IF(H187=\"\",\"\",H187/(COUNTA('Data Input'!$C$8:$AQ$8)-1))","v":""},{"$f":"IF(ISBLANK('Data Input'!A191),\"\",SUM('Data Input'!I191,'Data Input'!M191,'Data Input'!AB191,'Data Input'!AE191))","v":""},{"$f":"IF(J187=\"\",\"\",J187/COUNTIF('Data Input'!$C$8:$AQ$8,$J$2))","v":""},{"$f":"IF(ISBLANK('Data Input'!A191),\"\",SUM('Data Input'!E191,'Data Input'!G191,'Data Input'!H191,'Data Input'!L191,'Data Input'!N191,'Data Input'!Q191,'Data Input'!R191,'Data Input'!T191,'Data Input'!U191,'Data Input'!V191,'Data Input'!X191,'Data Input'!Y191,'Data Input'!Z191,'Data Input'!AA191,'Data Input'!AC191,'Data Input'!AD191,'Data Input'!AF191,'Data Input'!AG191,'Data Input'!AH191,'Data Input'!AI191,'Data Input'!AJ191,'Data Input'!AK191,'Data Input'!AL191))","v":""},{"$f":"IF(L187=\"\",\"\",L187/COUNTIF('Data Input'!$C$8:$AQ$8,$L$2))","v":""},{"$f":"IF(ISBLANK('Data Input'!A191),\"\",SUM('Data Input'!K191,'Data Input'!AQ191))","v":""},{"$f":"IF(N187=\"\",\"\",N187/COUNTIF('Data Input'!$C$8:$AQ$8,$N$2))","v":""},{"$f":"IF(ISBLANK('Data Input'!A191),\"\",SUM('Data Input'!C191,'Data Input'!D191,'Data Input'!F191,'Data Input'!J191,'Data Input'!O191,'Data Input'!S191,'Data Input'!AM191,'Data Input'!AN191,'Data Input'!AO191,'Data Input'!AP191))","v":""},{"$f":"IF(P187=\"\",\"\",P187/COUNTIF('Data Input'!$C$8:$AQ$8,$P$2))","v":""},{"$f":"IF(ISBLANK('Data Input'!C191),\"\",SUM('Data Input'!P191))","v":""},{"$f":"IF(R187=\"\",\"\",R187/COUNTIF('Data Input'!$C$8:$AQ$8,$R$2))","v":""}]
[{"$f":"IF('Data Input'!A192=0,\"\",'Data Input'!A192)","v":""},{"$f":"IF(H188=\"\",\"\",IF(H188>Welcome!$K$23-1,\"Exceeding\",IF(H188>Welcome!$G$23-1,\"Expected\",IF(H188<Welcome!$G$23,\"Below\"))))","v":""},{"$f":"IF(ISBLANK('Data Input'!A192),\"\",COUNTIF('Data Input'!C192:AQ192,\"\")-1)","v":""},{"$f":"IF(ISBLANK('Data Input'!A192),\"\",COUNTIF('Data Input'!C192:AQ192,\"0\"))","v":""},{"$f":"IF(ISBLANK('Data Input'!A192),\"\",SUM(C188,D188))","v":""},{"$f":"IF(ISBLANK('Data Input'!A192),\"\",SUM('Data Input'!C192:V192))","v":""},{"$f":"IF(ISBLANK('Data Input'!A192),\"\",SUM('Data Input'!X192:AQ192))","v":""},{"$f":"IF(ISBLANK('Data Input'!A192),\"\",SUM('Data Input'!C192:AQ192))","v":""},{"$f":"IF(H188=\"\",\"\",H188/(COUNTA('Data Input'!$C$8:$AQ$8)-1))","v":""},{"$f":"IF(ISBLANK('Data Input'!A192),\"\",SUM('Data Input'!I192,'Data Input'!M192,'Data Input'!AB192,'Data Input'!AE192))","v":""},{"$f":"IF(J188=\"\",\"\",J188/COUNTIF('Data Input'!$C$8:$AQ$8,$J$2))","v":""},{"$f":"IF(ISBLANK('Data Input'!A192),\"\",SUM('Data Input'!E192,'Data Input'!G192,'Data Input'!H192,'Data Input'!L192,'Data Input'!N192,'Data Input'!Q192,'Data Input'!R192,'Data Input'!T192,'Data Input'!U192,'Data Input'!V192,'Data Input'!X192,'Data Input'!Y192,'Data Input'!Z192,'Data Input'!AA192,'Data Input'!AC192,'Data Input'!AD192,'Data Input'!AF192,'Data Input'!AG192,'Data Input'!AH192,'Data Input'!AI192,'Data Input'!AJ192,'Data Input'!AK192,'Data Input'!AL192))","v":""},{"$f":"IF(L188=\"\",\"\",L188/COUNTIF('Data Input'!$C$8:$AQ$8,$L$2))","v":""},{"$f":"IF(ISBLANK('Data Input'!A192),\"\",SUM('Data Input'!K192,'Data Input'!AQ192))","v":""},{"$f":"IF(N188=\"\",\"\",N188/COUNTIF('Data Input'!$C$8:$AQ$8,$N$2))","v":""},{"$f":"IF(ISBLANK('Data Input'!A192),\"\",SUM('Data Input'!C192,'Data Input'!D192,'Data Input'!F192,'Data Input'!J192,'Data Input'!O192,'Data Input'!S192,'Data Input'!AM192,'Data Input'!AN192,'Data Input'!AO192,'Data Input'!AP192))","v":""},{"$f":"IF(P188=\"\",\"\",P188/COUNTIF('Data Input'!$C$8:$AQ$8,$P$2))","v":""},{"$f":"IF(ISBLANK('Data Input'!C192),\"\",SUM('Data Input'!P192))","v":""},{"$f":"IF(R188=\"\",\"\",R188/COUNTIF('Data Input'!$C$8:$AQ$8,$R$2))","v":""}]
[{"$f":"IF('Data Input'!A193=0,\"\",'Data Input'!A193)","v":""},{"$f":"IF(H189=\"\",\"\",IF(H189>Welcome!$K$23-1,\"Exceeding\",IF(H189>Welcome!$G$23-1,\"Expected\",IF(H189<Welcome!$G$23,\"Below\"))))","v":""},{"$f":"IF(ISBLANK('Data Input'!A193),\"\",COUNTIF('Data Input'!C193:AQ193,\"\")-1)","v":""},{"$f":"IF(ISBLANK('Data Input'!A193),\"\",COUNTIF('Data Input'!C193:AQ193,\"0\"))","v":""},{"$f":"IF(ISBLANK('Data Input'!A193),\"\",SUM(C189,D189))","v":""},{"$f":"IF(ISBLANK('Data Input'!A193),\"\",SUM('Data Input'!C193:V193))","v":""},{"$f":"IF(ISBLANK('Data Input'!A193),\"\",SUM('Data Input'!X193:AQ193))","v":""},{"$f":"IF(ISBLANK('Data Input'!A193),\"\",SUM('Data Input'!C193:AQ193))","v":""},{"$f":"IF(H189=\"\",\"\",H189/(COUNTA('Data Input'!$C$8:$AQ$8)-1))","v":""},{"$f":"IF(ISBLANK('Data Input'!A193),\"\",SUM('Data Input'!I193,'Data Input'!M193,'Data Input'!AB193,'Data Input'!AE193))","v":""},{"$f":"IF(J189=\"\",\"\",J189/COUNTIF('Data Input'!$C$8:$AQ$8,$J$2))","v":""},{"$f":"IF(ISBLANK('Data Input'!A193),\"\",SUM('Data Input'!E193,'Data Input'!G193,'Data Input'!H193,'Data Input'!L193,'Data Input'!N193,'Data Input'!Q193,'Data Input'!R193,'Data Input'!T193,'Data Input'!U193,'Data Input'!V193,'Data Input'!X193,'Data Input'!Y193,'Data Input'!Z193,'Data Input'!AA193,'Data Input'!AC193,'Data Input'!AD193,'Data Input'!AF193,'Data Input'!AG193,'Data Input'!AH193,'Data Input'!AI193,'Data Input'!AJ193,'Data Input'!AK193,'Data Input'!AL193))","v":""},{"$f":"IF(L189=\"\",\"\",L189/COUNTIF('Data Input'!$C$8:$AQ$8,$L$2))","v":""},{"$f":"IF(ISBLANK('Data Input'!A193),\"\",SUM('Data Input'!K193,'Data Input'!AQ193))","v":""},{"$f":"IF(N189=\"\",\"\",N189/COUNTIF('Data Input'!$C$8:$AQ$8,$N$2))","v":""},{"$f":"IF(ISBLANK('Data Input'!A193),\"\",SUM('Data Input'!C193,'Data Input'!D193,'Data Input'!F193,'Data Input'!J193,'Data Input'!O193,'Data Input'!S193,'Data Input'!AM193,'Data Input'!AN193,'Data Input'!AO193,'Data Input'!AP193))","v":""},{"$f":"IF(P189=\"\",\"\",P189/COUNTIF('Data Input'!$C$8:$AQ$8,$P$2))","v":""},{"$f":"IF(ISBLANK('Data Input'!C193),\"\",SUM('Data Input'!P193))","v":""},{"$f":"IF(R189=\"\",\"\",R189/COUNTIF('Data Input'!$C$8:$AQ$8,$R$2))","v":""}]
[{"$f":"IF('Data Input'!A194=0,\"\",'Data Input'!A194)","v":""},{"$f":"IF(H190=\"\",\"\",IF(H190>Welcome!$K$23-1,\"Exceeding\",IF(H190>Welcome!$G$23-1,\"Expected\",IF(H190<Welcome!$G$23,\"Below\"))))","v":""},{"$f":"IF(ISBLANK('Data Input'!A194),\"\",COUNTIF('Data Input'!C194:AQ194,\"\")-1)","v":""},{"$f":"IF(ISBLANK('Data Input'!A194),\"\",COUNTIF('Data Input'!C194:AQ194,\"0\"))","v":""},{"$f":"IF(ISBLANK('Data Input'!A194),\"\",SUM(C190,D190))","v":""},{"$f":"IF(ISBLANK('Data Input'!A194),\"\",SUM('Data Input'!C194:V194))","v":""},{"$f":"IF(ISBLANK('Data Input'!A194),\"\",SUM('Data Input'!X194:AQ194))","v":""},{"$f":"IF(ISBLANK('Data Input'!A194),\"\",SUM('Data Input'!C194:AQ194))","v":""},{"$f":"IF(H190=\"\",\"\",H190/(COUNTA('Data Input'!$C$8:$AQ$8)-1))","v":""},{"$f":"IF(ISBLANK('Data Input'!A194),\"\",SUM('Data Input'!I194,'Data Input'!M194,'Data Input'!AB194,'Data Input'!AE194))","v":""},{"$f":"IF(J190=\"\",\"\",J190/COUNTIF('Data Input'!$C$8:$AQ$8,$J$2))","v":""},{"$f":"IF(ISBLANK('Data Input'!A194),\"\",SUM('Data Input'!E194,'Data Input'!G194,'Data Input'!H194,'Data Input'!L194,'Data Input'!N194,'Data Input'!Q194,'Data Input'!R194,'Data Input'!T194,'Data Input'!U194,'Data Input'!V194,'Data Input'!X194,'Data Input'!Y194,'Data Input'!Z194,'Data Input'!AA194,'Data Input'!AC194,'Data Input'!AD194,'Data Input'!AF194,'Data Input'!AG194,'Data Input'!AH194,'Data Input'!AI194,'Data Input'!AJ194,'Data Input'!AK194,'Data Input'!AL194))","v":""},{"$f":"IF(L190=\"\",\"\",L190/COUNTIF('Data Input'!$C$8:$AQ$8,$L$2))","v":""},{"$f":"IF(ISBLANK('Data Input'!A194),\"\",SUM('Data Input'!K194,'Data Input'!AQ194))","v":""},{"$f":"IF(N190=\"\",\"\",N190/COUNTIF('Data Input'!$C$8:$AQ$8,$N$2))","v":""},{"$f":"IF(ISBLANK('Data Input'!A194),\"\",SUM('Data Input'!C194,'Data Input'!D194,'Data Input'!F194,'Data Input'!J194,'Data Input'!O194,'Data Input'!S194,'Data Input'!AM194,'Data Input'!AN194,'Data Input'!AO194,'Data Input'!AP194))","v":""},{"$f":"IF(P190=\"\",\"\",P190/COUNTIF('Data Input'!$C$8:$AQ$8,$P$2))","v":""},{"$f":"IF(ISBLANK('Data Input'!C194),\"\",SUM('Data Input'!P194))","v":""},{"$f":"IF(R190=\"\",\"\",R190/COUNTIF('Data Input'!$C$8:$AQ$8,$R$2))","v":""}]
[{"$f":"IF('Data Input'!A195=0,\"\",'Data Input'!A195)","v":""},{"$f":"IF(H191=\"\",\"\",IF(H191>Welcome!$K$23-1,\"Exceeding\",IF(H191>Welcome!$G$23-1,\"Expected\",IF(H191<Welcome!$G$23,\"Below\"))))","v":""},{"$f":"IF(ISBLANK('Data Input'!A195),\"\",COUNTIF('Data Input'!C195:AQ195,\"\")-1)","v":""},{"$f":"IF(ISBLANK('Data Input'!A195),\"\",COUNTIF('Data Input'!C195:AQ195,\"0\"))","v":""},{"$f":"IF(ISBLANK('Data Input'!A195),\"\",SUM(C191,D191))","v":""},{"$f":"IF(ISBLANK('Data Input'!A195),\"\",SUM('Data Input'!C195:V195))","v":""},{"$f":"IF(ISBLANK('Data Input'!A195),\"\",SUM('Data Input'!X195:AQ195))","v":""},{"$f":"IF(ISBLANK('Data Input'!A195),\"\",SUM('Data Input'!C195:AQ195))","v":""},{"$f":"IF(H191=\"\",\"\",H191/(COUNTA('Data Input'!$C$8:$AQ$8)-1))","v":""},{"$f":"IF(ISBLANK('Data Input'!A195),\"\",SUM('Data Input'!I195,'Data Input'!M195,'Data Input'!AB195,'Data Input'!AE195))","v":""},{"$f":"IF(J191=\"\",\"\",J191/COUNTIF('Data Input'!$C$8:$AQ$8,$J$2))","v":""},{"$f":"IF(ISBLANK('Data Input'!A195),\"\",SUM('Data Input'!E195,'Data Input'!G195,'Data Input'!H195,'Data Input'!L195,'Data Input'!N195,'Data Input'!Q195,'Data Input'!R195,'Data Input'!T195,'Data Input'!U195,'Data Input'!V195,'Data Input'!X195,'Data Input'!Y195,'Data Input'!Z195,'Data Input'!AA195,'Data Input'!AC195,'Data Input'!AD195,'Data Input'!AF195,'Data Input'!AG195,'Data Input'!AH195,'Data Input'!AI195,'Data Input'!AJ195,'Data Input'!AK195,'Data Input'!AL195))","v":""},{"$f":"IF(L191=\"\",\"\",L191/COUNTIF('Data Input'!$C$8:$AQ$8,$L$2))","v":""},{"$f":"IF(ISBLANK('Data Input'!A195),\"\",SUM('Data Input'!K195,'Data Input'!AQ195))","v":""},{"$f":"IF(N191=\"\",\"\",N191/COUNTIF('Data Input'!$C$8:$AQ$8,$N$2))","v":""},{"$f":"IF(ISBLANK('Data Input'!A195),\"\",SUM('Data Input'!C195,'Data Input'!D195,'Data Input'!F195,'Data Input'!J195,'Data Input'!O195,'Data Input'!S195,'Data Input'!AM195,'Data Input'!AN195,'Data Input'!AO195,'Data Input'!AP195))","v":""},{"$f":"IF(P191=\"\",\"\",P191/COUNTIF('Data Input'!$C$8:$AQ$8,$P$2))","v":""},{"$f":"IF(ISBLANK('Data Input'!C195),\"\",SUM('Data Input'!P195))","v":""},{"$f":"IF(R191=\"\",\"\",R191/COUNTIF('Data Input'!$C$8:$AQ$8,$R$2))","v":""}]
[{"$f":"IF('Data Input'!A196=0,\"\",'Data Input'!A196)","v":""},{"$f":"IF(H192=\"\",\"\",IF(H192>Welcome!$K$23-1,\"Exceeding\",IF(H192>Welcome!$G$23-1,\"Expected\",IF(H192<Welcome!$G$23,\"Below\"))))","v":""},{"$f":"IF(ISBLANK('Data Input'!A196),\"\",COUNTIF('Data Input'!C196:AQ196,\"\")-1)","v":""},{"$f":"IF(ISBLANK('Data Input'!A196),\"\",COUNTIF('Data Input'!C196:AQ196,\"0\"))","v":""},{"$f":"IF(ISBLANK('Data Input'!A196),\"\",SUM(C192,D192))","v":""},{"$f":"IF(ISBLANK('Data Input'!A196),\"\",SUM('Data Input'!C196:V196))","v":""},{"$f":"IF(ISBLANK('Data Input'!A196),\"\",SUM('Data Input'!X196:AQ196))","v":""},{"$f":"IF(ISBLANK('Data Input'!A196),\"\",SUM('Data Input'!C196:AQ196))","v":""},{"$f":"IF(H192=\"\",\"\",H192/(COUNTA('Data Input'!$C$8:$AQ$8)-1))","v":""},{"$f":"IF(ISBLANK('Data Input'!A196),\"\",SUM('Data Input'!I196,'Data Input'!M196,'Data Input'!AB196,'Data Input'!AE196))","v":""},{"$f":"IF(J192=\"\",\"\",J192/COUNTIF('Data Input'!$C$8:$AQ$8,$J$2))","v":""},{"$f":"IF(ISBLANK('Data Input'!A196),\"\",SUM('Data Input'!E196,'Data Input'!G196,'Data Input'!H196,'Data Input'!L196,'Data Input'!N196,'Data Input'!Q196,'Data Input'!R196,'Data Input'!T196,'Data Input'!U196,'Data Input'!V196,'Data Input'!X196,'Data Input'!Y196,'Data Input'!Z196,'Data Input'!AA196,'Data Input'!AC196,'Data Input'!AD196,'Data Input'!AF196,'Data Input'!AG196,'Data Input'!AH196,'Data Input'!AI196,'Data Input'!AJ196,'Data Input'!AK196,'Data Input'!AL196))","v":""},{"$f":"IF(L192=\"\",\"\",L192/COUNTIF('Data Input'!$C$8:$AQ$8,$L$2))","v":""},{"$f":"IF(ISBLANK('Data Input'!A196),\"\",SUM('Data Input'!K196,'Data Input'!AQ196))","v":""},{"$f":"IF(N192=\"\",\"\",N192/COUNTIF('Data Input'!$C$8:$AQ$8,$N$2))","v":""},{"$f":"IF(ISBLANK('Data Input'!A196),\"\",SUM('Data Input'!C196,'Data Input'!D196,'Data Input'!F196,'Data Input'!J196,'Data Input'!O196,'Data Input'!S196,'Data Input'!AM196,'Data Input'!AN196,'Data Input'!AO196,'Data Input'!AP196))","v":""},{"$f":"IF(P192=\"\",\"\",P192/COUNTIF('Data Input'!$C$8:$AQ$8,$P$2))","v":""},{"$f":"IF(ISBLANK('Data Input'!C196),\"\",SUM('Data Input'!P196))","v":""},{"$f":"IF(R192=\"\",\"\",R192/COUNTIF('Data Input'!$C$8:$AQ$8,$R$2))","v":""}]
[{"$f":"IF('Data Input'!A197=0,\"\",'Data Input'!A197)","v":""},{"$f":"IF(H193=\"\",\"\",IF(H193>Welcome!$K$23-1,\"Exceeding\",IF(H193>Welcome!$G$23-1,\"Expected\",IF(H193<Welcome!$G$23,\"Below\"))))","v":""},{"$f":"IF(ISBLANK('Data Input'!A197),\"\",COUNTIF('Data Input'!C197:AQ197,\"\")-1)","v":""},{"$f":"IF(ISBLANK('Data Input'!A197),\"\",COUNTIF('Data Input'!C197:AQ197,\"0\"))","v":""},{"$f":"IF(ISBLANK('Data Input'!A197),\"\",SUM(C193,D193))","v":""},{"$f":"IF(ISBLANK('Data Input'!A197),\"\",SUM('Data Input'!C197:V197))","v":""},{"$f":"IF(ISBLANK('Data Input'!A197),\"\",SUM('Data Input'!X197:AQ197))","v":""},{"$f":"IF(ISBLANK('Data Input'!A197),\"\",SUM('Data Input'!C197:AQ197))","v":""},{"$f":"IF(H193=\"\",\"\",H193/(COUNTA('Data Input'!$C$8:$AQ$8)-1))","v":""},{"$f":"IF(ISBLANK('Data Input'!A197),\"\",SUM('Data Input'!I197,'Data Input'!M197,'Data Input'!AB197,'Data Input'!AE197))","v":""},{"$f":"IF(J193=\"\",\"\",J193/COUNTIF('Data Input'!$C$8:$AQ$8,$J$2))","v":""},{"$f":"IF(ISBLANK('Data Input'!A197),\"\",SUM('Data Input'!E197,'Data Input'!G197,'Data Input'!H197,'Data Input'!L197,'Data Input'!N197,'Data Input'!Q197,'Data Input'!R197,'Data Input'!T197,'Data Input'!U197,'Data Input'!V197,'Data Input'!X197,'Data Input'!Y197,'Data Input'!Z197,'Data Input'!AA197,'Data Input'!AC197,'Data Input'!AD197,'Data Input'!AF197,'Data Input'!AG197,'Data Input'!AH197,'Data Input'!AI197,'Data Input'!AJ197,'Data Input'!AK197,'Data Input'!AL197))","v":""},{"$f":"IF(L193=\"\",\"\",L193/COUNTIF('Data Input'!$C$8:$AQ$8,$L$2))","v":""},{"$f":"IF(ISBLANK('Data Input'!A197),\"\",SUM('Data Input'!K197,'Data Input'!AQ197))","v":""},{"$f":"IF(N193=\"\",\"\",N193/COUNTIF('Data Input'!$C$8:$AQ$8,$N$2))","v":""},{"$f":"IF(ISBLANK('Data Input'!A197),\"\",SUM('Data Input'!C197,'Data Input'!D197,'Data Input'!F197,'Data Input'!J197,'Data Input'!O197,'Data Input'!S197,'Data Input'!AM197,'Data Input'!AN197,'Data Input'!AO197,'Data Input'!AP197))","v":""},{"$f":"IF(P193=\"\",\"\",P193/COUNTIF('Data Input'!$C$8:$AQ$8,$P$2))","v":""},{"$f":"IF(ISBLANK('Data Input'!C197),\"\",SUM('Data Input'!P197))","v":""},{"$f":"IF(R193=\"\",\"\",R193/COUNTIF('Data Input'!$C$8:$AQ$8,$R$2))","v":""}]
[{"$f":"IF('Data Input'!A198=0,\"\",'Data Input'!A198)","v":""},{"$f":"IF(H194=\"\",\"\",IF(H194>Welcome!$K$23-1,\"Exceeding\",IF(H194>Welcome!$G$23-1,\"Expected\",IF(H194<Welcome!$G$23,\"Below\"))))","v":""},{"$f":"IF(ISBLANK('Data Input'!A198),\"\",COUNTIF('Data Input'!C198:AQ198,\"\")-1)","v":""},{"$f":"IF(ISBLANK('Data Input'!A198),\"\",COUNTIF('Data Input'!C198:AQ198,\"0\"))","v":""},{"$f":"IF(ISBLANK('Data Input'!A198),\"\",SUM(C194,D194))","v":""},{"$f":"IF(ISBLANK('Data Input'!A198),\"\",SUM('Data Input'!C198:V198))","v":""},{"$f":"IF(ISBLANK('Data Input'!A198),\"\",SUM('Data Input'!X198:AQ198))","v":""},{"$f":"IF(ISBLANK('Data Input'!A198),\"\",SUM('Data Input'!C198:AQ198))","v":""},{"$f":"IF(H194=\"\",\"\",H194/(COUNTA('Data Input'!$C$8:$AQ$8)-1))","v":""},{"$f":"IF(ISBLANK('Data Input'!A198),\"\",SUM('Data Input'!I198,'Data Input'!M198,'Data Input'!AB198,'Data Input'!AE198))","v":""},{"$f":"IF(J194=\"\",\"\",J194/COUNTIF('Data Input'!$C$8:$AQ$8,$J$2))","v":""},{"$f":"IF(ISBLANK('Data Input'!A198),\"\",SUM('Data Input'!E198,'Data Input'!G198,'Data Input'!H198,'Data Input'!L198,'Data Input'!N198,'Data Input'!Q198,'Data Input'!R198,'Data Input'!T198,'Data Input'!U198,'Data Input'!V198,'Data Input'!X198,'Data Input'!Y198,'Data Input'!Z198,'Data Input'!AA198,'Data Input'!AC198,'Data Input'!AD198,'Data Input'!AF198,'Data Input'!AG198,'Data Input'!AH198,'Data Input'!AI198,'Data Input'!AJ198,'Data Input'!AK198,'Data Input'!AL198))","v":""},{"$f":"IF(L194=\"\",\"\",L194/COUNTIF('Data Input'!$C$8:$AQ$8,$L$2))","v":""},{"$f":"IF(ISBLANK('Data Input'!A198),\"\",SUM('Data Input'!K198,'Data Input'!AQ198))","v":""},{"$f":"IF(N194=\"\",\"\",N194/COUNTIF('Data Input'!$C$8:$AQ$8,$N$2))","v":""},{"$f":"IF(ISBLANK('Data Input'!A198),\"\",SUM('Data Input'!C198,'Data Input'!D198,'Data Input'!F198,'Data Input'!J198,'Data Input'!O198,'Data Input'!S198,'Data Input'!AM198,'Data Input'!AN198,'Data Input'!AO198,'Data Input'!AP198))","v":""},{"$f":"IF(P194=\"\",\"\",P194/COUNTIF('Data Input'!$C$8:$AQ$8,$P$2))","v":""},{"$f":"IF(ISBLANK('Data Input'!C198),\"\",SUM('Data Input'!P198))","v":""},{"$f":"IF(R194=\"\",\"\",R194/COUNTIF('Data Input'!$C$8:$AQ$8,$R$2))","v":""}]
[{"$f":"IF('Data Input'!A199=0,\"\",'Data Input'!A199)","v":""},{"$f":"IF(H195=\"\",\"\",IF(H195>Welcome!$K$23-1,\"Exceeding\",IF(H195>Welcome!$G$23-1,\"Expected\",IF(H195<Welcome!$G$23,\"Below\"))))","v":""},{"$f":"IF(ISBLANK('Data Input'!A199),\"\",COUNTIF('Data Input'!C199:AQ199,\"\")-1)","v":""},{"$f":"IF(ISBLANK('Data Input'!A199),\"\",COUNTIF('Data Input'!C199:AQ199,\"0\"))","v":""},{"$f":"IF(ISBLANK('Data Input'!A199),\"\",SUM(C195,D195))","v":""},{"$f":"IF(ISBLANK('Data Input'!A199),\"\",SUM('Data Input'!C199:V199))","v":""},{"$f":"IF(ISBLANK('Data Input'!A199),\"\",SUM('Data Input'!X199:AQ199))","v":""},{"$f":"IF(ISBLANK('Data Input'!A199),\"\",SUM('Data Input'!C199:AQ199))","v":""},{"$f":"IF(H195=\"\",\"\",H195/(COUNTA('Data Input'!$C$8:$AQ$8)-1))","v":""},{"$f":"IF(ISBLANK('Data Input'!A199),\"\",SUM('Data Input'!I199,'Data Input'!M199,'Data Input'!AB199,'Data Input'!AE199))","v":""},{"$f":"IF(J195=\"\",\"\",J195/COUNTIF('Data Input'!$C$8:$AQ$8,$J$2))","v":""},{"$f":"IF(ISBLANK('Data Input'!A199),\"\",SUM('Data Input'!E199,'Data Input'!G199,'Data Input'!H199,'Data Input'!L199,'Data Input'!N199,'Data Input'!Q199,'Data Input'!R199,'Data Input'!T199,'Data Input'!U199,'Data Input'!V199,'Data Input'!X199,'Data Input'!Y199,'Data Input'!Z199,'Data Input'!AA199,'Data Input'!AC199,'Data Input'!AD199,'Data Input'!AF199,'Data Input'!AG199,'Data Input'!AH199,'Data Input'!AI199,'Data Input'!AJ199,'Data Input'!AK199,'Data Input'!AL199))","v":""},{"$f":"IF(L195=\"\",\"\",L195/COUNTIF('Data Input'!$C$8:$AQ$8,$L$2))","v":""},{"$f":"IF(ISBLANK('Data Input'!A199),\"\",SUM('Data Input'!K199,'Data Input'!AQ199))","v":""},{"$f":"IF(N195=\"\",\"\",N195/COUNTIF('Data Input'!$C$8:$AQ$8,$N$2))","v":""},{"$f":"IF(ISBLANK('Data Input'!A199),\"\",SUM('Data Input'!C199,'Data Input'!D199,'Data Input'!F199,'Data Input'!J199,'Data Input'!O199,'Data Input'!S199,'Data Input'!AM199,'Data Input'!AN199,'Data Input'!AO199,'Data Input'!AP199))","v":""},{"$f":"IF(P195=\"\",\"\",P195/COUNTIF('Data Input'!$C$8:$AQ$8,$P$2))","v":""},{"$f":"IF(ISBLANK('Data Input'!C199),\"\",SUM('Data Input'!P199))","v":""},{"$f":"IF(R195=\"\",\"\",R195/COUNTIF('Data Input'!$C$8:$AQ$8,$R$2))","v":""}]
[{"$f":"IF('Data Input'!A200=0,\"\",'Data Input'!A200)","v":""},{"$f":"IF(H196=\"\",\"\",IF(H196>Welcome!$K$23-1,\"Exceeding\",IF(H196>Welcome!$G$23-1,\"Expected\",IF(H196<Welcome!$G$23,\"Below\"))))","v":""},{"$f":"IF(ISBLANK('Data Input'!A200),\"\",COUNTIF('Data Input'!C200:AQ200,\"\")-1)","v":""},{"$f":"IF(ISBLANK('Data Input'!A200),\"\",COUNTIF('Data Input'!C200:AQ200,\"0\"))","v":""},{"$f":"IF(ISBLANK('Data Input'!A200),\"\",SUM(C196,D196))","v":""},{"$f":"IF(ISBLANK('Data Input'!A200),\"\",SUM('Data Input'!C200:V200))","v":""},{"$f":"IF(ISBLANK('Data Input'!A200),\"\",SUM('Data Input'!X200:AQ200))","v":""},{"$f":"IF(ISBLANK('Data Input'!A200),\"\",SUM('Data Input'!C200:AQ200))","v":""},{"$f":"IF(H196=\"\",\"\",H196/(COUNTA('Data Input'!$C$8:$AQ$8)-1))","v":""},{"$f":"IF(ISBLANK('Data Input'!A200),\"\",SUM('Data Input'!I200,'Data Input'!M200,'Data Input'!AB200,'Data Input'!AE200))","v":""},{"$f":"IF(J196=\"\",\"\",J196/COUNTIF('Data Input'!$C$8:$AQ$8,$J$2))","v":""},{"$f":"IF(ISBLANK('Data Input'!A200),\"\",SUM('Data Input'!E200,'Data Input'!G200,'Data Input'!H200,'Data Input'!L200,'Data Input'!N200,'Data Input'!Q200,'Data Input'!R200,'Data Input'!T200,'Data Input'!U200,'Data Input'!V200,'Data Input'!X200,'Data Input'!Y200,'Data Input'!Z200,'Data Input'!AA200,'Data Input'!AC200,'Data Input'!AD200,'Data Input'!AF200,'Data Input'!AG200,'Data Input'!AH200,'Data Input'!AI200,'Data Input'!AJ200,'Data Input'!AK200,'Data Input'!AL200))","v":""},{"$f":"IF(L196=\"\",\"\",L196/COUNTIF('Data Input'!$C$8:$AQ$8,$L$2))","v":""},{"$f":"IF(ISBLANK('Data Input'!A200),\"\",SUM('Data Input'!K200,'Data Input'!AQ200))","v":""},{"$f":"IF(N196=\"\",\"\",N196/COUNTIF('Data Input'!$C$8:$AQ$8,$N$2))","v":""},{"$f":"IF(ISBLANK('Data Input'!A200),\"\",SUM('Data Input'!C200,'Data Input'!D200,'Data Input'!F200,'Data Input'!J200,'Data Input'!O200,'Data Input'!S200,'Data Input'!AM200,'Data Input'!AN200,'Data Input'!AO200,'Data Input'!AP200))","v":""},{"$f":"IF(P196=\"\",\"\",P196/COUNTIF('Data Input'!$C$8:$AQ$8,$P$2))","v":""},{"$f":"IF(ISBLANK('Data Input'!C200),\"\",SUM('Data Input'!P200))","v":""},{"$f":"IF(R196=\"\",\"\",R196/COUNTIF('Data Input'!$C$8:$AQ$8,$R$2))","v":""}]
[{"$f":"IF('Data Input'!A201=0,\"\",'Data Input'!A201)","v":""},{"$f":"IF(H197=\"\",\"\",IF(H197>Welcome!$K$23-1,\"Exceeding\",IF(H197>Welcome!$G$23-1,\"Expected\",IF(H197<Welcome!$G$23,\"Below\"))))","v":""},{"$f":"IF(ISBLANK('Data Input'!A201),\"\",COUNTIF('Data Input'!C201:AQ201,\"\")-1)","v":""},{"$f":"IF(ISBLANK('Data Input'!A201),\"\",COUNTIF('Data Input'!C201:AQ201,\"0\"))","v":""},{"$f":"IF(ISBLANK('Data Input'!A201),\"\",SUM(C197,D197))","v":""},{"$f":"IF(ISBLANK('Data Input'!A201),\"\",SUM('Data Input'!C201:V201))","v":""},{"$f":"IF(ISBLANK('Data Input'!A201),\"\",SUM('Data Input'!X201:AQ201))","v":""},{"$f":"IF(ISBLANK('Data Input'!A201),\"\",SUM('Data Input'!C201:AQ201))","v":""},{"$f":"IF(H197=\"\",\"\",H197/(COUNTA('Data Input'!$C$8:$AQ$8)-1))","v":""},{"$f":"IF(ISBLANK('Data Input'!A201),\"\",SUM('Data Input'!I201,'Data Input'!M201,'Data Input'!AB201,'Data Input'!AE201))","v":""},{"$f":"IF(J197=\"\",\"\",J197/COUNTIF('Data Input'!$C$8:$AQ$8,$J$2))","v":""},{"$f":"IF(ISBLANK('Data Input'!A201),\"\",SUM('Data Input'!E201,'Data Input'!G201,'Data Input'!H201,'Data Input'!L201,'Data Input'!N201,'Data Input'!Q201,'Data Input'!R201,'Data Input'!T201,'Data Input'!U201,'Data Input'!V201,'Data Input'!X201,'Data Input'!Y201,'Data Input'!Z201,'Data Input'!AA201,'Data Input'!AC201,'Data Input'!AD201,'Data Input'!AF201,'Data Input'!AG201,'Data Input'!AH201,'Data Input'!AI201,'Data Input'!AJ201,'Data Input'!AK201,'Data Input'!AL201))","v":""},{"$f":"IF(L197=\"\",\"\",L197/COUNTIF('Data Input'!$C$8:$AQ$8,$L$2))","v":""},{"$f":"IF(ISBLANK('Data Input'!A201),\"\",SUM('Data Input'!K201,'Data Input'!AQ201))","v":""},{"$f":"IF(N197=\"\",\"\",N197/COUNTIF('Data Input'!$C$8:$AQ$8,$N$2))","v":""},{"$f":"IF(ISBLANK('Data Input'!A201),\"\",SUM('Data Input'!C201,'Data Input'!D201,'Data Input'!F201,'Data Input'!J201,'Data Input'!O201,'Data Input'!S201,'Data Input'!AM201,'Data Input'!AN201,'Data Input'!AO201,'Data Input'!AP201))","v":""},{"$f":"IF(P197=\"\",\"\",P197/COUNTIF('Data Input'!$C$8:$AQ$8,$P$2))","v":""},{"$f":"IF(ISBLANK('Data Input'!C201),\"\",SUM('Data Input'!P201))","v":""},{"$f":"IF(R197=\"\",\"\",R197/COUNTIF('Data Input'!$C$8:$AQ$8,$R$2))","v":""}]
[{"$f":"IF('Data Input'!A202=0,\"\",'Data Input'!A202)","v":""},{"$f":"IF(H198=\"\",\"\",IF(H198>Welcome!$K$23-1,\"Exceeding\",IF(H198>Welcome!$G$23-1,\"Expected\",IF(H198<Welcome!$G$23,\"Below\"))))","v":""},{"$f":"IF(ISBLANK('Data Input'!A202),\"\",COUNTIF('Data Input'!C202:AQ202,\"\")-1)","v":""},{"$f":"IF(ISBLANK('Data Input'!A202),\"\",COUNTIF('Data Input'!C202:AQ202,\"0\"))","v":""},{"$f":"IF(ISBLANK('Data Input'!A202),\"\",SUM(C198,D198))","v":""},{"$f":"IF(ISBLANK('Data Input'!A202),\"\",SUM('Data Input'!C202:V202))","v":""},{"$f":"IF(ISBLANK('Data Input'!A202),\"\",SUM('Data Input'!X202:AQ202))","v":""},{"$f":"IF(ISBLANK('Data Input'!A202),\"\",SUM('Data Input'!C202:AQ202))","v":""},{"$f":"IF(H198=\"\",\"\",H198/(COUNTA('Data Input'!$C$8:$AQ$8)-1))","v":""},{"$f":"IF(ISBLANK('Data Input'!A202),\"\",SUM('Data Input'!I202,'Data Input'!M202,'Data Input'!AB202,'Data Input'!AE202))","v":""},{"$f":"IF(J198=\"\",\"\",J198/COUNTIF('Data Input'!$C$8:$AQ$8,$J$2))","v":""},{"$f":"IF(ISBLANK('Data Input'!A202),\"\",SUM('Data Input'!E202,'Data Input'!G202,'Data Input'!H202,'Data Input'!L202,'Data Input'!N202,'Data Input'!Q202,'Data Input'!R202,'Data Input'!T202,'Data Input'!U202,'Data Input'!V202,'Data Input'!X202,'Data Input'!Y202,'Data Input'!Z202,'Data Input'!AA202,'Data Input'!AC202,'Data Input'!AD202,'Data Input'!AF202,'Data Input'!AG202,'Data Input'!AH202,'Data Input'!AI202,'Data Input'!AJ202,'Data Input'!AK202,'Data Input'!AL202))","v":""},{"$f":"IF(L198=\"\",\"\",L198/COUNTIF('Data Input'!$C$8:$AQ$8,$L$2))","v":""},{"$f":"IF(ISBLANK('Data Input'!A202),\"\",SUM('Data Input'!K202,'Data Input'!AQ202))","v":""},{"$f":"IF(N198=\"\",\"\",N198/COUNTIF('Data Input'!$C$8:$AQ$8,$N$2))","v":""},{"$f":"IF(ISBLANK('Data Input'!A202),\"\",SUM('Data Input'!C202,'Data Input'!D202,'Data Input'!F202,'Data Input'!J202,'Data Input'!O202,'Data Input'!S202,'Data Input'!AM202,'Data Input'!AN202,'Data Input'!AO202,'Data Input'!AP202))","v":""},{"$f":"IF(P198=\"\",\"\",P198/COUNTIF('Data Input'!$C$8:$AQ$8,$P$2))","v":""},{"$f":"IF(ISBLANK('Data Input'!C202),\"\",SUM('Data Input'!P202))","v":""},{"$f":"IF(R198=\"\",\"\",R198/COUNTIF('Data Input'!$C$8:$AQ$8,$R$2))","v":""}]
[{"$f":"IF('Data Input'!A203=0,\"\",'Data Input'!A203)","v":""},{"$f":"IF(H199=\"\",\"\",IF(H199>Welcome!$K$23-1,\"Exceeding\",IF(H199>Welcome!$G$23-1,\"Expected\",IF(H199<Welcome!$G$23,\"Below\"))))","v":""},{"$f":"IF(ISBLANK('Data Input'!A203),\"\",COUNTIF('Data Input'!C203:AQ203,\"\")-1)","v":""},{"$f":"IF(ISBLANK('Data Input'!A203),\"\",COUNTIF('Data Input'!C203:AQ203,\"0\"))","v":""},{"$f":"IF(ISBLANK('Data Input'!A203),\"\",SUM(C199,D199))","v":""},{"$f":"IF(ISBLANK('Data Input'!A203),\"\",SUM('Data Input'!C203:V203))","v":""},{"$f":"IF(ISBLANK('Data Input'!A203),\"\",SUM('Data Input'!X203:AQ203))","v":""},{"$f":"IF(ISBLANK('Data Input'!A203),\"\",SUM('Data Input'!C203:AQ203))","v":""},{"$f":"IF(H199=\"\",\"\",H199/(COUNTA('Data Input'!$C$8:$AQ$8)-1))","v":""},{"$f":"IF(ISBLANK('Data Input'!A203),\"\",SUM('Data Input'!I203,'Data Input'!M203,'Data Input'!AB203,'Data Input'!AE203))","v":""},{"$f":"IF(J199=\"\",\"\",J199/COUNTIF('Data Input'!$C$8:$AQ$8,$J$2))","v":""},{"$f":"IF(ISBLANK('Data Input'!A203),\"\",SUM('Data Input'!E203,'Data Input'!G203,'Data Input'!H203,'Data Input'!L203,'Data Input'!N203,'Data Input'!Q203,'Data Input'!R203,'Data Input'!T203,'Data Input'!U203,'Data Input'!V203,'Data Input'!X203,'Data Input'!Y203,'Data Input'!Z203,'Data Input'!AA203,'Data Input'!AC203,'Data Input'!AD203,'Data Input'!AF203,'Data Input'!AG203,'Data Input'!AH203,'Data Input'!AI203,'Data Input'!AJ203,'Data Input'!AK203,'Data Input'!AL203))","v":""},{"$f":"IF(L199=\"\",\"\",L199/COUNTIF('Data Input'!$C$8:$AQ$8,$L$2))","v":""},{"$f":"IF(ISBLANK('Data Input'!A203),\"\",SUM('Data Input'!K203,'Data Input'!AQ203))","v":""},{"$f":"IF(N199=\"\",\"\",N199/COUNTIF('Data Input'!$C$8:$AQ$8,$N$2))","v":""},{"$f":"IF(ISBLANK('Data Input'!A203),\"\",SUM('Data Input'!C203,'Data Input'!D203,'Data Input'!F203,'Data Input'!J203,'Data Input'!O203,'Data Input'!S203,'Data Input'!AM203,'Data Input'!AN203,'Data Input'!AO203,'Data Input'!AP203))","v":""},{"$f":"IF(P199=\"\",\"\",P199/COUNTIF('Data Input'!$C$8:$AQ$8,$P$2))","v":""},{"$f":"IF(ISBLANK('Data Input'!C203),\"\",SUM('Data Input'!P203))","v":""},{"$f":"IF(R199=\"\",\"\",R199/COUNTIF('Data Input'!$C$8:$AQ$8,$R$2))","v":""}]
[{"$f":"IF('Data Input'!A204=0,\"\",'Data Input'!A204)","v":""},{"$f":"IF(H200=\"\",\"\",IF(H200>Welcome!$K$23-1,\"Exceeding\",IF(H200>Welcome!$G$23-1,\"Expected\",IF(H200<Welcome!$G$23,\"Below\"))))","v":""},{"$f":"IF(ISBLANK('Data Input'!A204),\"\",COUNTIF('Data Input'!C204:AQ204,\"\")-1)","v":""},{"$f":"IF(ISBLANK('Data Input'!A204),\"\",COUNTIF('Data Input'!C204:AQ204,\"0\"))","v":""},{"$f":"IF(ISBLANK('Data Input'!A204),\"\",SUM(C200,D200))","v":""},{"$f":"IF(ISBLANK('Data Input'!A204),\"\",SUM('Data Input'!C204:V204))","v":""},{"$f":"IF(ISBLANK('Data Input'!A204),\"\",SUM('Data Input'!X204:AQ204))","v":""},{"$f":"IF(ISBLANK('Data Input'!A204),\"\",SUM('Data Input'!C204:AQ204))","v":""},{"$f":"IF(H200=\"\",\"\",H200/(COUNTA('Data Input'!$C$8:$AQ$8)-1))","v":""},{"$f":"IF(ISBLANK('Data Input'!A204),\"\",SUM('Data Input'!I204,'Data Input'!M204,'Data Input'!AB204,'Data Input'!AE204))","v":""},{"$f":"IF(J200=\"\",\"\",J200/COUNTIF('Data Input'!$C$8:$AQ$8,$J$2))","v":""},{"$f":"IF(ISBLANK('Data Input'!A204),\"\",SUM('Data Input'!E204,'Data Input'!G204,'Data Input'!H204,'Data Input'!L204,'Data Input'!N204,'Data Input'!Q204,'Data Input'!R204,'Data Input'!T204,'Data Input'!U204,'Data Input'!V204,'Data Input'!X204,'Data Input'!Y204,'Data Input'!Z204,'Data Input'!AA204,'Data Input'!AC204,'Data Input'!AD204,'Data Input'!AF204,'Data Input'!AG204,'Data Input'!AH204,'Data Input'!AI204,'Data Input'!AJ204,'Data Input'!AK204,'Data Input'!AL204))","v":""},{"$f":"IF(L200=\"\",\"\",L200/COUNTIF('Data Input'!$C$8:$AQ$8,$L$2))","v":""},{"$f":"IF(ISBLANK('Data Input'!A204),\"\",SUM('Data Input'!K204,'Data Input'!AQ204))","v":""},{"$f":"IF(N200=\"\",\"\",N200/COUNTIF('Data Input'!$C$8:$AQ$8,$N$2))","v":""},{"$f":"IF(ISBLANK('Data Input'!A204),\"\",SUM('Data Input'!C204,'Data Input'!D204,'Data Input'!F204,'Data Input'!J204,'Data Input'!O204,'Data Input'!S204,'Data Input'!AM204,'Data Input'!AN204,'Data Input'!AO204,'Data Input'!AP204))","v":""},{"$f":"IF(P200=\"\",\"\",P200/COUNTIF('Data Input'!$C$8:$AQ$8,$P$2))","v":""},{"$f":"IF(ISBLANK('Data Input'!C204),\"\",SUM('Data Input'!P204))","v":""},{"$f":"IF(R200=\"\",\"\",R200/COUNTIF('Data Input'!$C$8:$AQ$8,$R$2))","v":""}]
[{"$f":"IF('Data Input'!A205=0,\"\",'Data Input'!A205)","v":""},{"$f":"IF(H201=\"\",\"\",IF(H201>Welcome!$K$23-1,\"Exceeding\",IF(H201>Welcome!$G$23-1,\"Expected\",IF(H201<Welcome!$G$23,\"Below\"))))","v":""},{"$f":"IF(ISBLANK('Data Input'!A205),\"\",COUNTIF('Data Input'!C205:AQ205,\"\")-1)","v":""},{"$f":"IF(ISBLANK('Data Input'!A205),\"\",COUNTIF('Data Input'!C205:AQ205,\"0\"))","v":""},{"$f":"IF(ISBLANK('Data Input'!A205),\"\",SUM(C201,D201))","v":""},{"$f":"IF(ISBLANK('Data Input'!A205),\"\",SUM('Data Input'!C205:V205))","v":""},{"$f":"IF(ISBLANK('Data Input'!A205),\"\",SUM('Data Input'!X205:AQ205))","v":""},{"$f":"IF(ISBLANK('Data Input'!A205),\"\",SUM('Data Input'!C205:AQ205))","v":""},{"$f":"IF(H201=\"\",\"\",H201/(COUNTA('Data Input'!$C$8:$AQ$8)-1))","v":""},{"$f":"IF(ISBLANK('Data Input'!A205),\"\",SUM('Data Input'!I205,'Data Input'!M205,'Data Input'!AB205,'Data Input'!AE205))","v":""},{"$f":"IF(J201=\"\",\"\",J201/COUNTIF('Data Input'!$C$8:$AQ$8,$J$2))","v":""},{"$f":"IF(ISBLANK('Data Input'!A205),\"\",SUM('Data Input'!E205,'Data Input'!G205,'Data Input'!H205,'Data Input'!L205,'Data Input'!N205,'Data Input'!Q205,'Data Input'!R205,'Data Input'!T205,'Data Input'!U205,'Data Input'!V205,'Data Input'!X205,'Data Input'!Y205,'Data Input'!Z205,'Data Input'!AA205,'Data Input'!AC205,'Data Input'!AD205,'Data Input'!AF205,'Data Input'!AG205,'Data Input'!AH205,'Data Input'!AI205,'Data Input'!AJ205,'Data Input'!AK205,'Data Input'!AL205))","v":""},{"$f":"IF(L201=\"\",\"\",L201/COUNTIF('Data Input'!$C$8:$AQ$8,$L$2))","v":""},{"$f":"IF(ISBLANK('Data Input'!A205),\"\",SUM('Data Input'!K205,'Data Input'!AQ205))","v":""},{"$f":"IF(N201=\"\",\"\",N201/COUNTIF('Data Input'!$C$8:$AQ$8,$N$2))","v":""},{"$f":"IF(ISBLANK('Data Input'!A205),\"\",SUM('Data Input'!C205,'Data Input'!D205,'Data Input'!F205,'Data Input'!J205,'Data Input'!O205,'Data Input'!S205,'Data Input'!AM205,'Data Input'!AN205,'Data Input'!AO205,'Data Input'!AP205))","v":""},{"$f":"IF(P201=\"\",\"\",P201/COUNTIF('Data Input'!$C$8:$AQ$8,$P$2))","v":""},{"$f":"IF(ISBLANK('Data Input'!C205),\"\",SUM('Data Input'!P205))","v":""},{"$f":"IF(R201=\"\",\"\",R201/COUNTIF('Data Input'!$C$8:$AQ$8,$R$2))","v":""}]
[{"$f":"IF('Data Input'!A206=0,\"\",'Data Input'!A206)","v":""},{"$f":"IF(H202=\"\",\"\",IF(H202>Welcome!$K$23-1,\"Exceeding\",IF(H202>Welcome!$G$23-1,\"Expected\",IF(H202<Welcome!$G$23,\"Below\"))))","v":""},{"$f":"IF(ISBLANK('Data Input'!A206),\"\",COUNTIF('Data Input'!C206:AQ206,\"\")-1)","v":""},{"$f":"IF(ISBLANK('Data Input'!A206),\"\",COUNTIF('Data Input'!C206:AQ206,\"0\"))","v":""},{"$f":"IF(ISBLANK('Data Input'!A206),\"\",SUM(C202,D202))","v":""},{"$f":"IF(ISBLANK('Data Input'!A206),\"\",SUM('Data Input'!C206:V206))","v":""},{"$f":"IF(ISBLANK('Data Input'!A206),\"\",SUM('Data Input'!X206:AQ206))","v":""},{"$f":"IF(ISBLANK('Data Input'!A206),\"\",SUM('Data Input'!C206:AQ206))","v":""},{"$f":"IF(H202=\"\",\"\",H202/(COUNTA('Data Input'!$C$8:$AQ$8)-1))","v":""},{"$f":"IF(ISBLANK('Data Input'!A206),\"\",SUM('Data Input'!I206,'Data Input'!M206,'Data Input'!AB206,'Data Input'!AE206))","v":""},{"$f":"IF(J202=\"\",\"\",J202/COUNTIF('Data Input'!$C$8:$AQ$8,$J$2))","v":""},{"$f":"IF(ISBLANK('Data Input'!A206),\"\",SUM('Data Input'!E206,'Data Input'!G206,'Data Input'!H206,'Data Input'!L206,'Data Input'!N206,'Data Input'!Q206,'Data Input'!R206,'Data Input'!T206,'Data Input'!U206,'Data Input'!V206,'Data Input'!X206,'Data Input'!Y206,'Data Input'!Z206,'Data Input'!AA206,'Data Input'!AC206,'Data Input'!AD206,'Data Input'!AF206,'Data Input'!AG206,'Data Input'!AH206,'Data Input'!AI206,'Data Input'!AJ206,'Data Input'!AK206,'Data Input'!AL206))","v":""},{"$f":"IF(L202=\"\",\"\",L202/COUNTIF('Data Input'!$C$8:$AQ$8,$L$2))","v":""},{"$f":"IF(ISBLANK('Data Input'!A206),\"\",SUM('Data Input'!K206,'Data Input'!AQ206))","v":""},{"$f":"IF(N202=\"\",\"\",N202/COUNTIF('Data Input'!$C$8:$AQ$8,$N$2))","v":""},{"$f":"IF(ISBLANK('Data Input'!A206),\"\",SUM('Data Input'!C206,'Data Input'!D206,'Data Input'!F206,'Data Input'!J206,'Data Input'!O206,'Data Input'!S206,'Data Input'!AM206,'Data Input'!AN206,'Data Input'!AO206,'Data Input'!AP206))","v":""},{"$f":"IF(P202=\"\",\"\",P202/COUNTIF('Data Input'!$C$8:$AQ$8,$P$2))","v":""},{"$f":"IF(ISBLANK('Data Input'!C206),\"\",SUM('Data Input'!P206))","v":""},{"$f":"IF(R202=\"\",\"\",R202/COUNTIF('Data Input'!$C$8:$AQ$8,$R$2))","v":""}]
[{"$f":"IF('Data Input'!A207=0,\"\",'Data Input'!A207)","v":""},{"$f":"IF(H203=\"\",\"\",IF(H203>Welcome!$K$23-1,\"Exceeding\",IF(H203>Welcome!$G$23-1,\"Expected\",IF(H203<Welcome!$G$23,\"Below\"))))","v":""},{"$f":"IF(ISBLANK('Data Input'!A207),\"\",COUNTIF('Data Input'!C207:AQ207,\"\")-1)","v":""},{"$f":"IF(ISBLANK('Data Input'!A207),\"\",COUNTIF('Data Input'!C207:AQ207,\"0\"))","v":""},{"$f":"IF(ISBLANK('Data Input'!A207),\"\",SUM(C203,D203))","v":""},{"$f":"IF(ISBLANK('Data Input'!A207),\"\",SUM('Data Input'!C207:V207))","v":""},{"$f":"IF(ISBLANK('Data Input'!A207),\"\",SUM('Data Input'!X207:AQ207))","v":""},{"$f":"IF(ISBLANK('Data Input'!A207),\"\",SUM('Data Input'!C207:AQ207))","v":""},{"$f":"IF(H203=\"\",\"\",H203/(COUNTA('Data Input'!$C$8:$AQ$8)-1))","v":""},{"$f":"IF(ISBLANK('Data Input'!A207),\"\",SUM('Data Input'!I207,'Data Input'!M207,'Data Input'!AB207,'Data Input'!AE207))","v":""},{"$f":"IF(J203=\"\",\"\",J203/COUNTIF('Data Input'!$C$8:$AQ$8,$J$2))","v":""},{"$f":"IF(ISBLANK('Data Input'!A207),\"\",SUM('Data Input'!E207,'Data Input'!G207,'Data Input'!H207,'Data Input'!L207,'Data Input'!N207,'Data Input'!Q207,'Data Input'!R207,'Data Input'!T207,'Data Input'!U207,'Data Input'!V207,'Data Input'!X207,'Data Input'!Y207,'Data Input'!Z207,'Data Input'!AA207,'Data Input'!AC207,'Data Input'!AD207,'Data Input'!AF207,'Data Input'!AG207,'Data Input'!AH207,'Data Input'!AI207,'Data Input'!AJ207,'Data Input'!AK207,'Data Input'!AL207))","v":""},{"$f":"IF(L203=\"\",\"\",L203/COUNTIF('Data Input'!$C$8:$AQ$8,$L$2))","v":""},{"$f":"IF(ISBLANK('Data Input'!A207),\"\",SUM('Data Input'!K207,'Data Input'!AQ207))","v":""},{"$f":"IF(N203=\"\",\"\",N203/COUNTIF('Data Input'!$C$8:$AQ$8,$N$2))","v":""},{"$f":"IF(ISBLANK('Data Input'!A207),\"\",SUM('Data Input'!C207,'Data Input'!D207,'Data Input'!F207,'Data Input'!J207,'Data Input'!O207,'Data Input'!S207,'Data Input'!AM207,'Data Input'!AN207,'Data Input'!AO207,'Data Input'!AP207))","v":""},{"$f":"IF(P203=\"\",\"\",P203/COUNTIF('Data Input'!$C$8:$AQ$8,$P$2))","v":""},{"$f":"IF(ISBLANK('Data Input'!C207),\"\",SUM('Data Input'!P207))","v":""},{"$f":"IF(R203=\"\",\"\",R203/COUNTIF('Data Input'!$C$8:$AQ$8,$R$2))","v":""}]
[{"$f":"IF('Data Input'!A208=0,\"\",'Data Input'!A208)","v":""},{"$f":"IF(H204=\"\",\"\",IF(H204>Welcome!$K$23-1,\"Exceeding\",IF(H204>Welcome!$G$23-1,\"Expected\",IF(H204<Welcome!$G$23,\"Below\"))))","v":""},{"$f":"IF(ISBLANK('Data Input'!A208),\"\",COUNTIF('Data Input'!C208:AQ208,\"\")-1)","v":""},{"$f":"IF(ISBLANK('Data Input'!A208),\"\",COUNTIF('Data Input'!C208:AQ208,\"0\"))","v":""},{"$f":"IF(ISBLANK('Data Input'!A208),\"\",SUM(C204,D204))","v":""},{"$f":"IF(ISBLANK('Data Input'!A208),\"\",SUM('Data Input'!C208:V208))","v":""},{"$f":"IF(ISBLANK('Data Input'!A208),\"\",SUM('Data Input'!X208:AQ208))","v":""},{"$f":"IF(ISBLANK('Data Input'!A208),\"\",SUM('Data Input'!C208:AQ208))","v":""},{"$f":"IF(H204=\"\",\"\",H204/(COUNTA('Data Input'!$C$8:$AQ$8)-1))","v":""},{"$f":"IF(ISBLANK('Data Input'!A208),\"\",SUM('Data Input'!I208,'Data Input'!M208,'Data Input'!AB208,'Data Input'!AE208))","v":""},{"$f":"IF(J204=\"\",\"\",J204/COUNTIF('Data Input'!$C$8:$AQ$8,$J$2))","v":""},{"$f":"IF(ISBLANK('Data Input'!A208),\"\",SUM('Data Input'!E208,'Data Input'!G208,'Data Input'!H208,'Data Input'!L208,'Data Input'!N208,'Data Input'!Q208,'Data Input'!R208,'Data Input'!T208,'Data Input'!U208,'Data Input'!V208,'Data Input'!X208,'Data Input'!Y208,'Data Input'!Z208,'Data Input'!AA208,'Data Input'!AC208,'Data Input'!AD208,'Data Input'!AF208,'Data Input'!AG208,'Data Input'!AH208,'Data Input'!AI208,'Data Input'!AJ208,'Data Input'!AK208,'Data Input'!AL208))","v":""},{"$f":"IF(L204=\"\",\"\",L204/COUNTIF('Data Input'!$C$8:$AQ$8,$L$2))","v":""},{"$f":"IF(ISBLANK('Data Input'!A208),\"\",SUM('Data Input'!K208,'Data Input'!AQ208))","v":""},{"$f":"IF(N204=\"\",\"\",N204/COUNTIF('Data Input'!$C$8:$AQ$8,$N$2))","v":""},{"$f":"IF(ISBLANK('Data Input'!A208),\"\",SUM('Data Input'!C208,'Data Input'!D208,'Data Input'!F208,'Data Input'!J208,'Data Input'!O208,'Data Input'!S208,'Data Input'!AM208,'Data Input'!AN208,'Data Input'!AO208,'Data Input'!AP208))","v":""},{"$f":"IF(P204=\"\",\"\",P204/COUNTIF('Data Input'!$C$8:$AQ$8,$P$2))","v":""},{"$f":"IF(ISBLANK('Data Input'!C208),\"\",SUM('Data Input'!P208))","v":""},{"$f":"IF(R204=\"\",\"\",R204/COUNTIF('Data Input'!$C$8:$AQ$8,$R$2))","v":""}]
[{"$f":"IF('Data Input'!A209=0,\"\",'Data Input'!A209)","v":""},{"$f":"IF(H205=\"\",\"\",IF(H205>Welcome!$K$23-1,\"Exceeding\",IF(H205>Welcome!$G$23-1,\"Expected\",IF(H205<Welcome!$G$23,\"Below\"))))","v":""},{"$f":"IF(ISBLANK('Data Input'!A209),\"\",COUNTIF('Data Input'!C209:AQ209,\"\")-1)","v":""},{"$f":"IF(ISBLANK('Data Input'!A209),\"\",COUNTIF('Data Input'!C209:AQ209,\"0\"))","v":""},{"$f":"IF(ISBLANK('Data Input'!A209),\"\",SUM(C205,D205))","v":""},{"$f":"IF(ISBLANK('Data Input'!A209),\"\",SUM('Data Input'!C209:V209))","v":""},{"$f":"IF(ISBLANK('Data Input'!A209),\"\",SUM('Data Input'!X209:AQ209))","v":""},{"$f":"IF(ISBLANK('Data Input'!A209),\"\",SUM('Data Input'!C209:AQ209))","v":""},{"$f":"IF(H205=\"\",\"\",H205/(COUNTA('Data Input'!$C$8:$AQ$8)-1))","v":""},{"$f":"IF(ISBLANK('Data Input'!A209),\"\",SUM('Data Input'!I209,'Data Input'!M209,'Data Input'!AB209,'Data Input'!AE209))","v":""},{"$f":"IF(J205=\"\",\"\",J205/COUNTIF('Data Input'!$C$8:$AQ$8,$J$2))","v":""},{"$f":"IF(ISBLANK('Data Input'!A209),\"\",SUM('Data Input'!E209,'Data Input'!G209,'Data Input'!H209,'Data Input'!L209,'Data Input'!N209,'Data Input'!Q209,'Data Input'!R209,'Data Input'!T209,'Data Input'!U209,'Data Input'!V209,'Data Input'!X209,'Data Input'!Y209,'Data Input'!Z209,'Data Input'!AA209,'Data Input'!AC209,'Data Input'!AD209,'Data Input'!AF209,'Data Input'!AG209,'Data Input'!AH209,'Data Input'!AI209,'Data Input'!AJ209,'Data Input'!AK209,'Data Input'!AL209))","v":""},{"$f":"IF(L205=\"\",\"\",L205/COUNTIF('Data Input'!$C$8:$AQ$8,$L$2))","v":""},{"$f":"IF(ISBLANK('Data Input'!A209),\"\",SUM('Data Input'!K209,'Data Input'!AQ209))","v":""},{"$f":"IF(N205=\"\",\"\",N205/COUNTIF('Data Input'!$C$8:$AQ$8,$N$2))","v":""},{"$f":"IF(ISBLANK('Data Input'!A209),\"\",SUM('Data Input'!C209,'Data Input'!D209,'Data Input'!F209,'Data Input'!J209,'Data Input'!O209,'Data Input'!S209,'Data Input'!AM209,'Data Input'!AN209,'Data Input'!AO209,'Data Input'!AP209))","v":""},{"$f":"IF(P205=\"\",\"\",P205/COUNTIF('Data Input'!$C$8:$AQ$8,$P$2))","v":""},{"$f":"IF(ISBLANK('Data Input'!C209),\"\",SUM('Data Input'!P209))","v":""},{"$f":"IF(R205=\"\",\"\",R205/COUNTIF('Data Input'!$C$8:$AQ$8,$R$2))","v":""}]
[{"$f":"IF('Data Input'!A210=0,\"\",'Data Input'!A210)","v":""},{"$f":"IF(H206=\"\",\"\",IF(H206>Welcome!$K$23-1,\"Exceeding\",IF(H206>Welcome!$G$23-1,\"Expected\",IF(H206<Welcome!$G$23,\"Below\"))))","v":""},{"$f":"IF(ISBLANK('Data Input'!A210),\"\",COUNTIF('Data Input'!C210:AQ210,\"\")-1)","v":""},{"$f":"IF(ISBLANK('Data Input'!A210),\"\",COUNTIF('Data Input'!C210:AQ210,\"0\"))","v":""},{"$f":"IF(ISBLANK('Data Input'!A210),\"\",SUM(C206,D206))","v":""},{"$f":"IF(ISBLANK('Data Input'!A210),\"\",SUM('Data Input'!C210:V210))","v":""},{"$f":"IF(ISBLANK('Data Input'!A210),\"\",SUM('Data Input'!X210:AQ210))","v":""},{"$f":"IF(ISBLANK('Data Input'!A210),\"\",SUM('Data Input'!C210:AQ210))","v":""},{"$f":"IF(H206=\"\",\"\",H206/(COUNTA('Data Input'!$C$8:$AQ$8)-1))","v":""},{"$f":"IF(ISBLANK('Data Input'!A210),\"\",SUM('Data Input'!I210,'Data Input'!M210,'Data Input'!AB210,'Data Input'!AE210))","v":""},{"$f":"IF(J206=\"\",\"\",J206/COUNTIF('Data Input'!$C$8:$AQ$8,$J$2))","v":""},{"$f":"IF(ISBLANK('Data Input'!A210),\"\",SUM('Data Input'!E210,'Data Input'!G210,'Data Input'!H210,'Data Input'!L210,'Data Input'!N210,'Data Input'!Q210,'Data Input'!R210,'Data Input'!T210,'Data Input'!U210,'Data Input'!V210,'Data Input'!X210,'Data Input'!Y210,'Data Input'!Z210,'Data Input'!AA210,'Data Input'!AC210,'Data Input'!AD210,'Data Input'!AF210,'Data Input'!AG210,'Data Input'!AH210,'Data Input'!AI210,'Data Input'!AJ210,'Data Input'!AK210,'Data Input'!AL210))","v":""},{"$f":"IF(L206=\"\",\"\",L206/COUNTIF('Data Input'!$C$8:$AQ$8,$L$2))","v":""},{"$f":"IF(ISBLANK('Data Input'!A210),\"\",SUM('Data Input'!K210,'Data Input'!AQ210))","v":""},{"$f":"IF(N206=\"\",\"\",N206/COUNTIF('Data Input'!$C$8:$AQ$8,$N$2))","v":""},{"$f":"IF(ISBLANK('Data Input'!A210),\"\",SUM('Data Input'!C210,'Data Input'!D210,'Data Input'!F210,'Data Input'!J210,'Data Input'!O210,'Data Input'!S210,'Data Input'!AM210,'Data Input'!AN210,'Data Input'!AO210,'Data Input'!AP210))","v":""},{"$f":"IF(P206=\"\",\"\",P206/COUNTIF('Data Input'!$C$8:$AQ$8,$P$2))","v":""},{"$f":"IF(ISBLANK('Data Input'!C210),\"\",SUM('Data Input'!P210))","v":""},{"$f":"IF(R206=\"\",\"\",R206/COUNTIF('Data Input'!$C$8:$AQ$8,$R$2))","v":""}]
[{"$f":"IF('Data Input'!A211=0,\"\",'Data Input'!A211)","v":""},{"$f":"IF(H207=\"\",\"\",IF(H207>Welcome!$K$23-1,\"Exceeding\",IF(H207>Welcome!$G$23-1,\"Expected\",IF(H207<Welcome!$G$23,\"Below\"))))","v":""},{"$f":"IF(ISBLANK('Data Input'!A211),\"\",COUNTIF('Data Input'!C211:AQ211,\"\")-1)","v":""},{"$f":"IF(ISBLANK('Data Input'!A211),\"\",COUNTIF('Data Input'!C211:AQ211,\"0\"))","v":""},{"$f":"IF(ISBLANK('Data Input'!A211),\"\",SUM(C207,D207))","v":""},{"$f":"IF(ISBLANK('Data Input'!A211),\"\",SUM('Data Input'!C211:V211))","v":""},{"$f":"IF(ISBLANK('Data Input'!A211),\"\",SUM('Data Input'!X211:AQ211))","v":""},{"$f":"IF(ISBLANK('Data Input'!A211),\"\",SUM('Data Input'!C211:AQ211))","v":""},{"$f":"IF(H207=\"\",\"\",H207/(COUNTA('Data Input'!$C$8:$AQ$8)-1))","v":""},{"$f":"IF(ISBLANK('Data Input'!A211),\"\",SUM('Data Input'!I211,'Data Input'!M211,'Data Input'!AB211,'Data Input'!AE211))","v":""},{"$f":"IF(J207=\"\",\"\",J207/COUNTIF('Data Input'!$C$8:$AQ$8,$J$2))","v":""},{"$f":"IF(ISBLANK('Data Input'!A211),\"\",SUM('Data Input'!E211,'Data Input'!G211,'Data Input'!H211,'Data Input'!L211,'Data Input'!N211,'Data Input'!Q211,'Data Input'!R211,'Data Input'!T211,'Data Input'!U211,'Data Input'!V211,'Data Input'!X211,'Data Input'!Y211,'Data Input'!Z211,'Data Input'!AA211,'Data Input'!AC211,'Data Input'!AD211,'Data Input'!AF211,'Data Input'!AG211,'Data Input'!AH211,'Data Input'!AI211,'Data Input'!AJ211,'Data Input'!AK211,'Data Input'!AL211))","v":""},{"$f":"IF(L207=\"\",\"\",L207/COUNTIF('Data Input'!$C$8:$AQ$8,$L$2))","v":""},{"$f":"IF(ISBLANK('Data Input'!A211),\"\",SUM('Data Input'!K211,'Data Input'!AQ211))","v":""},{"$f":"IF(N207=\"\",\"\",N207/COUNTIF('Data Input'!$C$8:$AQ$8,$N$2))","v":""},{"$f":"IF(ISBLANK('Data Input'!A211),\"\",SUM('Data Input'!C211,'Data Input'!D211,'Data Input'!F211,'Data Input'!J211,'Data Input'!O211,'Data Input'!S211,'Data Input'!AM211,'Data Input'!AN211,'Data Input'!AO211,'Data Input'!AP211))","v":""},{"$f":"IF(P207=\"\",\"\",P207/COUNTIF('Data Input'!$C$8:$AQ$8,$P$2))","v":""},{"$f":"IF(ISBLANK('Data Input'!C211),\"\",SUM('Data Input'!P211))","v":""},{"$f":"IF(R207=\"\",\"\",R207/COUNTIF('Data Input'!$C$8:$AQ$8,$R$2))","v":""}]
[{"$f":"IF('Data Input'!A212=0,\"\",'Data Input'!A212)","v":""},{"$f":"IF(H208=\"\",\"\",IF(H208>Welcome!$K$23-1,\"Exceeding\",IF(H208>Welcome!$G$23-1,\"Expected\",IF(H208<Welcome!$G$23,\"Below\"))))","v":""},{"$f":"IF(ISBLANK('Data Input'!A212),\"\",COUNTIF('Data Input'!C212:AQ212,\"\")-1)","v":""},{"$f":"IF(ISBLANK('Data Input'!A212),\"\",COUNTIF('Data Input'!C212:AQ212,\"0\"))","v":""},{"$f":"IF(ISBLANK('Data Input'!A212),\"\",SUM(C208,D208))","v":""},{"$f":"IF(ISBLANK('Data Input'!A212),\"\",SUM('Data Input'!C212:V212))","v":""},{"$f":"IF(ISBLANK('Data Input'!A212),\"\",SUM('Data Input'!X212:AQ212))","v":""},{"$f":"IF(ISBLANK('Data Input'!A212),\"\",SUM('Data Input'!C212:AQ212))","v":""},{"$f":"IF(H208=\"\",\"\",H208/(COUNTA('Data Input'!$C$8:$AQ$8)-1))","v":""},{"$f":"IF(ISBLANK('Data Input'!A212),\"\",SUM('Data Input'!I212,'Data Input'!M212,'Data Input'!AB212,'Data Input'!AE212))","v":""},{"$f":"IF(J208=\"\",\"\",J208/COUNTIF('Data Input'!$C$8:$AQ$8,$J$2))","v":""},{"$f":"IF(ISBLANK('Data Input'!A212),\"\",SUM('Data Input'!E212,'Data Input'!G212,'Data Input'!H212,'Data Input'!L212,'Data Input'!N212,'Data Input'!Q212,'Data Input'!R212,'Data Input'!T212,'Data Input'!U212,'Data Input'!V212,'Data Input'!X212,'Data Input'!Y212,'Data Input'!Z212,'Data Input'!AA212,'Data Input'!AC212,'Data Input'!AD212,'Data Input'!AF212,'Data Input'!AG212,'Data Input'!AH212,'Data Input'!AI212,'Data Input'!AJ212,'Data Input'!AK212,'Data Input'!AL212))","v":""},{"$f":"IF(L208=\"\",\"\",L208/COUNTIF('Data Input'!$C$8:$AQ$8,$L$2))","v":""},{"$f":"IF(ISBLANK('Data Input'!A212),\"\",SUM('Data Input'!K212,'Data Input'!AQ212))","v":""},{"$f":"IF(N208=\"\",\"\",N208/COUNTIF('Data Input'!$C$8:$AQ$8,$N$2))","v":""},{"$f":"IF(ISBLANK('Data Input'!A212),\"\",SUM('Data Input'!C212,'Data Input'!D212,'Data Input'!F212,'Data Input'!J212,'Data Input'!O212,'Data Input'!S212,'Data Input'!AM212,'Data Input'!AN212,'Data Input'!AO212,'Data Input'!AP212))","v":""},{"$f":"IF(P208=\"\",\"\",P208/COUNTIF('Data Input'!$C$8:$AQ$8,$P$2))","v":""},{"$f":"IF(ISBLANK('Data Input'!C212),\"\",SUM('Data Input'!P212))","v":""},{"$f":"IF(R208=\"\",\"\",R208/COUNTIF('Data Input'!$C$8:$AQ$8,$R$2))","v":""}]
[{"$f":"IF('Data Input'!A213=0,\"\",'Data Input'!A213)","v":""},{"$f":"IF(H209=\"\",\"\",IF(H209>Welcome!$K$23-1,\"Exceeding\",IF(H209>Welcome!$G$23-1,\"Expected\",IF(H209<Welcome!$G$23,\"Below\"))))","v":""},{"$f":"IF(ISBLANK('Data Input'!A213),\"\",COUNTIF('Data Input'!C213:AQ213,\"\")-1)","v":""},{"$f":"IF(ISBLANK('Data Input'!A213),\"\",COUNTIF('Data Input'!C213:AQ213,\"0\"))","v":""},{"$f":"IF(ISBLANK('Data Input'!A213),\"\",SUM(C209,D209))","v":""},{"$f":"IF(ISBLANK('Data Input'!A213),\"\",SUM('Data Input'!C213:V213))","v":""},{"$f":"IF(ISBLANK('Data Input'!A213),\"\",SUM('Data Input'!X213:AQ213))","v":""},{"$f":"IF(ISBLANK('Data Input'!A213),\"\",SUM('Data Input'!C213:AQ213))","v":""},{"$f":"IF(H209=\"\",\"\",H209/(COUNTA('Data Input'!$C$8:$AQ$8)-1))","v":""},{"$f":"IF(ISBLANK('Data Input'!A213),\"\",SUM('Data Input'!I213,'Data Input'!M213,'Data Input'!AB213,'Data Input'!AE213))","v":""},{"$f":"IF(J209=\"\",\"\",J209/COUNTIF('Data Input'!$C$8:$AQ$8,$J$2))","v":""},{"$f":"IF(ISBLANK('Data Input'!A213),\"\",SUM('Data Input'!E213,'Data Input'!G213,'Data Input'!H213,'Data Input'!L213,'Data Input'!N213,'Data Input'!Q213,'Data Input'!R213,'Data Input'!T213,'Data Input'!U213,'Data Input'!V213,'Data Input'!X213,'Data Input'!Y213,'Data Input'!Z213,'Data Input'!AA213,'Data Input'!AC213,'Data Input'!AD213,'Data Input'!AF213,'Data Input'!AG213,'Data Input'!AH213,'Data Input'!AI213,'Data Input'!AJ213,'Data Input'!AK213,'Data Input'!AL213))","v":""},{"$f":"IF(L209=\"\",\"\",L209/COUNTIF('Data Input'!$C$8:$AQ$8,$L$2))","v":""},{"$f":"IF(ISBLANK('Data Input'!A213),\"\",SUM('Data Input'!K213,'Data Input'!AQ213))","v":""},{"$f":"IF(N209=\"\",\"\",N209/COUNTIF('Data Input'!$C$8:$AQ$8,$N$2))","v":""},{"$f":"IF(ISBLANK('Data Input'!A213),\"\",SUM('Data Input'!C213,'Data Input'!D213,'Data Input'!F213,'Data Input'!J213,'Data Input'!O213,'Data Input'!S213,'Data Input'!AM213,'Data Input'!AN213,'Data Input'!AO213,'Data Input'!AP213))","v":""},{"$f":"IF(P209=\"\",\"\",P209/COUNTIF('Data Input'!$C$8:$AQ$8,$P$2))","v":""},{"$f":"IF(ISBLANK('Data Input'!C213),\"\",SUM('Data Input'!P213))","v":""},{"$f":"IF(R209=\"\",\"\",R209/COUNTIF('Data Input'!$C$8:$AQ$8,$R$2))","v":""}]
[{"$f":"IF('Data Input'!A214=0,\"\",'Data Input'!A214)","v":""},{"$f":"IF(H210=\"\",\"\",IF(H210>Welcome!$K$23-1,\"Exceeding\",IF(H210>Welcome!$G$23-1,\"Expected\",IF(H210<Welcome!$G$23,\"Below\"))))","v":""},{"$f":"IF(ISBLANK('Data Input'!A214),\"\",COUNTIF('Data Input'!C214:AQ214,\"\")-1)","v":""},{"$f":"IF(ISBLANK('Data Input'!A214),\"\",COUNTIF('Data Input'!C214:AQ214,\"0\"))","v":""},{"$f":"IF(ISBLANK('Data Input'!A214),\"\",SUM(C210,D210))","v":""},{"$f":"IF(ISBLANK('Data Input'!A214),\"\",SUM('Data Input'!C214:V214))","v":""},{"$f":"IF(ISBLANK('Data Input'!A214),\"\",SUM('Data Input'!X214:AQ214))","v":""},{"$f":"IF(ISBLANK('Data Input'!A214),\"\",SUM('Data Input'!C214:AQ214))","v":""},{"$f":"IF(H210=\"\",\"\",H210/(COUNTA('Data Input'!$C$8:$AQ$8)-1))","v":""},{"$f":"IF(ISBLANK('Data Input'!A214),\"\",SUM('Data Input'!I214,'Data Input'!M214,'Data Input'!AB214,'Data Input'!AE214))","v":""},{"$f":"IF(J210=\"\",\"\",J210/COUNTIF('Data Input'!$C$8:$AQ$8,$J$2))","v":""},{"$f":"IF(ISBLANK('Data Input'!A214),\"\",SUM('Data Input'!E214,'Data Input'!G214,'Data Input'!H214,'Data Input'!L214,'Data Input'!N214,'Data Input'!Q214,'Data Input'!R214,'Data Input'!T214,'Data Input'!U214,'Data Input'!V214,'Data Input'!X214,'Data Input'!Y214,'Data Input'!Z214,'Data Input'!AA214,'Data Input'!AC214,'Data Input'!AD214,'Data Input'!AF214,'Data Input'!AG214,'Data Input'!AH214,'Data Input'!AI214,'Data Input'!AJ214,'Data Input'!AK214,'Data Input'!AL214))","v":""},{"$f":"IF(L210=\"\",\"\",L210/COUNTIF('Data Input'!$C$8:$AQ$8,$L$2))","v":""},{"$f":"IF(ISBLANK('Data Input'!A214),\"\",SUM('Data Input'!K214,'Data Input'!AQ214))","v":""},{"$f":"IF(N210=\"\",\"\",N210/COUNTIF('Data Input'!$C$8:$AQ$8,$N$2))","v":""},{"$f":"IF(ISBLANK('Data Input'!A214),\"\",SUM('Data Input'!C214,'Data Input'!D214,'Data Input'!F214,'Data Input'!J214,'Data Input'!O214,'Data Input'!S214,'Data Input'!AM214,'Data Input'!AN214,'Data Input'!AO214,'Data Input'!AP214))","v":""},{"$f":"IF(P210=\"\",\"\",P210/COUNTIF('Data Input'!$C$8:$AQ$8,$P$2))","v":""},{"$f":"IF(ISBLANK('Data Input'!C214),\"\",SUM('Data Input'!P214))","v":""},{"$f":"IF(R210=\"\",\"\",R210/COUNTIF('Data Input'!$C$8:$AQ$8,$R$2))","v":""}]
[{"$f":"IF('Data Input'!A215=0,\"\",'Data Input'!A215)","v":""},{"$f":"IF(H211=\"\",\"\",IF(H211>Welcome!$K$23-1,\"Exceeding\",IF(H211>Welcome!$G$23-1,\"Expected\",IF(H211<Welcome!$G$23,\"Below\"))))","v":""},{"$f":"IF(ISBLANK('Data Input'!A215),\"\",COUNTIF('Data Input'!C215:AQ215,\"\")-1)","v":""},{"$f":"IF(ISBLANK('Data Input'!A215),\"\",COUNTIF('Data Input'!C215:AQ215,\"0\"))","v":""},{"$f":"IF(ISBLANK('Data Input'!A215),\"\",SUM(C211,D211))","v":""},{"$f":"IF(ISBLANK('Data Input'!A215),\"\",SUM('Data Input'!C215:V215))","v":""},{"$f":"IF(ISBLANK('Data Input'!A215),\"\",SUM('Data Input'!X215:AQ215))","v":""},{"$f":"IF(ISBLANK('Data Input'!A215),\"\",SUM('Data Input'!C215:AQ215))","v":""},{"$f":"IF(H211=\"\",\"\",H211/(COUNTA('Data Input'!$C$8:$AQ$8)-1))","v":""},{"$f":"IF(ISBLANK('Data Input'!A215),\"\",SUM('Data Input'!I215,'Data Input'!M215,'Data Input'!AB215,'Data Input'!AE215))","v":""},{"$f":"IF(J211=\"\",\"\",J211/COUNTIF('Data Input'!$C$8:$AQ$8,$J$2))","v":""},{"$f":"IF(ISBLANK('Data Input'!A215),\"\",SUM('Data Input'!E215,'Data Input'!G215,'Data Input'!H215,'Data Input'!L215,'Data Input'!N215,'Data Input'!Q215,'Data Input'!R215,'Data Input'!T215,'Data Input'!U215,'Data Input'!V215,'Data Input'!X215,'Data Input'!Y215,'Data Input'!Z215,'Data Input'!AA215,'Data Input'!AC215,'Data Input'!AD215,'Data Input'!AF215,'Data Input'!AG215,'Data Input'!AH215,'Data Input'!AI215,'Data Input'!AJ215,'Data Input'!AK215,'Data Input'!AL215))","v":""},{"$f":"IF(L211=\"\",\"\",L211/COUNTIF('Data Input'!$C$8:$AQ$8,$L$2))","v":""},{"$f":"IF(ISBLANK('Data Input'!A215),\"\",SUM('Data Input'!K215,'Data Input'!AQ215))","v":""},{"$f":"IF(N211=\"\",\"\",N211/COUNTIF('Data Input'!$C$8:$AQ$8,$N$2))","v":""},{"$f":"IF(ISBLANK('Data Input'!A215),\"\",SUM('Data Input'!C215,'Data Input'!D215,'Data Input'!F215,'Data Input'!J215,'Data Input'!O215,'Data Input'!S215,'Data Input'!AM215,'Data Input'!AN215,'Data Input'!AO215,'Data Input'!AP215))","v":""},{"$f":"IF(P211=\"\",\"\",P211/COUNTIF('Data Input'!$C$8:$AQ$8,$P$2))","v":""},{"$f":"IF(ISBLANK('Data Input'!C215),\"\",SUM('Data Input'!P215))","v":""},{"$f":"IF(R211=\"\",\"\",R211/COUNTIF('Data Input'!$C$8:$AQ$8,$R$2))","v":""}]
[{"$f":"IF('Data Input'!A216=0,\"\",'Data Input'!A216)","v":""},{"$f":"IF(H212=\"\",\"\",IF(H212>Welcome!$K$23-1,\"Exceeding\",IF(H212>Welcome!$G$23-1,\"Expected\",IF(H212<Welcome!$G$23,\"Below\"))))","v":""},{"$f":"IF(ISBLANK('Data Input'!A216),\"\",COUNTIF('Data Input'!C216:AQ216,\"\")-1)","v":""},{"$f":"IF(ISBLANK('Data Input'!A216),\"\",COUNTIF('Data Input'!C216:AQ216,\"0\"))","v":""},{"$f":"IF(ISBLANK('Data Input'!A216),\"\",SUM(C212,D212))","v":""},{"$f":"IF(ISBLANK('Data Input'!A216),\"\",SUM('Data Input'!C216:V216))","v":""},{"$f":"IF(ISBLANK('Data Input'!A216),\"\",SUM('Data Input'!X216:AQ216))","v":""},{"$f":"IF(ISBLANK('Data Input'!A216),\"\",SUM('Data Input'!C216:AQ216))","v":""},{"$f":"IF(H212=\"\",\"\",H212/(COUNTA('Data Input'!$C$8:$AQ$8)-1))","v":""},{"$f":"IF(ISBLANK('Data Input'!A216),\"\",SUM('Data Input'!I216,'Data Input'!M216,'Data Input'!AB216,'Data Input'!AE216))","v":""},{"$f":"IF(J212=\"\",\"\",J212/COUNTIF('Data Input'!$C$8:$AQ$8,$J$2))","v":""},{"$f":"IF(ISBLANK('Data Input'!A216),\"\",SUM('Data Input'!E216,'Data Input'!G216,'Data Input'!H216,'Data Input'!L216,'Data Input'!N216,'Data Input'!Q216,'Data Input'!R216,'Data Input'!T216,'Data Input'!U216,'Data Input'!V216,'Data Input'!X216,'Data Input'!Y216,'Data Input'!Z216,'Data Input'!AA216,'Data Input'!AC216,'Data Input'!AD216,'Data Input'!AF216,'Data Input'!AG216,'Data Input'!AH216,'Data Input'!AI216,'Data Input'!AJ216,'Data Input'!AK216,'Data Input'!AL216))","v":""},{"$f":"IF(L212=\"\",\"\",L212/COUNTIF('Data Input'!$C$8:$AQ$8,$L$2))","v":""},{"$f":"IF(ISBLANK('Data Input'!A216),\"\",SUM('Data Input'!K216,'Data Input'!AQ216))","v":""},{"$f":"IF(N212=\"\",\"\",N212/COUNTIF('Data Input'!$C$8:$AQ$8,$N$2))","v":""},{"$f":"IF(ISBLANK('Data Input'!A216),\"\",SUM('Data Input'!C216,'Data Input'!D216,'Data Input'!F216,'Data Input'!J216,'Data Input'!O216,'Data Input'!S216,'Data Input'!AM216,'Data Input'!AN216,'Data Input'!AO216,'Data Input'!AP216))","v":""},{"$f":"IF(P212=\"\",\"\",P212/COUNTIF('Data Input'!$C$8:$AQ$8,$P$2))","v":""},{"$f":"IF(ISBLANK('Data Input'!C216),\"\",SUM('Data Input'!P216))","v":""},{"$f":"IF(R212=\"\",\"\",R212/COUNTIF('Data Input'!$C$8:$AQ$8,$R$2))","v":""}]
[{"$f":"IF('Data Input'!A217=0,\"\",'Data Input'!A217)","v":""},{"$f":"IF(H213=\"\",\"\",IF(H213>Welcome!$K$23-1,\"Exceeding\",IF(H213>Welcome!$G$23-1,\"Expected\",IF(H213<Welcome!$G$23,\"Below\"))))","v":""},{"$f":"IF(ISBLANK('Data Input'!A217),\"\",COUNTIF('Data Input'!C217:AQ217,\"\")-1)","v":""},{"$f":"IF(ISBLANK('Data Input'!A217),\"\",COUNTIF('Data Input'!C217:AQ217,\"0\"))","v":""},{"$f":"IF(ISBLANK('Data Input'!A217),\"\",SUM(C213,D213))","v":""},{"$f":"IF(ISBLANK('Data Input'!A217),\"\",SUM('Data Input'!C217:V217))","v":""},{"$f":"IF(ISBLANK('Data Input'!A217),\"\",SUM('Data Input'!X217:AQ217))","v":""},{"$f":"IF(ISBLANK('Data Input'!A217),\"\",SUM('Data Input'!C217:AQ217))","v":""},{"$f":"IF(H213=\"\",\"\",H213/(COUNTA('Data Input'!$C$8:$AQ$8)-1))","v":""},{"$f":"IF(ISBLANK('Data Input'!A217),\"\",SUM('Data Input'!I217,'Data Input'!M217,'Data Input'!AB217,'Data Input'!AE217))","v":""},{"$f":"IF(J213=\"\",\"\",J213/COUNTIF('Data Input'!$C$8:$AQ$8,$J$2))","v":""},{"$f":"IF(ISBLANK('Data Input'!A217),\"\",SUM('Data Input'!E217,'Data Input'!G217,'Data Input'!H217,'Data Input'!L217,'Data Input'!N217,'Data Input'!Q217,'Data Input'!R217,'Data Input'!T217,'Data Input'!U217,'Data Input'!V217,'Data Input'!X217,'Data Input'!Y217,'Data Input'!Z217,'Data Input'!AA217,'Data Input'!AC217,'Data Input'!AD217,'Data Input'!AF217,'Data Input'!AG217,'Data Input'!AH217,'Data Input'!AI217,'Data Input'!AJ217,'Data Input'!AK217,'Data Input'!AL217))","v":""},{"$f":"IF(L213=\"\",\"\",L213/COUNTIF('Data Input'!$C$8:$AQ$8,$L$2))","v":""},{"$f":"IF(ISBLANK('Data Input'!A217),\"\",SUM('Data Input'!K217,'Data Input'!AQ217))","v":""},{"$f":"IF(N213=\"\",\"\",N213/COUNTIF('Data Input'!$C$8:$AQ$8,$N$2))","v":""},{"$f":"IF(ISBLANK('Data Input'!A217),\"\",SUM('Data Input'!C217,'Data Input'!D217,'Data Input'!F217,'Data Input'!J217,'Data Input'!O217,'Data Input'!S217,'Data Input'!AM217,'Data Input'!AN217,'Data Input'!AO217,'Data Input'!AP217))","v":""},{"$f":"IF(P213=\"\",\"\",P213/COUNTIF('Data Input'!$C$8:$AQ$8,$P$2))","v":""},{"$f":"IF(ISBLANK('Data Input'!C217),\"\",SUM('Data Input'!P217))","v":""},{"$f":"IF(R213=\"\",\"\",R213/COUNTIF('Data Input'!$C$8:$AQ$8,$R$2))","v":""}]
[{"$f":"IF('Data Input'!A218=0,\"\",'Data Input'!A218)","v":""},{"$f":"IF(H214=\"\",\"\",IF(H214>Welcome!$K$23-1,\"Exceeding\",IF(H214>Welcome!$G$23-1,\"Expected\",IF(H214<Welcome!$G$23,\"Below\"))))","v":""},{"$f":"IF(ISBLANK('Data Input'!A218),\"\",COUNTIF('Data Input'!C218:AQ218,\"\")-1)","v":""},{"$f":"IF(ISBLANK('Data Input'!A218),\"\",COUNTIF('Data Input'!C218:AQ218,\"0\"))","v":""},{"$f":"IF(ISBLANK('Data Input'!A218),\"\",SUM(C214,D214))","v":""},{"$f":"IF(ISBLANK('Data Input'!A218),\"\",SUM('Data Input'!C218:V218))","v":""},{"$f":"IF(ISBLANK('Data Input'!A218),\"\",SUM('Data Input'!X218:AQ218))","v":""},{"$f":"IF(ISBLANK('Data Input'!A218),\"\",SUM('Data Input'!C218:AQ218))","v":""},{"$f":"IF(H214=\"\",\"\",H214/(COUNTA('Data Input'!$C$8:$AQ$8)-1))","v":""},{"$f":"IF(ISBLANK('Data Input'!A218),\"\",SUM('Data Input'!I218,'Data Input'!M218,'Data Input'!AB218,'Data Input'!AE218))","v":""},{"$f":"IF(J214=\"\",\"\",J214/COUNTIF('Data Input'!$C$8:$AQ$8,$J$2))","v":""},{"$f":"IF(ISBLANK('Data Input'!A218),\"\",SUM('Data Input'!E218,'Data Input'!G218,'Data Input'!H218,'Data Input'!L218,'Data Input'!N218,'Data Input'!Q218,'Data Input'!R218,'Data Input'!T218,'Data Input'!U218,'Data Input'!V218,'Data Input'!X218,'Data Input'!Y218,'Data Input'!Z218,'Data Input'!AA218,'Data Input'!AC218,'Data Input'!AD218,'Data Input'!AF218,'Data Input'!AG218,'Data Input'!AH218,'Data Input'!AI218,'Data Input'!AJ218,'Data Input'!AK218,'Data Input'!AL218))","v":""},{"$f":"IF(L214=\"\",\"\",L214/COUNTIF('Data Input'!$C$8:$AQ$8,$L$2))","v":""},{"$f":"IF(ISBLANK('Data Input'!A218),\"\",SUM('Data Input'!K218,'Data Input'!AQ218))","v":""},{"$f":"IF(N214=\"\",\"\",N214/COUNTIF('Data Input'!$C$8:$AQ$8,$N$2))","v":""},{"$f":"IF(ISBLANK('Data Input'!A218),\"\",SUM('Data Input'!C218,'Data Input'!D218,'Data Input'!F218,'Data Input'!J218,'Data Input'!O218,'Data Input'!S218,'Data Input'!AM218,'Data Input'!AN218,'Data Input'!AO218,'Data Input'!AP218))","v":""},{"$f":"IF(P214=\"\",\"\",P214/COUNTIF('Data Input'!$C$8:$AQ$8,$P$2))","v":""},{"$f":"IF(ISBLANK('Data Input'!C218),\"\",SUM('Data Input'!P218))","v":""},{"$f":"IF(R214=\"\",\"\",R214/COUNTIF('Data Input'!$C$8:$AQ$8,$R$2))","v":""}]
[{"$f":"IF('Data Input'!A219=0,\"\",'Data Input'!A219)","v":""},{"$f":"IF(H215=\"\",\"\",IF(H215>Welcome!$K$23-1,\"Exceeding\",IF(H215>Welcome!$G$23-1,\"Expected\",IF(H215<Welcome!$G$23,\"Below\"))))","v":""},{"$f":"IF(ISBLANK('Data Input'!A219),\"\",COUNTIF('Data Input'!C219:AQ219,\"\")-1)","v":""},{"$f":"IF(ISBLANK('Data Input'!A219),\"\",COUNTIF('Data Input'!C219:AQ219,\"0\"))","v":""},{"$f":"IF(ISBLANK('Data Input'!A219),\"\",SUM(C215,D215))","v":""},{"$f":"IF(ISBLANK('Data Input'!A219),\"\",SUM('Data Input'!C219:V219))","v":""},{"$f":"IF(ISBLANK('Data Input'!A219),\"\",SUM('Data Input'!X219:AQ219))","v":""},{"$f":"IF(ISBLANK('Data Input'!A219),\"\",SUM('Data Input'!C219:AQ219))","v":""},{"$f":"IF(H215=\"\",\"\",H215/(COUNTA('Data Input'!$C$8:$AQ$8)-1))","v":""},{"$f":"IF(ISBLANK('Data Input'!A219),\"\",SUM('Data Input'!I219,'Data Input'!M219,'Data Input'!AB219,'Data Input'!AE219))","v":""},{"$f":"IF(J215=\"\",\"\",J215/COUNTIF('Data Input'!$C$8:$AQ$8,$J$2))","v":""},{"$f":"IF(ISBLANK('Data Input'!A219),\"\",SUM('Data Input'!E219,'Data Input'!G219,'Data Input'!H219,'Data Input'!L219,'Data Input'!N219,'Data Input'!Q219,'Data Input'!R219,'Data Input'!T219,'Data Input'!U219,'Data Input'!V219,'Data Input'!X219,'Data Input'!Y219,'Data Input'!Z219,'Data Input'!AA219,'Data Input'!AC219,'Data Input'!AD219,'Data Input'!AF219,'Data Input'!AG219,'Data Input'!AH219,'Data Input'!AI219,'Data Input'!AJ219,'Data Input'!AK219,'Data Input'!AL219))","v":""},{"$f":"IF(L215=\"\",\"\",L215/COUNTIF('Data Input'!$C$8:$AQ$8,$L$2))","v":""},{"$f":"IF(ISBLANK('Data Input'!A219),\"\",SUM('Data Input'!K219,'Data Input'!AQ219))","v":""},{"$f":"IF(N215=\"\",\"\",N215/COUNTIF('Data Input'!$C$8:$AQ$8,$N$2))","v":""},{"$f":"IF(ISBLANK('Data Input'!A219),\"\",SUM('Data Input'!C219,'Data Input'!D219,'Data Input'!F219,'Data Input'!J219,'Data Input'!O219,'Data Input'!S219,'Data Input'!AM219,'Data Input'!AN219,'Data Input'!AO219,'Data Input'!AP219))","v":""},{"$f":"IF(P215=\"\",\"\",P215/COUNTIF('Data Input'!$C$8:$AQ$8,$P$2))","v":""},{"$f":"IF(ISBLANK('Data Input'!C219),\"\",SUM('Data Input'!P219))","v":""},{"$f":"IF(R215=\"\",\"\",R215/COUNTIF('Data Input'!$C$8:$AQ$8,$R$2))","v":""}]
[{"$f":"IF('Data Input'!A220=0,\"\",'Data Input'!A220)","v":""},{"$f":"IF(H216=\"\",\"\",IF(H216>Welcome!$K$23-1,\"Exceeding\",IF(H216>Welcome!$G$23-1,\"Expected\",IF(H216<Welcome!$G$23,\"Below\"))))","v":""},{"$f":"IF(ISBLANK('Data Input'!A220),\"\",COUNTIF('Data Input'!C220:AQ220,\"\")-1)","v":""},{"$f":"IF(ISBLANK('Data Input'!A220),\"\",COUNTIF('Data Input'!C220:AQ220,\"0\"))","v":""},{"$f":"IF(ISBLANK('Data Input'!A220),\"\",SUM(C216,D216))","v":""},{"$f":"IF(ISBLANK('Data Input'!A220),\"\",SUM('Data Input'!C220:V220))","v":""},{"$f":"IF(ISBLANK('Data Input'!A220),\"\",SUM('Data Input'!X220:AQ220))","v":""},{"$f":"IF(ISBLANK('Data Input'!A220),\"\",SUM('Data Input'!C220:AQ220))","v":""},{"$f":"IF(H216=\"\",\"\",H216/(COUNTA('Data Input'!$C$8:$AQ$8)-1))","v":""},{"$f":"IF(ISBLANK('Data Input'!A220),\"\",SUM('Data Input'!I220,'Data Input'!M220,'Data Input'!AB220,'Data Input'!AE220))","v":""},{"$f":"IF(J216=\"\",\"\",J216/COUNTIF('Data Input'!$C$8:$AQ$8,$J$2))","v":""},{"$f":"IF(ISBLANK('Data Input'!A220),\"\",SUM('Data Input'!E220,'Data Input'!G220,'Data Input'!H220,'Data Input'!L220,'Data Input'!N220,'Data Input'!Q220,'Data Input'!R220,'Data Input'!T220,'Data Input'!U220,'Data Input'!V220,'Data Input'!X220,'Data Input'!Y220,'Data Input'!Z220,'Data Input'!AA220,'Data Input'!AC220,'Data Input'!AD220,'Data Input'!AF220,'Data Input'!AG220,'Data Input'!AH220,'Data Input'!AI220,'Data Input'!AJ220,'Data Input'!AK220,'Data Input'!AL220))","v":""},{"$f":"IF(L216=\"\",\"\",L216/COUNTIF('Data Input'!$C$8:$AQ$8,$L$2))","v":""},{"$f":"IF(ISBLANK('Data Input'!A220),\"\",SUM('Data Input'!K220,'Data Input'!AQ220))","v":""},{"$f":"IF(N216=\"\",\"\",N216/COUNTIF('Data Input'!$C$8:$AQ$8,$N$2))","v":""},{"$f":"IF(ISBLANK('Data Input'!A220),\"\",SUM('Data Input'!C220,'Data Input'!D220,'Data Input'!F220,'Data Input'!J220,'Data Input'!O220,'Data Input'!S220,'Data Input'!AM220,'Data Input'!AN220,'Data Input'!AO220,'Data Input'!AP220))","v":""},{"$f":"IF(P216=\"\",\"\",P216/COUNTIF('Data Input'!$C$8:$AQ$8,$P$2))","v":""},{"$f":"IF(ISBLANK('Data Input'!C220),\"\",SUM('Data Input'!P220))","v":""},{"$f":"IF(R216=\"\",\"\",R216/COUNTIF('Data Input'!$C$8:$AQ$8,$R$2))","v":""}]
[{"$f":"IF('Data Input'!A221=0,\"\",'Data Input'!A221)","v":""},{"$f":"IF(H217=\"\",\"\",IF(H217>Welcome!$K$23-1,\"Exceeding\",IF(H217>Welcome!$G$23-1,\"Expected\",IF(H217<Welcome!$G$23,\"Below\"))))","v":""},{"$f":"IF(ISBLANK('Data Input'!A221),\"\",COUNTIF('Data Input'!C221:AQ221,\"\")-1)","v":""},{"$f":"IF(ISBLANK('Data Input'!A221),\"\",COUNTIF('Data Input'!C221:AQ221,\"0\"))","v":""},{"$f":"IF(ISBLANK('Data Input'!A221),\"\",SUM(C217,D217))","v":""},{"$f":"IF(ISBLANK('Data Input'!A221),\"\",SUM('Data Input'!C221:V221))","v":""},{"$f":"IF(ISBLANK('Data Input'!A221),\"\",SUM('Data Input'!X221:AQ221))","v":""},{"$f":"IF(ISBLANK('Data Input'!A221),\"\",SUM('Data Input'!C221:AQ221))","v":""},{"$f":"IF(H217=\"\",\"\",H217/(COUNTA('Data Input'!$C$8:$AQ$8)-1))","v":""},{"$f":"IF(ISBLANK('Data Input'!A221),\"\",SUM('Data Input'!I221,'Data Input'!M221,'Data Input'!AB221,'Data Input'!AE221))","v":""},{"$f":"IF(J217=\"\",\"\",J217/COUNTIF('Data Input'!$C$8:$AQ$8,$J$2))","v":""},{"$f":"IF(ISBLANK('Data Input'!A221),\"\",SUM('Data Input'!E221,'Data Input'!G221,'Data Input'!H221,'Data Input'!L221,'Data Input'!N221,'Data Input'!Q221,'Data Input'!R221,'Data Input'!T221,'Data Input'!U221,'Data Input'!V221,'Data Input'!X221,'Data Input'!Y221,'Data Input'!Z221,'Data Input'!AA221,'Data Input'!AC221,'Data Input'!AD221,'Data Input'!AF221,'Data Input'!AG221,'Data Input'!AH221,'Data Input'!AI221,'Data Input'!AJ221,'Data Input'!AK221,'Data Input'!AL221))","v":""},{"$f":"IF(L217=\"\",\"\",L217/COUNTIF('Data Input'!$C$8:$AQ$8,$L$2))","v":""},{"$f":"IF(ISBLANK('Data Input'!A221),\"\",SUM('Data Input'!K221,'Data Input'!AQ221))","v":""},{"$f":"IF(N217=\"\",\"\",N217/COUNTIF('Data Input'!$C$8:$AQ$8,$N$2))","v":""},{"$f":"IF(ISBLANK('Data Input'!A221),\"\",SUM('Data Input'!C221,'Data Input'!D221,'Data Input'!F221,'Data Input'!J221,'Data Input'!O221,'Data Input'!S221,'Data Input'!AM221,'Data Input'!AN221,'Data Input'!AO221,'Data Input'!AP221))","v":""},{"$f":"IF(P217=\"\",\"\",P217/COUNTIF('Data Input'!$C$8:$AQ$8,$P$2))","v":""},{"$f":"IF(ISBLANK('Data Input'!C221),\"\",SUM('Data Input'!P221))","v":""},{"$f":"IF(R217=\"\",\"\",R217/COUNTIF('Data Input'!$C$8:$AQ$8,$R$2))","v":""}]
[{"$f":"IF('Data Input'!A222=0,\"\",'Data Input'!A222)","v":""},{"$f":"IF(H218=\"\",\"\",IF(H218>Welcome!$K$23-1,\"Exceeding\",IF(H218>Welcome!$G$23-1,\"Expected\",IF(H218<Welcome!$G$23,\"Below\"))))","v":""},{"$f":"IF(ISBLANK('Data Input'!A222),\"\",COUNTIF('Data Input'!C222:AQ222,\"\")-1)","v":""},{"$f":"IF(ISBLANK('Data Input'!A222),\"\",COUNTIF('Data Input'!C222:AQ222,\"0\"))","v":""},{"$f":"IF(ISBLANK('Data Input'!A222),\"\",SUM(C218,D218))","v":""},{"$f":"IF(ISBLANK('Data Input'!A222),\"\",SUM('Data Input'!C222:V222))","v":""},{"$f":"IF(ISBLANK('Data Input'!A222),\"\",SUM('Data Input'!X222:AQ222))","v":""},{"$f":"IF(ISBLANK('Data Input'!A222),\"\",SUM('Data Input'!C222:AQ222))","v":""},{"$f":"IF(H218=\"\",\"\",H218/(COUNTA('Data Input'!$C$8:$AQ$8)-1))","v":""},{"$f":"IF(ISBLANK('Data Input'!A222),\"\",SUM('Data Input'!I222,'Data Input'!M222,'Data Input'!AB222,'Data Input'!AE222))","v":""},{"$f":"IF(J218=\"\",\"\",J218/COUNTIF('Data Input'!$C$8:$AQ$8,$J$2))","v":""},{"$f":"IF(ISBLANK('Data Input'!A222),\"\",SUM('Data Input'!E222,'Data Input'!G222,'Data Input'!H222,'Data Input'!L222,'Data Input'!N222,'Data Input'!Q222,'Data Input'!R222,'Data Input'!T222,'Data Input'!U222,'Data Input'!V222,'Data Input'!X222,'Data Input'!Y222,'Data Input'!Z222,'Data Input'!AA222,'Data Input'!AC222,'Data Input'!AD222,'Data Input'!AF222,'Data Input'!AG222,'Data Input'!AH222,'Data Input'!AI222,'Data Input'!AJ222,'Data Input'!AK222,'Data Input'!AL222))","v":""},{"$f":"IF(L218=\"\",\"\",L218/COUNTIF('Data Input'!$C$8:$AQ$8,$L$2))","v":""},{"$f":"IF(ISBLANK('Data Input'!A222),\"\",SUM('Data Input'!K222,'Data Input'!AQ222))","v":""},{"$f":"IF(N218=\"\",\"\",N218/COUNTIF('Data Input'!$C$8:$AQ$8,$N$2))","v":""},{"$f":"IF(ISBLANK('Data Input'!A222),\"\",SUM('Data Input'!C222,'Data Input'!D222,'Data Input'!F222,'Data Input'!J222,'Data Input'!O222,'Data Input'!S222,'Data Input'!AM222,'Data Input'!AN222,'Data Input'!AO222,'Data Input'!AP222))","v":""},{"$f":"IF(P218=\"\",\"\",P218/COUNTIF('Data Input'!$C$8:$AQ$8,$P$2))","v":""},{"$f":"IF(ISBLANK('Data Input'!C222),\"\",SUM('Data Input'!P222))","v":""},{"$f":"IF(R218=\"\",\"\",R218/COUNTIF('Data Input'!$C$8:$AQ$8,$R$2))","v":""}]
[{"$f":"IF('Data Input'!A223=0,\"\",'Data Input'!A223)","v":""},{"$f":"IF(H219=\"\",\"\",IF(H219>Welcome!$K$23-1,\"Exceeding\",IF(H219>Welcome!$G$23-1,\"Expected\",IF(H219<Welcome!$G$23,\"Below\"))))","v":""},{"$f":"IF(ISBLANK('Data Input'!A223),\"\",COUNTIF('Data Input'!C223:AQ223,\"\")-1)","v":""},{"$f":"IF(ISBLANK('Data Input'!A223),\"\",COUNTIF('Data Input'!C223:AQ223,\"0\"))","v":""},{"$f":"IF(ISBLANK('Data Input'!A223),\"\",SUM(C219,D219))","v":""},{"$f":"IF(ISBLANK('Data Input'!A223),\"\",SUM('Data Input'!C223:V223))","v":""},{"$f":"IF(ISBLANK('Data Input'!A223),\"\",SUM('Data Input'!X223:AQ223))","v":""},{"$f":"IF(ISBLANK('Data Input'!A223),\"\",SUM('Data Input'!C223:AQ223))","v":""},{"$f":"IF(H219=\"\",\"\",H219/(COUNTA('Data Input'!$C$8:$AQ$8)-1))","v":""},{"$f":"IF(ISBLANK('Data Input'!A223),\"\",SUM('Data Input'!I223,'Data Input'!M223,'Data Input'!AB223,'Data Input'!AE223))","v":""},{"$f":"IF(J219=\"\",\"\",J219/COUNTIF('Data Input'!$C$8:$AQ$8,$J$2))","v":""},{"$f":"IF(ISBLANK('Data Input'!A223),\"\",SUM('Data Input'!E223,'Data Input'!G223,'Data Input'!H223,'Data Input'!L223,'Data Input'!N223,'Data Input'!Q223,'Data Input'!R223,'Data Input'!T223,'Data Input'!U223,'Data Input'!V223,'Data Input'!X223,'Data Input'!Y223,'Data Input'!Z223,'Data Input'!AA223,'Data Input'!AC223,'Data Input'!AD223,'Data Input'!AF223,'Data Input'!AG223,'Data Input'!AH223,'Data Input'!AI223,'Data Input'!AJ223,'Data Input'!AK223,'Data Input'!AL223))","v":""},{"$f":"IF(L219=\"\",\"\",L219/COUNTIF('Data Input'!$C$8:$AQ$8,$L$2))","v":""},{"$f":"IF(ISBLANK('Data Input'!A223),\"\",SUM('Data Input'!K223,'Data Input'!AQ223))","v":""},{"$f":"IF(N219=\"\",\"\",N219/COUNTIF('Data Input'!$C$8:$AQ$8,$N$2))","v":""},{"$f":"IF(ISBLANK('Data Input'!A223),\"\",SUM('Data Input'!C223,'Data Input'!D223,'Data Input'!F223,'Data Input'!J223,'Data Input'!O223,'Data Input'!S223,'Data Input'!AM223,'Data Input'!AN223,'Data Input'!AO223,'Data Input'!AP223))","v":""},{"$f":"IF(P219=\"\",\"\",P219/COUNTIF('Data Input'!$C$8:$AQ$8,$P$2))","v":""},{"$f":"IF(ISBLANK('Data Input'!C223),\"\",SUM('Data Input'!P223))","v":""},{"$f":"IF(R219=\"\",\"\",R219/COUNTIF('Data Input'!$C$8:$AQ$8,$R$2))","v":""}]
[{"$f":"IF('Data Input'!A224=0,\"\",'Data Input'!A224)","v":""},{"$f":"IF(H220=\"\",\"\",IF(H220>Welcome!$K$23-1,\"Exceeding\",IF(H220>Welcome!$G$23-1,\"Expected\",IF(H220<Welcome!$G$23,\"Below\"))))","v":""},{"$f":"IF(ISBLANK('Data Input'!A224),\"\",COUNTIF('Data Input'!C224:AQ224,\"\")-1)","v":""},{"$f":"IF(ISBLANK('Data Input'!A224),\"\",COUNTIF('Data Input'!C224:AQ224,\"0\"))","v":""},{"$f":"IF(ISBLANK('Data Input'!A224),\"\",SUM(C220,D220))","v":""},{"$f":"IF(ISBLANK('Data Input'!A224),\"\",SUM('Data Input'!C224:V224))","v":""},{"$f":"IF(ISBLANK('Data Input'!A224),\"\",SUM('Data Input'!X224:AQ224))","v":""},{"$f":"IF(ISBLANK('Data Input'!A224),\"\",SUM('Data Input'!C224:AQ224))","v":""},{"$f":"IF(H220=\"\",\"\",H220/(COUNTA('Data Input'!$C$8:$AQ$8)-1))","v":""},{"$f":"IF(ISBLANK('Data Input'!A224),\"\",SUM('Data Input'!I224,'Data Input'!M224,'Data Input'!AB224,'Data Input'!AE224))","v":""},{"$f":"IF(J220=\"\",\"\",J220/COUNTIF('Data Input'!$C$8:$AQ$8,$J$2))","v":""},{"$f":"IF(ISBLANK('Data Input'!A224),\"\",SUM('Data Input'!E224,'Data Input'!G224,'Data Input'!H224,'Data Input'!L224,'Data Input'!N224,'Data Input'!Q224,'Data Input'!R224,'Data Input'!T224,'Data Input'!U224,'Data Input'!V224,'Data Input'!X224,'Data Input'!Y224,'Data Input'!Z224,'Data Input'!AA224,'Data Input'!AC224,'Data Input'!AD224,'Data Input'!AF224,'Data Input'!AG224,'Data Input'!AH224,'Data Input'!AI224,'Data Input'!AJ224,'Data Input'!AK224,'Data Input'!AL224))","v":""},{"$f":"IF(L220=\"\",\"\",L220/COUNTIF('Data Input'!$C$8:$AQ$8,$L$2))","v":""},{"$f":"IF(ISBLANK('Data Input'!A224),\"\",SUM('Data Input'!K224,'Data Input'!AQ224))","v":""},{"$f":"IF(N220=\"\",\"\",N220/COUNTIF('Data Input'!$C$8:$AQ$8,$N$2))","v":""},{"$f":"IF(ISBLANK('Data Input'!A224),\"\",SUM('Data Input'!C224,'Data Input'!D224,'Data Input'!F224,'Data Input'!J224,'Data Input'!O224,'Data Input'!S224,'Data Input'!AM224,'Data Input'!AN224,'Data Input'!AO224,'Data Input'!AP224))","v":""},{"$f":"IF(P220=\"\",\"\",P220/COUNTIF('Data Input'!$C$8:$AQ$8,$P$2))","v":""},{"$f":"IF(ISBLANK('Data Input'!C224),\"\",SUM('Data Input'!P224))","v":""},{"$f":"IF(R220=\"\",\"\",R220/COUNTIF('Data Input'!$C$8:$AQ$8,$R$2))","v":""}]
[{"$f":"IF('Data Input'!A225=0,\"\",'Data Input'!A225)","v":""},{"$f":"IF(H221=\"\",\"\",IF(H221>Welcome!$K$23-1,\"Exceeding\",IF(H221>Welcome!$G$23-1,\"Expected\",IF(H221<Welcome!$G$23,\"Below\"))))","v":""},{"$f":"IF(ISBLANK('Data Input'!A225),\"\",COUNTIF('Data Input'!C225:AQ225,\"\")-1)","v":""},{"$f":"IF(ISBLANK('Data Input'!A225),\"\",COUNTIF('Data Input'!C225:AQ225,\"0\"))","v":""},{"$f":"IF(ISBLANK('Data Input'!A225),\"\",SUM(C221,D221))","v":""},{"$f":"IF(ISBLANK('Data Input'!A225),\"\",SUM('Data Input'!C225:V225))","v":""},{"$f":"IF(ISBLANK('Data Input'!A225),\"\",SUM('Data Input'!X225:AQ225))","v":""},{"$f":"IF(ISBLANK('Data Input'!A225),\"\",SUM('Data Input'!C225:AQ225))","v":""},{"$f":"IF(H221=\"\",\"\",H221/(COUNTA('Data Input'!$C$8:$AQ$8)-1))","v":""},{"$f":"IF(ISBLANK('Data Input'!A225),\"\",SUM('Data Input'!I225,'Data Input'!M225,'Data Input'!AB225,'Data Input'!AE225))","v":""},{"$f":"IF(J221=\"\",\"\",J221/COUNTIF('Data Input'!$C$8:$AQ$8,$J$2))","v":""},{"$f":"IF(ISBLANK('Data Input'!A225),\"\",SUM('Data Input'!E225,'Data Input'!G225,'Data Input'!H225,'Data Input'!L225,'Data Input'!N225,'Data Input'!Q225,'Data Input'!R225,'Data Input'!T225,'Data Input'!U225,'Data Input'!V225,'Data Input'!X225,'Data Input'!Y225,'Data Input'!Z225,'Data Input'!AA225,'Data Input'!AC225,'Data Input'!AD225,'Data Input'!AF225,'Data Input'!AG225,'Data Input'!AH225,'Data Input'!AI225,'Data Input'!AJ225,'Data Input'!AK225,'Data Input'!AL225))","v":""},{"$f":"IF(L221=\"\",\"\",L221/COUNTIF('Data Input'!$C$8:$AQ$8,$L$2))","v":""},{"$f":"IF(ISBLANK('Data Input'!A225),\"\",SUM('Data Input'!K225,'Data Input'!AQ225))","v":""},{"$f":"IF(N221=\"\",\"\",N221/COUNTIF('Data Input'!$C$8:$AQ$8,$N$2))","v":""},{"$f":"IF(ISBLANK('Data Input'!A225),\"\",SUM('Data Input'!C225,'Data Input'!D225,'Data Input'!F225,'Data Input'!J225,'Data Input'!O225,'Data Input'!S225,'Data Input'!AM225,'Data Input'!AN225,'Data Input'!AO225,'Data Input'!AP225))","v":""},{"$f":"IF(P221=\"\",\"\",P221/COUNTIF('Data Input'!$C$8:$AQ$8,$P$2))","v":""},{"$f":"IF(ISBLANK('Data Input'!C225),\"\",SUM('Data Input'!P225))","v":""},{"$f":"IF(R221=\"\",\"\",R221/COUNTIF('Data Input'!$C$8:$AQ$8,$R$2))","v":""}]
[{"$f":"IF('Data Input'!A226=0,\"\",'Data Input'!A226)","v":""},{"$f":"IF(H222=\"\",\"\",IF(H222>Welcome!$K$23-1,\"Exceeding\",IF(H222>Welcome!$G$23-1,\"Expected\",IF(H222<Welcome!$G$23,\"Below\"))))","v":""},{"$f":"IF(ISBLANK('Data Input'!A226),\"\",COUNTIF('Data Input'!C226:AQ226,\"\")-1)","v":""},{"$f":"IF(ISBLANK('Data Input'!A226),\"\",COUNTIF('Data Input'!C226:AQ226,\"0\"))","v":""},{"$f":"IF(ISBLANK('Data Input'!A226),\"\",SUM(C222,D222))","v":""},{"$f":"IF(ISBLANK('Data Input'!A226),\"\",SUM('Data Input'!C226:V226))","v":""},{"$f":"IF(ISBLANK('Data Input'!A226),\"\",SUM('Data Input'!X226:AQ226))","v":""},{"$f":"IF(ISBLANK('Data Input'!A226),\"\",SUM('Data Input'!C226:AQ226))","v":""},{"$f":"IF(H222=\"\",\"\",H222/(COUNTA('Data Input'!$C$8:$AQ$8)-1))","v":""},{"$f":"IF(ISBLANK('Data Input'!A226),\"\",SUM('Data Input'!I226,'Data Input'!M226,'Data Input'!AB226,'Data Input'!AE226))","v":""},{"$f":"IF(J222=\"\",\"\",J222/COUNTIF('Data Input'!$C$8:$AQ$8,$J$2))","v":""},{"$f":"IF(ISBLANK('Data Input'!A226),\"\",SUM('Data Input'!E226,'Data Input'!G226,'Data Input'!H226,'Data Input'!L226,'Data Input'!N226,'Data Input'!Q226,'Data Input'!R226,'Data Input'!T226,'Data Input'!U226,'Data Input'!V226,'Data Input'!X226,'Data Input'!Y226,'Data Input'!Z226,'Data Input'!AA226,'Data Input'!AC226,'Data Input'!AD226,'Data Input'!AF226,'Data Input'!AG226,'Data Input'!AH226,'Data Input'!AI226,'Data Input'!AJ226,'Data Input'!AK226,'Data Input'!AL226))","v":""},{"$f":"IF(L222=\"\",\"\",L222/COUNTIF('Data Input'!$C$8:$AQ$8,$L$2))","v":""},{"$f":"IF(ISBLANK('Data Input'!A226),\"\",SUM('Data Input'!K226,'Data Input'!AQ226))","v":""},{"$f":"IF(N222=\"\",\"\",N222/COUNTIF('Data Input'!$C$8:$AQ$8,$N$2))","v":""},{"$f":"IF(ISBLANK('Data Input'!A226),\"\",SUM('Data Input'!C226,'Data Input'!D226,'Data Input'!F226,'Data Input'!J226,'Data Input'!O226,'Data Input'!S226,'Data Input'!AM226,'Data Input'!AN226,'Data Input'!AO226,'Data Input'!AP226))","v":""},{"$f":"IF(P222=\"\",\"\",P222/COUNTIF('Data Input'!$C$8:$AQ$8,$P$2))","v":""},{"$f":"IF(ISBLANK('Data Input'!C226),\"\",SUM('Data Input'!P226))","v":""},{"$f":"IF(R222=\"\",\"\",R222/COUNTIF('Data Input'!$C$8:$AQ$8,$R$2))","v":""}]
[{"$f":"IF('Data Input'!A227=0,\"\",'Data Input'!A227)","v":""},{"$f":"IF(H223=\"\",\"\",IF(H223>Welcome!$K$23-1,\"Exceeding\",IF(H223>Welcome!$G$23-1,\"Expected\",IF(H223<Welcome!$G$23,\"Below\"))))","v":""},{"$f":"IF(ISBLANK('Data Input'!A227),\"\",COUNTIF('Data Input'!C227:AQ227,\"\")-1)","v":""},{"$f":"IF(ISBLANK('Data Input'!A227),\"\",COUNTIF('Data Input'!C227:AQ227,\"0\"))","v":""},{"$f":"IF(ISBLANK('Data Input'!A227),\"\",SUM(C223,D223))","v":""},{"$f":"IF(ISBLANK('Data Input'!A227),\"\",SUM('Data Input'!C227:V227))","v":""},{"$f":"IF(ISBLANK('Data Input'!A227),\"\",SUM('Data Input'!X227:AQ227))","v":""},{"$f":"IF(ISBLANK('Data Input'!A227),\"\",SUM('Data Input'!C227:AQ227))","v":""},{"$f":"IF(H223=\"\",\"\",H223/(COUNTA('Data Input'!$C$8:$AQ$8)-1))","v":""},{"$f":"IF(ISBLANK('Data Input'!A227),\"\",SUM('Data Input'!I227,'Data Input'!M227,'Data Input'!AB227,'Data Input'!AE227))","v":""},{"$f":"IF(J223=\"\",\"\",J223/COUNTIF('Data Input'!$C$8:$AQ$8,$J$2))","v":""},{"$f":"IF(ISBLANK('Data Input'!A227),\"\",SUM('Data Input'!E227,'Data Input'!G227,'Data Input'!H227,'Data Input'!L227,'Data Input'!N227,'Data Input'!Q227,'Data Input'!R227,'Data Input'!T227,'Data Input'!U227,'Data Input'!V227,'Data Input'!X227,'Data Input'!Y227,'Data Input'!Z227,'Data Input'!AA227,'Data Input'!AC227,'Data Input'!AD227,'Data Input'!AF227,'Data Input'!AG227,'Data Input'!AH227,'Data Input'!AI227,'Data Input'!AJ227,'Data Input'!AK227,'Data Input'!AL227))","v":""},{"$f":"IF(L223=\"\",\"\",L223/COUNTIF('Data Input'!$C$8:$AQ$8,$L$2))","v":""},{"$f":"IF(ISBLANK('Data Input'!A227),\"\",SUM('Data Input'!K227,'Data Input'!AQ227))","v":""},{"$f":"IF(N223=\"\",\"\",N223/COUNTIF('Data Input'!$C$8:$AQ$8,$N$2))","v":""},{"$f":"IF(ISBLANK('Data Input'!A227),\"\",SUM('Data Input'!C227,'Data Input'!D227,'Data Input'!F227,'Data Input'!J227,'Data Input'!O227,'Data Input'!S227,'Data Input'!AM227,'Data Input'!AN227,'Data Input'!AO227,'Data Input'!AP227))","v":""},{"$f":"IF(P223=\"\",\"\",P223/COUNTIF('Data Input'!$C$8:$AQ$8,$P$2))","v":""},{"$f":"IF(ISBLANK('Data Input'!C227),\"\",SUM('Data Input'!P227))","v":""},{"$f":"IF(R223=\"\",\"\",R223/COUNTIF('Data Input'!$C$8:$AQ$8,$R$2))","v":""}]
[{"$f":"IF('Data Input'!A228=0,\"\",'Data Input'!A228)","v":""},{"$f":"IF(H224=\"\",\"\",IF(H224>Welcome!$K$23-1,\"Exceeding\",IF(H224>Welcome!$G$23-1,\"Expected\",IF(H224<Welcome!$G$23,\"Below\"))))","v":""},{"$f":"IF(ISBLANK('Data Input'!A228),\"\",COUNTIF('Data Input'!C228:AQ228,\"\")-1)","v":""},{"$f":"IF(ISBLANK('Data Input'!A228),\"\",COUNTIF('Data Input'!C228:AQ228,\"0\"))","v":""},{"$f":"IF(ISBLANK('Data Input'!A228),\"\",SUM(C224,D224))","v":""},{"$f":"IF(ISBLANK('Data Input'!A228),\"\",SUM('Data Input'!C228:V228))","v":""},{"$f":"IF(ISBLANK('Data Input'!A228),\"\",SUM('Data Input'!X228:AQ228))","v":""},{"$f":"IF(ISBLANK('Data Input'!A228),\"\",SUM('Data Input'!C228:AQ228))","v":""},{"$f":"IF(H224=\"\",\"\",H224/(COUNTA('Data Input'!$C$8:$AQ$8)-1))","v":""},{"$f":"IF(ISBLANK('Data Input'!A228),\"\",SUM('Data Input'!I228,'Data Input'!M228,'Data Input'!AB228,'Data Input'!AE228))","v":""},{"$f":"IF(J224=\"\",\"\",J224/COUNTIF('Data Input'!$C$8:$AQ$8,$J$2))","v":""},{"$f":"IF(ISBLANK('Data Input'!A228),\"\",SUM('Data Input'!E228,'Data Input'!G228,'Data Input'!H228,'Data Input'!L228,'Data Input'!N228,'Data Input'!Q228,'Data Input'!R228,'Data Input'!T228,'Data Input'!U228,'Data Input'!V228,'Data Input'!X228,'Data Input'!Y228,'Data Input'!Z228,'Data Input'!AA228,'Data Input'!AC228,'Data Input'!AD228,'Data Input'!AF228,'Data Input'!AG228,'Data Input'!AH228,'Data Input'!AI228,'Data Input'!AJ228,'Data Input'!AK228,'Data Input'!AL228))","v":""},{"$f":"IF(L224=\"\",\"\",L224/COUNTIF('Data Input'!$C$8:$AQ$8,$L$2))","v":""},{"$f":"IF(ISBLANK('Data Input'!A228),\"\",SUM('Data Input'!K228,'Data Input'!AQ228))","v":""},{"$f":"IF(N224=\"\",\"\",N224/COUNTIF('Data Input'!$C$8:$AQ$8,$N$2))","v":""},{"$f":"IF(ISBLANK('Data Input'!A228),\"\",SUM('Data Input'!C228,'Data Input'!D228,'Data Input'!F228,'Data Input'!J228,'Data Input'!O228,'Data Input'!S228,'Data Input'!AM228,'Data Input'!AN228,'Data Input'!AO228,'Data Input'!AP228))","v":""},{"$f":"IF(P224=\"\",\"\",P224/COUNTIF('Data Input'!$C$8:$AQ$8,$P$2))","v":""},{"$f":"IF(ISBLANK('Data Input'!C228),\"\",SUM('Data Input'!P228))","v":""},{"$f":"IF(R224=\"\",\"\",R224/COUNTIF('Data Input'!$C$8:$AQ$8,$R$2))","v":""}]
[{"$f":"IF('Data Input'!A229=0,\"\",'Data Input'!A229)","v":""},{"$f":"IF(H225=\"\",\"\",IF(H225>Welcome!$K$23-1,\"Exceeding\",IF(H225>Welcome!$G$23-1,\"Expected\",IF(H225<Welcome!$G$23,\"Below\"))))","v":""},{"$f":"IF(ISBLANK('Data Input'!A229),\"\",COUNTIF('Data Input'!C229:AQ229,\"\")-1)","v":""},{"$f":"IF(ISBLANK('Data Input'!A229),\"\",COUNTIF('Data Input'!C229:AQ229,\"0\"))","v":""},{"$f":"IF(ISBLANK('Data Input'!A229),\"\",SUM(C225,D225))","v":""},{"$f":"IF(ISBLANK('Data Input'!A229),\"\",SUM('Data Input'!C229:V229))","v":""},{"$f":"IF(ISBLANK('Data Input'!A229),\"\",SUM('Data Input'!X229:AQ229))","v":""},{"$f":"IF(ISBLANK('Data Input'!A229),\"\",SUM('Data Input'!C229:AQ229))","v":""},{"$f":"IF(H225=\"\",\"\",H225/(COUNTA('Data Input'!$C$8:$AQ$8)-1))","v":""},{"$f":"IF(ISBLANK('Data Input'!A229),\"\",SUM('Data Input'!I229,'Data Input'!M229,'Data Input'!AB229,'Data Input'!AE229))","v":""},{"$f":"IF(J225=\"\",\"\",J225/COUNTIF('Data Input'!$C$8:$AQ$8,$J$2))","v":""},{"$f":"IF(ISBLANK('Data Input'!A229),\"\",SUM('Data Input'!E229,'Data Input'!G229,'Data Input'!H229,'Data Input'!L229,'Data Input'!N229,'Data Input'!Q229,'Data Input'!R229,'Data Input'!T229,'Data Input'!U229,'Data Input'!V229,'Data Input'!X229,'Data Input'!Y229,'Data Input'!Z229,'Data Input'!AA229,'Data Input'!AC229,'Data Input'!AD229,'Data Input'!AF229,'Data Input'!AG229,'Data Input'!AH229,'Data Input'!AI229,'Data Input'!AJ229,'Data Input'!AK229,'Data Input'!AL229))","v":""},{"$f":"IF(L225=\"\",\"\",L225/COUNTIF('Data Input'!$C$8:$AQ$8,$L$2))","v":""},{"$f":"IF(ISBLANK('Data Input'!A229),\"\",SUM('Data Input'!K229,'Data Input'!AQ229))","v":""},{"$f":"IF(N225=\"\",\"\",N225/COUNTIF('Data Input'!$C$8:$AQ$8,$N$2))","v":""},{"$f":"IF(ISBLANK('Data Input'!A229),\"\",SUM('Data Input'!C229,'Data Input'!D229,'Data Input'!F229,'Data Input'!J229,'Data Input'!O229,'Data Input'!S229,'Data Input'!AM229,'Data Input'!AN229,'Data Input'!AO229,'Data Input'!AP229))","v":""},{"$f":"IF(P225=\"\",\"\",P225/COUNTIF('Data Input'!$C$8:$AQ$8,$P$2))","v":""},{"$f":"IF(ISBLANK('Data Input'!C229),\"\",SUM('Data Input'!P229))","v":""},{"$f":"IF(R225=\"\",\"\",R225/COUNTIF('Data Input'!$C$8:$AQ$8,$R$2))","v":""}]
[{"$f":"IF('Data Input'!A230=0,\"\",'Data Input'!A230)","v":""},{"$f":"IF(H226=\"\",\"\",IF(H226>Welcome!$K$23-1,\"Exceeding\",IF(H226>Welcome!$G$23-1,\"Expected\",IF(H226<Welcome!$G$23,\"Below\"))))","v":""},{"$f":"IF(ISBLANK('Data Input'!A230),\"\",COUNTIF('Data Input'!C230:AQ230,\"\")-1)","v":""},{"$f":"IF(ISBLANK('Data Input'!A230),\"\",COUNTIF('Data Input'!C230:AQ230,\"0\"))","v":""},{"$f":"IF(ISBLANK('Data Input'!A230),\"\",SUM(C226,D226))","v":""},{"$f":"IF(ISBLANK('Data Input'!A230),\"\",SUM('Data Input'!C230:V230))","v":""},{"$f":"IF(ISBLANK('Data Input'!A230),\"\",SUM('Data Input'!X230:AQ230))","v":""},{"$f":"IF(ISBLANK('Data Input'!A230),\"\",SUM('Data Input'!C230:AQ230))","v":""},{"$f":"IF(H226=\"\",\"\",H226/(COUNTA('Data Input'!$C$8:$AQ$8)-1))","v":""},{"$f":"IF(ISBLANK('Data Input'!A230),\"\",SUM('Data Input'!I230,'Data Input'!M230,'Data Input'!AB230,'Data Input'!AE230))","v":""},{"$f":"IF(J226=\"\",\"\",J226/COUNTIF('Data Input'!$C$8:$AQ$8,$J$2))","v":""},{"$f":"IF(ISBLANK('Data Input'!A230),\"\",SUM('Data Input'!E230,'Data Input'!G230,'Data Input'!H230,'Data Input'!L230,'Data Input'!N230,'Data Input'!Q230,'Data Input'!R230,'Data Input'!T230,'Data Input'!U230,'Data Input'!V230,'Data Input'!X230,'Data Input'!Y230,'Data Input'!Z230,'Data Input'!AA230,'Data Input'!AC230,'Data Input'!AD230,'Data Input'!AF230,'Data Input'!AG230,'Data Input'!AH230,'Data Input'!AI230,'Data Input'!AJ230,'Data Input'!AK230,'Data Input'!AL230))","v":""},{"$f":"IF(L226=\"\",\"\",L226/COUNTIF('Data Input'!$C$8:$AQ$8,$L$2))","v":""},{"$f":"IF(ISBLANK('Data Input'!A230),\"\",SUM('Data Input'!K230,'Data Input'!AQ230))","v":""},{"$f":"IF(N226=\"\",\"\",N226/COUNTIF('Data Input'!$C$8:$AQ$8,$N$2))","v":""},{"$f":"IF(ISBLANK('Data Input'!A230),\"\",SUM('Data Input'!C230,'Data Input'!D230,'Data Input'!F230,'Data Input'!J230,'Data Input'!O230,'Data Input'!S230,'Data Input'!AM230,'Data Input'!AN230,'Data Input'!AO230,'Data Input'!AP230))","v":""},{"$f":"IF(P226=\"\",\"\",P226/COUNTIF('Data Input'!$C$8:$AQ$8,$P$2))","v":""},{"$f":"IF(ISBLANK('Data Input'!C230),\"\",SUM('Data Input'!P230))","v":""},{"$f":"IF(R226=\"\",\"\",R226/COUNTIF('Data Input'!$C$8:$AQ$8,$R$2))","v":""}]
[{"$f":"IF('Data Input'!A231=0,\"\",'Data Input'!A231)","v":""},{"$f":"IF(H227=\"\",\"\",IF(H227>Welcome!$K$23-1,\"Exceeding\",IF(H227>Welcome!$G$23-1,\"Expected\",IF(H227<Welcome!$G$23,\"Below\"))))","v":""},{"$f":"IF(ISBLANK('Data Input'!A231),\"\",COUNTIF('Data Input'!C231:AQ231,\"\")-1)","v":""},{"$f":"IF(ISBLANK('Data Input'!A231),\"\",COUNTIF('Data Input'!C231:AQ231,\"0\"))","v":""},{"$f":"IF(ISBLANK('Data Input'!A231),\"\",SUM(C227,D227))","v":""},{"$f":"IF(ISBLANK('Data Input'!A231),\"\",SUM('Data Input'!C231:V231))","v":""},{"$f":"IF(ISBLANK('Data Input'!A231),\"\",SUM('Data Input'!X231:AQ231))","v":""},{"$f":"IF(ISBLANK('Data Input'!A231),\"\",SUM('Data Input'!C231:AQ231))","v":""},{"$f":"IF(H227=\"\",\"\",H227/(COUNTA('Data Input'!$C$8:$AQ$8)-1))","v":""},{"$f":"IF(ISBLANK('Data Input'!A231),\"\",SUM('Data Input'!I231,'Data Input'!M231,'Data Input'!AB231,'Data Input'!AE231))","v":""},{"$f":"IF(J227=\"\",\"\",J227/COUNTIF('Data Input'!$C$8:$AQ$8,$J$2))","v":""},{"$f":"IF(ISBLANK('Data Input'!A231),\"\",SUM('Data Input'!E231,'Data Input'!G231,'Data Input'!H231,'Data Input'!L231,'Data Input'!N231,'Data Input'!Q231,'Data Input'!R231,'Data Input'!T231,'Data Input'!U231,'Data Input'!V231,'Data Input'!X231,'Data Input'!Y231,'Data Input'!Z231,'Data Input'!AA231,'Data Input'!AC231,'Data Input'!AD231,'Data Input'!AF231,'Data Input'!AG231,'Data Input'!AH231,'Data Input'!AI231,'Data Input'!AJ231,'Data Input'!AK231,'Data Input'!AL231))","v":""},{"$f":"IF(L227=\"\",\"\",L227/COUNTIF('Data Input'!$C$8:$AQ$8,$L$2))","v":""},{"$f":"IF(ISBLANK('Data Input'!A231),\"\",SUM('Data Input'!K231,'Data Input'!AQ231))","v":""},{"$f":"IF(N227=\"\",\"\",N227/COUNTIF('Data Input'!$C$8:$AQ$8,$N$2))","v":""},{"$f":"IF(ISBLANK('Data Input'!A231),\"\",SUM('Data Input'!C231,'Data Input'!D231,'Data Input'!F231,'Data Input'!J231,'Data Input'!O231,'Data Input'!S231,'Data Input'!AM231,'Data Input'!AN231,'Data Input'!AO231,'Data Input'!AP231))","v":""},{"$f":"IF(P227=\"\",\"\",P227/COUNTIF('Data Input'!$C$8:$AQ$8,$P$2))","v":""},{"$f":"IF(ISBLANK('Data Input'!C231),\"\",SUM('Data Input'!P231))","v":""},{"$f":"IF(R227=\"\",\"\",R227/COUNTIF('Data Input'!$C$8:$AQ$8,$R$2))","v":""}]
[{"$f":"IF('Data Input'!A232=0,\"\",'Data Input'!A232)","v":""},{"$f":"IF(H228=\"\",\"\",IF(H228>Welcome!$K$23-1,\"Exceeding\",IF(H228>Welcome!$G$23-1,\"Expected\",IF(H228<Welcome!$G$23,\"Below\"))))","v":""},{"$f":"IF(ISBLANK('Data Input'!A232),\"\",COUNTIF('Data Input'!C232:AQ232,\"\")-1)","v":""},{"$f":"IF(ISBLANK('Data Input'!A232),\"\",COUNTIF('Data Input'!C232:AQ232,\"0\"))","v":""},{"$f":"IF(ISBLANK('Data Input'!A232),\"\",SUM(C228,D228))","v":""},{"$f":"IF(ISBLANK('Data Input'!A232),\"\",SUM('Data Input'!C232:V232))","v":""},{"$f":"IF(ISBLANK('Data Input'!A232),\"\",SUM('Data Input'!X232:AQ232))","v":""},{"$f":"IF(ISBLANK('Data Input'!A232),\"\",SUM('Data Input'!C232:AQ232))","v":""},{"$f":"IF(H228=\"\",\"\",H228/(COUNTA('Data Input'!$C$8:$AQ$8)-1))","v":""},{"$f":"IF(ISBLANK('Data Input'!A232),\"\",SUM('Data Input'!I232,'Data Input'!M232,'Data Input'!AB232,'Data Input'!AE232))","v":""},{"$f":"IF(J228=\"\",\"\",J228/COUNTIF('Data Input'!$C$8:$AQ$8,$J$2))","v":""},{"$f":"IF(ISBLANK('Data Input'!A232),\"\",SUM('Data Input'!E232,'Data Input'!G232,'Data Input'!H232,'Data Input'!L232,'Data Input'!N232,'Data Input'!Q232,'Data Input'!R232,'Data Input'!T232,'Data Input'!U232,'Data Input'!V232,'Data Input'!X232,'Data Input'!Y232,'Data Input'!Z232,'Data Input'!AA232,'Data Input'!AC232,'Data Input'!AD232,'Data Input'!AF232,'Data Input'!AG232,'Data Input'!AH232,'Data Input'!AI232,'Data Input'!AJ232,'Data Input'!AK232,'Data Input'!AL232))","v":""},{"$f":"IF(L228=\"\",\"\",L228/COUNTIF('Data Input'!$C$8:$AQ$8,$L$2))","v":""},{"$f":"IF(ISBLANK('Data Input'!A232),\"\",SUM('Data Input'!K232,'Data Input'!AQ232))","v":""},{"$f":"IF(N228=\"\",\"\",N228/COUNTIF('Data Input'!$C$8:$AQ$8,$N$2))","v":""},{"$f":"IF(ISBLANK('Data Input'!A232),\"\",SUM('Data Input'!C232,'Data Input'!D232,'Data Input'!F232,'Data Input'!J232,'Data Input'!O232,'Data Input'!S232,'Data Input'!AM232,'Data Input'!AN232,'Data Input'!AO232,'Data Input'!AP232))","v":""},{"$f":"IF(P228=\"\",\"\",P228/COUNTIF('Data Input'!$C$8:$AQ$8,$P$2))","v":""},{"$f":"IF(ISBLANK('Data Input'!C232),\"\",SUM('Data Input'!P232))","v":""},{"$f":"IF(R228=\"\",\"\",R228/COUNTIF('Data Input'!$C$8:$AQ$8,$R$2))","v":""}]
[{"$f":"IF('Data Input'!A233=0,\"\",'Data Input'!A233)","v":""},{"$f":"IF(H229=\"\",\"\",IF(H229>Welcome!$K$23-1,\"Exceeding\",IF(H229>Welcome!$G$23-1,\"Expected\",IF(H229<Welcome!$G$23,\"Below\"))))","v":""},{"$f":"IF(ISBLANK('Data Input'!A233),\"\",COUNTIF('Data Input'!C233:AQ233,\"\")-1)","v":""},{"$f":"IF(ISBLANK('Data Input'!A233),\"\",COUNTIF('Data Input'!C233:AQ233,\"0\"))","v":""},{"$f":"IF(ISBLANK('Data Input'!A233),\"\",SUM(C229,D229))","v":""},{"$f":"IF(ISBLANK('Data Input'!A233),\"\",SUM('Data Input'!C233:V233))","v":""},{"$f":"IF(ISBLANK('Data Input'!A233),\"\",SUM('Data Input'!X233:AQ233))","v":""},{"$f":"IF(ISBLANK('Data Input'!A233),\"\",SUM('Data Input'!C233:AQ233))","v":""},{"$f":"IF(H229=\"\",\"\",H229/(COUNTA('Data Input'!$C$8:$AQ$8)-1))","v":""},{"$f":"IF(ISBLANK('Data Input'!A233),\"\",SUM('Data Input'!I233,'Data Input'!M233,'Data Input'!AB233,'Data Input'!AE233))","v":""},{"$f":"IF(J229=\"\",\"\",J229/COUNTIF('Data Input'!$C$8:$AQ$8,$J$2))","v":""},{"$f":"IF(ISBLANK('Data Input'!A233),\"\",SUM('Data Input'!E233,'Data Input'!G233,'Data Input'!H233,'Data Input'!L233,'Data Input'!N233,'Data Input'!Q233,'Data Input'!R233,'Data Input'!T233,'Data Input'!U233,'Data Input'!V233,'Data Input'!X233,'Data Input'!Y233,'Data Input'!Z233,'Data Input'!AA233,'Data Input'!AC233,'Data Input'!AD233,'Data Input'!AF233,'Data Input'!AG233,'Data Input'!AH233,'Data Input'!AI233,'Data Input'!AJ233,'Data Input'!AK233,'Data Input'!AL233))","v":""},{"$f":"IF(L229=\"\",\"\",L229/COUNTIF('Data Input'!$C$8:$AQ$8,$L$2))","v":""},{"$f":"IF(ISBLANK('Data Input'!A233),\"\",SUM('Data Input'!K233,'Data Input'!AQ233))","v":""},{"$f":"IF(N229=\"\",\"\",N229/COUNTIF('Data Input'!$C$8:$AQ$8,$N$2))","v":""},{"$f":"IF(ISBLANK('Data Input'!A233),\"\",SUM('Data Input'!C233,'Data Input'!D233,'Data Input'!F233,'Data Input'!J233,'Data Input'!O233,'Data Input'!S233,'Data Input'!AM233,'Data Input'!AN233,'Data Input'!AO233,'Data Input'!AP233))","v":""},{"$f":"IF(P229=\"\",\"\",P229/COUNTIF('Data Input'!$C$8:$AQ$8,$P$2))","v":""},{"$f":"IF(ISBLANK('Data Input'!C233),\"\",SUM('Data Input'!P233))","v":""},{"$f":"IF(R229=\"\",\"\",R229/COUNTIF('Data Input'!$C$8:$AQ$8,$R$2))","v":""}]
[{"$f":"IF('Data Input'!A234=0,\"\",'Data Input'!A234)","v":""},{"$f":"IF(H230=\"\",\"\",IF(H230>Welcome!$K$23-1,\"Exceeding\",IF(H230>Welcome!$G$23-1,\"Expected\",IF(H230<Welcome!$G$23,\"Below\"))))","v":""},{"$f":"IF(ISBLANK('Data Input'!A234),\"\",COUNTIF('Data Input'!C234:AQ234,\"\")-1)","v":""},{"$f":"IF(ISBLANK('Data Input'!A234),\"\",COUNTIF('Data Input'!C234:AQ234,\"0\"))","v":""},{"$f":"IF(ISBLANK('Data Input'!A234),\"\",SUM(C230,D230))","v":""},{"$f":"IF(ISBLANK('Data Input'!A234),\"\",SUM('Data Input'!C234:V234))","v":""},{"$f":"IF(ISBLANK('Data Input'!A234),\"\",SUM('Data Input'!X234:AQ234))","v":""},{"$f":"IF(ISBLANK('Data Input'!A234),\"\",SUM('Data Input'!C234:AQ234))","v":""},{"$f":"IF(H230=\"\",\"\",H230/(COUNTA('Data Input'!$C$8:$AQ$8)-1))","v":""},{"$f":"IF(ISBLANK('Data Input'!A234),\"\",SUM('Data Input'!I234,'Data Input'!M234,'Data Input'!AB234,'Data Input'!AE234))","v":""},{"$f":"IF(J230=\"\",\"\",J230/COUNTIF('Data Input'!$C$8:$AQ$8,$J$2))","v":""},{"$f":"IF(ISBLANK('Data Input'!A234),\"\",SUM('Data Input'!E234,'Data Input'!G234,'Data Input'!H234,'Data Input'!L234,'Data Input'!N234,'Data Input'!Q234,'Data Input'!R234,'Data Input'!T234,'Data Input'!U234,'Data Input'!V234,'Data Input'!X234,'Data Input'!Y234,'Data Input'!Z234,'Data Input'!AA234,'Data Input'!AC234,'Data Input'!AD234,'Data Input'!AF234,'Data Input'!AG234,'Data Input'!AH234,'Data Input'!AI234,'Data Input'!AJ234,'Data Input'!AK234,'Data Input'!AL234))","v":""},{"$f":"IF(L230=\"\",\"\",L230/COUNTIF('Data Input'!$C$8:$AQ$8,$L$2))","v":""},{"$f":"IF(ISBLANK('Data Input'!A234),\"\",SUM('Data Input'!K234,'Data Input'!AQ234))","v":""},{"$f":"IF(N230=\"\",\"\",N230/COUNTIF('Data Input'!$C$8:$AQ$8,$N$2))","v":""},{"$f":"IF(ISBLANK('Data Input'!A234),\"\",SUM('Data Input'!C234,'Data Input'!D234,'Data Input'!F234,'Data Input'!J234,'Data Input'!O234,'Data Input'!S234,'Data Input'!AM234,'Data Input'!AN234,'Data Input'!AO234,'Data Input'!AP234))","v":""},{"$f":"IF(P230=\"\",\"\",P230/COUNTIF('Data Input'!$C$8:$AQ$8,$P$2))","v":""},{"$f":"IF(ISBLANK('Data Input'!C234),\"\",SUM('Data Input'!P234))","v":""},{"$f":"IF(R230=\"\",\"\",R230/COUNTIF('Data Input'!$C$8:$AQ$8,$R$2))","v":""}]
[{"$f":"IF('Data Input'!A235=0,\"\",'Data Input'!A235)","v":""},{"$f":"IF(H231=\"\",\"\",IF(H231>Welcome!$K$23-1,\"Exceeding\",IF(H231>Welcome!$G$23-1,\"Expected\",IF(H231<Welcome!$G$23,\"Below\"))))","v":""},{"$f":"IF(ISBLANK('Data Input'!A235),\"\",COUNTIF('Data Input'!C235:AQ235,\"\")-1)","v":""},{"$f":"IF(ISBLANK('Data Input'!A235),\"\",COUNTIF('Data Input'!C235:AQ235,\"0\"))","v":""},{"$f":"IF(ISBLANK('Data Input'!A235),\"\",SUM(C231,D231))","v":""},{"$f":"IF(ISBLANK('Data Input'!A235),\"\",SUM('Data Input'!C235:V235))","v":""},{"$f":"IF(ISBLANK('Data Input'!A235),\"\",SUM('Data Input'!X235:AQ235))","v":""},{"$f":"IF(ISBLANK('Data Input'!A235),\"\",SUM('Data Input'!C235:AQ235))","v":""},{"$f":"IF(H231=\"\",\"\",H231/(COUNTA('Data Input'!$C$8:$AQ$8)-1))","v":""},{"$f":"IF(ISBLANK('Data Input'!A235),\"\",SUM('Data Input'!I235,'Data Input'!M235,'Data Input'!AB235,'Data Input'!AE235))","v":""},{"$f":"IF(J231=\"\",\"\",J231/COUNTIF('Data Input'!$C$8:$AQ$8,$J$2))","v":""},{"$f":"IF(ISBLANK('Data Input'!A235),\"\",SUM('Data Input'!E235,'Data Input'!G235,'Data Input'!H235,'Data Input'!L235,'Data Input'!N235,'Data Input'!Q235,'Data Input'!R235,'Data Input'!T235,'Data Input'!U235,'Data Input'!V235,'Data Input'!X235,'Data Input'!Y235,'Data Input'!Z235,'Data Input'!AA235,'Data Input'!AC235,'Data Input'!AD235,'Data Input'!AF235,'Data Input'!AG235,'Data Input'!AH235,'Data Input'!AI235,'Data Input'!AJ235,'Data Input'!AK235,'Data Input'!AL235))","v":""},{"$f":"IF(L231=\"\",\"\",L231/COUNTIF('Data Input'!$C$8:$AQ$8,$L$2))","v":""},{"$f":"IF(ISBLANK('Data Input'!A235),\"\",SUM('Data Input'!K235,'Data Input'!AQ235))","v":""},{"$f":"IF(N231=\"\",\"\",N231/COUNTIF('Data Input'!$C$8:$AQ$8,$N$2))","v":""},{"$f":"IF(ISBLANK('Data Input'!A235),\"\",SUM('Data Input'!C235,'Data Input'!D235,'Data Input'!F235,'Data Input'!J235,'Data Input'!O235,'Data Input'!S235,'Data Input'!AM235,'Data Input'!AN235,'Data Input'!AO235,'Data Input'!AP235))","v":""},{"$f":"IF(P231=\"\",\"\",P231/COUNTIF('Data Input'!$C$8:$AQ$8,$P$2))","v":""},{"$f":"IF(ISBLANK('Data Input'!C235),\"\",SUM('Data Input'!P235))","v":""},{"$f":"IF(R231=\"\",\"\",R231/COUNTIF('Data Input'!$C$8:$AQ$8,$R$2))","v":""}]
[{"$f":"IF('Data Input'!A236=0,\"\",'Data Input'!A236)","v":""},{"$f":"IF(H232=\"\",\"\",IF(H232>Welcome!$K$23-1,\"Exceeding\",IF(H232>Welcome!$G$23-1,\"Expected\",IF(H232<Welcome!$G$23,\"Below\"))))","v":""},{"$f":"IF(ISBLANK('Data Input'!A236),\"\",COUNTIF('Data Input'!C236:AQ236,\"\")-1)","v":""},{"$f":"IF(ISBLANK('Data Input'!A236),\"\",COUNTIF('Data Input'!C236:AQ236,\"0\"))","v":""},{"$f":"IF(ISBLANK('Data Input'!A236),\"\",SUM(C232,D232))","v":""},{"$f":"IF(ISBLANK('Data Input'!A236),\"\",SUM('Data Input'!C236:V236))","v":""},{"$f":"IF(ISBLANK('Data Input'!A236),\"\",SUM('Data Input'!X236:AQ236))","v":""},{"$f":"IF(ISBLANK('Data Input'!A236),\"\",SUM('Data Input'!C236:AQ236))","v":""},{"$f":"IF(H232=\"\",\"\",H232/(COUNTA('Data Input'!$C$8:$AQ$8)-1))","v":""},{"$f":"IF(ISBLANK('Data Input'!A236),\"\",SUM('Data Input'!I236,'Data Input'!M236,'Data Input'!AB236,'Data Input'!AE236))","v":""},{"$f":"IF(J232=\"\",\"\",J232/COUNTIF('Data Input'!$C$8:$AQ$8,$J$2))","v":""},{"$f":"IF(ISBLANK('Data Input'!A236),\"\",SUM('Data Input'!E236,'Data Input'!G236,'Data Input'!H236,'Data Input'!L236,'Data Input'!N236,'Data Input'!Q236,'Data Input'!R236,'Data Input'!T236,'Data Input'!U236,'Data Input'!V236,'Data Input'!X236,'Data Input'!Y236,'Data Input'!Z236,'Data Input'!AA236,'Data Input'!AC236,'Data Input'!AD236,'Data Input'!AF236,'Data Input'!AG236,'Data Input'!AH236,'Data Input'!AI236,'Data Input'!AJ236,'Data Input'!AK236,'Data Input'!AL236))","v":""},{"$f":"IF(L232=\"\",\"\",L232/COUNTIF('Data Input'!$C$8:$AQ$8,$L$2))","v":""},{"$f":"IF(ISBLANK('Data Input'!A236),\"\",SUM('Data Input'!K236,'Data Input'!AQ236))","v":""},{"$f":"IF(N232=\"\",\"\",N232/COUNTIF('Data Input'!$C$8:$AQ$8,$N$2))","v":""},{"$f":"IF(ISBLANK('Data Input'!A236),\"\",SUM('Data Input'!C236,'Data Input'!D236,'Data Input'!F236,'Data Input'!J236,'Data Input'!O236,'Data Input'!S236,'Data Input'!AM236,'Data Input'!AN236,'Data Input'!AO236,'Data Input'!AP236))","v":""},{"$f":"IF(P232=\"\",\"\",P232/COUNTIF('Data Input'!$C$8:$AQ$8,$P$2))","v":""},{"$f":"IF(ISBLANK('Data Input'!C236),\"\",SUM('Data Input'!P236))","v":""},{"$f":"IF(R232=\"\",\"\",R232/COUNTIF('Data Input'!$C$8:$AQ$8,$R$2))","v":""}]
[{"$f":"IF('Data Input'!A237=0,\"\",'Data Input'!A237)","v":""},{"$f":"IF(H233=\"\",\"\",IF(H233>Welcome!$K$23-1,\"Exceeding\",IF(H233>Welcome!$G$23-1,\"Expected\",IF(H233<Welcome!$G$23,\"Below\"))))","v":""},{"$f":"IF(ISBLANK('Data Input'!A237),\"\",COUNTIF('Data Input'!C237:AQ237,\"\")-1)","v":""},{"$f":"IF(ISBLANK('Data Input'!A237),\"\",COUNTIF('Data Input'!C237:AQ237,\"0\"))","v":""},{"$f":"IF(ISBLANK('Data Input'!A237),\"\",SUM(C233,D233))","v":""},{"$f":"IF(ISBLANK('Data Input'!A237),\"\",SUM('Data Input'!C237:V237))","v":""},{"$f":"IF(ISBLANK('Data Input'!A237),\"\",SUM('Data Input'!X237:AQ237))","v":""},{"$f":"IF(ISBLANK('Data Input'!A237),\"\",SUM('Data Input'!C237:AQ237))","v":""},{"$f":"IF(H233=\"\",\"\",H233/(COUNTA('Data Input'!$C$8:$AQ$8)-1))","v":""},{"$f":"IF(ISBLANK('Data Input'!A237),\"\",SUM('Data Input'!I237,'Data Input'!M237,'Data Input'!AB237,'Data Input'!AE237))","v":""},{"$f":"IF(J233=\"\",\"\",J233/COUNTIF('Data Input'!$C$8:$AQ$8,$J$2))","v":""},{"$f":"IF(ISBLANK('Data Input'!A237),\"\",SUM('Data Input'!E237,'Data Input'!G237,'Data Input'!H237,'Data Input'!L237,'Data Input'!N237,'Data Input'!Q237,'Data Input'!R237,'Data Input'!T237,'Data Input'!U237,'Data Input'!V237,'Data Input'!X237,'Data Input'!Y237,'Data Input'!Z237,'Data Input'!AA237,'Data Input'!AC237,'Data Input'!AD237,'Data Input'!AF237,'Data Input'!AG237,'Data Input'!AH237,'Data Input'!AI237,'Data Input'!AJ237,'Data Input'!AK237,'Data Input'!AL237))","v":""},{"$f":"IF(L233=\"\",\"\",L233/COUNTIF('Data Input'!$C$8:$AQ$8,$L$2))","v":""},{"$f":"IF(ISBLANK('Data Input'!A237),\"\",SUM('Data Input'!K237,'Data Input'!AQ237))","v":""},{"$f":"IF(N233=\"\",\"\",N233/COUNTIF('Data Input'!$C$8:$AQ$8,$N$2))","v":""},{"$f":"IF(ISBLANK('Data Input'!A237),\"\",SUM('Data Input'!C237,'Data Input'!D237,'Data Input'!F237,'Data Input'!J237,'Data Input'!O237,'Data Input'!S237,'Data Input'!AM237,'Data Input'!AN237,'Data Input'!AO237,'Data Input'!AP237))","v":""},{"$f":"IF(P233=\"\",\"\",P233/COUNTIF('Data Input'!$C$8:$AQ$8,$P$2))","v":""},{"$f":"IF(ISBLANK('Data Input'!C237),\"\",SUM('Data Input'!P237))","v":""},{"$f":"IF(R233=\"\",\"\",R233/COUNTIF('Data Input'!$C$8:$AQ$8,$R$2))","v":""}]
[{"$f":"IF('Data Input'!A238=0,\"\",'Data Input'!A238)","v":""},{"$f":"IF(H234=\"\",\"\",IF(H234>Welcome!$K$23-1,\"Exceeding\",IF(H234>Welcome!$G$23-1,\"Expected\",IF(H234<Welcome!$G$23,\"Below\"))))","v":""},{"$f":"IF(ISBLANK('Data Input'!A238),\"\",COUNTIF('Data Input'!C238:AQ238,\"\")-1)","v":""},{"$f":"IF(ISBLANK('Data Input'!A238),\"\",COUNTIF('Data Input'!C238:AQ238,\"0\"))","v":""},{"$f":"IF(ISBLANK('Data Input'!A238),\"\",SUM(C234,D234))","v":""},{"$f":"IF(ISBLANK('Data Input'!A238),\"\",SUM('Data Input'!C238:V238))","v":""},{"$f":"IF(ISBLANK('Data Input'!A238),\"\",SUM('Data Input'!X238:AQ238))","v":""},{"$f":"IF(ISBLANK('Data Input'!A238),\"\",SUM('Data Input'!C238:AQ238))","v":""},{"$f":"IF(H234=\"\",\"\",H234/(COUNTA('Data Input'!$C$8:$AQ$8)-1))","v":""},{"$f":"IF(ISBLANK('Data Input'!A238),\"\",SUM('Data Input'!I238,'Data Input'!M238,'Data Input'!AB238,'Data Input'!AE238))","v":""},{"$f":"IF(J234=\"\",\"\",J234/COUNTIF('Data Input'!$C$8:$AQ$8,$J$2))","v":""},{"$f":"IF(ISBLANK('Data Input'!A238),\"\",SUM('Data Input'!E238,'Data Input'!G238,'Data Input'!H238,'Data Input'!L238,'Data Input'!N238,'Data Input'!Q238,'Data Input'!R238,'Data Input'!T238,'Data Input'!U238,'Data Input'!V238,'Data Input'!X238,'Data Input'!Y238,'Data Input'!Z238,'Data Input'!AA238,'Data Input'!AC238,'Data Input'!AD238,'Data Input'!AF238,'Data Input'!AG238,'Data Input'!AH238,'Data Input'!AI238,'Data Input'!AJ238,'Data Input'!AK238,'Data Input'!AL238))","v":""},{"$f":"IF(L234=\"\",\"\",L234/COUNTIF('Data Input'!$C$8:$AQ$8,$L$2))","v":""},{"$f":"IF(ISBLANK('Data Input'!A238),\"\",SUM('Data Input'!K238,'Data Input'!AQ238))","v":""},{"$f":"IF(N234=\"\",\"\",N234/COUNTIF('Data Input'!$C$8:$AQ$8,$N$2))","v":""},{"$f":"IF(ISBLANK('Data Input'!A238),\"\",SUM('Data Input'!C238,'Data Input'!D238,'Data Input'!F238,'Data Input'!J238,'Data Input'!O238,'Data Input'!S238,'Data Input'!AM238,'Data Input'!AN238,'Data Input'!AO238,'Data Input'!AP238))","v":""},{"$f":"IF(P234=\"\",\"\",P234/COUNTIF('Data Input'!$C$8:$AQ$8,$P$2))","v":""},{"$f":"IF(ISBLANK('Data Input'!C238),\"\",SUM('Data Input'!P238))","v":""},{"$f":"IF(R234=\"\",\"\",R234/COUNTIF('Data Input'!$C$8:$AQ$8,$R$2))","v":""}]
[{"$f":"IF('Data Input'!A239=0,\"\",'Data Input'!A239)","v":""},{"$f":"IF(H235=\"\",\"\",IF(H235>Welcome!$K$23-1,\"Exceeding\",IF(H235>Welcome!$G$23-1,\"Expected\",IF(H235<Welcome!$G$23,\"Below\"))))","v":""},{"$f":"IF(ISBLANK('Data Input'!A239),\"\",COUNTIF('Data Input'!C239:AQ239,\"\")-1)","v":""},{"$f":"IF(ISBLANK('Data Input'!A239),\"\",COUNTIF('Data Input'!C239:AQ239,\"0\"))","v":""},{"$f":"IF(ISBLANK('Data Input'!A239),\"\",SUM(C235,D235))","v":""},{"$f":"IF(ISBLANK('Data Input'!A239),\"\",SUM('Data Input'!C239:V239))","v":""},{"$f":"IF(ISBLANK('Data Input'!A239),\"\",SUM('Data Input'!X239:AQ239))","v":""},{"$f":"IF(ISBLANK('Data Input'!A239),\"\",SUM('Data Input'!C239:AQ239))","v":""},{"$f":"IF(H235=\"\",\"\",H235/(COUNTA('Data Input'!$C$8:$AQ$8)-1))","v":""},{"$f":"IF(ISBLANK('Data Input'!A239),\"\",SUM('Data Input'!I239,'Data Input'!M239,'Data Input'!AB239,'Data Input'!AE239))","v":""},{"$f":"IF(J235=\"\",\"\",J235/COUNTIF('Data Input'!$C$8:$AQ$8,$J$2))","v":""},{"$f":"IF(ISBLANK('Data Input'!A239),\"\",SUM('Data Input'!E239,'Data Input'!G239,'Data Input'!H239,'Data Input'!L239,'Data Input'!N239,'Data Input'!Q239,'Data Input'!R239,'Data Input'!T239,'Data Input'!U239,'Data Input'!V239,'Data Input'!X239,'Data Input'!Y239,'Data Input'!Z239,'Data Input'!AA239,'Data Input'!AC239,'Data Input'!AD239,'Data Input'!AF239,'Data Input'!AG239,'Data Input'!AH239,'Data Input'!AI239,'Data Input'!AJ239,'Data Input'!AK239,'Data Input'!AL239))","v":""},{"$f":"IF(L235=\"\",\"\",L235/COUNTIF('Data Input'!$C$8:$AQ$8,$L$2))","v":""},{"$f":"IF(ISBLANK('Data Input'!A239),\"\",SUM('Data Input'!K239,'Data Input'!AQ239))","v":""},{"$f":"IF(N235=\"\",\"\",N235/COUNTIF('Data Input'!$C$8:$AQ$8,$N$2))","v":""},{"$f":"IF(ISBLANK('Data Input'!A239),\"\",SUM('Data Input'!C239,'Data Input'!D239,'Data Input'!F239,'Data Input'!J239,'Data Input'!O239,'Data Input'!S239,'Data Input'!AM239,'Data Input'!AN239,'Data Input'!AO239,'Data Input'!AP239))","v":""},{"$f":"IF(P235=\"\",\"\",P235/COUNTIF('Data Input'!$C$8:$AQ$8,$P$2))","v":""},{"$f":"IF(ISBLANK('Data Input'!C239),\"\",SUM('Data Input'!P239))","v":""},{"$f":"IF(R235=\"\",\"\",R235/COUNTIF('Data Input'!$C$8:$AQ$8,$R$2))","v":""}]
[{"$f":"IF('Data Input'!A240=0,\"\",'Data Input'!A240)","v":""},{"$f":"IF(H236=\"\",\"\",IF(H236>Welcome!$K$23-1,\"Exceeding\",IF(H236>Welcome!$G$23-1,\"Expected\",IF(H236<Welcome!$G$23,\"Below\"))))","v":""},{"$f":"IF(ISBLANK('Data Input'!A240),\"\",COUNTIF('Data Input'!C240:AQ240,\"\")-1)","v":""},{"$f":"IF(ISBLANK('Data Input'!A240),\"\",COUNTIF('Data Input'!C240:AQ240,\"0\"))","v":""},{"$f":"IF(ISBLANK('Data Input'!A240),\"\",SUM(C236,D236))","v":""},{"$f":"IF(ISBLANK('Data Input'!A240),\"\",SUM('Data Input'!C240:V240))","v":""},{"$f":"IF(ISBLANK('Data Input'!A240),\"\",SUM('Data Input'!X240:AQ240))","v":""},{"$f":"IF(ISBLANK('Data Input'!A240),\"\",SUM('Data Input'!C240:AQ240))","v":""},{"$f":"IF(H236=\"\",\"\",H236/(COUNTA('Data Input'!$C$8:$AQ$8)-1))","v":""},{"$f":"IF(ISBLANK('Data Input'!A240),\"\",SUM('Data Input'!I240,'Data Input'!M240,'Data Input'!AB240,'Data Input'!AE240))","v":""},{"$f":"IF(J236=\"\",\"\",J236/COUNTIF('Data Input'!$C$8:$AQ$8,$J$2))","v":""},{"$f":"IF(ISBLANK('Data Input'!A240),\"\",SUM('Data Input'!E240,'Data Input'!G240,'Data Input'!H240,'Data Input'!L240,'Data Input'!N240,'Data Input'!Q240,'Data Input'!R240,'Data Input'!T240,'Data Input'!U240,'Data Input'!V240,'Data Input'!X240,'Data Input'!Y240,'Data Input'!Z240,'Data Input'!AA240,'Data Input'!AC240,'Data Input'!AD240,'Data Input'!AF240,'Data Input'!AG240,'Data Input'!AH240,'Data Input'!AI240,'Data Input'!AJ240,'Data Input'!AK240,'Data Input'!AL240))","v":""},{"$f":"IF(L236=\"\",\"\",L236/COUNTIF('Data Input'!$C$8:$AQ$8,$L$2))","v":""},{"$f":"IF(ISBLANK('Data Input'!A240),\"\",SUM('Data Input'!K240,'Data Input'!AQ240))","v":""},{"$f":"IF(N236=\"\",\"\",N236/COUNTIF('Data Input'!$C$8:$AQ$8,$N$2))","v":""},{"$f":"IF(ISBLANK('Data Input'!A240),\"\",SUM('Data Input'!C240,'Data Input'!D240,'Data Input'!F240,'Data Input'!J240,'Data Input'!O240,'Data Input'!S240,'Data Input'!AM240,'Data Input'!AN240,'Data Input'!AO240,'Data Input'!AP240))","v":""},{"$f":"IF(P236=\"\",\"\",P236/COUNTIF('Data Input'!$C$8:$AQ$8,$P$2))","v":""},{"$f":"IF(ISBLANK('Data Input'!C240),\"\",SUM('Data Input'!P240))","v":""},{"$f":"IF(R236=\"\",\"\",R236/COUNTIF('Data Input'!$C$8:$AQ$8,$R$2))","v":""}]
[{"$f":"IF('Data Input'!A241=0,\"\",'Data Input'!A241)","v":""},{"$f":"IF(H237=\"\",\"\",IF(H237>Welcome!$K$23-1,\"Exceeding\",IF(H237>Welcome!$G$23-1,\"Expected\",IF(H237<Welcome!$G$23,\"Below\"))))","v":""},{"$f":"IF(ISBLANK('Data Input'!A241),\"\",COUNTIF('Data Input'!C241:AQ241,\"\")-1)","v":""},{"$f":"IF(ISBLANK('Data Input'!A241),\"\",COUNTIF('Data Input'!C241:AQ241,\"0\"))","v":""},{"$f":"IF(ISBLANK('Data Input'!A241),\"\",SUM(C237,D237))","v":""},{"$f":"IF(ISBLANK('Data Input'!A241),\"\",SUM('Data Input'!C241:V241))","v":""},{"$f":"IF(ISBLANK('Data Input'!A241),\"\",SUM('Data Input'!X241:AQ241))","v":""},{"$f":"IF(ISBLANK('Data Input'!A241),\"\",SUM('Data Input'!C241:AQ241))","v":""},{"$f":"IF(H237=\"\",\"\",H237/(COUNTA('Data Input'!$C$8:$AQ$8)-1))","v":""},{"$f":"IF(ISBLANK('Data Input'!A241),\"\",SUM('Data Input'!I241,'Data Input'!M241,'Data Input'!AB241,'Data Input'!AE241))","v":""},{"$f":"IF(J237=\"\",\"\",J237/COUNTIF('Data Input'!$C$8:$AQ$8,$J$2))","v":""},{"$f":"IF(ISBLANK('Data Input'!A241),\"\",SUM('Data Input'!E241,'Data Input'!G241,'Data Input'!H241,'Data Input'!L241,'Data Input'!N241,'Data Input'!Q241,'Data Input'!R241,'Data Input'!T241,'Data Input'!U241,'Data Input'!V241,'Data Input'!X241,'Data Input'!Y241,'Data Input'!Z241,'Data Input'!AA241,'Data Input'!AC241,'Data Input'!AD241,'Data Input'!AF241,'Data Input'!AG241,'Data Input'!AH241,'Data Input'!AI241,'Data Input'!AJ241,'Data Input'!AK241,'Data Input'!AL241))","v":""},{"$f":"IF(L237=\"\",\"\",L237/COUNTIF('Data Input'!$C$8:$AQ$8,$L$2))","v":""},{"$f":"IF(ISBLANK('Data Input'!A241),\"\",SUM('Data Input'!K241,'Data Input'!AQ241))","v":""},{"$f":"IF(N237=\"\",\"\",N237/COUNTIF('Data Input'!$C$8:$AQ$8,$N$2))","v":""},{"$f":"IF(ISBLANK('Data Input'!A241),\"\",SUM('Data Input'!C241,'Data Input'!D241,'Data Input'!F241,'Data Input'!J241,'Data Input'!O241,'Data Input'!S241,'Data Input'!AM241,'Data Input'!AN241,'Data Input'!AO241,'Data Input'!AP241))","v":""},{"$f":"IF(P237=\"\",\"\",P237/COUNTIF('Data Input'!$C$8:$AQ$8,$P$2))","v":""},{"$f":"IF(ISBLANK('Data Input'!C241),\"\",SUM('Data Input'!P241))","v":""},{"$f":"IF(R237=\"\",\"\",R237/COUNTIF('Data Input'!$C$8:$AQ$8,$R$2))","v":""}]
[{"$f":"IF('Data Input'!A242=0,\"\",'Data Input'!A242)","v":""},{"$f":"IF(H238=\"\",\"\",IF(H238>Welcome!$K$23-1,\"Exceeding\",IF(H238>Welcome!$G$23-1,\"Expected\",IF(H238<Welcome!$G$23,\"Below\"))))","v":""},{"$f":"IF(ISBLANK('Data Input'!A242),\"\",COUNTIF('Data Input'!C242:AQ242,\"\")-1)","v":""},{"$f":"IF(ISBLANK('Data Input'!A242),\"\",COUNTIF('Data Input'!C242:AQ242,\"0\"))","v":""},{"$f":"IF(ISBLANK('Data Input'!A242),\"\",SUM(C238,D238))","v":""},{"$f":"IF(ISBLANK('Data Input'!A242),\"\",SUM('Data Input'!C242:V242))","v":""},{"$f":"IF(ISBLANK('Data Input'!A242),\"\",SUM('Data Input'!X242:AQ242))","v":""},{"$f":"IF(ISBLANK('Data Input'!A242),\"\",SUM('Data Input'!C242:AQ242))","v":""},{"$f":"IF(H238=\"\",\"\",H238/(COUNTA('Data Input'!$C$8:$AQ$8)-1))","v":""},{"$f":"IF(ISBLANK('Data Input'!A242),\"\",SUM('Data Input'!I242,'Data Input'!M242,'Data Input'!AB242,'Data Input'!AE242))","v":""},{"$f":"IF(J238=\"\",\"\",J238/COUNTIF('Data Input'!$C$8:$AQ$8,$J$2))","v":""},{"$f":"IF(ISBLANK('Data Input'!A242),\"\",SUM('Data Input'!E242,'Data Input'!G242,'Data Input'!H242,'Data Input'!L242,'Data Input'!N242,'Data Input'!Q242,'Data Input'!R242,'Data Input'!T242,'Data Input'!U242,'Data Input'!V242,'Data Input'!X242,'Data Input'!Y242,'Data Input'!Z242,'Data Input'!AA242,'Data Input'!AC242,'Data Input'!AD242,'Data Input'!AF242,'Data Input'!AG242,'Data Input'!AH242,'Data Input'!AI242,'Data Input'!AJ242,'Data Input'!AK242,'Data Input'!AL242))","v":""},{"$f":"IF(L238=\"\",\"\",L238/COUNTIF('Data Input'!$C$8:$AQ$8,$L$2))","v":""},{"$f":"IF(ISBLANK('Data Input'!A242),\"\",SUM('Data Input'!K242,'Data Input'!AQ242))","v":""},{"$f":"IF(N238=\"\",\"\",N238/COUNTIF('Data Input'!$C$8:$AQ$8,$N$2))","v":""},{"$f":"IF(ISBLANK('Data Input'!A242),\"\",SUM('Data Input'!C242,'Data Input'!D242,'Data Input'!F242,'Data Input'!J242,'Data Input'!O242,'Data Input'!S242,'Data Input'!AM242,'Data Input'!AN242,'Data Input'!AO242,'Data Input'!AP242))","v":""},{"$f":"IF(P238=\"\",\"\",P238/COUNTIF('Data Input'!$C$8:$AQ$8,$P$2))","v":""},{"$f":"IF(ISBLANK('Data Input'!C242),\"\",SUM('Data Input'!P242))","v":""},{"$f":"IF(R238=\"\",\"\",R238/COUNTIF('Data Input'!$C$8:$AQ$8,$R$2))","v":""}]
[{"$f":"IF('Data Input'!A243=0,\"\",'Data Input'!A243)","v":""},{"$f":"IF(H239=\"\",\"\",IF(H239>Welcome!$K$23-1,\"Exceeding\",IF(H239>Welcome!$G$23-1,\"Expected\",IF(H239<Welcome!$G$23,\"Below\"))))","v":""},{"$f":"IF(ISBLANK('Data Input'!A243),\"\",COUNTIF('Data Input'!C243:AQ243,\"\")-1)","v":""},{"$f":"IF(ISBLANK('Data Input'!A243),\"\",COUNTIF('Data Input'!C243:AQ243,\"0\"))","v":""},{"$f":"IF(ISBLANK('Data Input'!A243),\"\",SUM(C239,D239))","v":""},{"$f":"IF(ISBLANK('Data Input'!A243),\"\",SUM('Data Input'!C243:V243))","v":""},{"$f":"IF(ISBLANK('Data Input'!A243),\"\",SUM('Data Input'!X243:AQ243))","v":""},{"$f":"IF(ISBLANK('Data Input'!A243),\"\",SUM('Data Input'!C243:AQ243))","v":""},{"$f":"IF(H239=\"\",\"\",H239/(COUNTA('Data Input'!$C$8:$AQ$8)-1))","v":""},{"$f":"IF(ISBLANK('Data Input'!A243),\"\",SUM('Data Input'!I243,'Data Input'!M243,'Data Input'!AB243,'Data Input'!AE243))","v":""},{"$f":"IF(J239=\"\",\"\",J239/COUNTIF('Data Input'!$C$8:$AQ$8,$J$2))","v":""},{"$f":"IF(ISBLANK('Data Input'!A243),\"\",SUM('Data Input'!E243,'Data Input'!G243,'Data Input'!H243,'Data Input'!L243,'Data Input'!N243,'Data Input'!Q243,'Data Input'!R243,'Data Input'!T243,'Data Input'!U243,'Data Input'!V243,'Data Input'!X243,'Data Input'!Y243,'Data Input'!Z243,'Data Input'!AA243,'Data Input'!AC243,'Data Input'!AD243,'Data Input'!AF243,'Data Input'!AG243,'Data Input'!AH243,'Data Input'!AI243,'Data Input'!AJ243,'Data Input'!AK243,'Data Input'!AL243))","v":""},{"$f":"IF(L239=\"\",\"\",L239/COUNTIF('Data Input'!$C$8:$AQ$8,$L$2))","v":""},{"$f":"IF(ISBLANK('Data Input'!A243),\"\",SUM('Data Input'!K243,'Data Input'!AQ243))","v":""},{"$f":"IF(N239=\"\",\"\",N239/COUNTIF('Data Input'!$C$8:$AQ$8,$N$2))","v":""},{"$f":"IF(ISBLANK('Data Input'!A243),\"\",SUM('Data Input'!C243,'Data Input'!D243,'Data Input'!F243,'Data Input'!J243,'Data Input'!O243,'Data Input'!S243,'Data Input'!AM243,'Data Input'!AN243,'Data Input'!AO243,'Data Input'!AP243))","v":""},{"$f":"IF(P239=\"\",\"\",P239/COUNTIF('Data Input'!$C$8:$AQ$8,$P$2))","v":""},{"$f":"IF(ISBLANK('Data Input'!C243),\"\",SUM('Data Input'!P243))","v":""},{"$f":"IF(R239=\"\",\"\",R239/COUNTIF('Data Input'!$C$8:$AQ$8,$R$2))","v":""}]
[{"$f":"IF('Data Input'!A244=0,\"\",'Data Input'!A244)","v":""},{"$f":"IF(H240=\"\",\"\",IF(H240>Welcome!$K$23-1,\"Exceeding\",IF(H240>Welcome!$G$23-1,\"Expected\",IF(H240<Welcome!$G$23,\"Below\"))))","v":""},{"$f":"IF(ISBLANK('Data Input'!A244),\"\",COUNTIF('Data Input'!C244:AQ244,\"\")-1)","v":""},{"$f":"IF(ISBLANK('Data Input'!A244),\"\",COUNTIF('Data Input'!C244:AQ244,\"0\"))","v":""},{"$f":"IF(ISBLANK('Data Input'!A244),\"\",SUM(C240,D240))","v":""},{"$f":"IF(ISBLANK('Data Input'!A244),\"\",SUM('Data Input'!C244:V244))","v":""},{"$f":"IF(ISBLANK('Data Input'!A244),\"\",SUM('Data Input'!X244:AQ244))","v":""},{"$f":"IF(ISBLANK('Data Input'!A244),\"\",SUM('Data Input'!C244:AQ244))","v":""},{"$f":"IF(H240=\"\",\"\",H240/(COUNTA('Data Input'!$C$8:$AQ$8)-1))","v":""},{"$f":"IF(ISBLANK('Data Input'!A244),\"\",SUM('Data Input'!I244,'Data Input'!M244,'Data Input'!AB244,'Data Input'!AE244))","v":""},{"$f":"IF(J240=\"\",\"\",J240/COUNTIF('Data Input'!$C$8:$AQ$8,$J$2))","v":""},{"$f":"IF(ISBLANK('Data Input'!A244),\"\",SUM('Data Input'!E244,'Data Input'!G244,'Data Input'!H244,'Data Input'!L244,'Data Input'!N244,'Data Input'!Q244,'Data Input'!R244,'Data Input'!T244,'Data Input'!U244,'Data Input'!V244,'Data Input'!X244,'Data Input'!Y244,'Data Input'!Z244,'Data Input'!AA244,'Data Input'!AC244,'Data Input'!AD244,'Data Input'!AF244,'Data Input'!AG244,'Data Input'!AH244,'Data Input'!AI244,'Data Input'!AJ244,'Data Input'!AK244,'Data Input'!AL244))","v":""},{"$f":"IF(L240=\"\",\"\",L240/COUNTIF('Data Input'!$C$8:$AQ$8,$L$2))","v":""},{"$f":"IF(ISBLANK('Data Input'!A244),\"\",SUM('Data Input'!K244,'Data Input'!AQ244))","v":""},{"$f":"IF(N240=\"\",\"\",N240/COUNTIF('Data Input'!$C$8:$AQ$8,$N$2))","v":""},{"$f":"IF(ISBLANK('Data Input'!A244),\"\",SUM('Data Input'!C244,'Data Input'!D244,'Data Input'!F244,'Data Input'!J244,'Data Input'!O244,'Data Input'!S244,'Data Input'!AM244,'Data Input'!AN244,'Data Input'!AO244,'Data Input'!AP244))","v":""},{"$f":"IF(P240=\"\",\"\",P240/COUNTIF('Data Input'!$C$8:$AQ$8,$P$2))","v":""},{"$f":"IF(ISBLANK('Data Input'!C244),\"\",SUM('Data Input'!P244))","v":""},{"$f":"IF(R240=\"\",\"\",R240/COUNTIF('Data Input'!$C$8:$AQ$8,$R$2))","v":""}]
[{"$f":"IF('Data Input'!A245=0,\"\",'Data Input'!A245)","v":""},{"$f":"IF(H241=\"\",\"\",IF(H241>Welcome!$K$23-1,\"Exceeding\",IF(H241>Welcome!$G$23-1,\"Expected\",IF(H241<Welcome!$G$23,\"Below\"))))","v":""},{"$f":"IF(ISBLANK('Data Input'!A245),\"\",COUNTIF('Data Input'!C245:AQ245,\"\")-1)","v":""},{"$f":"IF(ISBLANK('Data Input'!A245),\"\",COUNTIF('Data Input'!C245:AQ245,\"0\"))","v":""},{"$f":"IF(ISBLANK('Data Input'!A245),\"\",SUM(C241,D241))","v":""},{"$f":"IF(ISBLANK('Data Input'!A245),\"\",SUM('Data Input'!C245:V245))","v":""},{"$f":"IF(ISBLANK('Data Input'!A245),\"\",SUM('Data Input'!X245:AQ245))","v":""},{"$f":"IF(ISBLANK('Data Input'!A245),\"\",SUM('Data Input'!C245:AQ245))","v":""},{"$f":"IF(H241=\"\",\"\",H241/(COUNTA('Data Input'!$C$8:$AQ$8)-1))","v":""},{"$f":"IF(ISBLANK('Data Input'!A245),\"\",SUM('Data Input'!I245,'Data Input'!M245,'Data Input'!AB245,'Data Input'!AE245))","v":""},{"$f":"IF(J241=\"\",\"\",J241/COUNTIF('Data Input'!$C$8:$AQ$8,$J$2))","v":""},{"$f":"IF(ISBLANK('Data Input'!A245),\"\",SUM('Data Input'!E245,'Data Input'!G245,'Data Input'!H245,'Data Input'!L245,'Data Input'!N245,'Data Input'!Q245,'Data Input'!R245,'Data Input'!T245,'Data Input'!U245,'Data Input'!V245,'Data Input'!X245,'Data Input'!Y245,'Data Input'!Z245,'Data Input'!AA245,'Data Input'!AC245,'Data Input'!AD245,'Data Input'!AF245,'Data Input'!AG245,'Data Input'!AH245,'Data Input'!AI245,'Data Input'!AJ245,'Data Input'!AK245,'Data Input'!AL245))","v":""},{"$f":"IF(L241=\"\",\"\",L241/COUNTIF('Data Input'!$C$8:$AQ$8,$L$2))","v":""},{"$f":"IF(ISBLANK('Data Input'!A245),\"\",SUM('Data Input'!K245,'Data Input'!AQ245))","v":""},{"$f":"IF(N241=\"\",\"\",N241/COUNTIF('Data Input'!$C$8:$AQ$8,$N$2))","v":""},{"$f":"IF(ISBLANK('Data Input'!A245),\"\",SUM('Data Input'!C245,'Data Input'!D245,'Data Input'!F245,'Data Input'!J245,'Data Input'!O245,'Data Input'!S245,'Data Input'!AM245,'Data Input'!AN245,'Data Input'!AO245,'Data Input'!AP245))","v":""},{"$f":"IF(P241=\"\",\"\",P241/COUNTIF('Data Input'!$C$8:$AQ$8,$P$2))","v":""},{"$f":"IF(ISBLANK('Data Input'!C245),\"\",SUM('Data Input'!P245))","v":""},{"$f":"IF(R241=\"\",\"\",R241/COUNTIF('Data Input'!$C$8:$AQ$8,$R$2))","v":""}]
[{"$f":"IF('Data Input'!A246=0,\"\",'Data Input'!A246)","v":""},{"$f":"IF(H242=\"\",\"\",IF(H242>Welcome!$K$23-1,\"Exceeding\",IF(H242>Welcome!$G$23-1,\"Expected\",IF(H242<Welcome!$G$23,\"Below\"))))","v":""},{"$f":"IF(ISBLANK('Data Input'!A246),\"\",COUNTIF('Data Input'!C246:AQ246,\"\")-1)","v":""},{"$f":"IF(ISBLANK('Data Input'!A246),\"\",COUNTIF('Data Input'!C246:AQ246,\"0\"))","v":""},{"$f":"IF(ISBLANK('Data Input'!A246),\"\",SUM(C242,D242))","v":""},{"$f":"IF(ISBLANK('Data Input'!A246),\"\",SUM('Data Input'!C246:V246))","v":""},{"$f":"IF(ISBLANK('Data Input'!A246),\"\",SUM('Data Input'!X246:AQ246))","v":""},{"$f":"IF(ISBLANK('Data Input'!A246),\"\",SUM('Data Input'!C246:AQ246))","v":""},{"$f":"IF(H242=\"\",\"\",H242/(COUNTA('Data Input'!$C$8:$AQ$8)-1))","v":""},{"$f":"IF(ISBLANK('Data Input'!A246),\"\",SUM('Data Input'!I246,'Data Input'!M246,'Data Input'!AB246,'Data Input'!AE246))","v":""},{"$f":"IF(J242=\"\",\"\",J242/COUNTIF('Data Input'!$C$8:$AQ$8,$J$2))","v":""},{"$f":"IF(ISBLANK('Data Input'!A246),\"\",SUM('Data Input'!E246,'Data Input'!G246,'Data Input'!H246,'Data Input'!L246,'Data Input'!N246,'Data Input'!Q246,'Data Input'!R246,'Data Input'!T246,'Data Input'!U246,'Data Input'!V246,'Data Input'!X246,'Data Input'!Y246,'Data Input'!Z246,'Data Input'!AA246,'Data Input'!AC246,'Data Input'!AD246,'Data Input'!AF246,'Data Input'!AG246,'Data Input'!AH246,'Data Input'!AI246,'Data Input'!AJ246,'Data Input'!AK246,'Data Input'!AL246))","v":""},{"$f":"IF(L242=\"\",\"\",L242/COUNTIF('Data Input'!$C$8:$AQ$8,$L$2))","v":""},{"$f":"IF(ISBLANK('Data Input'!A246),\"\",SUM('Data Input'!K246,'Data Input'!AQ246))","v":""},{"$f":"IF(N242=\"\",\"\",N242/COUNTIF('Data Input'!$C$8:$AQ$8,$N$2))","v":""},{"$f":"IF(ISBLANK('Data Input'!A246),\"\",SUM('Data Input'!C246,'Data Input'!D246,'Data Input'!F246,'Data Input'!J246,'Data Input'!O246,'Data Input'!S246,'Data Input'!AM246,'Data Input'!AN246,'Data Input'!AO246,'Data Input'!AP246))","v":""},{"$f":"IF(P242=\"\",\"\",P242/COUNTIF('Data Input'!$C$8:$AQ$8,$P$2))","v":""},{"$f":"IF(ISBLANK('Data Input'!C246),\"\",SUM('Data Input'!P246))","v":""},{"$f":"IF(R242=\"\",\"\",R242/COUNTIF('Data Input'!$C$8:$AQ$8,$R$2))","v":""}]
[{"$f":"IF('Data Input'!A247=0,\"\",'Data Input'!A247)","v":""},{"$f":"IF(H243=\"\",\"\",IF(H243>Welcome!$K$23-1,\"Exceeding\",IF(H243>Welcome!$G$23-1,\"Expected\",IF(H243<Welcome!$G$23,\"Below\"))))","v":""},{"$f":"IF(ISBLANK('Data Input'!A247),\"\",COUNTIF('Data Input'!C247:AQ247,\"\")-1)","v":""},{"$f":"IF(ISBLANK('Data Input'!A247),\"\",COUNTIF('Data Input'!C247:AQ247,\"0\"))","v":""},{"$f":"IF(ISBLANK('Data Input'!A247),\"\",SUM(C243,D243))","v":""},{"$f":"IF(ISBLANK('Data Input'!A247),\"\",SUM('Data Input'!C247:V247))","v":""},{"$f":"IF(ISBLANK('Data Input'!A247),\"\",SUM('Data Input'!X247:AQ247))","v":""},{"$f":"IF(ISBLANK('Data Input'!A247),\"\",SUM('Data Input'!C247:AQ247))","v":""},{"$f":"IF(H243=\"\",\"\",H243/(COUNTA('Data Input'!$C$8:$AQ$8)-1))","v":""},{"$f":"IF(ISBLANK('Data Input'!A247),\"\",SUM('Data Input'!I247,'Data Input'!M247,'Data Input'!AB247,'Data Input'!AE247))","v":""},{"$f":"IF(J243=\"\",\"\",J243/COUNTIF('Data Input'!$C$8:$AQ$8,$J$2))","v":""},{"$f":"IF(ISBLANK('Data Input'!A247),\"\",SUM('Data Input'!E247,'Data Input'!G247,'Data Input'!H247,'Data Input'!L247,'Data Input'!N247,'Data Input'!Q247,'Data Input'!R247,'Data Input'!T247,'Data Input'!U247,'Data Input'!V247,'Data Input'!X247,'Data Input'!Y247,'Data Input'!Z247,'Data Input'!AA247,'Data Input'!AC247,'Data Input'!AD247,'Data Input'!AF247,'Data Input'!AG247,'Data Input'!AH247,'Data Input'!AI247,'Data Input'!AJ247,'Data Input'!AK247,'Data Input'!AL247))","v":""},{"$f":"IF(L243=\"\",\"\",L243/COUNTIF('Data Input'!$C$8:$AQ$8,$L$2))","v":""},{"$f":"IF(ISBLANK('Data Input'!A247),\"\",SUM('Data Input'!K247,'Data Input'!AQ247))","v":""},{"$f":"IF(N243=\"\",\"\",N243/COUNTIF('Data Input'!$C$8:$AQ$8,$N$2))","v":""},{"$f":"IF(ISBLANK('Data Input'!A247),\"\",SUM('Data Input'!C247,'Data Input'!D247,'Data Input'!F247,'Data Input'!J247,'Data Input'!O247,'Data Input'!S247,'Data Input'!AM247,'Data Input'!AN247,'Data Input'!AO247,'Data Input'!AP247))","v":""},{"$f":"IF(P243=\"\",\"\",P243/COUNTIF('Data Input'!$C$8:$AQ$8,$P$2))","v":""},{"$f":"IF(ISBLANK('Data Input'!C247),\"\",SUM('Data Input'!P247))","v":""},{"$f":"IF(R243=\"\",\"\",R243/COUNTIF('Data Input'!$C$8:$AQ$8,$R$2))","v":""}]
[{"$f":"IF('Data Input'!A248=0,\"\",'Data Input'!A248)","v":""},{"$f":"IF(H244=\"\",\"\",IF(H244>Welcome!$K$23-1,\"Exceeding\",IF(H244>Welcome!$G$23-1,\"Expected\",IF(H244<Welcome!$G$23,\"Below\"))))","v":""},{"$f":"IF(ISBLANK('Data Input'!A248),\"\",COUNTIF('Data Input'!C248:AQ248,\"\")-1)","v":""},{"$f":"IF(ISBLANK('Data Input'!A248),\"\",COUNTIF('Data Input'!C248:AQ248,\"0\"))","v":""},{"$f":"IF(ISBLANK('Data Input'!A248),\"\",SUM(C244,D244))","v":""},{"$f":"IF(ISBLANK('Data Input'!A248),\"\",SUM('Data Input'!C248:V248))","v":""},{"$f":"IF(ISBLANK('Data Input'!A248),\"\",SUM('Data Input'!X248:AQ248))","v":""},{"$f":"IF(ISBLANK('Data Input'!A248),\"\",SUM('Data Input'!C248:AQ248))","v":""},{"$f":"IF(H244=\"\",\"\",H244/(COUNTA('Data Input'!$C$8:$AQ$8)-1))","v":""},{"$f":"IF(ISBLANK('Data Input'!A248),\"\",SUM('Data Input'!I248,'Data Input'!M248,'Data Input'!AB248,'Data Input'!AE248))","v":""},{"$f":"IF(J244=\"\",\"\",J244/COUNTIF('Data Input'!$C$8:$AQ$8,$J$2))","v":""},{"$f":"IF(ISBLANK('Data Input'!A248),\"\",SUM('Data Input'!E248,'Data Input'!G248,'Data Input'!H248,'Data Input'!L248,'Data Input'!N248,'Data Input'!Q248,'Data Input'!R248,'Data Input'!T248,'Data Input'!U248,'Data Input'!V248,'Data Input'!X248,'Data Input'!Y248,'Data Input'!Z248,'Data Input'!AA248,'Data Input'!AC248,'Data Input'!AD248,'Data Input'!AF248,'Data Input'!AG248,'Data Input'!AH248,'Data Input'!AI248,'Data Input'!AJ248,'Data Input'!AK248,'Data Input'!AL248))","v":""},{"$f":"IF(L244=\"\",\"\",L244/COUNTIF('Data Input'!$C$8:$AQ$8,$L$2))","v":""},{"$f":"IF(ISBLANK('Data Input'!A248),\"\",SUM('Data Input'!K248,'Data Input'!AQ248))","v":""},{"$f":"IF(N244=\"\",\"\",N244/COUNTIF('Data Input'!$C$8:$AQ$8,$N$2))","v":""},{"$f":"IF(ISBLANK('Data Input'!A248),\"\",SUM('Data Input'!C248,'Data Input'!D248,'Data Input'!F248,'Data Input'!J248,'Data Input'!O248,'Data Input'!S248,'Data Input'!AM248,'Data Input'!AN248,'Data Input'!AO248,'Data Input'!AP248))","v":""},{"$f":"IF(P244=\"\",\"\",P244/COUNTIF('Data Input'!$C$8:$AQ$8,$P$2))","v":""},{"$f":"IF(ISBLANK('Data Input'!C248),\"\",SUM('Data Input'!P248))","v":""},{"$f":"IF(R244=\"\",\"\",R244/COUNTIF('Data Input'!$C$8:$AQ$8,$R$2))","v":""}]
[{"$f":"IF('Data Input'!A249=0,\"\",'Data Input'!A249)","v":""},{"$f":"IF(H245=\"\",\"\",IF(H245>Welcome!$K$23-1,\"Exceeding\",IF(H245>Welcome!$G$23-1,\"Expected\",IF(H245<Welcome!$G$23,\"Below\"))))","v":""},{"$f":"IF(ISBLANK('Data Input'!A249),\"\",COUNTIF('Data Input'!C249:AQ249,\"\")-1)","v":""},{"$f":"IF(ISBLANK('Data Input'!A249),\"\",COUNTIF('Data Input'!C249:AQ249,\"0\"))","v":""},{"$f":"IF(ISBLANK('Data Input'!A249),\"\",SUM(C245,D245))","v":""},{"$f":"IF(ISBLANK('Data Input'!A249),\"\",SUM('Data Input'!C249:V249))","v":""},{"$f":"IF(ISBLANK('Data Input'!A249),\"\",SUM('Data Input'!X249:AQ249))","v":""},{"$f":"IF(ISBLANK('Data Input'!A249),\"\",SUM('Data Input'!C249:AQ249))","v":""},{"$f":"IF(H245=\"\",\"\",H245/(COUNTA('Data Input'!$C$8:$AQ$8)-1))","v":""},{"$f":"IF(ISBLANK('Data Input'!A249),\"\",SUM('Data Input'!I249,'Data Input'!M249,'Data Input'!AB249,'Data Input'!AE249))","v":""},{"$f":"IF(J245=\"\",\"\",J245/COUNTIF('Data Input'!$C$8:$AQ$8,$J$2))","v":""},{"$f":"IF(ISBLANK('Data Input'!A249),\"\",SUM('Data Input'!E249,'Data Input'!G249,'Data Input'!H249,'Data Input'!L249,'Data Input'!N249,'Data Input'!Q249,'Data Input'!R249,'Data Input'!T249,'Data Input'!U249,'Data Input'!V249,'Data Input'!X249,'Data Input'!Y249,'Data Input'!Z249,'Data Input'!AA249,'Data Input'!AC249,'Data Input'!AD249,'Data Input'!AF249,'Data Input'!AG249,'Data Input'!AH249,'Data Input'!AI249,'Data Input'!AJ249,'Data Input'!AK249,'Data Input'!AL249))","v":""},{"$f":"IF(L245=\"\",\"\",L245/COUNTIF('Data Input'!$C$8:$AQ$8,$L$2))","v":""},{"$f":"IF(ISBLANK('Data Input'!A249),\"\",SUM('Data Input'!K249,'Data Input'!AQ249))","v":""},{"$f":"IF(N245=\"\",\"\",N245/COUNTIF('Data Input'!$C$8:$AQ$8,$N$2))","v":""},{"$f":"IF(ISBLANK('Data Input'!A249),\"\",SUM('Data Input'!C249,'Data Input'!D249,'Data Input'!F249,'Data Input'!J249,'Data Input'!O249,'Data Input'!S249,'Data Input'!AM249,'Data Input'!AN249,'Data Input'!AO249,'Data Input'!AP249))","v":""},{"$f":"IF(P245=\"\",\"\",P245/COUNTIF('Data Input'!$C$8:$AQ$8,$P$2))","v":""},{"$f":"IF(ISBLANK('Data Input'!C249),\"\",SUM('Data Input'!P249))","v":""},{"$f":"IF(R245=\"\",\"\",R245/COUNTIF('Data Input'!$C$8:$AQ$8,$R$2))","v":""}]
[{"$f":"IF('Data Input'!A250=0,\"\",'Data Input'!A250)","v":""},{"$f":"IF(H246=\"\",\"\",IF(H246>Welcome!$K$23-1,\"Exceeding\",IF(H246>Welcome!$G$23-1,\"Expected\",IF(H246<Welcome!$G$23,\"Below\"))))","v":""},{"$f":"IF(ISBLANK('Data Input'!A250),\"\",COUNTIF('Data Input'!C250:AQ250,\"\")-1)","v":""},{"$f":"IF(ISBLANK('Data Input'!A250),\"\",COUNTIF('Data Input'!C250:AQ250,\"0\"))","v":""},{"$f":"IF(ISBLANK('Data Input'!A250),\"\",SUM(C246,D246))","v":""},{"$f":"IF(ISBLANK('Data Input'!A250),\"\",SUM('Data Input'!C250:V250))","v":""},{"$f":"IF(ISBLANK('Data Input'!A250),\"\",SUM('Data Input'!X250:AQ250))","v":""},{"$f":"IF(ISBLANK('Data Input'!A250),\"\",SUM('Data Input'!C250:AQ250))","v":""},{"$f":"IF(H246=\"\",\"\",H246/(COUNTA('Data Input'!$C$8:$AQ$8)-1))","v":""},{"$f":"IF(ISBLANK('Data Input'!A250),\"\",SUM('Data Input'!I250,'Data Input'!M250,'Data Input'!AB250,'Data Input'!AE250))","v":""},{"$f":"IF(J246=\"\",\"\",J246/COUNTIF('Data Input'!$C$8:$AQ$8,$J$2))","v":""},{"$f":"IF(ISBLANK('Data Input'!A250),\"\",SUM('Data Input'!E250,'Data Input'!G250,'Data Input'!H250,'Data Input'!L250,'Data Input'!N250,'Data Input'!Q250,'Data Input'!R250,'Data Input'!T250,'Data Input'!U250,'Data Input'!V250,'Data Input'!X250,'Data Input'!Y250,'Data Input'!Z250,'Data Input'!AA250,'Data Input'!AC250,'Data Input'!AD250,'Data Input'!AF250,'Data Input'!AG250,'Data Input'!AH250,'Data Input'!AI250,'Data Input'!AJ250,'Data Input'!AK250,'Data Input'!AL250))","v":""},{"$f":"IF(L246=\"\",\"\",L246/COUNTIF('Data Input'!$C$8:$AQ$8,$L$2))","v":""},{"$f":"IF(ISBLANK('Data Input'!A250),\"\",SUM('Data Input'!K250,'Data Input'!AQ250))","v":""},{"$f":"IF(N246=\"\",\"\",N246/COUNTIF('Data Input'!$C$8:$AQ$8,$N$2))","v":""},{"$f":"IF(ISBLANK('Data Input'!A250),\"\",SUM('Data Input'!C250,'Data Input'!D250,'Data Input'!F250,'Data Input'!J250,'Data Input'!O250,'Data Input'!S250,'Data Input'!AM250,'Data Input'!AN250,'Data Input'!AO250,'Data Input'!AP250))","v":""},{"$f":"IF(P246=\"\",\"\",P246/COUNTIF('Data Input'!$C$8:$AQ$8,$P$2))","v":""},{"$f":"IF(ISBLANK('Data Input'!C250),\"\",SUM('Data Input'!P250))","v":""},{"$f":"IF(R246=\"\",\"\",R246/COUNTIF('Data Input'!$C$8:$AQ$8,$R$2))","v":""}]
[{"$f":"IF('Data Input'!A251=0,\"\",'Data Input'!A251)","v":""},{"$f":"IF(H247=\"\",\"\",IF(H247>Welcome!$K$23-1,\"Exceeding\",IF(H247>Welcome!$G$23-1,\"Expected\",IF(H247<Welcome!$G$23,\"Below\"))))","v":""},{"$f":"IF(ISBLANK('Data Input'!A251),\"\",COUNTIF('Data Input'!C251:AQ251,\"\")-1)","v":""},{"$f":"IF(ISBLANK('Data Input'!A251),\"\",COUNTIF('Data Input'!C251:AQ251,\"0\"))","v":""},{"$f":"IF(ISBLANK('Data Input'!A251),\"\",SUM(C247,D247))","v":""},{"$f":"IF(ISBLANK('Data Input'!A251),\"\",SUM('Data Input'!C251:V251))","v":""},{"$f":"IF(ISBLANK('Data Input'!A251),\"\",SUM('Data Input'!X251:AQ251))","v":""},{"$f":"IF(ISBLANK('Data Input'!A251),\"\",SUM('Data Input'!C251:AQ251))","v":""},{"$f":"IF(H247=\"\",\"\",H247/(COUNTA('Data Input'!$C$8:$AQ$8)-1))","v":""},{"$f":"IF(ISBLANK('Data Input'!A251),\"\",SUM('Data Input'!I251,'Data Input'!M251,'Data Input'!AB251,'Data Input'!AE251))","v":""},{"$f":"IF(J247=\"\",\"\",J247/COUNTIF('Data Input'!$C$8:$AQ$8,$J$2))","v":""},{"$f":"IF(ISBLANK('Data Input'!A251),\"\",SUM('Data Input'!E251,'Data Input'!G251,'Data Input'!H251,'Data Input'!L251,'Data Input'!N251,'Data Input'!Q251,'Data Input'!R251,'Data Input'!T251,'Data Input'!U251,'Data Input'!V251,'Data Input'!X251,'Data Input'!Y251,'Data Input'!Z251,'Data Input'!AA251,'Data Input'!AC251,'Data Input'!AD251,'Data Input'!AF251,'Data Input'!AG251,'Data Input'!AH251,'Data Input'!AI251,'Data Input'!AJ251,'Data Input'!AK251,'Data Input'!AL251))","v":""},{"$f":"IF(L247=\"\",\"\",L247/COUNTIF('Data Input'!$C$8:$AQ$8,$L$2))","v":""},{"$f":"IF(ISBLANK('Data Input'!A251),\"\",SUM('Data Input'!K251,'Data Input'!AQ251))","v":""},{"$f":"IF(N247=\"\",\"\",N247/COUNTIF('Data Input'!$C$8:$AQ$8,$N$2))","v":""},{"$f":"IF(ISBLANK('Data Input'!A251),\"\",SUM('Data Input'!C251,'Data Input'!D251,'Data Input'!F251,'Data Input'!J251,'Data Input'!O251,'Data Input'!S251,'Data Input'!AM251,'Data Input'!AN251,'Data Input'!AO251,'Data Input'!AP251))","v":""},{"$f":"IF(P247=\"\",\"\",P247/COUNTIF('Data Input'!$C$8:$AQ$8,$P$2))","v":""},{"$f":"IF(ISBLANK('Data Input'!C251),\"\",SUM('Data Input'!P251))","v":""},{"$f":"IF(R247=\"\",\"\",R247/COUNTIF('Data Input'!$C$8:$AQ$8,$R$2))","v":""}]
[{"$f":"IF('Data Input'!A252=0,\"\",'Data Input'!A252)","v":""},{"$f":"IF(H248=\"\",\"\",IF(H248>Welcome!$K$23-1,\"Exceeding\",IF(H248>Welcome!$G$23-1,\"Expected\",IF(H248<Welcome!$G$23,\"Below\"))))","v":""},{"$f":"IF(ISBLANK('Data Input'!A252),\"\",COUNTIF('Data Input'!C252:AQ252,\"\")-1)","v":""},{"$f":"IF(ISBLANK('Data Input'!A252),\"\",COUNTIF('Data Input'!C252:AQ252,\"0\"))","v":""},{"$f":"IF(ISBLANK('Data Input'!A252),\"\",SUM(C248,D248))","v":""},{"$f":"IF(ISBLANK('Data Input'!A252),\"\",SUM('Data Input'!C252:V252))","v":""},{"$f":"IF(ISBLANK('Data Input'!A252),\"\",SUM('Data Input'!X252:AQ252))","v":""},{"$f":"IF(ISBLANK('Data Input'!A252),\"\",SUM('Data Input'!C252:AQ252))","v":""},{"$f":"IF(H248=\"\",\"\",H248/(COUNTA('Data Input'!$C$8:$AQ$8)-1))","v":""},{"$f":"IF(ISBLANK('Data Input'!A252),\"\",SUM('Data Input'!I252,'Data Input'!M252,'Data Input'!AB252,'Data Input'!AE252))","v":""},{"$f":"IF(J248=\"\",\"\",J248/COUNTIF('Data Input'!$C$8:$AQ$8,$J$2))","v":""},{"$f":"IF(ISBLANK('Data Input'!A252),\"\",SUM('Data Input'!E252,'Data Input'!G252,'Data Input'!H252,'Data Input'!L252,'Data Input'!N252,'Data Input'!Q252,'Data Input'!R252,'Data Input'!T252,'Data Input'!U252,'Data Input'!V252,'Data Input'!X252,'Data Input'!Y252,'Data Input'!Z252,'Data Input'!AA252,'Data Input'!AC252,'Data Input'!AD252,'Data Input'!AF252,'Data Input'!AG252,'Data Input'!AH252,'Data Input'!AI252,'Data Input'!AJ252,'Data Input'!AK252,'Data Input'!AL252))","v":""},{"$f":"IF(L248=\"\",\"\",L248/COUNTIF('Data Input'!$C$8:$AQ$8,$L$2))","v":""},{"$f":"IF(ISBLANK('Data Input'!A252),\"\",SUM('Data Input'!K252,'Data Input'!AQ252))","v":""},{"$f":"IF(N248=\"\",\"\",N248/COUNTIF('Data Input'!$C$8:$AQ$8,$N$2))","v":""},{"$f":"IF(ISBLANK('Data Input'!A252),\"\",SUM('Data Input'!C252,'Data Input'!D252,'Data Input'!F252,'Data Input'!J252,'Data Input'!O252,'Data Input'!S252,'Data Input'!AM252,'Data Input'!AN252,'Data Input'!AO252,'Data Input'!AP252))","v":""},{"$f":"IF(P248=\"\",\"\",P248/COUNTIF('Data Input'!$C$8:$AQ$8,$P$2))","v":""},{"$f":"IF(ISBLANK('Data Input'!C252),\"\",SUM('Data Input'!P252))","v":""},{"$f":"IF(R248=\"\",\"\",R248/COUNTIF('Data Input'!$C$8:$AQ$8,$R$2))","v":""}]
[{"$f":"IF('Data Input'!A253=0,\"\",'Data Input'!A253)","v":""},{"$f":"IF(H249=\"\",\"\",IF(H249>Welcome!$K$23-1,\"Exceeding\",IF(H249>Welcome!$G$23-1,\"Expected\",IF(H249<Welcome!$G$23,\"Below\"))))","v":""},{"$f":"IF(ISBLANK('Data Input'!A253),\"\",COUNTIF('Data Input'!C253:AQ253,\"\")-1)","v":""},{"$f":"IF(ISBLANK('Data Input'!A253),\"\",COUNTIF('Data Input'!C253:AQ253,\"0\"))","v":""},{"$f":"IF(ISBLANK('Data Input'!A253),\"\",SUM(C249,D249))","v":""},{"$f":"IF(ISBLANK('Data Input'!A253),\"\",SUM('Data Input'!C253:V253))","v":""},{"$f":"IF(ISBLANK('Data Input'!A253),\"\",SUM('Data Input'!X253:AQ253))","v":""},{"$f":"IF(ISBLANK('Data Input'!A253),\"\",SUM('Data Input'!C253:AQ253))","v":""},{"$f":"IF(H249=\"\",\"\",H249/(COUNTA('Data Input'!$C$8:$AQ$8)-1))","v":""},{"$f":"IF(ISBLANK('Data Input'!A253),\"\",SUM('Data Input'!I253,'Data Input'!M253,'Data Input'!AB253,'Data Input'!AE253))","v":""},{"$f":"IF(J249=\"\",\"\",J249/COUNTIF('Data Input'!$C$8:$AQ$8,$J$2))","v":""},{"$f":"IF(ISBLANK('Data Input'!A253),\"\",SUM('Data Input'!E253,'Data Input'!G253,'Data Input'!H253,'Data Input'!L253,'Data Input'!N253,'Data Input'!Q253,'Data Input'!R253,'Data Input'!T253,'Data Input'!U253,'Data Input'!V253,'Data Input'!X253,'Data Input'!Y253,'Data Input'!Z253,'Data Input'!AA253,'Data Input'!AC253,'Data Input'!AD253,'Data Input'!AF253,'Data Input'!AG253,'Data Input'!AH253,'Data Input'!AI253,'Data Input'!AJ253,'Data Input'!AK253,'Data Input'!AL253))","v":""},{"$f":"IF(L249=\"\",\"\",L249/COUNTIF('Data Input'!$C$8:$AQ$8,$L$2))","v":""},{"$f":"IF(ISBLANK('Data Input'!A253),\"\",SUM('Data Input'!K253,'Data Input'!AQ253))","v":""},{"$f":"IF(N249=\"\",\"\",N249/COUNTIF('Data Input'!$C$8:$AQ$8,$N$2))","v":""},{"$f":"IF(ISBLANK('Data Input'!A253),\"\",SUM('Data Input'!C253,'Data Input'!D253,'Data Input'!F253,'Data Input'!J253,'Data Input'!O253,'Data Input'!S253,'Data Input'!AM253,'Data Input'!AN253,'Data Input'!AO253,'Data Input'!AP253))","v":""},{"$f":"IF(P249=\"\",\"\",P249/COUNTIF('Data Input'!$C$8:$AQ$8,$P$2))","v":""},{"$f":"IF(ISBLANK('Data Input'!C253),\"\",SUM('Data Input'!P253))","v":""},{"$f":"IF(R249=\"\",\"\",R249/COUNTIF('Data Input'!$C$8:$AQ$8,$R$2))","v":""}]
[{"$f":"IF('Data Input'!A254=0,\"\",'Data Input'!A254)","v":""},{"$f":"IF(H250=\"\",\"\",IF(H250>Welcome!$K$23-1,\"Exceeding\",IF(H250>Welcome!$G$23-1,\"Expected\",IF(H250<Welcome!$G$23,\"Below\"))))","v":""},{"$f":"IF(ISBLANK('Data Input'!A254),\"\",COUNTIF('Data Input'!C254:AQ254,\"\")-1)","v":""},{"$f":"IF(ISBLANK('Data Input'!A254),\"\",COUNTIF('Data Input'!C254:AQ254,\"0\"))","v":""},{"$f":"IF(ISBLANK('Data Input'!A254),\"\",SUM(C250,D250))","v":""},{"$f":"IF(ISBLANK('Data Input'!A254),\"\",SUM('Data Input'!C254:V254))","v":""},{"$f":"IF(ISBLANK('Data Input'!A254),\"\",SUM('Data Input'!X254:AQ254))","v":""},{"$f":"IF(ISBLANK('Data Input'!A254),\"\",SUM('Data Input'!C254:AQ254))","v":""},{"$f":"IF(H250=\"\",\"\",H250/(COUNTA('Data Input'!$C$8:$AQ$8)-1))","v":""},{"$f":"IF(ISBLANK('Data Input'!A254),\"\",SUM('Data Input'!I254,'Data Input'!M254,'Data Input'!AB254,'Data Input'!AE254))","v":""},{"$f":"IF(J250=\"\",\"\",J250/COUNTIF('Data Input'!$C$8:$AQ$8,$J$2))","v":""},{"$f":"IF(ISBLANK('Data Input'!A254),\"\",SUM('Data Input'!E254,'Data Input'!G254,'Data Input'!H254,'Data Input'!L254,'Data Input'!N254,'Data Input'!Q254,'Data Input'!R254,'Data Input'!T254,'Data Input'!U254,'Data Input'!V254,'Data Input'!X254,'Data Input'!Y254,'Data Input'!Z254,'Data Input'!AA254,'Data Input'!AC254,'Data Input'!AD254,'Data Input'!AF254,'Data Input'!AG254,'Data Input'!AH254,'Data Input'!AI254,'Data Input'!AJ254,'Data Input'!AK254,'Data Input'!AL254))","v":""},{"$f":"IF(L250=\"\",\"\",L250/COUNTIF('Data Input'!$C$8:$AQ$8,$L$2))","v":""},{"$f":"IF(ISBLANK('Data Input'!A254),\"\",SUM('Data Input'!K254,'Data Input'!AQ254))","v":""},{"$f":"IF(N250=\"\",\"\",N250/COUNTIF('Data Input'!$C$8:$AQ$8,$N$2))","v":""},{"$f":"IF(ISBLANK('Data Input'!A254),\"\",SUM('Data Input'!C254,'Data Input'!D254,'Data Input'!F254,'Data Input'!J254,'Data Input'!O254,'Data Input'!S254,'Data Input'!AM254,'Data Input'!AN254,'Data Input'!AO254,'Data Input'!AP254))","v":""},{"$f":"IF(P250=\"\",\"\",P250/COUNTIF('Data Input'!$C$8:$AQ$8,$P$2))","v":""},{"$f":"IF(ISBLANK('Data Input'!C254),\"\",SUM('Data Input'!P254))","v":""},{"$f":"IF(R250=\"\",\"\",R250/COUNTIF('Data Input'!$C$8:$AQ$8,$R$2))","v":""}]
[{"$f":"IF('Data Input'!A255=0,\"\",'Data Input'!A255)","v":""},{"$f":"IF(H251=\"\",\"\",IF(H251>Welcome!$K$23-1,\"Exceeding\",IF(H251>Welcome!$G$23-1,\"Expected\",IF(H251<Welcome!$G$23,\"Below\"))))","v":""},{"$f":"IF(ISBLANK('Data Input'!A255),\"\",COUNTIF('Data Input'!C255:AQ255,\"\")-1)","v":""},{"$f":"IF(ISBLANK('Data Input'!A255),\"\",COUNTIF('Data Input'!C255:AQ255,\"0\"))","v":""},{"$f":"IF(ISBLANK('Data Input'!A255),\"\",SUM(C251,D251))","v":""},{"$f":"IF(ISBLANK('Data Input'!A255),\"\",SUM('Data Input'!C255:V255))","v":""},{"$f":"IF(ISBLANK('Data Input'!A255),\"\",SUM('Data Input'!X255:AQ255))","v":""},{"$f":"IF(ISBLANK('Data Input'!A255),\"\",SUM('Data Input'!C255:AQ255))","v":""},{"$f":"IF(H251=\"\",\"\",H251/(COUNTA('Data Input'!$C$8:$AQ$8)-1))","v":""},{"$f":"IF(ISBLANK('Data Input'!A255),\"\",SUM('Data Input'!I255,'Data Input'!M255,'Data Input'!AB255,'Data Input'!AE255))","v":""},{"$f":"IF(J251=\"\",\"\",J251/COUNTIF('Data Input'!$C$8:$AQ$8,$J$2))","v":""},{"$f":"IF(ISBLANK('Data Input'!A255),\"\",SUM('Data Input'!E255,'Data Input'!G255,'Data Input'!H255,'Data Input'!L255,'Data Input'!N255,'Data Input'!Q255,'Data Input'!R255,'Data Input'!T255,'Data Input'!U255,'Data Input'!V255,'Data Input'!X255,'Data Input'!Y255,'Data Input'!Z255,'Data Input'!AA255,'Data Input'!AC255,'Data Input'!AD255,'Data Input'!AF255,'Data Input'!AG255,'Data Input'!AH255,'Data Input'!AI255,'Data Input'!AJ255,'Data Input'!AK255,'Data Input'!AL255))","v":""},{"$f":"IF(L251=\"\",\"\",L251/COUNTIF('Data Input'!$C$8:$AQ$8,$L$2))","v":""},{"$f":"IF(ISBLANK('Data Input'!A255),\"\",SUM('Data Input'!K255,'Data Input'!AQ255))","v":""},{"$f":"IF(N251=\"\",\"\",N251/COUNTIF('Data Input'!$C$8:$AQ$8,$N$2))","v":""},{"$f":"IF(ISBLANK('Data Input'!A255),\"\",SUM('Data Input'!C255,'Data Input'!D255,'Data Input'!F255,'Data Input'!J255,'Data Input'!O255,'Data Input'!S255,'Data Input'!AM255,'Data Input'!AN255,'Data Input'!AO255,'Data Input'!AP255))","v":""},{"$f":"IF(P251=\"\",\"\",P251/COUNTIF('Data Input'!$C$8:$AQ$8,$P$2))","v":""},{"$f":"IF(ISBLANK('Data Input'!C255),\"\",SUM('Data Input'!P255))","v":""},{"$f":"IF(R251=\"\",\"\",R251/COUNTIF('Data Input'!$C$8:$AQ$8,$R$2))","v":""}]
[{"$f":"IF('Data Input'!A256=0,\"\",'Data Input'!A256)","v":""},{"$f":"IF(H252=\"\",\"\",IF(H252>Welcome!$K$23-1,\"Exceeding\",IF(H252>Welcome!$G$23-1,\"Expected\",IF(H252<Welcome!$G$23,\"Below\"))))","v":""},{"$f":"IF(ISBLANK('Data Input'!A256),\"\",COUNTIF('Data Input'!C256:AQ256,\"\")-1)","v":""},{"$f":"IF(ISBLANK('Data Input'!A256),\"\",COUNTIF('Data Input'!C256:AQ256,\"0\"))","v":""},{"$f":"IF(ISBLANK('Data Input'!A256),\"\",SUM(C252,D252))","v":""},{"$f":"IF(ISBLANK('Data Input'!A256),\"\",SUM('Data Input'!C256:V256))","v":""},{"$f":"IF(ISBLANK('Data Input'!A256),\"\",SUM('Data Input'!X256:AQ256))","v":""},{"$f":"IF(ISBLANK('Data Input'!A256),\"\",SUM('Data Input'!C256:AQ256))","v":""},{"$f":"IF(H252=\"\",\"\",H252/(COUNTA('Data Input'!$C$8:$AQ$8)-1))","v":""},{"$f":"IF(ISBLANK('Data Input'!A256),\"\",SUM('Data Input'!I256,'Data Input'!M256,'Data Input'!AB256,'Data Input'!AE256))","v":""},{"$f":"IF(J252=\"\",\"\",J252/COUNTIF('Data Input'!$C$8:$AQ$8,$J$2))","v":""},{"$f":"IF(ISBLANK('Data Input'!A256),\"\",SUM('Data Input'!E256,'Data Input'!G256,'Data Input'!H256,'Data Input'!L256,'Data Input'!N256,'Data Input'!Q256,'Data Input'!R256,'Data Input'!T256,'Data Input'!U256,'Data Input'!V256,'Data Input'!X256,'Data Input'!Y256,'Data Input'!Z256,'Data Input'!AA256,'Data Input'!AC256,'Data Input'!AD256,'Data Input'!AF256,'Data Input'!AG256,'Data Input'!AH256,'Data Input'!AI256,'Data Input'!AJ256,'Data Input'!AK256,'Data Input'!AL256))","v":""},{"$f":"IF(L252=\"\",\"\",L252/COUNTIF('Data Input'!$C$8:$AQ$8,$L$2))","v":""},{"$f":"IF(ISBLANK('Data Input'!A256),\"\",SUM('Data Input'!K256,'Data Input'!AQ256))","v":""},{"$f":"IF(N252=\"\",\"\",N252/COUNTIF('Data Input'!$C$8:$AQ$8,$N$2))","v":""},{"$f":"IF(ISBLANK('Data Input'!A256),\"\",SUM('Data Input'!C256,'Data Input'!D256,'Data Input'!F256,'Data Input'!J256,'Data Input'!O256,'Data Input'!S256,'Data Input'!AM256,'Data Input'!AN256,'Data Input'!AO256,'Data Input'!AP256))","v":""},{"$f":"IF(P252=\"\",\"\",P252/COUNTIF('Data Input'!$C$8:$AQ$8,$P$2))","v":""},{"$f":"IF(ISBLANK('Data Input'!C256),\"\",SUM('Data Input'!P256))","v":""},{"$f":"IF(R252=\"\",\"\",R252/COUNTIF('Data Input'!$C$8:$AQ$8,$R$2))","v":""}]
[{"$f":"IF('Data Input'!A257=0,\"\",'Data Input'!A257)","v":""},{"$f":"IF(H253=\"\",\"\",IF(H253>Welcome!$K$23-1,\"Exceeding\",IF(H253>Welcome!$G$23-1,\"Expected\",IF(H253<Welcome!$G$23,\"Below\"))))","v":""},{"$f":"IF(ISBLANK('Data Input'!A257),\"\",COUNTIF('Data Input'!C257:AQ257,\"\")-1)","v":""},{"$f":"IF(ISBLANK('Data Input'!A257),\"\",COUNTIF('Data Input'!C257:AQ257,\"0\"))","v":""},{"$f":"IF(ISBLANK('Data Input'!A257),\"\",SUM(C253,D253))","v":""},{"$f":"IF(ISBLANK('Data Input'!A257),\"\",SUM('Data Input'!C257:V257))","v":""},{"$f":"IF(ISBLANK('Data Input'!A257),\"\",SUM('Data Input'!X257:AQ257))","v":""},{"$f":"IF(ISBLANK('Data Input'!A257),\"\",SUM('Data Input'!C257:AQ257))","v":""},{"$f":"IF(H253=\"\",\"\",H253/(COUNTA('Data Input'!$C$8:$AQ$8)-1))","v":""},{"$f":"IF(ISBLANK('Data Input'!A257),\"\",SUM('Data Input'!I257,'Data Input'!M257,'Data Input'!AB257,'Data Input'!AE257))","v":""},{"$f":"IF(J253=\"\",\"\",J253/COUNTIF('Data Input'!$C$8:$AQ$8,$J$2))","v":""},{"$f":"IF(ISBLANK('Data Input'!A257),\"\",SUM('Data Input'!E257,'Data Input'!G257,'Data Input'!H257,'Data Input'!L257,'Data Input'!N257,'Data Input'!Q257,'Data Input'!R257,'Data Input'!T257,'Data Input'!U257,'Data Input'!V257,'Data Input'!X257,'Data Input'!Y257,'Data Input'!Z257,'Data Input'!AA257,'Data Input'!AC257,'Data Input'!AD257,'Data Input'!AF257,'Data Input'!AG257,'Data Input'!AH257,'Data Input'!AI257,'Data Input'!AJ257,'Data Input'!AK257,'Data Input'!AL257))","v":""},{"$f":"IF(L253=\"\",\"\",L253/COUNTIF('Data Input'!$C$8:$AQ$8,$L$2))","v":""},{"$f":"IF(ISBLANK('Data Input'!A257),\"\",SUM('Data Input'!K257,'Data Input'!AQ257))","v":""},{"$f":"IF(N253=\"\",\"\",N253/COUNTIF('Data Input'!$C$8:$AQ$8,$N$2))","v":""},{"$f":"IF(ISBLANK('Data Input'!A257),\"\",SUM('Data Input'!C257,'Data Input'!D257,'Data Input'!F257,'Data Input'!J257,'Data Input'!O257,'Data Input'!S257,'Data Input'!AM257,'Data Input'!AN257,'Data Input'!AO257,'Data Input'!AP257))","v":""},{"$f":"IF(P253=\"\",\"\",P253/COUNTIF('Data Input'!$C$8:$AQ$8,$P$2))","v":""},{"$f":"IF(ISBLANK('Data Input'!C257),\"\",SUM('Data Input'!P257))","v":""},{"$f":"IF(R253=\"\",\"\",R253/COUNTIF('Data Input'!$C$8:$AQ$8,$R$2))","v":""}]
[{"$f":"IF('Data Input'!A258=0,\"\",'Data Input'!A258)","v":""},{"$f":"IF(H254=\"\",\"\",IF(H254>Welcome!$K$23-1,\"Exceeding\",IF(H254>Welcome!$G$23-1,\"Expected\",IF(H254<Welcome!$G$23,\"Below\"))))","v":""},{"$f":"IF(ISBLANK('Data Input'!A258),\"\",COUNTIF('Data Input'!C258:AQ258,\"\")-1)","v":""},{"$f":"IF(ISBLANK('Data Input'!A258),\"\",COUNTIF('Data Input'!C258:AQ258,\"0\"))","v":""},{"$f":"IF(ISBLANK('Data Input'!A258),\"\",SUM(C254,D254))","v":""},{"$f":"IF(ISBLANK('Data Input'!A258),\"\",SUM('Data Input'!C258:V258))","v":""},{"$f":"IF(ISBLANK('Data Input'!A258),\"\",SUM('Data Input'!X258:AQ258))","v":""},{"$f":"IF(ISBLANK('Data Input'!A258),\"\",SUM('Data Input'!C258:AQ258))","v":""},{"$f":"IF(H254=\"\",\"\",H254/(COUNTA('Data Input'!$C$8:$AQ$8)-1))","v":""},{"$f":"IF(ISBLANK('Data Input'!A258),\"\",SUM('Data Input'!I258,'Data Input'!M258,'Data Input'!AB258,'Data Input'!AE258))","v":""},{"$f":"IF(J254=\"\",\"\",J254/COUNTIF('Data Input'!$C$8:$AQ$8,$J$2))","v":""},{"$f":"IF(ISBLANK('Data Input'!A258),\"\",SUM('Data Input'!E258,'Data Input'!G258,'Data Input'!H258,'Data Input'!L258,'Data Input'!N258,'Data Input'!Q258,'Data Input'!R258,'Data Input'!T258,'Data Input'!U258,'Data Input'!V258,'Data Input'!X258,'Data Input'!Y258,'Data Input'!Z258,'Data Input'!AA258,'Data Input'!AC258,'Data Input'!AD258,'Data Input'!AF258,'Data Input'!AG258,'Data Input'!AH258,'Data Input'!AI258,'Data Input'!AJ258,'Data Input'!AK258,'Data Input'!AL258))","v":""},{"$f":"IF(L254=\"\",\"\",L254/COUNTIF('Data Input'!$C$8:$AQ$8,$L$2))","v":""},{"$f":"IF(ISBLANK('Data Input'!A258),\"\",SUM('Data Input'!K258,'Data Input'!AQ258))","v":""},{"$f":"IF(N254=\"\",\"\",N254/COUNTIF('Data Input'!$C$8:$AQ$8,$N$2))","v":""},{"$f":"IF(ISBLANK('Data Input'!A258),\"\",SUM('Data Input'!C258,'Data Input'!D258,'Data Input'!F258,'Data Input'!J258,'Data Input'!O258,'Data Input'!S258,'Data Input'!AM258,'Data Input'!AN258,'Data Input'!AO258,'Data Input'!AP258))","v":""},{"$f":"IF(P254=\"\",\"\",P254/COUNTIF('Data Input'!$C$8:$AQ$8,$P$2))","v":""},{"$f":"IF(ISBLANK('Data Input'!C258),\"\",SUM('Data Input'!P258))","v":""},{"$f":"IF(R254=\"\",\"\",R254/COUNTIF('Data Input'!$C$8:$AQ$8,$R$2))","v":""}]
[{"$f":"IF('Data Input'!A259=0,\"\",'Data Input'!A259)","v":""},{"$f":"IF(H255=\"\",\"\",IF(H255>Welcome!$K$23-1,\"Exceeding\",IF(H255>Welcome!$G$23-1,\"Expected\",IF(H255<Welcome!$G$23,\"Below\"))))","v":""},{"$f":"IF(ISBLANK('Data Input'!A259),\"\",COUNTIF('Data Input'!C259:AQ259,\"\")-1)","v":""},{"$f":"IF(ISBLANK('Data Input'!A259),\"\",COUNTIF('Data Input'!C259:AQ259,\"0\"))","v":""},{"$f":"IF(ISBLANK('Data Input'!A259),\"\",SUM(C255,D255))","v":""},{"$f":"IF(ISBLANK('Data Input'!A259),\"\",SUM('Data Input'!C259:V259))","v":""},{"$f":"IF(ISBLANK('Data Input'!A259),\"\",SUM('Data Input'!X259:AQ259))","v":""},{"$f":"IF(ISBLANK('Data Input'!A259),\"\",SUM('Data Input'!C259:AQ259))","v":""},{"$f":"IF(H255=\"\",\"\",H255/(COUNTA('Data Input'!$C$8:$AQ$8)-1))","v":""},{"$f":"IF(ISBLANK('Data Input'!A259),\"\",SUM('Data Input'!I259,'Data Input'!M259,'Data Input'!AB259,'Data Input'!AE259))","v":""},{"$f":"IF(J255=\"\",\"\",J255/COUNTIF('Data Input'!$C$8:$AQ$8,$J$2))","v":""},{"$f":"IF(ISBLANK('Data Input'!A259),\"\",SUM('Data Input'!E259,'Data Input'!G259,'Data Input'!H259,'Data Input'!L259,'Data Input'!N259,'Data Input'!Q259,'Data Input'!R259,'Data Input'!T259,'Data Input'!U259,'Data Input'!V259,'Data Input'!X259,'Data Input'!Y259,'Data Input'!Z259,'Data Input'!AA259,'Data Input'!AC259,'Data Input'!AD259,'Data Input'!AF259,'Data Input'!AG259,'Data Input'!AH259,'Data Input'!AI259,'Data Input'!AJ259,'Data Input'!AK259,'Data Input'!AL259))","v":""},{"$f":"IF(L255=\"\",\"\",L255/COUNTIF('Data Input'!$C$8:$AQ$8,$L$2))","v":""},{"$f":"IF(ISBLANK('Data Input'!A259),\"\",SUM('Data Input'!K259,'Data Input'!AQ259))","v":""},{"$f":"IF(N255=\"\",\"\",N255/COUNTIF('Data Input'!$C$8:$AQ$8,$N$2))","v":""},{"$f":"IF(ISBLANK('Data Input'!A259),\"\",SUM('Data Input'!C259,'Data Input'!D259,'Data Input'!F259,'Data Input'!J259,'Data Input'!O259,'Data Input'!S259,'Data Input'!AM259,'Data Input'!AN259,'Data Input'!AO259,'Data Input'!AP259))","v":""},{"$f":"IF(P255=\"\",\"\",P255/COUNTIF('Data Input'!$C$8:$AQ$8,$P$2))","v":""},{"$f":"IF(ISBLANK('Data Input'!C259),\"\",SUM('Data Input'!P259))","v":""},{"$f":"IF(R255=\"\",\"\",R255/COUNTIF('Data Input'!$C$8:$AQ$8,$R$2))","v":""}]
[{"$f":"IF('Data Input'!A260=0,\"\",'Data Input'!A260)","v":""},{"$f":"IF(H256=\"\",\"\",IF(H256>Welcome!$K$23-1,\"Exceeding\",IF(H256>Welcome!$G$23-1,\"Expected\",IF(H256<Welcome!$G$23,\"Below\"))))","v":""},{"$f":"IF(ISBLANK('Data Input'!A260),\"\",COUNTIF('Data Input'!C260:AQ260,\"\")-1)","v":""},{"$f":"IF(ISBLANK('Data Input'!A260),\"\",COUNTIF('Data Input'!C260:AQ260,\"0\"))","v":""},{"$f":"IF(ISBLANK('Data Input'!A260),\"\",SUM(C256,D256))","v":""},{"$f":"IF(ISBLANK('Data Input'!A260),\"\",SUM('Data Input'!C260:V260))","v":""},{"$f":"IF(ISBLANK('Data Input'!A260),\"\",SUM('Data Input'!X260:AQ260))","v":""},{"$f":"IF(ISBLANK('Data Input'!A260),\"\",SUM('Data Input'!C260:AQ260))","v":""},{"$f":"IF(H256=\"\",\"\",H256/(COUNTA('Data Input'!$C$8:$AQ$8)-1))","v":""},{"$f":"IF(ISBLANK('Data Input'!A260),\"\",SUM('Data Input'!I260,'Data Input'!M260,'Data Input'!AB260,'Data Input'!AE260))","v":""},{"$f":"IF(J256=\"\",\"\",J256/COUNTIF('Data Input'!$C$8:$AQ$8,$J$2))","v":""},{"$f":"IF(ISBLANK('Data Input'!A260),\"\",SUM('Data Input'!E260,'Data Input'!G260,'Data Input'!H260,'Data Input'!L260,'Data Input'!N260,'Data Input'!Q260,'Data Input'!R260,'Data Input'!T260,'Data Input'!U260,'Data Input'!V260,'Data Input'!X260,'Data Input'!Y260,'Data Input'!Z260,'Data Input'!AA260,'Data Input'!AC260,'Data Input'!AD260,'Data Input'!AF260,'Data Input'!AG260,'Data Input'!AH260,'Data Input'!AI260,'Data Input'!AJ260,'Data Input'!AK260,'Data Input'!AL260))","v":""},{"$f":"IF(L256=\"\",\"\",L256/COUNTIF('Data Input'!$C$8:$AQ$8,$L$2))","v":""},{"$f":"IF(ISBLANK('Data Input'!A260),\"\",SUM('Data Input'!K260,'Data Input'!AQ260))","v":""},{"$f":"IF(N256=\"\",\"\",N256/COUNTIF('Data Input'!$C$8:$AQ$8,$N$2))","v":""},{"$f":"IF(ISBLANK('Data Input'!A260),\"\",SUM('Data Input'!C260,'Data Input'!D260,'Data Input'!F260,'Data Input'!J260,'Data Input'!O260,'Data Input'!S260,'Data Input'!AM260,'Data Input'!AN260,'Data Input'!AO260,'Data Input'!AP260))","v":""},{"$f":"IF(P256=\"\",\"\",P256/COUNTIF('Data Input'!$C$8:$AQ$8,$P$2))","v":""},{"$f":"IF(ISBLANK('Data Input'!C260),\"\",SUM('Data Input'!P260))","v":""},{"$f":"IF(R256=\"\",\"\",R256/COUNTIF('Data Input'!$C$8:$AQ$8,$R$2))","v":""}]
[{"$f":"IF('Data Input'!A261=0,\"\",'Data Input'!A261)","v":""},{"$f":"IF(H257=\"\",\"\",IF(H257>Welcome!$K$23-1,\"Exceeding\",IF(H257>Welcome!$G$23-1,\"Expected\",IF(H257<Welcome!$G$23,\"Below\"))))","v":""},{"$f":"IF(ISBLANK('Data Input'!A261),\"\",COUNTIF('Data Input'!C261:AQ261,\"\")-1)","v":""},{"$f":"IF(ISBLANK('Data Input'!A261),\"\",COUNTIF('Data Input'!C261:AQ261,\"0\"))","v":""},{"$f":"IF(ISBLANK('Data Input'!A261),\"\",SUM(C257,D257))","v":""},{"$f":"IF(ISBLANK('Data Input'!A261),\"\",SUM('Data Input'!C261:V261))","v":""},{"$f":"IF(ISBLANK('Data Input'!A261),\"\",SUM('Data Input'!X261:AQ261))","v":""},{"$f":"IF(ISBLANK('Data Input'!A261),\"\",SUM('Data Input'!C261:AQ261))","v":""},{"$f":"IF(H257=\"\",\"\",H257/(COUNTA('Data Input'!$C$8:$AQ$8)-1))","v":""},{"$f":"IF(ISBLANK('Data Input'!A261),\"\",SUM('Data Input'!I261,'Data Input'!M261,'Data Input'!AB261,'Data Input'!AE261))","v":""},{"$f":"IF(J257=\"\",\"\",J257/COUNTIF('Data Input'!$C$8:$AQ$8,$J$2))","v":""},{"$f":"IF(ISBLANK('Data Input'!A261),\"\",SUM('Data Input'!E261,'Data Input'!G261,'Data Input'!H261,'Data Input'!L261,'Data Input'!N261,'Data Input'!Q261,'Data Input'!R261,'Data Input'!T261,'Data Input'!U261,'Data Input'!V261,'Data Input'!X261,'Data Input'!Y261,'Data Input'!Z261,'Data Input'!AA261,'Data Input'!AC261,'Data Input'!AD261,'Data Input'!AF261,'Data Input'!AG261,'Data Input'!AH261,'Data Input'!AI261,'Data Input'!AJ261,'Data Input'!AK261,'Data Input'!AL261))","v":""},{"$f":"IF(L257=\"\",\"\",L257/COUNTIF('Data Input'!$C$8:$AQ$8,$L$2))","v":""},{"$f":"IF(ISBLANK('Data Input'!A261),\"\",SUM('Data Input'!K261,'Data Input'!AQ261))","v":""},{"$f":"IF(N257=\"\",\"\",N257/COUNTIF('Data Input'!$C$8:$AQ$8,$N$2))","v":""},{"$f":"IF(ISBLANK('Data Input'!A261),\"\",SUM('Data Input'!C261,'Data Input'!D261,'Data Input'!F261,'Data Input'!J261,'Data Input'!O261,'Data Input'!S261,'Data Input'!AM261,'Data Input'!AN261,'Data Input'!AO261,'Data Input'!AP261))","v":""},{"$f":"IF(P257=\"\",\"\",P257/COUNTIF('Data Input'!$C$8:$AQ$8,$P$2))","v":""},{"$f":"IF(ISBLANK('Data Input'!C261),\"\",SUM('Data Input'!P261))","v":""},{"$f":"IF(R257=\"\",\"\",R257/COUNTIF('Data Input'!$C$8:$AQ$8,$R$2))","v":""}]
[{"$f":"IF('Data Input'!A262=0,\"\",'Data Input'!A262)","v":""},{"$f":"IF(H258=\"\",\"\",IF(H258>Welcome!$K$23-1,\"Exceeding\",IF(H258>Welcome!$G$23-1,\"Expected\",IF(H258<Welcome!$G$23,\"Below\"))))","v":""},{"$f":"IF(ISBLANK('Data Input'!A262),\"\",COUNTIF('Data Input'!C262:AQ262,\"\")-1)","v":""},{"$f":"IF(ISBLANK('Data Input'!A262),\"\",COUNTIF('Data Input'!C262:AQ262,\"0\"))","v":""},{"$f":"IF(ISBLANK('Data Input'!A262),\"\",SUM(C258,D258))","v":""},{"$f":"IF(ISBLANK('Data Input'!A262),\"\",SUM('Data Input'!C262:V262))","v":""},{"$f":"IF(ISBLANK('Data Input'!A262),\"\",SUM('Data Input'!X262:AQ262))","v":""},{"$f":"IF(ISBLANK('Data Input'!A262),\"\",SUM('Data Input'!C262:AQ262))","v":""},{"$f":"IF(H258=\"\",\"\",H258/(COUNTA('Data Input'!$C$8:$AQ$8)-1))","v":""},{"$f":"IF(ISBLANK('Data Input'!A262),\"\",SUM('Data Input'!I262,'Data Input'!M262,'Data Input'!AB262,'Data Input'!AE262))","v":""},{"$f":"IF(J258=\"\",\"\",J258/COUNTIF('Data Input'!$C$8:$AQ$8,$J$2))","v":""},{"$f":"IF(ISBLANK('Data Input'!A262),\"\",SUM('Data Input'!E262,'Data Input'!G262,'Data Input'!H262,'Data Input'!L262,'Data Input'!N262,'Data Input'!Q262,'Data Input'!R262,'Data Input'!T262,'Data Input'!U262,'Data Input'!V262,'Data Input'!X262,'Data Input'!Y262,'Data Input'!Z262,'Data Input'!AA262,'Data Input'!AC262,'Data Input'!AD262,'Data Input'!AF262,'Data Input'!AG262,'Data Input'!AH262,'Data Input'!AI262,'Data Input'!AJ262,'Data Input'!AK262,'Data Input'!AL262))","v":""},{"$f":"IF(L258=\"\",\"\",L258/COUNTIF('Data Input'!$C$8:$AQ$8,$L$2))","v":""},{"$f":"IF(ISBLANK('Data Input'!A262),\"\",SUM('Data Input'!K262,'Data Input'!AQ262))","v":""},{"$f":"IF(N258=\"\",\"\",N258/COUNTIF('Data Input'!$C$8:$AQ$8,$N$2))","v":""},{"$f":"IF(ISBLANK('Data Input'!A262),\"\",SUM('Data Input'!C262,'Data Input'!D262,'Data Input'!F262,'Data Input'!J262,'Data Input'!O262,'Data Input'!S262,'Data Input'!AM262,'Data Input'!AN262,'Data Input'!AO262,'Data Input'!AP262))","v":""},{"$f":"IF(P258=\"\",\"\",P258/COUNTIF('Data Input'!$C$8:$AQ$8,$P$2))","v":""},{"$f":"IF(ISBLANK('Data Input'!C262),\"\",SUM('Data Input'!P262))","v":""},{"$f":"IF(R258=\"\",\"\",R258/COUNTIF('Data Input'!$C$8:$AQ$8,$R$2))","v":""}]
[{"$f":"IF('Data Input'!A263=0,\"\",'Data Input'!A263)","v":""},{"$f":"IF(H259=\"\",\"\",IF(H259>Welcome!$K$23-1,\"Exceeding\",IF(H259>Welcome!$G$23-1,\"Expected\",IF(H259<Welcome!$G$23,\"Below\"))))","v":""},{"$f":"IF(ISBLANK('Data Input'!A263),\"\",COUNTIF('Data Input'!C263:AQ263,\"\")-1)","v":""},{"$f":"IF(ISBLANK('Data Input'!A263),\"\",COUNTIF('Data Input'!C263:AQ263,\"0\"))","v":""},{"$f":"IF(ISBLANK('Data Input'!A263),\"\",SUM(C259,D259))","v":""},{"$f":"IF(ISBLANK('Data Input'!A263),\"\",SUM('Data Input'!C263:V263))","v":""},{"$f":"IF(ISBLANK('Data Input'!A263),\"\",SUM('Data Input'!X263:AQ263))","v":""},{"$f":"IF(ISBLANK('Data Input'!A263),\"\",SUM('Data Input'!C263:AQ263))","v":""},{"$f":"IF(H259=\"\",\"\",H259/(COUNTA('Data Input'!$C$8:$AQ$8)-1))","v":""},{"$f":"IF(ISBLANK('Data Input'!A263),\"\",SUM('Data Input'!I263,'Data Input'!M263,'Data Input'!AB263,'Data Input'!AE263))","v":""},{"$f":"IF(J259=\"\",\"\",J259/COUNTIF('Data Input'!$C$8:$AQ$8,$J$2))","v":""},{"$f":"IF(ISBLANK('Data Input'!A263),\"\",SUM('Data Input'!E263,'Data Input'!G263,'Data Input'!H263,'Data Input'!L263,'Data Input'!N263,'Data Input'!Q263,'Data Input'!R263,'Data Input'!T263,'Data Input'!U263,'Data Input'!V263,'Data Input'!X263,'Data Input'!Y263,'Data Input'!Z263,'Data Input'!AA263,'Data Input'!AC263,'Data Input'!AD263,'Data Input'!AF263,'Data Input'!AG263,'Data Input'!AH263,'Data Input'!AI263,'Data Input'!AJ263,'Data Input'!AK263,'Data Input'!AL263))","v":""},{"$f":"IF(L259=\"\",\"\",L259/COUNTIF('Data Input'!$C$8:$AQ$8,$L$2))","v":""},{"$f":"IF(ISBLANK('Data Input'!A263),\"\",SUM('Data Input'!K263,'Data Input'!AQ263))","v":""},{"$f":"IF(N259=\"\",\"\",N259/COUNTIF('Data Input'!$C$8:$AQ$8,$N$2))","v":""},{"$f":"IF(ISBLANK('Data Input'!A263),\"\",SUM('Data Input'!C263,'Data Input'!D263,'Data Input'!F263,'Data Input'!J263,'Data Input'!O263,'Data Input'!S263,'Data Input'!AM263,'Data Input'!AN263,'Data Input'!AO263,'Data Input'!AP263))","v":""},{"$f":"IF(P259=\"\",\"\",P259/COUNTIF('Data Input'!$C$8:$AQ$8,$P$2))","v":""},{"$f":"IF(ISBLANK('Data Input'!C263),\"\",SUM('Data Input'!P263))","v":""},{"$f":"IF(R259=\"\",\"\",R259/COUNTIF('Data Input'!$C$8:$AQ$8,$R$2))","v":""}]
[{"$f":"IF('Data Input'!A264=0,\"\",'Data Input'!A264)","v":""},{"$f":"IF(H260=\"\",\"\",IF(H260>Welcome!$K$23-1,\"Exceeding\",IF(H260>Welcome!$G$23-1,\"Expected\",IF(H260<Welcome!$G$23,\"Below\"))))","v":""},{"$f":"IF(ISBLANK('Data Input'!A264),\"\",COUNTIF('Data Input'!C264:AQ264,\"\")-1)","v":""},{"$f":"IF(ISBLANK('Data Input'!A264),\"\",COUNTIF('Data Input'!C264:AQ264,\"0\"))","v":""},{"$f":"IF(ISBLANK('Data Input'!A264),\"\",SUM(C260,D260))","v":""},{"$f":"IF(ISBLANK('Data Input'!A264),\"\",SUM('Data Input'!C264:V264))","v":""},{"$f":"IF(ISBLANK('Data Input'!A264),\"\",SUM('Data Input'!X264:AQ264))","v":""},{"$f":"IF(ISBLANK('Data Input'!A264),\"\",SUM('Data Input'!C264:AQ264))","v":""},{"$f":"IF(H260=\"\",\"\",H260/(COUNTA('Data Input'!$C$8:$AQ$8)-1))","v":""},{"$f":"IF(ISBLANK('Data Input'!A264),\"\",SUM('Data Input'!I264,'Data Input'!M264,'Data Input'!AB264,'Data Input'!AE264))","v":""},{"$f":"IF(J260=\"\",\"\",J260/COUNTIF('Data Input'!$C$8:$AQ$8,$J$2))","v":""},{"$f":"IF(ISBLANK('Data Input'!A264),\"\",SUM('Data Input'!E264,'Data Input'!G264,'Data Input'!H264,'Data Input'!L264,'Data Input'!N264,'Data Input'!Q264,'Data Input'!R264,'Data Input'!T264,'Data Input'!U264,'Data Input'!V264,'Data Input'!X264,'Data Input'!Y264,'Data Input'!Z264,'Data Input'!AA264,'Data Input'!AC264,'Data Input'!AD264,'Data Input'!AF264,'Data Input'!AG264,'Data Input'!AH264,'Data Input'!AI264,'Data Input'!AJ264,'Data Input'!AK264,'Data Input'!AL264))","v":""},{"$f":"IF(L260=\"\",\"\",L260/COUNTIF('Data Input'!$C$8:$AQ$8,$L$2))","v":""},{"$f":"IF(ISBLANK('Data Input'!A264),\"\",SUM('Data Input'!K264,'Data Input'!AQ264))","v":""},{"$f":"IF(N260=\"\",\"\",N260/COUNTIF('Data Input'!$C$8:$AQ$8,$N$2))","v":""},{"$f":"IF(ISBLANK('Data Input'!A264),\"\",SUM('Data Input'!C264,'Data Input'!D264,'Data Input'!F264,'Data Input'!J264,'Data Input'!O264,'Data Input'!S264,'Data Input'!AM264,'Data Input'!AN264,'Data Input'!AO264,'Data Input'!AP264))","v":""},{"$f":"IF(P260=\"\",\"\",P260/COUNTIF('Data Input'!$C$8:$AQ$8,$P$2))","v":""},{"$f":"IF(ISBLANK('Data Input'!C264),\"\",SUM('Data Input'!P264))","v":""},{"$f":"IF(R260=\"\",\"\",R260/COUNTIF('Data Input'!$C$8:$AQ$8,$R$2))","v":""}]
[{"$f":"IF('Data Input'!A265=0,\"\",'Data Input'!A265)","v":""},{"$f":"IF(H261=\"\",\"\",IF(H261>Welcome!$K$23-1,\"Exceeding\",IF(H261>Welcome!$G$23-1,\"Expected\",IF(H261<Welcome!$G$23,\"Below\"))))","v":""},{"$f":"IF(ISBLANK('Data Input'!A265),\"\",COUNTIF('Data Input'!C265:AQ265,\"\")-1)","v":""},{"$f":"IF(ISBLANK('Data Input'!A265),\"\",COUNTIF('Data Input'!C265:AQ265,\"0\"))","v":""},{"$f":"IF(ISBLANK('Data Input'!A265),\"\",SUM(C261,D261))","v":""},{"$f":"IF(ISBLANK('Data Input'!A265),\"\",SUM('Data Input'!C265:V265))","v":""},{"$f":"IF(ISBLANK('Data Input'!A265),\"\",SUM('Data Input'!X265:AQ265))","v":""},{"$f":"IF(ISBLANK('Data Input'!A265),\"\",SUM('Data Input'!C265:AQ265))","v":""},{"$f":"IF(H261=\"\",\"\",H261/(COUNTA('Data Input'!$C$8:$AQ$8)-1))","v":""},{"$f":"IF(ISBLANK('Data Input'!A265),\"\",SUM('Data Input'!I265,'Data Input'!M265,'Data Input'!AB265,'Data Input'!AE265))","v":""},{"$f":"IF(J261=\"\",\"\",J261/COUNTIF('Data Input'!$C$8:$AQ$8,$J$2))","v":""},{"$f":"IF(ISBLANK('Data Input'!A265),\"\",SUM('Data Input'!E265,'Data Input'!G265,'Data Input'!H265,'Data Input'!L265,'Data Input'!N265,'Data Input'!Q265,'Data Input'!R265,'Data Input'!T265,'Data Input'!U265,'Data Input'!V265,'Data Input'!X265,'Data Input'!Y265,'Data Input'!Z265,'Data Input'!AA265,'Data Input'!AC265,'Data Input'!AD265,'Data Input'!AF265,'Data Input'!AG265,'Data Input'!AH265,'Data Input'!AI265,'Data Input'!AJ265,'Data Input'!AK265,'Data Input'!AL265))","v":""},{"$f":"IF(L261=\"\",\"\",L261/COUNTIF('Data Input'!$C$8:$AQ$8,$L$2))","v":""},{"$f":"IF(ISBLANK('Data Input'!A265),\"\",SUM('Data Input'!K265,'Data Input'!AQ265))","v":""},{"$f":"IF(N261=\"\",\"\",N261/COUNTIF('Data Input'!$C$8:$AQ$8,$N$2))","v":""},{"$f":"IF(ISBLANK('Data Input'!A265),\"\",SUM('Data Input'!C265,'Data Input'!D265,'Data Input'!F265,'Data Input'!J265,'Data Input'!O265,'Data Input'!S265,'Data Input'!AM265,'Data Input'!AN265,'Data Input'!AO265,'Data Input'!AP265))","v":""},{"$f":"IF(P261=\"\",\"\",P261/COUNTIF('Data Input'!$C$8:$AQ$8,$P$2))","v":""},{"$f":"IF(ISBLANK('Data Input'!C265),\"\",SUM('Data Input'!P265))","v":""},{"$f":"IF(R261=\"\",\"\",R261/COUNTIF('Data Input'!$C$8:$AQ$8,$R$2))","v":""}]
[{"$f":"IF('Data Input'!A266=0,\"\",'Data Input'!A266)","v":""},{"$f":"IF(H262=\"\",\"\",IF(H262>Welcome!$K$23-1,\"Exceeding\",IF(H262>Welcome!$G$23-1,\"Expected\",IF(H262<Welcome!$G$23,\"Below\"))))","v":""},{"$f":"IF(ISBLANK('Data Input'!A266),\"\",COUNTIF('Data Input'!C266:AQ266,\"\")-1)","v":""},{"$f":"IF(ISBLANK('Data Input'!A266),\"\",COUNTIF('Data Input'!C266:AQ266,\"0\"))","v":""},{"$f":"IF(ISBLANK('Data Input'!A266),\"\",SUM(C262,D262))","v":""},{"$f":"IF(ISBLANK('Data Input'!A266),\"\",SUM('Data Input'!C266:V266))","v":""},{"$f":"IF(ISBLANK('Data Input'!A266),\"\",SUM('Data Input'!X266:AQ266))","v":""},{"$f":"IF(ISBLANK('Data Input'!A266),\"\",SUM('Data Input'!C266:AQ266))","v":""},{"$f":"IF(H262=\"\",\"\",H262/(COUNTA('Data Input'!$C$8:$AQ$8)-1))","v":""},{"$f":"IF(ISBLANK('Data Input'!A266),\"\",SUM('Data Input'!I266,'Data Input'!M266,'Data Input'!AB266,'Data Input'!AE266))","v":""},{"$f":"IF(J262=\"\",\"\",J262/COUNTIF('Data Input'!$C$8:$AQ$8,$J$2))","v":""},{"$f":"IF(ISBLANK('Data Input'!A266),\"\",SUM('Data Input'!E266,'Data Input'!G266,'Data Input'!H266,'Data Input'!L266,'Data Input'!N266,'Data Input'!Q266,'Data Input'!R266,'Data Input'!T266,'Data Input'!U266,'Data Input'!V266,'Data Input'!X266,'Data Input'!Y266,'Data Input'!Z266,'Data Input'!AA266,'Data Input'!AC266,'Data Input'!AD266,'Data Input'!AF266,'Data Input'!AG266,'Data Input'!AH266,'Data Input'!AI266,'Data Input'!AJ266,'Data Input'!AK266,'Data Input'!AL266))","v":""},{"$f":"IF(L262=\"\",\"\",L262/COUNTIF('Data Input'!$C$8:$AQ$8,$L$2))","v":""},{"$f":"IF(ISBLANK('Data Input'!A266),\"\",SUM('Data Input'!K266,'Data Input'!AQ266))","v":""},{"$f":"IF(N262=\"\",\"\",N262/COUNTIF('Data Input'!$C$8:$AQ$8,$N$2))","v":""},{"$f":"IF(ISBLANK('Data Input'!A266),\"\",SUM('Data Input'!C266,'Data Input'!D266,'Data Input'!F266,'Data Input'!J266,'Data Input'!O266,'Data Input'!S266,'Data Input'!AM266,'Data Input'!AN266,'Data Input'!AO266,'Data Input'!AP266))","v":""},{"$f":"IF(P262=\"\",\"\",P262/COUNTIF('Data Input'!$C$8:$AQ$8,$P$2))","v":""},{"$f":"IF(ISBLANK('Data Input'!C266),\"\",SUM('Data Input'!P266))","v":""},{"$f":"IF(R262=\"\",\"\",R262/COUNTIF('Data Input'!$C$8:$AQ$8,$R$2))","v":""}]
[{"$f":"IF('Data Input'!A267=0,\"\",'Data Input'!A267)","v":""},{"$f":"IF(H263=\"\",\"\",IF(H263>Welcome!$K$23-1,\"Exceeding\",IF(H263>Welcome!$G$23-1,\"Expected\",IF(H263<Welcome!$G$23,\"Below\"))))","v":""},{"$f":"IF(ISBLANK('Data Input'!A267),\"\",COUNTIF('Data Input'!C267:AQ267,\"\")-1)","v":""},{"$f":"IF(ISBLANK('Data Input'!A267),\"\",COUNTIF('Data Input'!C267:AQ267,\"0\"))","v":""},{"$f":"IF(ISBLANK('Data Input'!A267),\"\",SUM(C263,D263))","v":""},{"$f":"IF(ISBLANK('Data Input'!A267),\"\",SUM('Data Input'!C267:V267))","v":""},{"$f":"IF(ISBLANK('Data Input'!A267),\"\",SUM('Data Input'!X267:AQ267))","v":""},{"$f":"IF(ISBLANK('Data Input'!A267),\"\",SUM('Data Input'!C267:AQ267))","v":""},{"$f":"IF(H263=\"\",\"\",H263/(COUNTA('Data Input'!$C$8:$AQ$8)-1))","v":""},{"$f":"IF(ISBLANK('Data Input'!A267),\"\",SUM('Data Input'!I267,'Data Input'!M267,'Data Input'!AB267,'Data Input'!AE267))","v":""},{"$f":"IF(J263=\"\",\"\",J263/COUNTIF('Data Input'!$C$8:$AQ$8,$J$2))","v":""},{"$f":"IF(ISBLANK('Data Input'!A267),\"\",SUM('Data Input'!E267,'Data Input'!G267,'Data Input'!H267,'Data Input'!L267,'Data Input'!N267,'Data Input'!Q267,'Data Input'!R267,'Data Input'!T267,'Data Input'!U267,'Data Input'!V267,'Data Input'!X267,'Data Input'!Y267,'Data Input'!Z267,'Data Input'!AA267,'Data Input'!AC267,'Data Input'!AD267,'Data Input'!AF267,'Data Input'!AG267,'Data Input'!AH267,'Data Input'!AI267,'Data Input'!AJ267,'Data Input'!AK267,'Data Input'!AL267))","v":""},{"$f":"IF(L263=\"\",\"\",L263/COUNTIF('Data Input'!$C$8:$AQ$8,$L$2))","v":""},{"$f":"IF(ISBLANK('Data Input'!A267),\"\",SUM('Data Input'!K267,'Data Input'!AQ267))","v":""},{"$f":"IF(N263=\"\",\"\",N263/COUNTIF('Data Input'!$C$8:$AQ$8,$N$2))","v":""},{"$f":"IF(ISBLANK('Data Input'!A267),\"\",SUM('Data Input'!C267,'Data Input'!D267,'Data Input'!F267,'Data Input'!J267,'Data Input'!O267,'Data Input'!S267,'Data Input'!AM267,'Data Input'!AN267,'Data Input'!AO267,'Data Input'!AP267))","v":""},{"$f":"IF(P263=\"\",\"\",P263/COUNTIF('Data Input'!$C$8:$AQ$8,$P$2))","v":""},{"$f":"IF(ISBLANK('Data Input'!C267),\"\",SUM('Data Input'!P267))","v":""},{"$f":"IF(R263=\"\",\"\",R263/COUNTIF('Data Input'!$C$8:$AQ$8,$R$2))","v":""}]
[{"$f":"IF('Data Input'!A268=0,\"\",'Data Input'!A268)","v":""},{"$f":"IF(H264=\"\",\"\",IF(H264>Welcome!$K$23-1,\"Exceeding\",IF(H264>Welcome!$G$23-1,\"Expected\",IF(H264<Welcome!$G$23,\"Below\"))))","v":""},{"$f":"IF(ISBLANK('Data Input'!A268),\"\",COUNTIF('Data Input'!C268:AQ268,\"\")-1)","v":""},{"$f":"IF(ISBLANK('Data Input'!A268),\"\",COUNTIF('Data Input'!C268:AQ268,\"0\"))","v":""},{"$f":"IF(ISBLANK('Data Input'!A268),\"\",SUM(C264,D264))","v":""},{"$f":"IF(ISBLANK('Data Input'!A268),\"\",SUM('Data Input'!C268:V268))","v":""},{"$f":"IF(ISBLANK('Data Input'!A268),\"\",SUM('Data Input'!X268:AQ268))","v":""},{"$f":"IF(ISBLANK('Data Input'!A268),\"\",SUM('Data Input'!C268:AQ268))","v":""},{"$f":"IF(H264=\"\",\"\",H264/(COUNTA('Data Input'!$C$8:$AQ$8)-1))","v":""},{"$f":"IF(ISBLANK('Data Input'!A268),\"\",SUM('Data Input'!I268,'Data Input'!M268,'Data Input'!AB268,'Data Input'!AE268))","v":""},{"$f":"IF(J264=\"\",\"\",J264/COUNTIF('Data Input'!$C$8:$AQ$8,$J$2))","v":""},{"$f":"IF(ISBLANK('Data Input'!A268),\"\",SUM('Data Input'!E268,'Data Input'!G268,'Data Input'!H268,'Data Input'!L268,'Data Input'!N268,'Data Input'!Q268,'Data Input'!R268,'Data Input'!T268,'Data Input'!U268,'Data Input'!V268,'Data Input'!X268,'Data Input'!Y268,'Data Input'!Z268,'Data Input'!AA268,'Data Input'!AC268,'Data Input'!AD268,'Data Input'!AF268,'Data Input'!AG268,'Data Input'!AH268,'Data Input'!AI268,'Data Input'!AJ268,'Data Input'!AK268,'Data Input'!AL268))","v":""},{"$f":"IF(L264=\"\",\"\",L264/COUNTIF('Data Input'!$C$8:$AQ$8,$L$2))","v":""},{"$f":"IF(ISBLANK('Data Input'!A268),\"\",SUM('Data Input'!K268,'Data Input'!AQ268))","v":""},{"$f":"IF(N264=\"\",\"\",N264/COUNTIF('Data Input'!$C$8:$AQ$8,$N$2))","v":""},{"$f":"IF(ISBLANK('Data Input'!A268),\"\",SUM('Data Input'!C268,'Data Input'!D268,'Data Input'!F268,'Data Input'!J268,'Data Input'!O268,'Data Input'!S268,'Data Input'!AM268,'Data Input'!AN268,'Data Input'!AO268,'Data Input'!AP268))","v":""},{"$f":"IF(P264=\"\",\"\",P264/COUNTIF('Data Input'!$C$8:$AQ$8,$P$2))","v":""},{"$f":"IF(ISBLANK('Data Input'!C268),\"\",SUM('Data Input'!P268))","v":""},{"$f":"IF(R264=\"\",\"\",R264/COUNTIF('Data Input'!$C$8:$AQ$8,$R$2))","v":""}]
[{"$f":"IF('Data Input'!A269=0,\"\",'Data Input'!A269)","v":""},{"$f":"IF(H265=\"\",\"\",IF(H265>Welcome!$K$23-1,\"Exceeding\",IF(H265>Welcome!$G$23-1,\"Expected\",IF(H265<Welcome!$G$23,\"Below\"))))","v":""},{"$f":"IF(ISBLANK('Data Input'!A269),\"\",COUNTIF('Data Input'!C269:AQ269,\"\")-1)","v":""},{"$f":"IF(ISBLANK('Data Input'!A269),\"\",COUNTIF('Data Input'!C269:AQ269,\"0\"))","v":""},{"$f":"IF(ISBLANK('Data Input'!A269),\"\",SUM(C265,D265))","v":""},{"$f":"IF(ISBLANK('Data Input'!A269),\"\",SUM('Data Input'!C269:V269))","v":""},{"$f":"IF(ISBLANK('Data Input'!A269),\"\",SUM('Data Input'!X269:AQ269))","v":""},{"$f":"IF(ISBLANK('Data Input'!A269),\"\",SUM('Data Input'!C269:AQ269))","v":""},{"$f":"IF(H265=\"\",\"\",H265/(COUNTA('Data Input'!$C$8:$AQ$8)-1))","v":""},{"$f":"IF(ISBLANK('Data Input'!A269),\"\",SUM('Data Input'!I269,'Data Input'!M269,'Data Input'!AB269,'Data Input'!AE269))","v":""},{"$f":"IF(J265=\"\",\"\",J265/COUNTIF('Data Input'!$C$8:$AQ$8,$J$2))","v":""},{"$f":"IF(ISBLANK('Data Input'!A269),\"\",SUM('Data Input'!E269,'Data Input'!G269,'Data Input'!H269,'Data Input'!L269,'Data Input'!N269,'Data Input'!Q269,'Data Input'!R269,'Data Input'!T269,'Data Input'!U269,'Data Input'!V269,'Data Input'!X269,'Data Input'!Y269,'Data Input'!Z269,'Data Input'!AA269,'Data Input'!AC269,'Data Input'!AD269,'Data Input'!AF269,'Data Input'!AG269,'Data Input'!AH269,'Data Input'!AI269,'Data Input'!AJ269,'Data Input'!AK269,'Data Input'!AL269))","v":""},{"$f":"IF(L265=\"\",\"\",L265/COUNTIF('Data Input'!$C$8:$AQ$8,$L$2))","v":""},{"$f":"IF(ISBLANK('Data Input'!A269),\"\",SUM('Data Input'!K269,'Data Input'!AQ269))","v":""},{"$f":"IF(N265=\"\",\"\",N265/COUNTIF('Data Input'!$C$8:$AQ$8,$N$2))","v":""},{"$f":"IF(ISBLANK('Data Input'!A269),\"\",SUM('Data Input'!C269,'Data Input'!D269,'Data Input'!F269,'Data Input'!J269,'Data Input'!O269,'Data Input'!S269,'Data Input'!AM269,'Data Input'!AN269,'Data Input'!AO269,'Data Input'!AP269))","v":""},{"$f":"IF(P265=\"\",\"\",P265/COUNTIF('Data Input'!$C$8:$AQ$8,$P$2))","v":""},{"$f":"IF(ISBLANK('Data Input'!C269),\"\",SUM('Data Input'!P269))","v":""},{"$f":"IF(R265=\"\",\"\",R265/COUNTIF('Data Input'!$C$8:$AQ$8,$R$2))","v":""}]
[{"$f":"IF('Data Input'!A270=0,\"\",'Data Input'!A270)","v":""},{"$f":"IF(H266=\"\",\"\",IF(H266>Welcome!$K$23-1,\"Exceeding\",IF(H266>Welcome!$G$23-1,\"Expected\",IF(H266<Welcome!$G$23,\"Below\"))))","v":""},{"$f":"IF(ISBLANK('Data Input'!A270),\"\",COUNTIF('Data Input'!C270:AQ270,\"\")-1)","v":""},{"$f":"IF(ISBLANK('Data Input'!A270),\"\",COUNTIF('Data Input'!C270:AQ270,\"0\"))","v":""},{"$f":"IF(ISBLANK('Data Input'!A270),\"\",SUM(C266,D266))","v":""},{"$f":"IF(ISBLANK('Data Input'!A270),\"\",SUM('Data Input'!C270:V270))","v":""},{"$f":"IF(ISBLANK('Data Input'!A270),\"\",SUM('Data Input'!X270:AQ270))","v":""},{"$f":"IF(ISBLANK('Data Input'!A270),\"\",SUM('Data Input'!C270:AQ270))","v":""},{"$f":"IF(H266=\"\",\"\",H266/(COUNTA('Data Input'!$C$8:$AQ$8)-1))","v":""},{"$f":"IF(ISBLANK('Data Input'!A270),\"\",SUM('Data Input'!I270,'Data Input'!M270,'Data Input'!AB270,'Data Input'!AE270))","v":""},{"$f":"IF(J266=\"\",\"\",J266/COUNTIF('Data Input'!$C$8:$AQ$8,$J$2))","v":""},{"$f":"IF(ISBLANK('Data Input'!A270),\"\",SUM('Data Input'!E270,'Data Input'!G270,'Data Input'!H270,'Data Input'!L270,'Data Input'!N270,'Data Input'!Q270,'Data Input'!R270,'Data Input'!T270,'Data Input'!U270,'Data Input'!V270,'Data Input'!X270,'Data Input'!Y270,'Data Input'!Z270,'Data Input'!AA270,'Data Input'!AC270,'Data Input'!AD270,'Data Input'!AF270,'Data Input'!AG270,'Data Input'!AH270,'Data Input'!AI270,'Data Input'!AJ270,'Data Input'!AK270,'Data Input'!AL270))","v":""},{"$f":"IF(L266=\"\",\"\",L266/COUNTIF('Data Input'!$C$8:$AQ$8,$L$2))","v":""},{"$f":"IF(ISBLANK('Data Input'!A270),\"\",SUM('Data Input'!K270,'Data Input'!AQ270))","v":""},{"$f":"IF(N266=\"\",\"\",N266/COUNTIF('Data Input'!$C$8:$AQ$8,$N$2))","v":""},{"$f":"IF(ISBLANK('Data Input'!A270),\"\",SUM('Data Input'!C270,'Data Input'!D270,'Data Input'!F270,'Data Input'!J270,'Data Input'!O270,'Data Input'!S270,'Data Input'!AM270,'Data Input'!AN270,'Data Input'!AO270,'Data Input'!AP270))","v":""},{"$f":"IF(P266=\"\",\"\",P266/COUNTIF('Data Input'!$C$8:$AQ$8,$P$2))","v":""},{"$f":"IF(ISBLANK('Data Input'!C270),\"\",SUM('Data Input'!P270))","v":""},{"$f":"IF(R266=\"\",\"\",R266/COUNTIF('Data Input'!$C$8:$AQ$8,$R$2))","v":""}]
[{"$f":"IF('Data Input'!A271=0,\"\",'Data Input'!A271)","v":""},{"$f":"IF(H267=\"\",\"\",IF(H267>Welcome!$K$23-1,\"Exceeding\",IF(H267>Welcome!$G$23-1,\"Expected\",IF(H267<Welcome!$G$23,\"Below\"))))","v":""},{"$f":"IF(ISBLANK('Data Input'!A271),\"\",COUNTIF('Data Input'!C271:AQ271,\"\")-1)","v":""},{"$f":"IF(ISBLANK('Data Input'!A271),\"\",COUNTIF('Data Input'!C271:AQ271,\"0\"))","v":""},{"$f":"IF(ISBLANK('Data Input'!A271),\"\",SUM(C267,D267))","v":""},{"$f":"IF(ISBLANK('Data Input'!A271),\"\",SUM('Data Input'!C271:V271))","v":""},{"$f":"IF(ISBLANK('Data Input'!A271),\"\",SUM('Data Input'!X271:AQ271))","v":""},{"$f":"IF(ISBLANK('Data Input'!A271),\"\",SUM('Data Input'!C271:AQ271))","v":""},{"$f":"IF(H267=\"\",\"\",H267/(COUNTA('Data Input'!$C$8:$AQ$8)-1))","v":""},{"$f":"IF(ISBLANK('Data Input'!A271),\"\",SUM('Data Input'!I271,'Data Input'!M271,'Data Input'!AB271,'Data Input'!AE271))","v":""},{"$f":"IF(J267=\"\",\"\",J267/COUNTIF('Data Input'!$C$8:$AQ$8,$J$2))","v":""},{"$f":"IF(ISBLANK('Data Input'!A271),\"\",SUM('Data Input'!E271,'Data Input'!G271,'Data Input'!H271,'Data Input'!L271,'Data Input'!N271,'Data Input'!Q271,'Data Input'!R271,'Data Input'!T271,'Data Input'!U271,'Data Input'!V271,'Data Input'!X271,'Data Input'!Y271,'Data Input'!Z271,'Data Input'!AA271,'Data Input'!AC271,'Data Input'!AD271,'Data Input'!AF271,'Data Input'!AG271,'Data Input'!AH271,'Data Input'!AI271,'Data Input'!AJ271,'Data Input'!AK271,'Data Input'!AL271))","v":""},{"$f":"IF(L267=\"\",\"\",L267/COUNTIF('Data Input'!$C$8:$AQ$8,$L$2))","v":""},{"$f":"IF(ISBLANK('Data Input'!A271),\"\",SUM('Data Input'!K271,'Data Input'!AQ271))","v":""},{"$f":"IF(N267=\"\",\"\",N267/COUNTIF('Data Input'!$C$8:$AQ$8,$N$2))","v":""},{"$f":"IF(ISBLANK('Data Input'!A271),\"\",SUM('Data Input'!C271,'Data Input'!D271,'Data Input'!F271,'Data Input'!J271,'Data Input'!O271,'Data Input'!S271,'Data Input'!AM271,'Data Input'!AN271,'Data Input'!AO271,'Data Input'!AP271))","v":""},{"$f":"IF(P267=\"\",\"\",P267/COUNTIF('Data Input'!$C$8:$AQ$8,$P$2))","v":""},{"$f":"IF(ISBLANK('Data Input'!C271),\"\",SUM('Data Input'!P271))","v":""},{"$f":"IF(R267=\"\",\"\",R267/COUNTIF('Data Input'!$C$8:$AQ$8,$R$2))","v":""}]
[{"$f":"IF('Data Input'!A272=0,\"\",'Data Input'!A272)","v":""},{"$f":"IF(H268=\"\",\"\",IF(H268>Welcome!$K$23-1,\"Exceeding\",IF(H268>Welcome!$G$23-1,\"Expected\",IF(H268<Welcome!$G$23,\"Below\"))))","v":""},{"$f":"IF(ISBLANK('Data Input'!A272),\"\",COUNTIF('Data Input'!C272:AQ272,\"\")-1)","v":""},{"$f":"IF(ISBLANK('Data Input'!A272),\"\",COUNTIF('Data Input'!C272:AQ272,\"0\"))","v":""},{"$f":"IF(ISBLANK('Data Input'!A272),\"\",SUM(C268,D268))","v":""},{"$f":"IF(ISBLANK('Data Input'!A272),\"\",SUM('Data Input'!C272:V272))","v":""},{"$f":"IF(ISBLANK('Data Input'!A272),\"\",SUM('Data Input'!X272:AQ272))","v":""},{"$f":"IF(ISBLANK('Data Input'!A272),\"\",SUM('Data Input'!C272:AQ272))","v":""},{"$f":"IF(H268=\"\",\"\",H268/(COUNTA('Data Input'!$C$8:$AQ$8)-1))","v":""},{"$f":"IF(ISBLANK('Data Input'!A272),\"\",SUM('Data Input'!I272,'Data Input'!M272,'Data Input'!AB272,'Data Input'!AE272))","v":""},{"$f":"IF(J268=\"\",\"\",J268/COUNTIF('Data Input'!$C$8:$AQ$8,$J$2))","v":""},{"$f":"IF(ISBLANK('Data Input'!A272),\"\",SUM('Data Input'!E272,'Data Input'!G272,'Data Input'!H272,'Data Input'!L272,'Data Input'!N272,'Data Input'!Q272,'Data Input'!R272,'Data Input'!T272,'Data Input'!U272,'Data Input'!V272,'Data Input'!X272,'Data Input'!Y272,'Data Input'!Z272,'Data Input'!AA272,'Data Input'!AC272,'Data Input'!AD272,'Data Input'!AF272,'Data Input'!AG272,'Data Input'!AH272,'Data Input'!AI272,'Data Input'!AJ272,'Data Input'!AK272,'Data Input'!AL272))","v":""},{"$f":"IF(L268=\"\",\"\",L268/COUNTIF('Data Input'!$C$8:$AQ$8,$L$2))","v":""},{"$f":"IF(ISBLANK('Data Input'!A272),\"\",SUM('Data Input'!K272,'Data Input'!AQ272))","v":""},{"$f":"IF(N268=\"\",\"\",N268/COUNTIF('Data Input'!$C$8:$AQ$8,$N$2))","v":""},{"$f":"IF(ISBLANK('Data Input'!A272),\"\",SUM('Data Input'!C272,'Data Input'!D272,'Data Input'!F272,'Data Input'!J272,'Data Input'!O272,'Data Input'!S272,'Data Input'!AM272,'Data Input'!AN272,'Data Input'!AO272,'Data Input'!AP272))","v":""},{"$f":"IF(P268=\"\",\"\",P268/COUNTIF('Data Input'!$C$8:$AQ$8,$P$2))","v":""},{"$f":"IF(ISBLANK('Data Input'!C272),\"\",SUM('Data Input'!P272))","v":""},{"$f":"IF(R268=\"\",\"\",R268/COUNTIF('Data Input'!$C$8:$AQ$8,$R$2))","v":""}]
[{"$f":"IF('Data Input'!A273=0,\"\",'Data Input'!A273)","v":""},{"$f":"IF(H269=\"\",\"\",IF(H269>Welcome!$K$23-1,\"Exceeding\",IF(H269>Welcome!$G$23-1,\"Expected\",IF(H269<Welcome!$G$23,\"Below\"))))","v":""},{"$f":"IF(ISBLANK('Data Input'!A273),\"\",COUNTIF('Data Input'!C273:AQ273,\"\")-1)","v":""},{"$f":"IF(ISBLANK('Data Input'!A273),\"\",COUNTIF('Data Input'!C273:AQ273,\"0\"))","v":""},{"$f":"IF(ISBLANK('Data Input'!A273),\"\",SUM(C269,D269))","v":""},{"$f":"IF(ISBLANK('Data Input'!A273),\"\",SUM('Data Input'!C273:V273))","v":""},{"$f":"IF(ISBLANK('Data Input'!A273),\"\",SUM('Data Input'!X273:AQ273))","v":""},{"$f":"IF(ISBLANK('Data Input'!A273),\"\",SUM('Data Input'!C273:AQ273))","v":""},{"$f":"IF(H269=\"\",\"\",H269/(COUNTA('Data Input'!$C$8:$AQ$8)-1))","v":""},{"$f":"IF(ISBLANK('Data Input'!A273),\"\",SUM('Data Input'!I273,'Data Input'!M273,'Data Input'!AB273,'Data Input'!AE273))","v":""},{"$f":"IF(J269=\"\",\"\",J269/COUNTIF('Data Input'!$C$8:$AQ$8,$J$2))","v":""},{"$f":"IF(ISBLANK('Data Input'!A273),\"\",SUM('Data Input'!E273,'Data Input'!G273,'Data Input'!H273,'Data Input'!L273,'Data Input'!N273,'Data Input'!Q273,'Data Input'!R273,'Data Input'!T273,'Data Input'!U273,'Data Input'!V273,'Data Input'!X273,'Data Input'!Y273,'Data Input'!Z273,'Data Input'!AA273,'Data Input'!AC273,'Data Input'!AD273,'Data Input'!AF273,'Data Input'!AG273,'Data Input'!AH273,'Data Input'!AI273,'Data Input'!AJ273,'Data Input'!AK273,'Data Input'!AL273))","v":""},{"$f":"IF(L269=\"\",\"\",L269/COUNTIF('Data Input'!$C$8:$AQ$8,$L$2))","v":""},{"$f":"IF(ISBLANK('Data Input'!A273),\"\",SUM('Data Input'!K273,'Data Input'!AQ273))","v":""},{"$f":"IF(N269=\"\",\"\",N269/COUNTIF('Data Input'!$C$8:$AQ$8,$N$2))","v":""},{"$f":"IF(ISBLANK('Data Input'!A273),\"\",SUM('Data Input'!C273,'Data Input'!D273,'Data Input'!F273,'Data Input'!J273,'Data Input'!O273,'Data Input'!S273,'Data Input'!AM273,'Data Input'!AN273,'Data Input'!AO273,'Data Input'!AP273))","v":""},{"$f":"IF(P269=\"\",\"\",P269/COUNTIF('Data Input'!$C$8:$AQ$8,$P$2))","v":""},{"$f":"IF(ISBLANK('Data Input'!C273),\"\",SUM('Data Input'!P273))","v":""},{"$f":"IF(R269=\"\",\"\",R269/COUNTIF('Data Input'!$C$8:$AQ$8,$R$2))","v":""}]
[{"$f":"IF('Data Input'!A274=0,\"\",'Data Input'!A274)","v":""},{"$f":"IF(H270=\"\",\"\",IF(H270>Welcome!$K$23-1,\"Exceeding\",IF(H270>Welcome!$G$23-1,\"Expected\",IF(H270<Welcome!$G$23,\"Below\"))))","v":""},{"$f":"IF(ISBLANK('Data Input'!A274),\"\",COUNTIF('Data Input'!C274:AQ274,\"\")-1)","v":""},{"$f":"IF(ISBLANK('Data Input'!A274),\"\",COUNTIF('Data Input'!C274:AQ274,\"0\"))","v":""},{"$f":"IF(ISBLANK('Data Input'!A274),\"\",SUM(C270,D270))","v":""},{"$f":"IF(ISBLANK('Data Input'!A274),\"\",SUM('Data Input'!C274:V274))","v":""},{"$f":"IF(ISBLANK('Data Input'!A274),\"\",SUM('Data Input'!X274:AQ274))","v":""},{"$f":"IF(ISBLANK('Data Input'!A274),\"\",SUM('Data Input'!C274:AQ274))","v":""},{"$f":"IF(H270=\"\",\"\",H270/(COUNTA('Data Input'!$C$8:$AQ$8)-1))","v":""},{"$f":"IF(ISBLANK('Data Input'!A274),\"\",SUM('Data Input'!I274,'Data Input'!M274,'Data Input'!AB274,'Data Input'!AE274))","v":""},{"$f":"IF(J270=\"\",\"\",J270/COUNTIF('Data Input'!$C$8:$AQ$8,$J$2))","v":""},{"$f":"IF(ISBLANK('Data Input'!A274),\"\",SUM('Data Input'!E274,'Data Input'!G274,'Data Input'!H274,'Data Input'!L274,'Data Input'!N274,'Data Input'!Q274,'Data Input'!R274,'Data Input'!T274,'Data Input'!U274,'Data Input'!V274,'Data Input'!X274,'Data Input'!Y274,'Data Input'!Z274,'Data Input'!AA274,'Data Input'!AC274,'Data Input'!AD274,'Data Input'!AF274,'Data Input'!AG274,'Data Input'!AH274,'Data Input'!AI274,'Data Input'!AJ274,'Data Input'!AK274,'Data Input'!AL274))","v":""},{"$f":"IF(L270=\"\",\"\",L270/COUNTIF('Data Input'!$C$8:$AQ$8,$L$2))","v":""},{"$f":"IF(ISBLANK('Data Input'!A274),\"\",SUM('Data Input'!K274,'Data Input'!AQ274))","v":""},{"$f":"IF(N270=\"\",\"\",N270/COUNTIF('Data Input'!$C$8:$AQ$8,$N$2))","v":""},{"$f":"IF(ISBLANK('Data Input'!A274),\"\",SUM('Data Input'!C274,'Data Input'!D274,'Data Input'!F274,'Data Input'!J274,'Data Input'!O274,'Data Input'!S274,'Data Input'!AM274,'Data Input'!AN274,'Data Input'!AO274,'Data Input'!AP274))","v":""},{"$f":"IF(P270=\"\",\"\",P270/COUNTIF('Data Input'!$C$8:$AQ$8,$P$2))","v":""},{"$f":"IF(ISBLANK('Data Input'!C274),\"\",SUM('Data Input'!P274))","v":""},{"$f":"IF(R270=\"\",\"\",R270/COUNTIF('Data Input'!$C$8:$AQ$8,$R$2))","v":""}]
[{"$f":"IF('Data Input'!A275=0,\"\",'Data Input'!A275)","v":""},{"$f":"IF(H271=\"\",\"\",IF(H271>Welcome!$K$23-1,\"Exceeding\",IF(H271>Welcome!$G$23-1,\"Expected\",IF(H271<Welcome!$G$23,\"Below\"))))","v":""},{"$f":"IF(ISBLANK('Data Input'!A275),\"\",COUNTIF('Data Input'!C275:AQ275,\"\")-1)","v":""},{"$f":"IF(ISBLANK('Data Input'!A275),\"\",COUNTIF('Data Input'!C275:AQ275,\"0\"))","v":""},{"$f":"IF(ISBLANK('Data Input'!A275),\"\",SUM(C271,D271))","v":""},{"$f":"IF(ISBLANK('Data Input'!A275),\"\",SUM('Data Input'!C275:V275))","v":""},{"$f":"IF(ISBLANK('Data Input'!A275),\"\",SUM('Data Input'!X275:AQ275))","v":""},{"$f":"IF(ISBLANK('Data Input'!A275),\"\",SUM('Data Input'!C275:AQ275))","v":""},{"$f":"IF(H271=\"\",\"\",H271/(COUNTA('Data Input'!$C$8:$AQ$8)-1))","v":""},{"$f":"IF(ISBLANK('Data Input'!A275),\"\",SUM('Data Input'!I275,'Data Input'!M275,'Data Input'!AB275,'Data Input'!AE275))","v":""},{"$f":"IF(J271=\"\",\"\",J271/COUNTIF('Data Input'!$C$8:$AQ$8,$J$2))","v":""},{"$f":"IF(ISBLANK('Data Input'!A275),\"\",SUM('Data Input'!E275,'Data Input'!G275,'Data Input'!H275,'Data Input'!L275,'Data Input'!N275,'Data Input'!Q275,'Data Input'!R275,'Data Input'!T275,'Data Input'!U275,'Data Input'!V275,'Data Input'!X275,'Data Input'!Y275,'Data Input'!Z275,'Data Input'!AA275,'Data Input'!AC275,'Data Input'!AD275,'Data Input'!AF275,'Data Input'!AG275,'Data Input'!AH275,'Data Input'!AI275,'Data Input'!AJ275,'Data Input'!AK275,'Data Input'!AL275))","v":""},{"$f":"IF(L271=\"\",\"\",L271/COUNTIF('Data Input'!$C$8:$AQ$8,$L$2))","v":""},{"$f":"IF(ISBLANK('Data Input'!A275),\"\",SUM('Data Input'!K275,'Data Input'!AQ275))","v":""},{"$f":"IF(N271=\"\",\"\",N271/COUNTIF('Data Input'!$C$8:$AQ$8,$N$2))","v":""},{"$f":"IF(ISBLANK('Data Input'!A275),\"\",SUM('Data Input'!C275,'Data Input'!D275,'Data Input'!F275,'Data Input'!J275,'Data Input'!O275,'Data Input'!S275,'Data Input'!AM275,'Data Input'!AN275,'Data Input'!AO275,'Data Input'!AP275))","v":""},{"$f":"IF(P271=\"\",\"\",P271/COUNTIF('Data Input'!$C$8:$AQ$8,$P$2))","v":""},{"$f":"IF(ISBLANK('Data Input'!C275),\"\",SUM('Data Input'!P275))","v":""},{"$f":"IF(R271=\"\",\"\",R271/COUNTIF('Data Input'!$C$8:$AQ$8,$R$2))","v":""}]
[{"$f":"IF('Data Input'!A276=0,\"\",'Data Input'!A276)","v":""},{"$f":"IF(H272=\"\",\"\",IF(H272>Welcome!$K$23-1,\"Exceeding\",IF(H272>Welcome!$G$23-1,\"Expected\",IF(H272<Welcome!$G$23,\"Below\"))))","v":""},{"$f":"IF(ISBLANK('Data Input'!A276),\"\",COUNTIF('Data Input'!C276:AQ276,\"\")-1)","v":""},{"$f":"IF(ISBLANK('Data Input'!A276),\"\",COUNTIF('Data Input'!C276:AQ276,\"0\"))","v":""},{"$f":"IF(ISBLANK('Data Input'!A276),\"\",SUM(C272,D272))","v":""},{"$f":"IF(ISBLANK('Data Input'!A276),\"\",SUM('Data Input'!C276:V276))","v":""},{"$f":"IF(ISBLANK('Data Input'!A276),\"\",SUM('Data Input'!X276:AQ276))","v":""},{"$f":"IF(ISBLANK('Data Input'!A276),\"\",SUM('Data Input'!C276:AQ276))","v":""},{"$f":"IF(H272=\"\",\"\",H272/(COUNTA('Data Input'!$C$8:$AQ$8)-1))","v":""},{"$f":"IF(ISBLANK('Data Input'!A276),\"\",SUM('Data Input'!I276,'Data Input'!M276,'Data Input'!AB276,'Data Input'!AE276))","v":""},{"$f":"IF(J272=\"\",\"\",J272/COUNTIF('Data Input'!$C$8:$AQ$8,$J$2))","v":""},{"$f":"IF(ISBLANK('Data Input'!A276),\"\",SUM('Data Input'!E276,'Data Input'!G276,'Data Input'!H276,'Data Input'!L276,'Data Input'!N276,'Data Input'!Q276,'Data Input'!R276,'Data Input'!T276,'Data Input'!U276,'Data Input'!V276,'Data Input'!X276,'Data Input'!Y276,'Data Input'!Z276,'Data Input'!AA276,'Data Input'!AC276,'Data Input'!AD276,'Data Input'!AF276,'Data Input'!AG276,'Data Input'!AH276,'Data Input'!AI276,'Data Input'!AJ276,'Data Input'!AK276,'Data Input'!AL276))","v":""},{"$f":"IF(L272=\"\",\"\",L272/COUNTIF('Data Input'!$C$8:$AQ$8,$L$2))","v":""},{"$f":"IF(ISBLANK('Data Input'!A276),\"\",SUM('Data Input'!K276,'Data Input'!AQ276))","v":""},{"$f":"IF(N272=\"\",\"\",N272/COUNTIF('Data Input'!$C$8:$AQ$8,$N$2))","v":""},{"$f":"IF(ISBLANK('Data Input'!A276),\"\",SUM('Data Input'!C276,'Data Input'!D276,'Data Input'!F276,'Data Input'!J276,'Data Input'!O276,'Data Input'!S276,'Data Input'!AM276,'Data Input'!AN276,'Data Input'!AO276,'Data Input'!AP276))","v":""},{"$f":"IF(P272=\"\",\"\",P272/COUNTIF('Data Input'!$C$8:$AQ$8,$P$2))","v":""},{"$f":"IF(ISBLANK('Data Input'!C276),\"\",SUM('Data Input'!P276))","v":""},{"$f":"IF(R272=\"\",\"\",R272/COUNTIF('Data Input'!$C$8:$AQ$8,$R$2))","v":""}]
[{"$f":"IF('Data Input'!A277=0,\"\",'Data Input'!A277)","v":""},{"$f":"IF(H273=\"\",\"\",IF(H273>Welcome!$K$23-1,\"Exceeding\",IF(H273>Welcome!$G$23-1,\"Expected\",IF(H273<Welcome!$G$23,\"Below\"))))","v":""},{"$f":"IF(ISBLANK('Data Input'!A277),\"\",COUNTIF('Data Input'!C277:AQ277,\"\")-1)","v":""},{"$f":"IF(ISBLANK('Data Input'!A277),\"\",COUNTIF('Data Input'!C277:AQ277,\"0\"))","v":""},{"$f":"IF(ISBLANK('Data Input'!A277),\"\",SUM(C273,D273))","v":""},{"$f":"IF(ISBLANK('Data Input'!A277),\"\",SUM('Data Input'!C277:V277))","v":""},{"$f":"IF(ISBLANK('Data Input'!A277),\"\",SUM('Data Input'!X277:AQ277))","v":""},{"$f":"IF(ISBLANK('Data Input'!A277),\"\",SUM('Data Input'!C277:AQ277))","v":""},{"$f":"IF(H273=\"\",\"\",H273/(COUNTA('Data Input'!$C$8:$AQ$8)-1))","v":""},{"$f":"IF(ISBLANK('Data Input'!A277),\"\",SUM('Data Input'!I277,'Data Input'!M277,'Data Input'!AB277,'Data Input'!AE277))","v":""},{"$f":"IF(J273=\"\",\"\",J273/COUNTIF('Data Input'!$C$8:$AQ$8,$J$2))","v":""},{"$f":"IF(ISBLANK('Data Input'!A277),\"\",SUM('Data Input'!E277,'Data Input'!G277,'Data Input'!H277,'Data Input'!L277,'Data Input'!N277,'Data Input'!Q277,'Data Input'!R277,'Data Input'!T277,'Data Input'!U277,'Data Input'!V277,'Data Input'!X277,'Data Input'!Y277,'Data Input'!Z277,'Data Input'!AA277,'Data Input'!AC277,'Data Input'!AD277,'Data Input'!AF277,'Data Input'!AG277,'Data Input'!AH277,'Data Input'!AI277,'Data Input'!AJ277,'Data Input'!AK277,'Data Input'!AL277))","v":""},{"$f":"IF(L273=\"\",\"\",L273/COUNTIF('Data Input'!$C$8:$AQ$8,$L$2))","v":""},{"$f":"IF(ISBLANK('Data Input'!A277),\"\",SUM('Data Input'!K277,'Data Input'!AQ277))","v":""},{"$f":"IF(N273=\"\",\"\",N273/COUNTIF('Data Input'!$C$8:$AQ$8,$N$2))","v":""},{"$f":"IF(ISBLANK('Data Input'!A277),\"\",SUM('Data Input'!C277,'Data Input'!D277,'Data Input'!F277,'Data Input'!J277,'Data Input'!O277,'Data Input'!S277,'Data Input'!AM277,'Data Input'!AN277,'Data Input'!AO277,'Data Input'!AP277))","v":""},{"$f":"IF(P273=\"\",\"\",P273/COUNTIF('Data Input'!$C$8:$AQ$8,$P$2))","v":""},{"$f":"IF(ISBLANK('Data Input'!C277),\"\",SUM('Data Input'!P277))","v":""},{"$f":"IF(R273=\"\",\"\",R273/COUNTIF('Data Input'!$C$8:$AQ$8,$R$2))","v":""}]
[{"$f":"IF('Data Input'!A278=0,\"\",'Data Input'!A278)","v":""},{"$f":"IF(H274=\"\",\"\",IF(H274>Welcome!$K$23-1,\"Exceeding\",IF(H274>Welcome!$G$23-1,\"Expected\",IF(H274<Welcome!$G$23,\"Below\"))))","v":""},{"$f":"IF(ISBLANK('Data Input'!A278),\"\",COUNTIF('Data Input'!C278:AQ278,\"\")-1)","v":""},{"$f":"IF(ISBLANK('Data Input'!A278),\"\",COUNTIF('Data Input'!C278:AQ278,\"0\"))","v":""},{"$f":"IF(ISBLANK('Data Input'!A278),\"\",SUM(C274,D274))","v":""},{"$f":"IF(ISBLANK('Data Input'!A278),\"\",SUM('Data Input'!C278:V278))","v":""},{"$f":"IF(ISBLANK('Data Input'!A278),\"\",SUM('Data Input'!X278:AQ278))","v":""},{"$f":"IF(ISBLANK('Data Input'!A278),\"\",SUM('Data Input'!C278:AQ278))","v":""},{"$f":"IF(H274=\"\",\"\",H274/(COUNTA('Data Input'!$C$8:$AQ$8)-1))","v":""},{"$f":"IF(ISBLANK('Data Input'!A278),\"\",SUM('Data Input'!I278,'Data Input'!M278,'Data Input'!AB278,'Data Input'!AE278))","v":""},{"$f":"IF(J274=\"\",\"\",J274/COUNTIF('Data Input'!$C$8:$AQ$8,$J$2))","v":""},{"$f":"IF(ISBLANK('Data Input'!A278),\"\",SUM('Data Input'!E278,'Data Input'!G278,'Data Input'!H278,'Data Input'!L278,'Data Input'!N278,'Data Input'!Q278,'Data Input'!R278,'Data Input'!T278,'Data Input'!U278,'Data Input'!V278,'Data Input'!X278,'Data Input'!Y278,'Data Input'!Z278,'Data Input'!AA278,'Data Input'!AC278,'Data Input'!AD278,'Data Input'!AF278,'Data Input'!AG278,'Data Input'!AH278,'Data Input'!AI278,'Data Input'!AJ278,'Data Input'!AK278,'Data Input'!AL278))","v":""},{"$f":"IF(L274=\"\",\"\",L274/COUNTIF('Data Input'!$C$8:$AQ$8,$L$2))","v":""},{"$f":"IF(ISBLANK('Data Input'!A278),\"\",SUM('Data Input'!K278,'Data Input'!AQ278))","v":""},{"$f":"IF(N274=\"\",\"\",N274/COUNTIF('Data Input'!$C$8:$AQ$8,$N$2))","v":""},{"$f":"IF(ISBLANK('Data Input'!A278),\"\",SUM('Data Input'!C278,'Data Input'!D278,'Data Input'!F278,'Data Input'!J278,'Data Input'!O278,'Data Input'!S278,'Data Input'!AM278,'Data Input'!AN278,'Data Input'!AO278,'Data Input'!AP278))","v":""},{"$f":"IF(P274=\"\",\"\",P274/COUNTIF('Data Input'!$C$8:$AQ$8,$P$2))","v":""},{"$f":"IF(ISBLANK('Data Input'!C278),\"\",SUM('Data Input'!P278))","v":""},{"$f":"IF(R274=\"\",\"\",R274/COUNTIF('Data Input'!$C$8:$AQ$8,$R$2))","v":""}]
[{"$f":"IF('Data Input'!A279=0,\"\",'Data Input'!A279)","v":""},{"$f":"IF(H275=\"\",\"\",IF(H275>Welcome!$K$23-1,\"Exceeding\",IF(H275>Welcome!$G$23-1,\"Expected\",IF(H275<Welcome!$G$23,\"Below\"))))","v":""},{"$f":"IF(ISBLANK('Data Input'!A279),\"\",COUNTIF('Data Input'!C279:AQ279,\"\")-1)","v":""},{"$f":"IF(ISBLANK('Data Input'!A279),\"\",COUNTIF('Data Input'!C279:AQ279,\"0\"))","v":""},{"$f":"IF(ISBLANK('Data Input'!A279),\"\",SUM(C275,D275))","v":""},{"$f":"IF(ISBLANK('Data Input'!A279),\"\",SUM('Data Input'!C279:V279))","v":""},{"$f":"IF(ISBLANK('Data Input'!A279),\"\",SUM('Data Input'!X279:AQ279))","v":""},{"$f":"IF(ISBLANK('Data Input'!A279),\"\",SUM('Data Input'!C279:AQ279))","v":""},{"$f":"IF(H275=\"\",\"\",H275/(COUNTA('Data Input'!$C$8:$AQ$8)-1))","v":""},{"$f":"IF(ISBLANK('Data Input'!A279),\"\",SUM('Data Input'!I279,'Data Input'!M279,'Data Input'!AB279,'Data Input'!AE279))","v":""},{"$f":"IF(J275=\"\",\"\",J275/COUNTIF('Data Input'!$C$8:$AQ$8,$J$2))","v":""},{"$f":"IF(ISBLANK('Data Input'!A279),\"\",SUM('Data Input'!E279,'Data Input'!G279,'Data Input'!H279,'Data Input'!L279,'Data Input'!N279,'Data Input'!Q279,'Data Input'!R279,'Data Input'!T279,'Data Input'!U279,'Data Input'!V279,'Data Input'!X279,'Data Input'!Y279,'Data Input'!Z279,'Data Input'!AA279,'Data Input'!AC279,'Data Input'!AD279,'Data Input'!AF279,'Data Input'!AG279,'Data Input'!AH279,'Data Input'!AI279,'Data Input'!AJ279,'Data Input'!AK279,'Data Input'!AL279))","v":""},{"$f":"IF(L275=\"\",\"\",L275/COUNTIF('Data Input'!$C$8:$AQ$8,$L$2))","v":""},{"$f":"IF(ISBLANK('Data Input'!A279),\"\",SUM('Data Input'!K279,'Data Input'!AQ279))","v":""},{"$f":"IF(N275=\"\",\"\",N275/COUNTIF('Data Input'!$C$8:$AQ$8,$N$2))","v":""},{"$f":"IF(ISBLANK('Data Input'!A279),\"\",SUM('Data Input'!C279,'Data Input'!D279,'Data Input'!F279,'Data Input'!J279,'Data Input'!O279,'Data Input'!S279,'Data Input'!AM279,'Data Input'!AN279,'Data Input'!AO279,'Data Input'!AP279))","v":""},{"$f":"IF(P275=\"\",\"\",P275/COUNTIF('Data Input'!$C$8:$AQ$8,$P$2))","v":""},{"$f":"IF(ISBLANK('Data Input'!C279),\"\",SUM('Data Input'!P279))","v":""},{"$f":"IF(R275=\"\",\"\",R275/COUNTIF('Data Input'!$C$8:$AQ$8,$R$2))","v":""}]
[{"$f":"IF('Data Input'!A280=0,\"\",'Data Input'!A280)","v":""},{"$f":"IF(H276=\"\",\"\",IF(H276>Welcome!$K$23-1,\"Exceeding\",IF(H276>Welcome!$G$23-1,\"Expected\",IF(H276<Welcome!$G$23,\"Below\"))))","v":""},{"$f":"IF(ISBLANK('Data Input'!A280),\"\",COUNTIF('Data Input'!C280:AQ280,\"\")-1)","v":""},{"$f":"IF(ISBLANK('Data Input'!A280),\"\",COUNTIF('Data Input'!C280:AQ280,\"0\"))","v":""},{"$f":"IF(ISBLANK('Data Input'!A280),\"\",SUM(C276,D276))","v":""},{"$f":"IF(ISBLANK('Data Input'!A280),\"\",SUM('Data Input'!C280:V280))","v":""},{"$f":"IF(ISBLANK('Data Input'!A280),\"\",SUM('Data Input'!X280:AQ280))","v":""},{"$f":"IF(ISBLANK('Data Input'!A280),\"\",SUM('Data Input'!C280:AQ280))","v":""},{"$f":"IF(H276=\"\",\"\",H276/(COUNTA('Data Input'!$C$8:$AQ$8)-1))","v":""},{"$f":"IF(ISBLANK('Data Input'!A280),\"\",SUM('Data Input'!I280,'Data Input'!M280,'Data Input'!AB280,'Data Input'!AE280))","v":""},{"$f":"IF(J276=\"\",\"\",J276/COUNTIF('Data Input'!$C$8:$AQ$8,$J$2))","v":""},{"$f":"IF(ISBLANK('Data Input'!A280),\"\",SUM('Data Input'!E280,'Data Input'!G280,'Data Input'!H280,'Data Input'!L280,'Data Input'!N280,'Data Input'!Q280,'Data Input'!R280,'Data Input'!T280,'Data Input'!U280,'Data Input'!V280,'Data Input'!X280,'Data Input'!Y280,'Data Input'!Z280,'Data Input'!AA280,'Data Input'!AC280,'Data Input'!AD280,'Data Input'!AF280,'Data Input'!AG280,'Data Input'!AH280,'Data Input'!AI280,'Data Input'!AJ280,'Data Input'!AK280,'Data Input'!AL280))","v":""},{"$f":"IF(L276=\"\",\"\",L276/COUNTIF('Data Input'!$C$8:$AQ$8,$L$2))","v":""},{"$f":"IF(ISBLANK('Data Input'!A280),\"\",SUM('Data Input'!K280,'Data Input'!AQ280))","v":""},{"$f":"IF(N276=\"\",\"\",N276/COUNTIF('Data Input'!$C$8:$AQ$8,$N$2))","v":""},{"$f":"IF(ISBLANK('Data Input'!A280),\"\",SUM('Data Input'!C280,'Data Input'!D280,'Data Input'!F280,'Data Input'!J280,'Data Input'!O280,'Data Input'!S280,'Data Input'!AM280,'Data Input'!AN280,'Data Input'!AO280,'Data Input'!AP280))","v":""},{"$f":"IF(P276=\"\",\"\",P276/COUNTIF('Data Input'!$C$8:$AQ$8,$P$2))","v":""},{"$f":"IF(ISBLANK('Data Input'!C280),\"\",SUM('Data Input'!P280))","v":""},{"$f":"IF(R276=\"\",\"\",R276/COUNTIF('Data Input'!$C$8:$AQ$8,$R$2))","v":""}]
[{"$f":"IF('Data Input'!A281=0,\"\",'Data Input'!A281)","v":""},{"$f":"IF(H277=\"\",\"\",IF(H277>Welcome!$K$23-1,\"Exceeding\",IF(H277>Welcome!$G$23-1,\"Expected\",IF(H277<Welcome!$G$23,\"Below\"))))","v":""},{"$f":"IF(ISBLANK('Data Input'!A281),\"\",COUNTIF('Data Input'!C281:AQ281,\"\")-1)","v":""},{"$f":"IF(ISBLANK('Data Input'!A281),\"\",COUNTIF('Data Input'!C281:AQ281,\"0\"))","v":""},{"$f":"IF(ISBLANK('Data Input'!A281),\"\",SUM(C277,D277))","v":""},{"$f":"IF(ISBLANK('Data Input'!A281),\"\",SUM('Data Input'!C281:V281))","v":""},{"$f":"IF(ISBLANK('Data Input'!A281),\"\",SUM('Data Input'!X281:AQ281))","v":""},{"$f":"IF(ISBLANK('Data Input'!A281),\"\",SUM('Data Input'!C281:AQ281))","v":""},{"$f":"IF(H277=\"\",\"\",H277/(COUNTA('Data Input'!$C$8:$AQ$8)-1))","v":""},{"$f":"IF(ISBLANK('Data Input'!A281),\"\",SUM('Data Input'!I281,'Data Input'!M281,'Data Input'!AB281,'Data Input'!AE281))","v":""},{"$f":"IF(J277=\"\",\"\",J277/COUNTIF('Data Input'!$C$8:$AQ$8,$J$2))","v":""},{"$f":"IF(ISBLANK('Data Input'!A281),\"\",SUM('Data Input'!E281,'Data Input'!G281,'Data Input'!H281,'Data Input'!L281,'Data Input'!N281,'Data Input'!Q281,'Data Input'!R281,'Data Input'!T281,'Data Input'!U281,'Data Input'!V281,'Data Input'!X281,'Data Input'!Y281,'Data Input'!Z281,'Data Input'!AA281,'Data Input'!AC281,'Data Input'!AD281,'Data Input'!AF281,'Data Input'!AG281,'Data Input'!AH281,'Data Input'!AI281,'Data Input'!AJ281,'Data Input'!AK281,'Data Input'!AL281))","v":""},{"$f":"IF(L277=\"\",\"\",L277/COUNTIF('Data Input'!$C$8:$AQ$8,$L$2))","v":""},{"$f":"IF(ISBLANK('Data Input'!A281),\"\",SUM('Data Input'!K281,'Data Input'!AQ281))","v":""},{"$f":"IF(N277=\"\",\"\",N277/COUNTIF('Data Input'!$C$8:$AQ$8,$N$2))","v":""},{"$f":"IF(ISBLANK('Data Input'!A281),\"\",SUM('Data Input'!C281,'Data Input'!D281,'Data Input'!F281,'Data Input'!J281,'Data Input'!O281,'Data Input'!S281,'Data Input'!AM281,'Data Input'!AN281,'Data Input'!AO281,'Data Input'!AP281))","v":""},{"$f":"IF(P277=\"\",\"\",P277/COUNTIF('Data Input'!$C$8:$AQ$8,$P$2))","v":""},{"$f":"IF(ISBLANK('Data Input'!C281),\"\",SUM('Data Input'!P281))","v":""},{"$f":"IF(R277=\"\",\"\",R277/COUNTIF('Data Input'!$C$8:$AQ$8,$R$2))","v":""}]
[{"$f":"IF('Data Input'!A282=0,\"\",'Data Input'!A282)","v":""},{"$f":"IF(H278=\"\",\"\",IF(H278>Welcome!$K$23-1,\"Exceeding\",IF(H278>Welcome!$G$23-1,\"Expected\",IF(H278<Welcome!$G$23,\"Below\"))))","v":""},{"$f":"IF(ISBLANK('Data Input'!A282),\"\",COUNTIF('Data Input'!C282:AQ282,\"\")-1)","v":""},{"$f":"IF(ISBLANK('Data Input'!A282),\"\",COUNTIF('Data Input'!C282:AQ282,\"0\"))","v":""},{"$f":"IF(ISBLANK('Data Input'!A282),\"\",SUM(C278,D278))","v":""},{"$f":"IF(ISBLANK('Data Input'!A282),\"\",SUM('Data Input'!C282:V282))","v":""},{"$f":"IF(ISBLANK('Data Input'!A282),\"\",SUM('Data Input'!X282:AQ282))","v":""},{"$f":"IF(ISBLANK('Data Input'!A282),\"\",SUM('Data Input'!C282:AQ282))","v":""},{"$f":"IF(H278=\"\",\"\",H278/(COUNTA('Data Input'!$C$8:$AQ$8)-1))","v":""},{"$f":"IF(ISBLANK('Data Input'!A282),\"\",SUM('Data Input'!I282,'Data Input'!M282,'Data Input'!AB282,'Data Input'!AE282))","v":""},{"$f":"IF(J278=\"\",\"\",J278/COUNTIF('Data Input'!$C$8:$AQ$8,$J$2))","v":""},{"$f":"IF(ISBLANK('Data Input'!A282),\"\",SUM('Data Input'!E282,'Data Input'!G282,'Data Input'!H282,'Data Input'!L282,'Data Input'!N282,'Data Input'!Q282,'Data Input'!R282,'Data Input'!T282,'Data Input'!U282,'Data Input'!V282,'Data Input'!X282,'Data Input'!Y282,'Data Input'!Z282,'Data Input'!AA282,'Data Input'!AC282,'Data Input'!AD282,'Data Input'!AF282,'Data Input'!AG282,'Data Input'!AH282,'Data Input'!AI282,'Data Input'!AJ282,'Data Input'!AK282,'Data Input'!AL282))","v":""},{"$f":"IF(L278=\"\",\"\",L278/COUNTIF('Data Input'!$C$8:$AQ$8,$L$2))","v":""},{"$f":"IF(ISBLANK('Data Input'!A282),\"\",SUM('Data Input'!K282,'Data Input'!AQ282))","v":""},{"$f":"IF(N278=\"\",\"\",N278/COUNTIF('Data Input'!$C$8:$AQ$8,$N$2))","v":""},{"$f":"IF(ISBLANK('Data Input'!A282),\"\",SUM('Data Input'!C282,'Data Input'!D282,'Data Input'!F282,'Data Input'!J282,'Data Input'!O282,'Data Input'!S282,'Data Input'!AM282,'Data Input'!AN282,'Data Input'!AO282,'Data Input'!AP282))","v":""},{"$f":"IF(P278=\"\",\"\",P278/COUNTIF('Data Input'!$C$8:$AQ$8,$P$2))","v":""},{"$f":"IF(ISBLANK('Data Input'!C282),\"\",SUM('Data Input'!P282))","v":""},{"$f":"IF(R278=\"\",\"\",R278/COUNTIF('Data Input'!$C$8:$AQ$8,$R$2))","v":""}]
[{"$f":"IF('Data Input'!A283=0,\"\",'Data Input'!A283)","v":""},{"$f":"IF(H279=\"\",\"\",IF(H279>Welcome!$K$23-1,\"Exceeding\",IF(H279>Welcome!$G$23-1,\"Expected\",IF(H279<Welcome!$G$23,\"Below\"))))","v":""},{"$f":"IF(ISBLANK('Data Input'!A283),\"\",COUNTIF('Data Input'!C283:AQ283,\"\")-1)","v":""},{"$f":"IF(ISBLANK('Data Input'!A283),\"\",COUNTIF('Data Input'!C283:AQ283,\"0\"))","v":""},{"$f":"IF(ISBLANK('Data Input'!A283),\"\",SUM(C279,D279))","v":""},{"$f":"IF(ISBLANK('Data Input'!A283),\"\",SUM('Data Input'!C283:V283))","v":""},{"$f":"IF(ISBLANK('Data Input'!A283),\"\",SUM('Data Input'!X283:AQ283))","v":""},{"$f":"IF(ISBLANK('Data Input'!A283),\"\",SUM('Data Input'!C283:AQ283))","v":""},{"$f":"IF(H279=\"\",\"\",H279/(COUNTA('Data Input'!$C$8:$AQ$8)-1))","v":""},{"$f":"IF(ISBLANK('Data Input'!A283),\"\",SUM('Data Input'!I283,'Data Input'!M283,'Data Input'!AB283,'Data Input'!AE283))","v":""},{"$f":"IF(J279=\"\",\"\",J279/COUNTIF('Data Input'!$C$8:$AQ$8,$J$2))","v":""},{"$f":"IF(ISBLANK('Data Input'!A283),\"\",SUM('Data Input'!E283,'Data Input'!G283,'Data Input'!H283,'Data Input'!L283,'Data Input'!N283,'Data Input'!Q283,'Data Input'!R283,'Data Input'!T283,'Data Input'!U283,'Data Input'!V283,'Data Input'!X283,'Data Input'!Y283,'Data Input'!Z283,'Data Input'!AA283,'Data Input'!AC283,'Data Input'!AD283,'Data Input'!AF283,'Data Input'!AG283,'Data Input'!AH283,'Data Input'!AI283,'Data Input'!AJ283,'Data Input'!AK283,'Data Input'!AL283))","v":""},{"$f":"IF(L279=\"\",\"\",L279/COUNTIF('Data Input'!$C$8:$AQ$8,$L$2))","v":""},{"$f":"IF(ISBLANK('Data Input'!A283),\"\",SUM('Data Input'!K283,'Data Input'!AQ283))","v":""},{"$f":"IF(N279=\"\",\"\",N279/COUNTIF('Data Input'!$C$8:$AQ$8,$N$2))","v":""},{"$f":"IF(ISBLANK('Data Input'!A283),\"\",SUM('Data Input'!C283,'Data Input'!D283,'Data Input'!F283,'Data Input'!J283,'Data Input'!O283,'Data Input'!S283,'Data Input'!AM283,'Data Input'!AN283,'Data Input'!AO283,'Data Input'!AP283))","v":""},{"$f":"IF(P279=\"\",\"\",P279/COUNTIF('Data Input'!$C$8:$AQ$8,$P$2))","v":""},{"$f":"IF(ISBLANK('Data Input'!C283),\"\",SUM('Data Input'!P283))","v":""},{"$f":"IF(R279=\"\",\"\",R279/COUNTIF('Data Input'!$C$8:$AQ$8,$R$2))","v":""}]
[{"$f":"IF('Data Input'!A284=0,\"\",'Data Input'!A284)","v":""},{"$f":"IF(H280=\"\",\"\",IF(H280>Welcome!$K$23-1,\"Exceeding\",IF(H280>Welcome!$G$23-1,\"Expected\",IF(H280<Welcome!$G$23,\"Below\"))))","v":""},{"$f":"IF(ISBLANK('Data Input'!A284),\"\",COUNTIF('Data Input'!C284:AQ284,\"\")-1)","v":""},{"$f":"IF(ISBLANK('Data Input'!A284),\"\",COUNTIF('Data Input'!C284:AQ284,\"0\"))","v":""},{"$f":"IF(ISBLANK('Data Input'!A284),\"\",SUM(C280,D280))","v":""},{"$f":"IF(ISBLANK('Data Input'!A284),\"\",SUM('Data Input'!C284:V284))","v":""},{"$f":"IF(ISBLANK('Data Input'!A284),\"\",SUM('Data Input'!X284:AQ284))","v":""},{"$f":"IF(ISBLANK('Data Input'!A284),\"\",SUM('Data Input'!C284:AQ284))","v":""},{"$f":"IF(H280=\"\",\"\",H280/(COUNTA('Data Input'!$C$8:$AQ$8)-1))","v":""},{"$f":"IF(ISBLANK('Data Input'!A284),\"\",SUM('Data Input'!I284,'Data Input'!M284,'Data Input'!AB284,'Data Input'!AE284))","v":""},{"$f":"IF(J280=\"\",\"\",J280/COUNTIF('Data Input'!$C$8:$AQ$8,$J$2))","v":""},{"$f":"IF(ISBLANK('Data Input'!A284),\"\",SUM('Data Input'!E284,'Data Input'!G284,'Data Input'!H284,'Data Input'!L284,'Data Input'!N284,'Data Input'!Q284,'Data Input'!R284,'Data Input'!T284,'Data Input'!U284,'Data Input'!V284,'Data Input'!X284,'Data Input'!Y284,'Data Input'!Z284,'Data Input'!AA284,'Data Input'!AC284,'Data Input'!AD284,'Data Input'!AF284,'Data Input'!AG284,'Data Input'!AH284,'Data Input'!AI284,'Data Input'!AJ284,'Data Input'!AK284,'Data Input'!AL284))","v":""},{"$f":"IF(L280=\"\",\"\",L280/COUNTIF('Data Input'!$C$8:$AQ$8,$L$2))","v":""},{"$f":"IF(ISBLANK('Data Input'!A284),\"\",SUM('Data Input'!K284,'Data Input'!AQ284))","v":""},{"$f":"IF(N280=\"\",\"\",N280/COUNTIF('Data Input'!$C$8:$AQ$8,$N$2))","v":""},{"$f":"IF(ISBLANK('Data Input'!A284),\"\",SUM('Data Input'!C284,'Data Input'!D284,'Data Input'!F284,'Data Input'!J284,'Data Input'!O284,'Data Input'!S284,'Data Input'!AM284,'Data Input'!AN284,'Data Input'!AO284,'Data Input'!AP284))","v":""},{"$f":"IF(P280=\"\",\"\",P280/COUNTIF('Data Input'!$C$8:$AQ$8,$P$2))","v":""},{"$f":"IF(ISBLANK('Data Input'!C284),\"\",SUM('Data Input'!P284))","v":""},{"$f":"IF(R280=\"\",\"\",R280/COUNTIF('Data Input'!$C$8:$AQ$8,$R$2))","v":""}]
[{"$f":"IF('Data Input'!A285=0,\"\",'Data Input'!A285)","v":""},{"$f":"IF(H281=\"\",\"\",IF(H281>Welcome!$K$23-1,\"Exceeding\",IF(H281>Welcome!$G$23-1,\"Expected\",IF(H281<Welcome!$G$23,\"Below\"))))","v":""},{"$f":"IF(ISBLANK('Data Input'!A285),\"\",COUNTIF('Data Input'!C285:AQ285,\"\")-1)","v":""},{"$f":"IF(ISBLANK('Data Input'!A285),\"\",COUNTIF('Data Input'!C285:AQ285,\"0\"))","v":""},{"$f":"IF(ISBLANK('Data Input'!A285),\"\",SUM(C281,D281))","v":""},{"$f":"IF(ISBLANK('Data Input'!A285),\"\",SUM('Data Input'!C285:V285))","v":""},{"$f":"IF(ISBLANK('Data Input'!A285),\"\",SUM('Data Input'!X285:AQ285))","v":""},{"$f":"IF(ISBLANK('Data Input'!A285),\"\",SUM('Data Input'!C285:AQ285))","v":""},{"$f":"IF(H281=\"\",\"\",H281/(COUNTA('Data Input'!$C$8:$AQ$8)-1))","v":""},{"$f":"IF(ISBLANK('Data Input'!A285),\"\",SUM('Data Input'!I285,'Data Input'!M285,'Data Input'!AB285,'Data Input'!AE285))","v":""},{"$f":"IF(J281=\"\",\"\",J281/COUNTIF('Data Input'!$C$8:$AQ$8,$J$2))","v":""},{"$f":"IF(ISBLANK('Data Input'!A285),\"\",SUM('Data Input'!E285,'Data Input'!G285,'Data Input'!H285,'Data Input'!L285,'Data Input'!N285,'Data Input'!Q285,'Data Input'!R285,'Data Input'!T285,'Data Input'!U285,'Data Input'!V285,'Data Input'!X285,'Data Input'!Y285,'Data Input'!Z285,'Data Input'!AA285,'Data Input'!AC285,'Data Input'!AD285,'Data Input'!AF285,'Data Input'!AG285,'Data Input'!AH285,'Data Input'!AI285,'Data Input'!AJ285,'Data Input'!AK285,'Data Input'!AL285))","v":""},{"$f":"IF(L281=\"\",\"\",L281/COUNTIF('Data Input'!$C$8:$AQ$8,$L$2))","v":""},{"$f":"IF(ISBLANK('Data Input'!A285),\"\",SUM('Data Input'!K285,'Data Input'!AQ285))","v":""},{"$f":"IF(N281=\"\",\"\",N281/COUNTIF('Data Input'!$C$8:$AQ$8,$N$2))","v":""},{"$f":"IF(ISBLANK('Data Input'!A285),\"\",SUM('Data Input'!C285,'Data Input'!D285,'Data Input'!F285,'Data Input'!J285,'Data Input'!O285,'Data Input'!S285,'Data Input'!AM285,'Data Input'!AN285,'Data Input'!AO285,'Data Input'!AP285))","v":""},{"$f":"IF(P281=\"\",\"\",P281/COUNTIF('Data Input'!$C$8:$AQ$8,$P$2))","v":""},{"$f":"IF(ISBLANK('Data Input'!C285),\"\",SUM('Data Input'!P285))","v":""},{"$f":"IF(R281=\"\",\"\",R281/COUNTIF('Data Input'!$C$8:$AQ$8,$R$2))","v":""}]
[{"$f":"IF('Data Input'!A286=0,\"\",'Data Input'!A286)","v":""},{"$f":"IF(H282=\"\",\"\",IF(H282>Welcome!$K$23-1,\"Exceeding\",IF(H282>Welcome!$G$23-1,\"Expected\",IF(H282<Welcome!$G$23,\"Below\"))))","v":""},{"$f":"IF(ISBLANK('Data Input'!A286),\"\",COUNTIF('Data Input'!C286:AQ286,\"\")-1)","v":""},{"$f":"IF(ISBLANK('Data Input'!A286),\"\",COUNTIF('Data Input'!C286:AQ286,\"0\"))","v":""},{"$f":"IF(ISBLANK('Data Input'!A286),\"\",SUM(C282,D282))","v":""},{"$f":"IF(ISBLANK('Data Input'!A286),\"\",SUM('Data Input'!C286:V286))","v":""},{"$f":"IF(ISBLANK('Data Input'!A286),\"\",SUM('Data Input'!X286:AQ286))","v":""},{"$f":"IF(ISBLANK('Data Input'!A286),\"\",SUM('Data Input'!C286:AQ286))","v":""},{"$f":"IF(H282=\"\",\"\",H282/(COUNTA('Data Input'!$C$8:$AQ$8)-1))","v":""},{"$f":"IF(ISBLANK('Data Input'!A286),\"\",SUM('Data Input'!I286,'Data Input'!M286,'Data Input'!AB286,'Data Input'!AE286))","v":""},{"$f":"IF(J282=\"\",\"\",J282/COUNTIF('Data Input'!$C$8:$AQ$8,$J$2))","v":""},{"$f":"IF(ISBLANK('Data Input'!A286),\"\",SUM('Data Input'!E286,'Data Input'!G286,'Data Input'!H286,'Data Input'!L286,'Data Input'!N286,'Data Input'!Q286,'Data Input'!R286,'Data Input'!T286,'Data Input'!U286,'Data Input'!V286,'Data Input'!X286,'Data Input'!Y286,'Data Input'!Z286,'Data Input'!AA286,'Data Input'!AC286,'Data Input'!AD286,'Data Input'!AF286,'Data Input'!AG286,'Data Input'!AH286,'Data Input'!AI286,'Data Input'!AJ286,'Data Input'!AK286,'Data Input'!AL286))","v":""},{"$f":"IF(L282=\"\",\"\",L282/COUNTIF('Data Input'!$C$8:$AQ$8,$L$2))","v":""},{"$f":"IF(ISBLANK('Data Input'!A286),\"\",SUM('Data Input'!K286,'Data Input'!AQ286))","v":""},{"$f":"IF(N282=\"\",\"\",N282/COUNTIF('Data Input'!$C$8:$AQ$8,$N$2))","v":""},{"$f":"IF(ISBLANK('Data Input'!A286),\"\",SUM('Data Input'!C286,'Data Input'!D286,'Data Input'!F286,'Data Input'!J286,'Data Input'!O286,'Data Input'!S286,'Data Input'!AM286,'Data Input'!AN286,'Data Input'!AO286,'Data Input'!AP286))","v":""},{"$f":"IF(P282=\"\",\"\",P282/COUNTIF('Data Input'!$C$8:$AQ$8,$P$2))","v":""},{"$f":"IF(ISBLANK('Data Input'!C286),\"\",SUM('Data Input'!P286))","v":""},{"$f":"IF(R282=\"\",\"\",R282/COUNTIF('Data Input'!$C$8:$AQ$8,$R$2))","v":""}]
[{"$f":"IF('Data Input'!A287=0,\"\",'Data Input'!A287)","v":""},{"$f":"IF(H283=\"\",\"\",IF(H283>Welcome!$K$23-1,\"Exceeding\",IF(H283>Welcome!$G$23-1,\"Expected\",IF(H283<Welcome!$G$23,\"Below\"))))","v":""},{"$f":"IF(ISBLANK('Data Input'!A287),\"\",COUNTIF('Data Input'!C287:AQ287,\"\")-1)","v":""},{"$f":"IF(ISBLANK('Data Input'!A287),\"\",COUNTIF('Data Input'!C287:AQ287,\"0\"))","v":""},{"$f":"IF(ISBLANK('Data Input'!A287),\"\",SUM(C283,D283))","v":""},{"$f":"IF(ISBLANK('Data Input'!A287),\"\",SUM('Data Input'!C287:V287))","v":""},{"$f":"IF(ISBLANK('Data Input'!A287),\"\",SUM('Data Input'!X287:AQ287))","v":""},{"$f":"IF(ISBLANK('Data Input'!A287),\"\",SUM('Data Input'!C287:AQ287))","v":""},{"$f":"IF(H283=\"\",\"\",H283/(COUNTA('Data Input'!$C$8:$AQ$8)-1))","v":""},{"$f":"IF(ISBLANK('Data Input'!A287),\"\",SUM('Data Input'!I287,'Data Input'!M287,'Data Input'!AB287,'Data Input'!AE287))","v":""},{"$f":"IF(J283=\"\",\"\",J283/COUNTIF('Data Input'!$C$8:$AQ$8,$J$2))","v":""},{"$f":"IF(ISBLANK('Data Input'!A287),\"\",SUM('Data Input'!E287,'Data Input'!G287,'Data Input'!H287,'Data Input'!L287,'Data Input'!N287,'Data Input'!Q287,'Data Input'!R287,'Data Input'!T287,'Data Input'!U287,'Data Input'!V287,'Data Input'!X287,'Data Input'!Y287,'Data Input'!Z287,'Data Input'!AA287,'Data Input'!AC287,'Data Input'!AD287,'Data Input'!AF287,'Data Input'!AG287,'Data Input'!AH287,'Data Input'!AI287,'Data Input'!AJ287,'Data Input'!AK287,'Data Input'!AL287))","v":""},{"$f":"IF(L283=\"\",\"\",L283/COUNTIF('Data Input'!$C$8:$AQ$8,$L$2))","v":""},{"$f":"IF(ISBLANK('Data Input'!A287),\"\",SUM('Data Input'!K287,'Data Input'!AQ287))","v":""},{"$f":"IF(N283=\"\",\"\",N283/COUNTIF('Data Input'!$C$8:$AQ$8,$N$2))","v":""},{"$f":"IF(ISBLANK('Data Input'!A287),\"\",SUM('Data Input'!C287,'Data Input'!D287,'Data Input'!F287,'Data Input'!J287,'Data Input'!O287,'Data Input'!S287,'Data Input'!AM287,'Data Input'!AN287,'Data Input'!AO287,'Data Input'!AP287))","v":""},{"$f":"IF(P283=\"\",\"\",P283/COUNTIF('Data Input'!$C$8:$AQ$8,$P$2))","v":""},{"$f":"IF(ISBLANK('Data Input'!C287),\"\",SUM('Data Input'!P287))","v":""},{"$f":"IF(R283=\"\",\"\",R283/COUNTIF('Data Input'!$C$8:$AQ$8,$R$2))","v":""}]
[{"$f":"IF('Data Input'!A288=0,\"\",'Data Input'!A288)","v":""},{"$f":"IF(H284=\"\",\"\",IF(H284>Welcome!$K$23-1,\"Exceeding\",IF(H284>Welcome!$G$23-1,\"Expected\",IF(H284<Welcome!$G$23,\"Below\"))))","v":""},{"$f":"IF(ISBLANK('Data Input'!A288),\"\",COUNTIF('Data Input'!C288:AQ288,\"\")-1)","v":""},{"$f":"IF(ISBLANK('Data Input'!A288),\"\",COUNTIF('Data Input'!C288:AQ288,\"0\"))","v":""},{"$f":"IF(ISBLANK('Data Input'!A288),\"\",SUM(C284,D284))","v":""},{"$f":"IF(ISBLANK('Data Input'!A288),\"\",SUM('Data Input'!C288:V288))","v":""},{"$f":"IF(ISBLANK('Data Input'!A288),\"\",SUM('Data Input'!X288:AQ288))","v":""},{"$f":"IF(ISBLANK('Data Input'!A288),\"\",SUM('Data Input'!C288:AQ288))","v":""},{"$f":"IF(H284=\"\",\"\",H284/(COUNTA('Data Input'!$C$8:$AQ$8)-1))","v":""},{"$f":"IF(ISBLANK('Data Input'!A288),\"\",SUM('Data Input'!I288,'Data Input'!M288,'Data Input'!AB288,'Data Input'!AE288))","v":""},{"$f":"IF(J284=\"\",\"\",J284/COUNTIF('Data Input'!$C$8:$AQ$8,$J$2))","v":""},{"$f":"IF(ISBLANK('Data Input'!A288),\"\",SUM('Data Input'!E288,'Data Input'!G288,'Data Input'!H288,'Data Input'!L288,'Data Input'!N288,'Data Input'!Q288,'Data Input'!R288,'Data Input'!T288,'Data Input'!U288,'Data Input'!V288,'Data Input'!X288,'Data Input'!Y288,'Data Input'!Z288,'Data Input'!AA288,'Data Input'!AC288,'Data Input'!AD288,'Data Input'!AF288,'Data Input'!AG288,'Data Input'!AH288,'Data Input'!AI288,'Data Input'!AJ288,'Data Input'!AK288,'Data Input'!AL288))","v":""},{"$f":"IF(L284=\"\",\"\",L284/COUNTIF('Data Input'!$C$8:$AQ$8,$L$2))","v":""},{"$f":"IF(ISBLANK('Data Input'!A288),\"\",SUM('Data Input'!K288,'Data Input'!AQ288))","v":""},{"$f":"IF(N284=\"\",\"\",N284/COUNTIF('Data Input'!$C$8:$AQ$8,$N$2))","v":""},{"$f":"IF(ISBLANK('Data Input'!A288),\"\",SUM('Data Input'!C288,'Data Input'!D288,'Data Input'!F288,'Data Input'!J288,'Data Input'!O288,'Data Input'!S288,'Data Input'!AM288,'Data Input'!AN288,'Data Input'!AO288,'Data Input'!AP288))","v":""},{"$f":"IF(P284=\"\",\"\",P284/COUNTIF('Data Input'!$C$8:$AQ$8,$P$2))","v":""},{"$f":"IF(ISBLANK('Data Input'!C288),\"\",SUM('Data Input'!P288))","v":""},{"$f":"IF(R284=\"\",\"\",R284/COUNTIF('Data Input'!$C$8:$AQ$8,$R$2))","v":""}]
[{"$f":"IF('Data Input'!A289=0,\"\",'Data Input'!A289)","v":""},{"$f":"IF(H285=\"\",\"\",IF(H285>Welcome!$K$23-1,\"Exceeding\",IF(H285>Welcome!$G$23-1,\"Expected\",IF(H285<Welcome!$G$23,\"Below\"))))","v":""},{"$f":"IF(ISBLANK('Data Input'!A289),\"\",COUNTIF('Data Input'!C289:AQ289,\"\")-1)","v":""},{"$f":"IF(ISBLANK('Data Input'!A289),\"\",COUNTIF('Data Input'!C289:AQ289,\"0\"))","v":""},{"$f":"IF(ISBLANK('Data Input'!A289),\"\",SUM(C285,D285))","v":""},{"$f":"IF(ISBLANK('Data Input'!A289),\"\",SUM('Data Input'!C289:V289))","v":""},{"$f":"IF(ISBLANK('Data Input'!A289),\"\",SUM('Data Input'!X289:AQ289))","v":""},{"$f":"IF(ISBLANK('Data Input'!A289),\"\",SUM('Data Input'!C289:AQ289))","v":""},{"$f":"IF(H285=\"\",\"\",H285/(COUNTA('Data Input'!$C$8:$AQ$8)-1))","v":""},{"$f":"IF(ISBLANK('Data Input'!A289),\"\",SUM('Data Input'!I289,'Data Input'!M289,'Data Input'!AB289,'Data Input'!AE289))","v":""},{"$f":"IF(J285=\"\",\"\",J285/COUNTIF('Data Input'!$C$8:$AQ$8,$J$2))","v":""},{"$f":"IF(ISBLANK('Data Input'!A289),\"\",SUM('Data Input'!E289,'Data Input'!G289,'Data Input'!H289,'Data Input'!L289,'Data Input'!N289,'Data Input'!Q289,'Data Input'!R289,'Data Input'!T289,'Data Input'!U289,'Data Input'!V289,'Data Input'!X289,'Data Input'!Y289,'Data Input'!Z289,'Data Input'!AA289,'Data Input'!AC289,'Data Input'!AD289,'Data Input'!AF289,'Data Input'!AG289,'Data Input'!AH289,'Data Input'!AI289,'Data Input'!AJ289,'Data Input'!AK289,'Data Input'!AL289))","v":""},{"$f":"IF(L285=\"\",\"\",L285/COUNTIF('Data Input'!$C$8:$AQ$8,$L$2))","v":""},{"$f":"IF(ISBLANK('Data Input'!A289),\"\",SUM('Data Input'!K289,'Data Input'!AQ289))","v":""},{"$f":"IF(N285=\"\",\"\",N285/COUNTIF('Data Input'!$C$8:$AQ$8,$N$2))","v":""},{"$f":"IF(ISBLANK('Data Input'!A289),\"\",SUM('Data Input'!C289,'Data Input'!D289,'Data Input'!F289,'Data Input'!J289,'Data Input'!O289,'Data Input'!S289,'Data Input'!AM289,'Data Input'!AN289,'Data Input'!AO289,'Data Input'!AP289))","v":""},{"$f":"IF(P285=\"\",\"\",P285/COUNTIF('Data Input'!$C$8:$AQ$8,$P$2))","v":""},{"$f":"IF(ISBLANK('Data Input'!C289),\"\",SUM('Data Input'!P289))","v":""},{"$f":"IF(R285=\"\",\"\",R285/COUNTIF('Data Input'!$C$8:$AQ$8,$R$2))","v":""}]
[{"$f":"IF('Data Input'!A290=0,\"\",'Data Input'!A290)","v":""},{"$f":"IF(H286=\"\",\"\",IF(H286>Welcome!$K$23-1,\"Exceeding\",IF(H286>Welcome!$G$23-1,\"Expected\",IF(H286<Welcome!$G$23,\"Below\"))))","v":""},{"$f":"IF(ISBLANK('Data Input'!A290),\"\",COUNTIF('Data Input'!C290:AQ290,\"\")-1)","v":""},{"$f":"IF(ISBLANK('Data Input'!A290),\"\",COUNTIF('Data Input'!C290:AQ290,\"0\"))","v":""},{"$f":"IF(ISBLANK('Data Input'!A290),\"\",SUM(C286,D286))","v":""},{"$f":"IF(ISBLANK('Data Input'!A290),\"\",SUM('Data Input'!C290:V290))","v":""},{"$f":"IF(ISBLANK('Data Input'!A290),\"\",SUM('Data Input'!X290:AQ290))","v":""},{"$f":"IF(ISBLANK('Data Input'!A290),\"\",SUM('Data Input'!C290:AQ290))","v":""},{"$f":"IF(H286=\"\",\"\",H286/(COUNTA('Data Input'!$C$8:$AQ$8)-1))","v":""},{"$f":"IF(ISBLANK('Data Input'!A290),\"\",SUM('Data Input'!I290,'Data Input'!M290,'Data Input'!AB290,'Data Input'!AE290))","v":""},{"$f":"IF(J286=\"\",\"\",J286/COUNTIF('Data Input'!$C$8:$AQ$8,$J$2))","v":""},{"$f":"IF(ISBLANK('Data Input'!A290),\"\",SUM('Data Input'!E290,'Data Input'!G290,'Data Input'!H290,'Data Input'!L290,'Data Input'!N290,'Data Input'!Q290,'Data Input'!R290,'Data Input'!T290,'Data Input'!U290,'Data Input'!V290,'Data Input'!X290,'Data Input'!Y290,'Data Input'!Z290,'Data Input'!AA290,'Data Input'!AC290,'Data Input'!AD290,'Data Input'!AF290,'Data Input'!AG290,'Data Input'!AH290,'Data Input'!AI290,'Data Input'!AJ290,'Data Input'!AK290,'Data Input'!AL290))","v":""},{"$f":"IF(L286=\"\",\"\",L286/COUNTIF('Data Input'!$C$8:$AQ$8,$L$2))","v":""},{"$f":"IF(ISBLANK('Data Input'!A290),\"\",SUM('Data Input'!K290,'Data Input'!AQ290))","v":""},{"$f":"IF(N286=\"\",\"\",N286/COUNTIF('Data Input'!$C$8:$AQ$8,$N$2))","v":""},{"$f":"IF(ISBLANK('Data Input'!A290),\"\",SUM('Data Input'!C290,'Data Input'!D290,'Data Input'!F290,'Data Input'!J290,'Data Input'!O290,'Data Input'!S290,'Data Input'!AM290,'Data Input'!AN290,'Data Input'!AO290,'Data Input'!AP290))","v":""},{"$f":"IF(P286=\"\",\"\",P286/COUNTIF('Data Input'!$C$8:$AQ$8,$P$2))","v":""},{"$f":"IF(ISBLANK('Data Input'!C290),\"\",SUM('Data Input'!P290))","v":""},{"$f":"IF(R286=\"\",\"\",R286/COUNTIF('Data Input'!$C$8:$AQ$8,$R$2))","v":""}]
[{"$f":"IF('Data Input'!A291=0,\"\",'Data Input'!A291)","v":""},{"$f":"IF(H287=\"\",\"\",IF(H287>Welcome!$K$23-1,\"Exceeding\",IF(H287>Welcome!$G$23-1,\"Expected\",IF(H287<Welcome!$G$23,\"Below\"))))","v":""},{"$f":"IF(ISBLANK('Data Input'!A291),\"\",COUNTIF('Data Input'!C291:AQ291,\"\")-1)","v":""},{"$f":"IF(ISBLANK('Data Input'!A291),\"\",COUNTIF('Data Input'!C291:AQ291,\"0\"))","v":""},{"$f":"IF(ISBLANK('Data Input'!A291),\"\",SUM(C287,D287))","v":""},{"$f":"IF(ISBLANK('Data Input'!A291),\"\",SUM('Data Input'!C291:V291))","v":""},{"$f":"IF(ISBLANK('Data Input'!A291),\"\",SUM('Data Input'!X291:AQ291))","v":""},{"$f":"IF(ISBLANK('Data Input'!A291),\"\",SUM('Data Input'!C291:AQ291))","v":""},{"$f":"IF(H287=\"\",\"\",H287/(COUNTA('Data Input'!$C$8:$AQ$8)-1))","v":""},{"$f":"IF(ISBLANK('Data Input'!A291),\"\",SUM('Data Input'!I291,'Data Input'!M291,'Data Input'!AB291,'Data Input'!AE291))","v":""},{"$f":"IF(J287=\"\",\"\",J287/COUNTIF('Data Input'!$C$8:$AQ$8,$J$2))","v":""},{"$f":"IF(ISBLANK('Data Input'!A291),\"\",SUM('Data Input'!E291,'Data Input'!G291,'Data Input'!H291,'Data Input'!L291,'Data Input'!N291,'Data Input'!Q291,'Data Input'!R291,'Data Input'!T291,'Data Input'!U291,'Data Input'!V291,'Data Input'!X291,'Data Input'!Y291,'Data Input'!Z291,'Data Input'!AA291,'Data Input'!AC291,'Data Input'!AD291,'Data Input'!AF291,'Data Input'!AG291,'Data Input'!AH291,'Data Input'!AI291,'Data Input'!AJ291,'Data Input'!AK291,'Data Input'!AL291))","v":""},{"$f":"IF(L287=\"\",\"\",L287/COUNTIF('Data Input'!$C$8:$AQ$8,$L$2))","v":""},{"$f":"IF(ISBLANK('Data Input'!A291),\"\",SUM('Data Input'!K291,'Data Input'!AQ291))","v":""},{"$f":"IF(N287=\"\",\"\",N287/COUNTIF('Data Input'!$C$8:$AQ$8,$N$2))","v":""},{"$f":"IF(ISBLANK('Data Input'!A291),\"\",SUM('Data Input'!C291,'Data Input'!D291,'Data Input'!F291,'Data Input'!J291,'Data Input'!O291,'Data Input'!S291,'Data Input'!AM291,'Data Input'!AN291,'Data Input'!AO291,'Data Input'!AP291))","v":""},{"$f":"IF(P287=\"\",\"\",P287/COUNTIF('Data Input'!$C$8:$AQ$8,$P$2))","v":""},{"$f":"IF(ISBLANK('Data Input'!C291),\"\",SUM('Data Input'!P291))","v":""},{"$f":"IF(R287=\"\",\"\",R287/COUNTIF('Data Input'!$C$8:$AQ$8,$R$2))","v":""}]
[{"$f":"IF('Data Input'!A292=0,\"\",'Data Input'!A292)","v":""},{"$f":"IF(H288=\"\",\"\",IF(H288>Welcome!$K$23-1,\"Exceeding\",IF(H288>Welcome!$G$23-1,\"Expected\",IF(H288<Welcome!$G$23,\"Below\"))))","v":""},{"$f":"IF(ISBLANK('Data Input'!A292),\"\",COUNTIF('Data Input'!C292:AQ292,\"\")-1)","v":""},{"$f":"IF(ISBLANK('Data Input'!A292),\"\",COUNTIF('Data Input'!C292:AQ292,\"0\"))","v":""},{"$f":"IF(ISBLANK('Data Input'!A292),\"\",SUM(C288,D288))","v":""},{"$f":"IF(ISBLANK('Data Input'!A292),\"\",SUM('Data Input'!C292:V292))","v":""},{"$f":"IF(ISBLANK('Data Input'!A292),\"\",SUM('Data Input'!X292:AQ292))","v":""},{"$f":"IF(ISBLANK('Data Input'!A292),\"\",SUM('Data Input'!C292:AQ292))","v":""},{"$f":"IF(H288=\"\",\"\",H288/(COUNTA('Data Input'!$C$8:$AQ$8)-1))","v":""},{"$f":"IF(ISBLANK('Data Input'!A292),\"\",SUM('Data Input'!I292,'Data Input'!M292,'Data Input'!AB292,'Data Input'!AE292))","v":""},{"$f":"IF(J288=\"\",\"\",J288/COUNTIF('Data Input'!$C$8:$AQ$8,$J$2))","v":""},{"$f":"IF(ISBLANK('Data Input'!A292),\"\",SUM('Data Input'!E292,'Data Input'!G292,'Data Input'!H292,'Data Input'!L292,'Data Input'!N292,'Data Input'!Q292,'Data Input'!R292,'Data Input'!T292,'Data Input'!U292,'Data Input'!V292,'Data Input'!X292,'Data Input'!Y292,'Data Input'!Z292,'Data Input'!AA292,'Data Input'!AC292,'Data Input'!AD292,'Data Input'!AF292,'Data Input'!AG292,'Data Input'!AH292,'Data Input'!AI292,'Data Input'!AJ292,'Data Input'!AK292,'Data Input'!AL292))","v":""},{"$f":"IF(L288=\"\",\"\",L288/COUNTIF('Data Input'!$C$8:$AQ$8,$L$2))","v":""},{"$f":"IF(ISBLANK('Data Input'!A292),\"\",SUM('Data Input'!K292,'Data Input'!AQ292))","v":""},{"$f":"IF(N288=\"\",\"\",N288/COUNTIF('Data Input'!$C$8:$AQ$8,$N$2))","v":""},{"$f":"IF(ISBLANK('Data Input'!A292),\"\",SUM('Data Input'!C292,'Data Input'!D292,'Data Input'!F292,'Data Input'!J292,'Data Input'!O292,'Data Input'!S292,'Data Input'!AM292,'Data Input'!AN292,'Data Input'!AO292,'Data Input'!AP292))","v":""},{"$f":"IF(P288=\"\",\"\",P288/COUNTIF('Data Input'!$C$8:$AQ$8,$P$2))","v":""},{"$f":"IF(ISBLANK('Data Input'!C292),\"\",SUM('Data Input'!P292))","v":""},{"$f":"IF(R288=\"\",\"\",R288/COUNTIF('Data Input'!$C$8:$AQ$8,$R$2))","v":""}]
[{"$f":"IF('Data Input'!A293=0,\"\",'Data Input'!A293)","v":""},{"$f":"IF(H289=\"\",\"\",IF(H289>Welcome!$K$23-1,\"Exceeding\",IF(H289>Welcome!$G$23-1,\"Expected\",IF(H289<Welcome!$G$23,\"Below\"))))","v":""},{"$f":"IF(ISBLANK('Data Input'!A293),\"\",COUNTIF('Data Input'!C293:AQ293,\"\")-1)","v":""},{"$f":"IF(ISBLANK('Data Input'!A293),\"\",COUNTIF('Data Input'!C293:AQ293,\"0\"))","v":""},{"$f":"IF(ISBLANK('Data Input'!A293),\"\",SUM(C289,D289))","v":""},{"$f":"IF(ISBLANK('Data Input'!A293),\"\",SUM('Data Input'!C293:V293))","v":""},{"$f":"IF(ISBLANK('Data Input'!A293),\"\",SUM('Data Input'!X293:AQ293))","v":""},{"$f":"IF(ISBLANK('Data Input'!A293),\"\",SUM('Data Input'!C293:AQ293))","v":""},{"$f":"IF(H289=\"\",\"\",H289/(COUNTA('Data Input'!$C$8:$AQ$8)-1))","v":""},{"$f":"IF(ISBLANK('Data Input'!A293),\"\",SUM('Data Input'!I293,'Data Input'!M293,'Data Input'!AB293,'Data Input'!AE293))","v":""},{"$f":"IF(J289=\"\",\"\",J289/COUNTIF('Data Input'!$C$8:$AQ$8,$J$2))","v":""},{"$f":"IF(ISBLANK('Data Input'!A293),\"\",SUM('Data Input'!E293,'Data Input'!G293,'Data Input'!H293,'Data Input'!L293,'Data Input'!N293,'Data Input'!Q293,'Data Input'!R293,'Data Input'!T293,'Data Input'!U293,'Data Input'!V293,'Data Input'!X293,'Data Input'!Y293,'Data Input'!Z293,'Data Input'!AA293,'Data Input'!AC293,'Data Input'!AD293,'Data Input'!AF293,'Data Input'!AG293,'Data Input'!AH293,'Data Input'!AI293,'Data Input'!AJ293,'Data Input'!AK293,'Data Input'!AL293))","v":""},{"$f":"IF(L289=\"\",\"\",L289/COUNTIF('Data Input'!$C$8:$AQ$8,$L$2))","v":""},{"$f":"IF(ISBLANK('Data Input'!A293),\"\",SUM('Data Input'!K293,'Data Input'!AQ293))","v":""},{"$f":"IF(N289=\"\",\"\",N289/COUNTIF('Data Input'!$C$8:$AQ$8,$N$2))","v":""},{"$f":"IF(ISBLANK('Data Input'!A293),\"\",SUM('Data Input'!C293,'Data Input'!D293,'Data Input'!F293,'Data Input'!J293,'Data Input'!O293,'Data Input'!S293,'Data Input'!AM293,'Data Input'!AN293,'Data Input'!AO293,'Data Input'!AP293))","v":""},{"$f":"IF(P289=\"\",\"\",P289/COUNTIF('Data Input'!$C$8:$AQ$8,$P$2))","v":""},{"$f":"IF(ISBLANK('Data Input'!C293),\"\",SUM('Data Input'!P293))","v":""},{"$f":"IF(R289=\"\",\"\",R289/COUNTIF('Data Input'!$C$8:$AQ$8,$R$2))","v":""}]
[{"$f":"IF('Data Input'!A294=0,\"\",'Data Input'!A294)","v":""},{"$f":"IF(H290=\"\",\"\",IF(H290>Welcome!$K$23-1,\"Exceeding\",IF(H290>Welcome!$G$23-1,\"Expected\",IF(H290<Welcome!$G$23,\"Below\"))))","v":""},{"$f":"IF(ISBLANK('Data Input'!A294),\"\",COUNTIF('Data Input'!C294:AQ294,\"\")-1)","v":""},{"$f":"IF(ISBLANK('Data Input'!A294),\"\",COUNTIF('Data Input'!C294:AQ294,\"0\"))","v":""},{"$f":"IF(ISBLANK('Data Input'!A294),\"\",SUM(C290,D290))","v":""},{"$f":"IF(ISBLANK('Data Input'!A294),\"\",SUM('Data Input'!C294:V294))","v":""},{"$f":"IF(ISBLANK('Data Input'!A294),\"\",SUM('Data Input'!X294:AQ294))","v":""},{"$f":"IF(ISBLANK('Data Input'!A294),\"\",SUM('Data Input'!C294:AQ294))","v":""},{"$f":"IF(H290=\"\",\"\",H290/(COUNTA('Data Input'!$C$8:$AQ$8)-1))","v":""},{"$f":"IF(ISBLANK('Data Input'!A294),\"\",SUM('Data Input'!I294,'Data Input'!M294,'Data Input'!AB294,'Data Input'!AE294))","v":""},{"$f":"IF(J290=\"\",\"\",J290/COUNTIF('Data Input'!$C$8:$AQ$8,$J$2))","v":""},{"$f":"IF(ISBLANK('Data Input'!A294),\"\",SUM('Data Input'!E294,'Data Input'!G294,'Data Input'!H294,'Data Input'!L294,'Data Input'!N294,'Data Input'!Q294,'Data Input'!R294,'Data Input'!T294,'Data Input'!U294,'Data Input'!V294,'Data Input'!X294,'Data Input'!Y294,'Data Input'!Z294,'Data Input'!AA294,'Data Input'!AC294,'Data Input'!AD294,'Data Input'!AF294,'Data Input'!AG294,'Data Input'!AH294,'Data Input'!AI294,'Data Input'!AJ294,'Data Input'!AK294,'Data Input'!AL294))","v":""},{"$f":"IF(L290=\"\",\"\",L290/COUNTIF('Data Input'!$C$8:$AQ$8,$L$2))","v":""},{"$f":"IF(ISBLANK('Data Input'!A294),\"\",SUM('Data Input'!K294,'Data Input'!AQ294))","v":""},{"$f":"IF(N290=\"\",\"\",N290/COUNTIF('Data Input'!$C$8:$AQ$8,$N$2))","v":""},{"$f":"IF(ISBLANK('Data Input'!A294),\"\",SUM('Data Input'!C294,'Data Input'!D294,'Data Input'!F294,'Data Input'!J294,'Data Input'!O294,'Data Input'!S294,'Data Input'!AM294,'Data Input'!AN294,'Data Input'!AO294,'Data Input'!AP294))","v":""},{"$f":"IF(P290=\"\",\"\",P290/COUNTIF('Data Input'!$C$8:$AQ$8,$P$2))","v":""},{"$f":"IF(ISBLANK('Data Input'!C294),\"\",SUM('Data Input'!P294))","v":""},{"$f":"IF(R290=\"\",\"\",R290/COUNTIF('Data Input'!$C$8:$AQ$8,$R$2))","v":""}]
[{"$f":"IF('Data Input'!A295=0,\"\",'Data Input'!A295)","v":""},{"$f":"IF(H291=\"\",\"\",IF(H291>Welcome!$K$23-1,\"Exceeding\",IF(H291>Welcome!$G$23-1,\"Expected\",IF(H291<Welcome!$G$23,\"Below\"))))","v":""},{"$f":"IF(ISBLANK('Data Input'!A295),\"\",COUNTIF('Data Input'!C295:AQ295,\"\")-1)","v":""},{"$f":"IF(ISBLANK('Data Input'!A295),\"\",COUNTIF('Data Input'!C295:AQ295,\"0\"))","v":""},{"$f":"IF(ISBLANK('Data Input'!A295),\"\",SUM(C291,D291))","v":""},{"$f":"IF(ISBLANK('Data Input'!A295),\"\",SUM('Data Input'!C295:V295))","v":""},{"$f":"IF(ISBLANK('Data Input'!A295),\"\",SUM('Data Input'!X295:AQ295))","v":""},{"$f":"IF(ISBLANK('Data Input'!A295),\"\",SUM('Data Input'!C295:AQ295))","v":""},{"$f":"IF(H291=\"\",\"\",H291/(COUNTA('Data Input'!$C$8:$AQ$8)-1))","v":""},{"$f":"IF(ISBLANK('Data Input'!A295),\"\",SUM('Data Input'!I295,'Data Input'!M295,'Data Input'!AB295,'Data Input'!AE295))","v":""},{"$f":"IF(J291=\"\",\"\",J291/COUNTIF('Data Input'!$C$8:$AQ$8,$J$2))","v":""},{"$f":"IF(ISBLANK('Data Input'!A295),\"\",SUM('Data Input'!E295,'Data Input'!G295,'Data Input'!H295,'Data Input'!L295,'Data Input'!N295,'Data Input'!Q295,'Data Input'!R295,'Data Input'!T295,'Data Input'!U295,'Data Input'!V295,'Data Input'!X295,'Data Input'!Y295,'Data Input'!Z295,'Data Input'!AA295,'Data Input'!AC295,'Data Input'!AD295,'Data Input'!AF295,'Data Input'!AG295,'Data Input'!AH295,'Data Input'!AI295,'Data Input'!AJ295,'Data Input'!AK295,'Data Input'!AL295))","v":""},{"$f":"IF(L291=\"\",\"\",L291/COUNTIF('Data Input'!$C$8:$AQ$8,$L$2))","v":""},{"$f":"IF(ISBLANK('Data Input'!A295),\"\",SUM('Data Input'!K295,'Data Input'!AQ295))","v":""},{"$f":"IF(N291=\"\",\"\",N291/COUNTIF('Data Input'!$C$8:$AQ$8,$N$2))","v":""},{"$f":"IF(ISBLANK('Data Input'!A295),\"\",SUM('Data Input'!C295,'Data Input'!D295,'Data Input'!F295,'Data Input'!J295,'Data Input'!O295,'Data Input'!S295,'Data Input'!AM295,'Data Input'!AN295,'Data Input'!AO295,'Data Input'!AP295))","v":""},{"$f":"IF(P291=\"\",\"\",P291/COUNTIF('Data Input'!$C$8:$AQ$8,$P$2))","v":""},{"$f":"IF(ISBLANK('Data Input'!C295),\"\",SUM('Data Input'!P295))","v":""},{"$f":"IF(R291=\"\",\"\",R291/COUNTIF('Data Input'!$C$8:$AQ$8,$R$2))","v":""}]
[{"$f":"IF('Data Input'!A296=0,\"\",'Data Input'!A296)","v":""},{"$f":"IF(H292=\"\",\"\",IF(H292>Welcome!$K$23-1,\"Exceeding\",IF(H292>Welcome!$G$23-1,\"Expected\",IF(H292<Welcome!$G$23,\"Below\"))))","v":""},{"$f":"IF(ISBLANK('Data Input'!A296),\"\",COUNTIF('Data Input'!C296:AQ296,\"\")-1)","v":""},{"$f":"IF(ISBLANK('Data Input'!A296),\"\",COUNTIF('Data Input'!C296:AQ296,\"0\"))","v":""},{"$f":"IF(ISBLANK('Data Input'!A296),\"\",SUM(C292,D292))","v":""},{"$f":"IF(ISBLANK('Data Input'!A296),\"\",SUM('Data Input'!C296:V296))","v":""},{"$f":"IF(ISBLANK('Data Input'!A296),\"\",SUM('Data Input'!X296:AQ296))","v":""},{"$f":"IF(ISBLANK('Data Input'!A296),\"\",SUM('Data Input'!C296:AQ296))","v":""},{"$f":"IF(H292=\"\",\"\",H292/(COUNTA('Data Input'!$C$8:$AQ$8)-1))","v":""},{"$f":"IF(ISBLANK('Data Input'!A296),\"\",SUM('Data Input'!I296,'Data Input'!M296,'Data Input'!AB296,'Data Input'!AE296))","v":""},{"$f":"IF(J292=\"\",\"\",J292/COUNTIF('Data Input'!$C$8:$AQ$8,$J$2))","v":""},{"$f":"IF(ISBLANK('Data Input'!A296),\"\",SUM('Data Input'!E296,'Data Input'!G296,'Data Input'!H296,'Data Input'!L296,'Data Input'!N296,'Data Input'!Q296,'Data Input'!R296,'Data Input'!T296,'Data Input'!U296,'Data Input'!V296,'Data Input'!X296,'Data Input'!Y296,'Data Input'!Z296,'Data Input'!AA296,'Data Input'!AC296,'Data Input'!AD296,'Data Input'!AF296,'Data Input'!AG296,'Data Input'!AH296,'Data Input'!AI296,'Data Input'!AJ296,'Data Input'!AK296,'Data Input'!AL296))","v":""},{"$f":"IF(L292=\"\",\"\",L292/COUNTIF('Data Input'!$C$8:$AQ$8,$L$2))","v":""},{"$f":"IF(ISBLANK('Data Input'!A296),\"\",SUM('Data Input'!K296,'Data Input'!AQ296))","v":""},{"$f":"IF(N292=\"\",\"\",N292/COUNTIF('Data Input'!$C$8:$AQ$8,$N$2))","v":""},{"$f":"IF(ISBLANK('Data Input'!A296),\"\",SUM('Data Input'!C296,'Data Input'!D296,'Data Input'!F296,'Data Input'!J296,'Data Input'!O296,'Data Input'!S296,'Data Input'!AM296,'Data Input'!AN296,'Data Input'!AO296,'Data Input'!AP296))","v":""},{"$f":"IF(P292=\"\",\"\",P292/COUNTIF('Data Input'!$C$8:$AQ$8,$P$2))","v":""},{"$f":"IF(ISBLANK('Data Input'!C296),\"\",SUM('Data Input'!P296))","v":""},{"$f":"IF(R292=\"\",\"\",R292/COUNTIF('Data Input'!$C$8:$AQ$8,$R$2))","v":""}]
[{"$f":"IF('Data Input'!A297=0,\"\",'Data Input'!A297)","v":""},{"$f":"IF(H293=\"\",\"\",IF(H293>Welcome!$K$23-1,\"Exceeding\",IF(H293>Welcome!$G$23-1,\"Expected\",IF(H293<Welcome!$G$23,\"Below\"))))","v":""},{"$f":"IF(ISBLANK('Data Input'!A297),\"\",COUNTIF('Data Input'!C297:AQ297,\"\")-1)","v":""},{"$f":"IF(ISBLANK('Data Input'!A297),\"\",COUNTIF('Data Input'!C297:AQ297,\"0\"))","v":""},{"$f":"IF(ISBLANK('Data Input'!A297),\"\",SUM(C293,D293))","v":""},{"$f":"IF(ISBLANK('Data Input'!A297),\"\",SUM('Data Input'!C297:V297))","v":""},{"$f":"IF(ISBLANK('Data Input'!A297),\"\",SUM('Data Input'!X297:AQ297))","v":""},{"$f":"IF(ISBLANK('Data Input'!A297),\"\",SUM('Data Input'!C297:AQ297))","v":""},{"$f":"IF(H293=\"\",\"\",H293/(COUNTA('Data Input'!$C$8:$AQ$8)-1))","v":""},{"$f":"IF(ISBLANK('Data Input'!A297),\"\",SUM('Data Input'!I297,'Data Input'!M297,'Data Input'!AB297,'Data Input'!AE297))","v":""},{"$f":"IF(J293=\"\",\"\",J293/COUNTIF('Data Input'!$C$8:$AQ$8,$J$2))","v":""},{"$f":"IF(ISBLANK('Data Input'!A297),\"\",SUM('Data Input'!E297,'Data Input'!G297,'Data Input'!H297,'Data Input'!L297,'Data Input'!N297,'Data Input'!Q297,'Data Input'!R297,'Data Input'!T297,'Data Input'!U297,'Data Input'!V297,'Data Input'!X297,'Data Input'!Y297,'Data Input'!Z297,'Data Input'!AA297,'Data Input'!AC297,'Data Input'!AD297,'Data Input'!AF297,'Data Input'!AG297,'Data Input'!AH297,'Data Input'!AI297,'Data Input'!AJ297,'Data Input'!AK297,'Data Input'!AL297))","v":""},{"$f":"IF(L293=\"\",\"\",L293/COUNTIF('Data Input'!$C$8:$AQ$8,$L$2))","v":""},{"$f":"IF(ISBLANK('Data Input'!A297),\"\",SUM('Data Input'!K297,'Data Input'!AQ297))","v":""},{"$f":"IF(N293=\"\",\"\",N293/COUNTIF('Data Input'!$C$8:$AQ$8,$N$2))","v":""},{"$f":"IF(ISBLANK('Data Input'!A297),\"\",SUM('Data Input'!C297,'Data Input'!D297,'Data Input'!F297,'Data Input'!J297,'Data Input'!O297,'Data Input'!S297,'Data Input'!AM297,'Data Input'!AN297,'Data Input'!AO297,'Data Input'!AP297))","v":""},{"$f":"IF(P293=\"\",\"\",P293/COUNTIF('Data Input'!$C$8:$AQ$8,$P$2))","v":""},{"$f":"IF(ISBLANK('Data Input'!C297),\"\",SUM('Data Input'!P297))","v":""},{"$f":"IF(R293=\"\",\"\",R293/COUNTIF('Data Input'!$C$8:$AQ$8,$R$2))","v":""}]
[{"$f":"IF('Data Input'!A298=0,\"\",'Data Input'!A298)","v":""},{"$f":"IF(H294=\"\",\"\",IF(H294>Welcome!$K$23-1,\"Exceeding\",IF(H294>Welcome!$G$23-1,\"Expected\",IF(H294<Welcome!$G$23,\"Below\"))))","v":""},{"$f":"IF(ISBLANK('Data Input'!A298),\"\",COUNTIF('Data Input'!C298:AQ298,\"\")-1)","v":""},{"$f":"IF(ISBLANK('Data Input'!A298),\"\",COUNTIF('Data Input'!C298:AQ298,\"0\"))","v":""},{"$f":"IF(ISBLANK('Data Input'!A298),\"\",SUM(C294,D294))","v":""},{"$f":"IF(ISBLANK('Data Input'!A298),\"\",SUM('Data Input'!C298:V298))","v":""},{"$f":"IF(ISBLANK('Data Input'!A298),\"\",SUM('Data Input'!X298:AQ298))","v":""},{"$f":"IF(ISBLANK('Data Input'!A298),\"\",SUM('Data Input'!C298:AQ298))","v":""},{"$f":"IF(H294=\"\",\"\",H294/(COUNTA('Data Input'!$C$8:$AQ$8)-1))","v":""},{"$f":"IF(ISBLANK('Data Input'!A298),\"\",SUM('Data Input'!I298,'Data Input'!M298,'Data Input'!AB298,'Data Input'!AE298))","v":""},{"$f":"IF(J294=\"\",\"\",J294/COUNTIF('Data Input'!$C$8:$AQ$8,$J$2))","v":""},{"$f":"IF(ISBLANK('Data Input'!A298),\"\",SUM('Data Input'!E298,'Data Input'!G298,'Data Input'!H298,'Data Input'!L298,'Data Input'!N298,'Data Input'!Q298,'Data Input'!R298,'Data Input'!T298,'Data Input'!U298,'Data Input'!V298,'Data Input'!X298,'Data Input'!Y298,'Data Input'!Z298,'Data Input'!AA298,'Data Input'!AC298,'Data Input'!AD298,'Data Input'!AF298,'Data Input'!AG298,'Data Input'!AH298,'Data Input'!AI298,'Data Input'!AJ298,'Data Input'!AK298,'Data Input'!AL298))","v":""},{"$f":"IF(L294=\"\",\"\",L294/COUNTIF('Data Input'!$C$8:$AQ$8,$L$2))","v":""},{"$f":"IF(ISBLANK('Data Input'!A298),\"\",SUM('Data Input'!K298,'Data Input'!AQ298))","v":""},{"$f":"IF(N294=\"\",\"\",N294/COUNTIF('Data Input'!$C$8:$AQ$8,$N$2))","v":""},{"$f":"IF(ISBLANK('Data Input'!A298),\"\",SUM('Data Input'!C298,'Data Input'!D298,'Data Input'!F298,'Data Input'!J298,'Data Input'!O298,'Data Input'!S298,'Data Input'!AM298,'Data Input'!AN298,'Data Input'!AO298,'Data Input'!AP298))","v":""},{"$f":"IF(P294=\"\",\"\",P294/COUNTIF('Data Input'!$C$8:$AQ$8,$P$2))","v":""},{"$f":"IF(ISBLANK('Data Input'!C298),\"\",SUM('Data Input'!P298))","v":""},{"$f":"IF(R294=\"\",\"\",R294/COUNTIF('Data Input'!$C$8:$AQ$8,$R$2))","v":""}]
[{"$f":"IF('Data Input'!A299=0,\"\",'Data Input'!A299)","v":""},{"$f":"IF(H295=\"\",\"\",IF(H295>Welcome!$K$23-1,\"Exceeding\",IF(H295>Welcome!$G$23-1,\"Expected\",IF(H295<Welcome!$G$23,\"Below\"))))","v":""},{"$f":"IF(ISBLANK('Data Input'!A299),\"\",COUNTIF('Data Input'!C299:AQ299,\"\")-1)","v":""},{"$f":"IF(ISBLANK('Data Input'!A299),\"\",COUNTIF('Data Input'!C299:AQ299,\"0\"))","v":""},{"$f":"IF(ISBLANK('Data Input'!A299),\"\",SUM(C295,D295))","v":""},{"$f":"IF(ISBLANK('Data Input'!A299),\"\",SUM('Data Input'!C299:V299))","v":""},{"$f":"IF(ISBLANK('Data Input'!A299),\"\",SUM('Data Input'!X299:AQ299))","v":""},{"$f":"IF(ISBLANK('Data Input'!A299),\"\",SUM('Data Input'!C299:AQ299))","v":""},{"$f":"IF(H295=\"\",\"\",H295/(COUNTA('Data Input'!$C$8:$AQ$8)-1))","v":""},{"$f":"IF(ISBLANK('Data Input'!A299),\"\",SUM('Data Input'!I299,'Data Input'!M299,'Data Input'!AB299,'Data Input'!AE299))","v":""},{"$f":"IF(J295=\"\",\"\",J295/COUNTIF('Data Input'!$C$8:$AQ$8,$J$2))","v":""},{"$f":"IF(ISBLANK('Data Input'!A299),\"\",SUM('Data Input'!E299,'Data Input'!G299,'Data Input'!H299,'Data Input'!L299,'Data Input'!N299,'Data Input'!Q299,'Data Input'!R299,'Data Input'!T299,'Data Input'!U299,'Data Input'!V299,'Data Input'!X299,'Data Input'!Y299,'Data Input'!Z299,'Data Input'!AA299,'Data Input'!AC299,'Data Input'!AD299,'Data Input'!AF299,'Data Input'!AG299,'Data Input'!AH299,'Data Input'!AI299,'Data Input'!AJ299,'Data Input'!AK299,'Data Input'!AL299))","v":""},{"$f":"IF(L295=\"\",\"\",L295/COUNTIF('Data Input'!$C$8:$AQ$8,$L$2))","v":""},{"$f":"IF(ISBLANK('Data Input'!A299),\"\",SUM('Data Input'!K299,'Data Input'!AQ299))","v":""},{"$f":"IF(N295=\"\",\"\",N295/COUNTIF('Data Input'!$C$8:$AQ$8,$N$2))","v":""},{"$f":"IF(ISBLANK('Data Input'!A299),\"\",SUM('Data Input'!C299,'Data Input'!D299,'Data Input'!F299,'Data Input'!J299,'Data Input'!O299,'Data Input'!S299,'Data Input'!AM299,'Data Input'!AN299,'Data Input'!AO299,'Data Input'!AP299))","v":""},{"$f":"IF(P295=\"\",\"\",P295/COUNTIF('Data Input'!$C$8:$AQ$8,$P$2))","v":""},{"$f":"IF(ISBLANK('Data Input'!C299),\"\",SUM('Data Input'!P299))","v":""},{"$f":"IF(R295=\"\",\"\",R295/COUNTIF('Data Input'!$C$8:$AQ$8,$R$2))","v":""}]
[{"$f":"IF('Data Input'!A300=0,\"\",'Data Input'!A300)","v":""},{"$f":"IF(H296=\"\",\"\",IF(H296>Welcome!$K$23-1,\"Exceeding\",IF(H296>Welcome!$G$23-1,\"Expected\",IF(H296<Welcome!$G$23,\"Below\"))))","v":""},{"$f":"IF(ISBLANK('Data Input'!A300),\"\",COUNTIF('Data Input'!C300:AQ300,\"\")-1)","v":""},{"$f":"IF(ISBLANK('Data Input'!A300),\"\",COUNTIF('Data Input'!C300:AQ300,\"0\"))","v":""},{"$f":"IF(ISBLANK('Data Input'!A300),\"\",SUM(C296,D296))","v":""},{"$f":"IF(ISBLANK('Data Input'!A300),\"\",SUM('Data Input'!C300:V300))","v":""},{"$f":"IF(ISBLANK('Data Input'!A300),\"\",SUM('Data Input'!X300:AQ300))","v":""},{"$f":"IF(ISBLANK('Data Input'!A300),\"\",SUM('Data Input'!C300:AQ300))","v":""},{"$f":"IF(H296=\"\",\"\",H296/(COUNTA('Data Input'!$C$8:$AQ$8)-1))","v":""},{"$f":"IF(ISBLANK('Data Input'!A300),\"\",SUM('Data Input'!I300,'Data Input'!M300,'Data Input'!AB300,'Data Input'!AE300))","v":""},{"$f":"IF(J296=\"\",\"\",J296/COUNTIF('Data Input'!$C$8:$AQ$8,$J$2))","v":""},{"$f":"IF(ISBLANK('Data Input'!A300),\"\",SUM('Data Input'!E300,'Data Input'!G300,'Data Input'!H300,'Data Input'!L300,'Data Input'!N300,'Data Input'!Q300,'Data Input'!R300,'Data Input'!T300,'Data Input'!U300,'Data Input'!V300,'Data Input'!X300,'Data Input'!Y300,'Data Input'!Z300,'Data Input'!AA300,'Data Input'!AC300,'Data Input'!AD300,'Data Input'!AF300,'Data Input'!AG300,'Data Input'!AH300,'Data Input'!AI300,'Data Input'!AJ300,'Data Input'!AK300,'Data Input'!AL300))","v":""},{"$f":"IF(L296=\"\",\"\",L296/COUNTIF('Data Input'!$C$8:$AQ$8,$L$2))","v":""},{"$f":"IF(ISBLANK('Data Input'!A300),\"\",SUM('Data Input'!K300,'Data Input'!AQ300))","v":""},{"$f":"IF(N296=\"\",\"\",N296/COUNTIF('Data Input'!$C$8:$AQ$8,$N$2))","v":""},{"$f":"IF(ISBLANK('Data Input'!A300),\"\",SUM('Data Input'!C300,'Data Input'!D300,'Data Input'!F300,'Data Input'!J300,'Data Input'!O300,'Data Input'!S300,'Data Input'!AM300,'Data Input'!AN300,'Data Input'!AO300,'Data Input'!AP300))","v":""},{"$f":"IF(P296=\"\",\"\",P296/COUNTIF('Data Input'!$C$8:$AQ$8,$P$2))","v":""},{"$f":"IF(ISBLANK('Data Input'!C300),\"\",SUM('Data Input'!P300))","v":""},{"$f":"IF(R296=\"\",\"\",R296/COUNTIF('Data Input'!$C$8:$AQ$8,$R$2))","v":""}]
[{"$f":"IF('Data Input'!A301=0,\"\",'Data Input'!A301)","v":""},{"$f":"IF(H297=\"\",\"\",IF(H297>Welcome!$K$23-1,\"Exceeding\",IF(H297>Welcome!$G$23-1,\"Expected\",IF(H297<Welcome!$G$23,\"Below\"))))","v":""},{"$f":"IF(ISBLANK('Data Input'!A301),\"\",COUNTIF('Data Input'!C301:AQ301,\"\")-1)","v":""},{"$f":"IF(ISBLANK('Data Input'!A301),\"\",COUNTIF('Data Input'!C301:AQ301,\"0\"))","v":""},{"$f":"IF(ISBLANK('Data Input'!A301),\"\",SUM(C297,D297))","v":""},{"$f":"IF(ISBLANK('Data Input'!A301),\"\",SUM('Data Input'!C301:V301))","v":""},{"$f":"IF(ISBLANK('Data Input'!A301),\"\",SUM('Data Input'!X301:AQ301))","v":""},{"$f":"IF(ISBLANK('Data Input'!A301),\"\",SUM('Data Input'!C301:AQ301))","v":""},{"$f":"IF(H297=\"\",\"\",H297/(COUNTA('Data Input'!$C$8:$AQ$8)-1))","v":""},{"$f":"IF(ISBLANK('Data Input'!A301),\"\",SUM('Data Input'!I301,'Data Input'!M301,'Data Input'!AB301,'Data Input'!AE301))","v":""},{"$f":"IF(J297=\"\",\"\",J297/COUNTIF('Data Input'!$C$8:$AQ$8,$J$2))","v":""},{"$f":"IF(ISBLANK('Data Input'!A301),\"\",SUM('Data Input'!E301,'Data Input'!G301,'Data Input'!H301,'Data Input'!L301,'Data Input'!N301,'Data Input'!Q301,'Data Input'!R301,'Data Input'!T301,'Data Input'!U301,'Data Input'!V301,'Data Input'!X301,'Data Input'!Y301,'Data Input'!Z301,'Data Input'!AA301,'Data Input'!AC301,'Data Input'!AD301,'Data Input'!AF301,'Data Input'!AG301,'Data Input'!AH301,'Data Input'!AI301,'Data Input'!AJ301,'Data Input'!AK301,'Data Input'!AL301))","v":""},{"$f":"IF(L297=\"\",\"\",L297/COUNTIF('Data Input'!$C$8:$AQ$8,$L$2))","v":""},{"$f":"IF(ISBLANK('Data Input'!A301),\"\",SUM('Data Input'!K301,'Data Input'!AQ301))","v":""},{"$f":"IF(N297=\"\",\"\",N297/COUNTIF('Data Input'!$C$8:$AQ$8,$N$2))","v":""},{"$f":"IF(ISBLANK('Data Input'!A301),\"\",SUM('Data Input'!C301,'Data Input'!D301,'Data Input'!F301,'Data Input'!J301,'Data Input'!O301,'Data Input'!S301,'Data Input'!AM301,'Data Input'!AN301,'Data Input'!AO301,'Data Input'!AP301))","v":""},{"$f":"IF(P297=\"\",\"\",P297/COUNTIF('Data Input'!$C$8:$AQ$8,$P$2))","v":""},{"$f":"IF(ISBLANK('Data Input'!C301),\"\",SUM('Data Input'!P301))","v":""},{"$f":"IF(R297=\"\",\"\",R297/COUNTIF('Data Input'!$C$8:$AQ$8,$R$2))","v":""}]
[{"$f":"IF('Data Input'!A302=0,\"\",'Data Input'!A302)","v":""},{"$f":"IF(H298=\"\",\"\",IF(H298>Welcome!$K$23-1,\"Exceeding\",IF(H298>Welcome!$G$23-1,\"Expected\",IF(H298<Welcome!$G$23,\"Below\"))))","v":""},{"$f":"IF(ISBLANK('Data Input'!A302),\"\",COUNTIF('Data Input'!C302:AQ302,\"\")-1)","v":""},{"$f":"IF(ISBLANK('Data Input'!A302),\"\",COUNTIF('Data Input'!C302:AQ302,\"0\"))","v":""},{"$f":"IF(ISBLANK('Data Input'!A302),\"\",SUM(C298,D298))","v":""},{"$f":"IF(ISBLANK('Data Input'!A302),\"\",SUM('Data Input'!C302:V302))","v":""},{"$f":"IF(ISBLANK('Data Input'!A302),\"\",SUM('Data Input'!X302:AQ302))","v":""},{"$f":"IF(ISBLANK('Data Input'!A302),\"\",SUM('Data Input'!C302:AQ302))","v":""},{"$f":"IF(H298=\"\",\"\",H298/(COUNTA('Data Input'!$C$8:$AQ$8)-1))","v":""},{"$f":"IF(ISBLANK('Data Input'!A302),\"\",SUM('Data Input'!I302,'Data Input'!M302,'Data Input'!AB302,'Data Input'!AE302))","v":""},{"$f":"IF(J298=\"\",\"\",J298/COUNTIF('Data Input'!$C$8:$AQ$8,$J$2))","v":""},{"$f":"IF(ISBLANK('Data Input'!A302),\"\",SUM('Data Input'!E302,'Data Input'!G302,'Data Input'!H302,'Data Input'!L302,'Data Input'!N302,'Data Input'!Q302,'Data Input'!R302,'Data Input'!T302,'Data Input'!U302,'Data Input'!V302,'Data Input'!X302,'Data Input'!Y302,'Data Input'!Z302,'Data Input'!AA302,'Data Input'!AC302,'Data Input'!AD302,'Data Input'!AF302,'Data Input'!AG302,'Data Input'!AH302,'Data Input'!AI302,'Data Input'!AJ302,'Data Input'!AK302,'Data Input'!AL302))","v":""},{"$f":"IF(L298=\"\",\"\",L298/COUNTIF('Data Input'!$C$8:$AQ$8,$L$2))","v":""},{"$f":"IF(ISBLANK('Data Input'!A302),\"\",SUM('Data Input'!K302,'Data Input'!AQ302))","v":""},{"$f":"IF(N298=\"\",\"\",N298/COUNTIF('Data Input'!$C$8:$AQ$8,$N$2))","v":""},{"$f":"IF(ISBLANK('Data Input'!A302),\"\",SUM('Data Input'!C302,'Data Input'!D302,'Data Input'!F302,'Data Input'!J302,'Data Input'!O302,'Data Input'!S302,'Data Input'!AM302,'Data Input'!AN302,'Data Input'!AO302,'Data Input'!AP302))","v":""},{"$f":"IF(P298=\"\",\"\",P298/COUNTIF('Data Input'!$C$8:$AQ$8,$P$2))","v":""},{"$f":"IF(ISBLANK('Data Input'!C302),\"\",SUM('Data Input'!P302))","v":""},{"$f":"IF(R298=\"\",\"\",R298/COUNTIF('Data Input'!$C$8:$AQ$8,$R$2))","v":""}]
[{"$f":"IF('Data Input'!A303=0,\"\",'Data Input'!A303)","v":""},{"$f":"IF(H299=\"\",\"\",IF(H299>Welcome!$K$23-1,\"Exceeding\",IF(H299>Welcome!$G$23-1,\"Expected\",IF(H299<Welcome!$G$23,\"Below\"))))","v":""},{"$f":"IF(ISBLANK('Data Input'!A303),\"\",COUNTIF('Data Input'!C303:AQ303,\"\")-1)","v":""},{"$f":"IF(ISBLANK('Data Input'!A303),\"\",COUNTIF('Data Input'!C303:AQ303,\"0\"))","v":""},{"$f":"IF(ISBLANK('Data Input'!A303),\"\",SUM(C299,D299))","v":""},{"$f":"IF(ISBLANK('Data Input'!A303),\"\",SUM('Data Input'!C303:V303))","v":""},{"$f":"IF(ISBLANK('Data Input'!A303),\"\",SUM('Data Input'!X303:AQ303))","v":""},{"$f":"IF(ISBLANK('Data Input'!A303),\"\",SUM('Data Input'!C303:AQ303))","v":""},{"$f":"IF(H299=\"\",\"\",H299/(COUNTA('Data Input'!$C$8:$AQ$8)-1))","v":""},{"$f":"IF(ISBLANK('Data Input'!A303),\"\",SUM('Data Input'!I303,'Data Input'!M303,'Data Input'!AB303,'Data Input'!AE303))","v":""},{"$f":"IF(J299=\"\",\"\",J299/COUNTIF('Data Input'!$C$8:$AQ$8,$J$2))","v":""},{"$f":"IF(ISBLANK('Data Input'!A303),\"\",SUM('Data Input'!E303,'Data Input'!G303,'Data Input'!H303,'Data Input'!L303,'Data Input'!N303,'Data Input'!Q303,'Data Input'!R303,'Data Input'!T303,'Data Input'!U303,'Data Input'!V303,'Data Input'!X303,'Data Input'!Y303,'Data Input'!Z303,'Data Input'!AA303,'Data Input'!AC303,'Data Input'!AD303,'Data Input'!AF303,'Data Input'!AG303,'Data Input'!AH303,'Data Input'!AI303,'Data Input'!AJ303,'Data Input'!AK303,'Data Input'!AL303))","v":""},{"$f":"IF(L299=\"\",\"\",L299/COUNTIF('Data Input'!$C$8:$AQ$8,$L$2))","v":""},{"$f":"IF(ISBLANK('Data Input'!A303),\"\",SUM('Data Input'!K303,'Data Input'!AQ303))","v":""},{"$f":"IF(N299=\"\",\"\",N299/COUNTIF('Data Input'!$C$8:$AQ$8,$N$2))","v":""},{"$f":"IF(ISBLANK('Data Input'!A303),\"\",SUM('Data Input'!C303,'Data Input'!D303,'Data Input'!F303,'Data Input'!J303,'Data Input'!O303,'Data Input'!S303,'Data Input'!AM303,'Data Input'!AN303,'Data Input'!AO303,'Data Input'!AP303))","v":""},{"$f":"IF(P299=\"\",\"\",P299/COUNTIF('Data Input'!$C$8:$AQ$8,$P$2))","v":""},{"$f":"IF(ISBLANK('Data Input'!C303),\"\",SUM('Data Input'!P303))","v":""},{"$f":"IF(R299=\"\",\"\",R299/COUNTIF('Data Input'!$C$8:$AQ$8,$R$2))","v":""}]
[{"$f":"IF('Data Input'!A304=0,\"\",'Data Input'!A304)","v":""},{"$f":"IF(H300=\"\",\"\",IF(H300>Welcome!$K$23-1,\"Exceeding\",IF(H300>Welcome!$G$23-1,\"Expected\",IF(H300<Welcome!$G$23,\"Below\"))))","v":""},{"$f":"IF(ISBLANK('Data Input'!A304),\"\",COUNTIF('Data Input'!C304:AQ304,\"\")-1)","v":""},{"$f":"IF(ISBLANK('Data Input'!A304),\"\",COUNTIF('Data Input'!C304:AQ304,\"0\"))","v":""},{"$f":"IF(ISBLANK('Data Input'!A304),\"\",SUM(C300,D300))","v":""},{"$f":"IF(ISBLANK('Data Input'!A304),\"\",SUM('Data Input'!C304:V304))","v":""},{"$f":"IF(ISBLANK('Data Input'!A304),\"\",SUM('Data Input'!X304:AQ304))","v":""},{"$f":"IF(ISBLANK('Data Input'!A304),\"\",SUM('Data Input'!C304:AQ304))","v":""},{"$f":"IF(H300=\"\",\"\",H300/(COUNTA('Data Input'!$C$8:$AQ$8)-1))","v":""},{"$f":"IF(ISBLANK('Data Input'!A304),\"\",SUM('Data Input'!I304,'Data Input'!M304,'Data Input'!AB304,'Data Input'!AE304))","v":""},{"$f":"IF(J300=\"\",\"\",J300/COUNTIF('Data Input'!$C$8:$AQ$8,$J$2))","v":""},{"$f":"IF(ISBLANK('Data Input'!A304),\"\",SUM('Data Input'!E304,'Data Input'!G304,'Data Input'!H304,'Data Input'!L304,'Data Input'!N304,'Data Input'!Q304,'Data Input'!R304,'Data Input'!T304,'Data Input'!U304,'Data Input'!V304,'Data Input'!X304,'Data Input'!Y304,'Data Input'!Z304,'Data Input'!AA304,'Data Input'!AC304,'Data Input'!AD304,'Data Input'!AF304,'Data Input'!AG304,'Data Input'!AH304,'Data Input'!AI304,'Data Input'!AJ304,'Data Input'!AK304,'Data Input'!AL304))","v":""},{"$f":"IF(L300=\"\",\"\",L300/COUNTIF('Data Input'!$C$8:$AQ$8,$L$2))","v":""},{"$f":"IF(ISBLANK('Data Input'!A304),\"\",SUM('Data Input'!K304,'Data Input'!AQ304))","v":""},{"$f":"IF(N300=\"\",\"\",N300/COUNTIF('Data Input'!$C$8:$AQ$8,$N$2))","v":""},{"$f":"IF(ISBLANK('Data Input'!A304),\"\",SUM('Data Input'!C304,'Data Input'!D304,'Data Input'!F304,'Data Input'!J304,'Data Input'!O304,'Data Input'!S304,'Data Input'!AM304,'Data Input'!AN304,'Data Input'!AO304,'Data Input'!AP304))","v":""},{"$f":"IF(P300=\"\",\"\",P300/COUNTIF('Data Input'!$C$8:$AQ$8,$P$2))","v":""},{"$f":"IF(ISBLANK('Data Input'!C304),\"\",SUM('Data Input'!P304))","v":""},{"$f":"IF(R300=\"\",\"\",R300/COUNTIF('Data Input'!$C$8:$AQ$8,$R$2))","v":""}]
[{"$f":"IF('Data Input'!A305=0,\"\",'Data Input'!A305)","v":""},{"$f":"IF(H301=\"\",\"\",IF(H301>Welcome!$K$23-1,\"Exceeding\",IF(H301>Welcome!$G$23-1,\"Expected\",IF(H301<Welcome!$G$23,\"Below\"))))","v":""},{"$f":"IF(ISBLANK('Data Input'!A305),\"\",COUNTIF('Data Input'!C305:AQ305,\"\")-1)","v":""},{"$f":"IF(ISBLANK('Data Input'!A305),\"\",COUNTIF('Data Input'!C305:AQ305,\"0\"))","v":""},{"$f":"IF(ISBLANK('Data Input'!A305),\"\",SUM(C301,D301))","v":""},{"$f":"IF(ISBLANK('Data Input'!A305),\"\",SUM('Data Input'!C305:V305))","v":""},{"$f":"IF(ISBLANK('Data Input'!A305),\"\",SUM('Data Input'!X305:AQ305))","v":""},{"$f":"IF(ISBLANK('Data Input'!A305),\"\",SUM('Data Input'!C305:AQ305))","v":""},{"$f":"IF(H301=\"\",\"\",H301/(COUNTA('Data Input'!$C$8:$AQ$8)-1))","v":""},{"$f":"IF(ISBLANK('Data Input'!A305),\"\",SUM('Data Input'!I305,'Data Input'!M305,'Data Input'!AB305,'Data Input'!AE305))","v":""},{"$f":"IF(J301=\"\",\"\",J301/COUNTIF('Data Input'!$C$8:$AQ$8,$J$2))","v":""},{"$f":"IF(ISBLANK('Data Input'!A305),\"\",SUM('Data Input'!E305,'Data Input'!G305,'Data Input'!H305,'Data Input'!L305,'Data Input'!N305,'Data Input'!Q305,'Data Input'!R305,'Data Input'!T305,'Data Input'!U305,'Data Input'!V305,'Data Input'!X305,'Data Input'!Y305,'Data Input'!Z305,'Data Input'!AA305,'Data Input'!AC305,'Data Input'!AD305,'Data Input'!AF305,'Data Input'!AG305,'Data Input'!AH305,'Data Input'!AI305,'Data Input'!AJ305,'Data Input'!AK305,'Data Input'!AL305))","v":""},{"$f":"IF(L301=\"\",\"\",L301/COUNTIF('Data Input'!$C$8:$AQ$8,$L$2))","v":""},{"$f":"IF(ISBLANK('Data Input'!A305),\"\",SUM('Data Input'!K305,'Data Input'!AQ305))","v":""},{"$f":"IF(N301=\"\",\"\",N301/COUNTIF('Data Input'!$C$8:$AQ$8,$N$2))","v":""},{"$f":"IF(ISBLANK('Data Input'!A305),\"\",SUM('Data Input'!C305,'Data Input'!D305,'Data Input'!F305,'Data Input'!J305,'Data Input'!O305,'Data Input'!S305,'Data Input'!AM305,'Data Input'!AN305,'Data Input'!AO305,'Data Input'!AP305))","v":""},{"$f":"IF(P301=\"\",\"\",P301/COUNTIF('Data Input'!$C$8:$AQ$8,$P$2))","v":""},{"$f":"IF(ISBLANK('Data Input'!C305),\"\",SUM('Data Input'!P305))","v":""},{"$f":"IF(R301=\"\",\"\",R301/COUNTIF('Data Input'!$C$8:$AQ$8,$R$2))","v":""}]
[{"$f":"IF('Data Input'!A306=0,\"\",'Data Input'!A306)","v":""},{"$f":"IF(H302=\"\",\"\",IF(H302>Welcome!$K$23-1,\"Exceeding\",IF(H302>Welcome!$G$23-1,\"Expected\",IF(H302<Welcome!$G$23,\"Below\"))))","v":""},{"$f":"IF(ISBLANK('Data Input'!A306),\"\",COUNTIF('Data Input'!C306:AQ306,\"\")-1)","v":""},{"$f":"IF(ISBLANK('Data Input'!A306),\"\",COUNTIF('Data Input'!C306:AQ306,\"0\"))","v":""},{"$f":"IF(ISBLANK('Data Input'!A306),\"\",SUM(C302,D302))","v":""},{"$f":"IF(ISBLANK('Data Input'!A306),\"\",SUM('Data Input'!C306:V306))","v":""},{"$f":"IF(ISBLANK('Data Input'!A306),\"\",SUM('Data Input'!X306:AQ306))","v":""},{"$f":"IF(ISBLANK('Data Input'!A306),\"\",SUM('Data Input'!C306:AQ306))","v":""},{"$f":"IF(H302=\"\",\"\",H302/(COUNTA('Data Input'!$C$8:$AQ$8)-1))","v":""},{"$f":"IF(ISBLANK('Data Input'!A306),\"\",SUM('Data Input'!I306,'Data Input'!M306,'Data Input'!AB306,'Data Input'!AE306))","v":""},{"$f":"IF(J302=\"\",\"\",J302/COUNTIF('Data Input'!$C$8:$AQ$8,$J$2))","v":""},{"$f":"IF(ISBLANK('Data Input'!A306),\"\",SUM('Data Input'!E306,'Data Input'!G306,'Data Input'!H306,'Data Input'!L306,'Data Input'!N306,'Data Input'!Q306,'Data Input'!R306,'Data Input'!T306,'Data Input'!U306,'Data Input'!V306,'Data Input'!X306,'Data Input'!Y306,'Data Input'!Z306,'Data Input'!AA306,'Data Input'!AC306,'Data Input'!AD306,'Data Input'!AF306,'Data Input'!AG306,'Data Input'!AH306,'Data Input'!AI306,'Data Input'!AJ306,'Data Input'!AK306,'Data Input'!AL306))","v":""},{"$f":"IF(L302=\"\",\"\",L302/COUNTIF('Data Input'!$C$8:$AQ$8,$L$2))","v":""},{"$f":"IF(ISBLANK('Data Input'!A306),\"\",SUM('Data Input'!K306,'Data Input'!AQ306))","v":""},{"$f":"IF(N302=\"\",\"\",N302/COUNTIF('Data Input'!$C$8:$AQ$8,$N$2))","v":""},{"$f":"IF(ISBLANK('Data Input'!A306),\"\",SUM('Data Input'!C306,'Data Input'!D306,'Data Input'!F306,'Data Input'!J306,'Data Input'!O306,'Data Input'!S306,'Data Input'!AM306,'Data Input'!AN306,'Data Input'!AO306,'Data Input'!AP306))","v":""},{"$f":"IF(P302=\"\",\"\",P302/COUNTIF('Data Input'!$C$8:$AQ$8,$P$2))","v":""},{"$f":"IF(ISBLANK('Data Input'!C306),\"\",SUM('Data Input'!P306))","v":""},{"$f":"IF(R302=\"\",\"\",R302/COUNTIF('Data Input'!$C$8:$AQ$8,$R$2))","v":""}]
[{"$f":"IF('Data Input'!A307=0,\"\",'Data Input'!A307)","v":""},{"$f":"IF(H303=\"\",\"\",IF(H303>Welcome!$K$23-1,\"Exceeding\",IF(H303>Welcome!$G$23-1,\"Expected\",IF(H303<Welcome!$G$23,\"Below\"))))","v":""},{"$f":"IF(ISBLANK('Data Input'!A307),\"\",COUNTIF('Data Input'!C307:AQ307,\"\")-1)","v":""},{"$f":"IF(ISBLANK('Data Input'!A307),\"\",COUNTIF('Data Input'!C307:AQ307,\"0\"))","v":""},{"$f":"IF(ISBLANK('Data Input'!A307),\"\",SUM(C303,D303))","v":""},{"$f":"IF(ISBLANK('Data Input'!A307),\"\",SUM('Data Input'!C307:V307))","v":""},{"$f":"IF(ISBLANK('Data Input'!A307),\"\",SUM('Data Input'!X307:AQ307))","v":""},{"$f":"IF(ISBLANK('Data Input'!A307),\"\",SUM('Data Input'!C307:AQ307))","v":""},{"$f":"IF(H303=\"\",\"\",H303/(COUNTA('Data Input'!$C$8:$AQ$8)-1))","v":""},{"$f":"IF(ISBLANK('Data Input'!A307),\"\",SUM('Data Input'!I307,'Data Input'!M307,'Data Input'!AB307,'Data Input'!AE307))","v":""},{"$f":"IF(J303=\"\",\"\",J303/COUNTIF('Data Input'!$C$8:$AQ$8,$J$2))","v":""},{"$f":"IF(ISBLANK('Data Input'!A307),\"\",SUM('Data Input'!E307,'Data Input'!G307,'Data Input'!H307,'Data Input'!L307,'Data Input'!N307,'Data Input'!Q307,'Data Input'!R307,'Data Input'!T307,'Data Input'!U307,'Data Input'!V307,'Data Input'!X307,'Data Input'!Y307,'Data Input'!Z307,'Data Input'!AA307,'Data Input'!AC307,'Data Input'!AD307,'Data Input'!AF307,'Data Input'!AG307,'Data Input'!AH307,'Data Input'!AI307,'Data Input'!AJ307,'Data Input'!AK307,'Data Input'!AL307))","v":""},{"$f":"IF(L303=\"\",\"\",L303/COUNTIF('Data Input'!$C$8:$AQ$8,$L$2))","v":""},{"$f":"IF(ISBLANK('Data Input'!A307),\"\",SUM('Data Input'!K307,'Data Input'!AQ307))","v":""},{"$f":"IF(N303=\"\",\"\",N303/COUNTIF('Data Input'!$C$8:$AQ$8,$N$2))","v":""},{"$f":"IF(ISBLANK('Data Input'!A307),\"\",SUM('Data Input'!C307,'Data Input'!D307,'Data Input'!F307,'Data Input'!J307,'Data Input'!O307,'Data Input'!S307,'Data Input'!AM307,'Data Input'!AN307,'Data Input'!AO307,'Data Input'!AP307))","v":""},{"$f":"IF(P303=\"\",\"\",P303/COUNTIF('Data Input'!$C$8:$AQ$8,$P$2))","v":""},{"$f":"IF(ISBLANK('Data Input'!C307),\"\",SUM('Data Input'!P307))","v":""},{"$f":"IF(R303=\"\",\"\",R303/COUNTIF('Data Input'!$C$8:$AQ$8,$R$2))","v":""}]
[{"$f":"IF('Data Input'!A308=0,\"\",'Data Input'!A308)","v":""},{"$f":"IF(H304=\"\",\"\",IF(H304>Welcome!$K$23-1,\"Exceeding\",IF(H304>Welcome!$G$23-1,\"Expected\",IF(H304<Welcome!$G$23,\"Below\"))))","v":""},{"$f":"IF(ISBLANK('Data Input'!A308),\"\",COUNTIF('Data Input'!C308:AQ308,\"\")-1)","v":""},{"$f":"IF(ISBLANK('Data Input'!A308),\"\",COUNTIF('Data Input'!C308:AQ308,\"0\"))","v":""},{"$f":"IF(ISBLANK('Data Input'!A308),\"\",SUM(C304,D304))","v":""},{"$f":"IF(ISBLANK('Data Input'!A308),\"\",SUM('Data Input'!C308:V308))","v":""},{"$f":"IF(ISBLANK('Data Input'!A308),\"\",SUM('Data Input'!X308:AQ308))","v":""},{"$f":"IF(ISBLANK('Data Input'!A308),\"\",SUM('Data Input'!C308:AQ308))","v":""},{"$f":"IF(H304=\"\",\"\",H304/(COUNTA('Data Input'!$C$8:$AQ$8)-1))","v":""},{"$f":"IF(ISBLANK('Data Input'!A308),\"\",SUM('Data Input'!I308,'Data Input'!M308,'Data Input'!AB308,'Data Input'!AE308))","v":""},{"$f":"IF(J304=\"\",\"\",J304/COUNTIF('Data Input'!$C$8:$AQ$8,$J$2))","v":""},{"$f":"IF(ISBLANK('Data Input'!A308),\"\",SUM('Data Input'!E308,'Data Input'!G308,'Data Input'!H308,'Data Input'!L308,'Data Input'!N308,'Data Input'!Q308,'Data Input'!R308,'Data Input'!T308,'Data Input'!U308,'Data Input'!V308,'Data Input'!X308,'Data Input'!Y308,'Data Input'!Z308,'Data Input'!AA308,'Data Input'!AC308,'Data Input'!AD308,'Data Input'!AF308,'Data Input'!AG308,'Data Input'!AH308,'Data Input'!AI308,'Data Input'!AJ308,'Data Input'!AK308,'Data Input'!AL308))","v":""},{"$f":"IF(L304=\"\",\"\",L304/COUNTIF('Data Input'!$C$8:$AQ$8,$L$2))","v":""},{"$f":"IF(ISBLANK('Data Input'!A308),\"\",SUM('Data Input'!K308,'Data Input'!AQ308))","v":""},{"$f":"IF(N304=\"\",\"\",N304/COUNTIF('Data Input'!$C$8:$AQ$8,$N$2))","v":""},{"$f":"IF(ISBLANK('Data Input'!A308),\"\",SUM('Data Input'!C308,'Data Input'!D308,'Data Input'!F308,'Data Input'!J308,'Data Input'!O308,'Data Input'!S308,'Data Input'!AM308,'Data Input'!AN308,'Data Input'!AO308,'Data Input'!AP308))","v":""},{"$f":"IF(P304=\"\",\"\",P304/COUNTIF('Data Input'!$C$8:$AQ$8,$P$2))","v":""},{"$f":"IF(ISBLANK('Data Input'!C308),\"\",SUM('Data Input'!P308))","v":""},{"$f":"IF(R304=\"\",\"\",R304/COUNTIF('Data Input'!$C$8:$AQ$8,$R$2))","v":""}]
[{"$f":"IF('Data Input'!A309=0,\"\",'Data Input'!A309)","v":""},{"$f":"IF(H305=\"\",\"\",IF(H305>Welcome!$K$23-1,\"Exceeding\",IF(H305>Welcome!$G$23-1,\"Expected\",IF(H305<Welcome!$G$23,\"Below\"))))","v":""},{"$f":"IF(ISBLANK('Data Input'!A309),\"\",COUNTIF('Data Input'!C309:AQ309,\"\")-1)","v":""},{"$f":"IF(ISBLANK('Data Input'!A309),\"\",COUNTIF('Data Input'!C309:AQ309,\"0\"))","v":""},{"$f":"IF(ISBLANK('Data Input'!A309),\"\",SUM(C305,D305))","v":""},{"$f":"IF(ISBLANK('Data Input'!A309),\"\",SUM('Data Input'!C309:V309))","v":""},{"$f":"IF(ISBLANK('Data Input'!A309),\"\",SUM('Data Input'!X309:AQ309))","v":""},{"$f":"IF(ISBLANK('Data Input'!A309),\"\",SUM('Data Input'!C309:AQ309))","v":""},{"$f":"IF(H305=\"\",\"\",H305/(COUNTA('Data Input'!$C$8:$AQ$8)-1))","v":""},{"$f":"IF(ISBLANK('Data Input'!A309),\"\",SUM('Data Input'!I309,'Data Input'!M309,'Data Input'!AB309,'Data Input'!AE309))","v":""},{"$f":"IF(J305=\"\",\"\",J305/COUNTIF('Data Input'!$C$8:$AQ$8,$J$2))","v":""},{"$f":"IF(ISBLANK('Data Input'!A309),\"\",SUM('Data Input'!E309,'Data Input'!G309,'Data Input'!H309,'Data Input'!L309,'Data Input'!N309,'Data Input'!Q309,'Data Input'!R309,'Data Input'!T309,'Data Input'!U309,'Data Input'!V309,'Data Input'!X309,'Data Input'!Y309,'Data Input'!Z309,'Data Input'!AA309,'Data Input'!AC309,'Data Input'!AD309,'Data Input'!AF309,'Data Input'!AG309,'Data Input'!AH309,'Data Input'!AI309,'Data Input'!AJ309,'Data Input'!AK309,'Data Input'!AL309))","v":""},{"$f":"IF(L305=\"\",\"\",L305/COUNTIF('Data Input'!$C$8:$AQ$8,$L$2))","v":""},{"$f":"IF(ISBLANK('Data Input'!A309),\"\",SUM('Data Input'!K309,'Data Input'!AQ309))","v":""},{"$f":"IF(N305=\"\",\"\",N305/COUNTIF('Data Input'!$C$8:$AQ$8,$N$2))","v":""},{"$f":"IF(ISBLANK('Data Input'!A309),\"\",SUM('Data Input'!C309,'Data Input'!D309,'Data Input'!F309,'Data Input'!J309,'Data Input'!O309,'Data Input'!S309,'Data Input'!AM309,'Data Input'!AN309,'Data Input'!AO309,'Data Input'!AP309))","v":""},{"$f":"IF(P305=\"\",\"\",P305/COUNTIF('Data Input'!$C$8:$AQ$8,$P$2))","v":""},{"$f":"IF(ISBLANK('Data Input'!C309),\"\",SUM('Data Input'!P309))","v":""},{"$f":"IF(R305=\"\",\"\",R305/COUNTIF('Data Input'!$C$8:$AQ$8,$R$2))","v":""}]
[{"$f":"IF('Data Input'!A310=0,\"\",'Data Input'!A310)","v":""},{"$f":"IF(H306=\"\",\"\",IF(H306>Welcome!$K$23-1,\"Exceeding\",IF(H306>Welcome!$G$23-1,\"Expected\",IF(H306<Welcome!$G$23,\"Below\"))))","v":""},{"$f":"IF(ISBLANK('Data Input'!A310),\"\",COUNTIF('Data Input'!C310:AQ310,\"\")-1)","v":""},{"$f":"IF(ISBLANK('Data Input'!A310),\"\",COUNTIF('Data Input'!C310:AQ310,\"0\"))","v":""},{"$f":"IF(ISBLANK('Data Input'!A310),\"\",SUM(C306,D306))","v":""},{"$f":"IF(ISBLANK('Data Input'!A310),\"\",SUM('Data Input'!C310:V310))","v":""},{"$f":"IF(ISBLANK('Data Input'!A310),\"\",SUM('Data Input'!X310:AQ310))","v":""},{"$f":"IF(ISBLANK('Data Input'!A310),\"\",SUM('Data Input'!C310:AQ310))","v":""},{"$f":"IF(H306=\"\",\"\",H306/(COUNTA('Data Input'!$C$8:$AQ$8)-1))","v":""},{"$f":"IF(ISBLANK('Data Input'!A310),\"\",SUM('Data Input'!I310,'Data Input'!M310,'Data Input'!AB310,'Data Input'!AE310))","v":""},{"$f":"IF(J306=\"\",\"\",J306/COUNTIF('Data Input'!$C$8:$AQ$8,$J$2))","v":""},{"$f":"IF(ISBLANK('Data Input'!A310),\"\",SUM('Data Input'!E310,'Data Input'!G310,'Data Input'!H310,'Data Input'!L310,'Data Input'!N310,'Data Input'!Q310,'Data Input'!R310,'Data Input'!T310,'Data Input'!U310,'Data Input'!V310,'Data Input'!X310,'Data Input'!Y310,'Data Input'!Z310,'Data Input'!AA310,'Data Input'!AC310,'Data Input'!AD310,'Data Input'!AF310,'Data Input'!AG310,'Data Input'!AH310,'Data Input'!AI310,'Data Input'!AJ310,'Data Input'!AK310,'Data Input'!AL310))","v":""},{"$f":"IF(L306=\"\",\"\",L306/COUNTIF('Data Input'!$C$8:$AQ$8,$L$2))","v":""},{"$f":"IF(ISBLANK('Data Input'!A310),\"\",SUM('Data Input'!K310,'Data Input'!AQ310))","v":""},{"$f":"IF(N306=\"\",\"\",N306/COUNTIF('Data Input'!$C$8:$AQ$8,$N$2))","v":""},{"$f":"IF(ISBLANK('Data Input'!A310),\"\",SUM('Data Input'!C310,'Data Input'!D310,'Data Input'!F310,'Data Input'!J310,'Data Input'!O310,'Data Input'!S310,'Data Input'!AM310,'Data Input'!AN310,'Data Input'!AO310,'Data Input'!AP310))","v":""},{"$f":"IF(P306=\"\",\"\",P306/COUNTIF('Data Input'!$C$8:$AQ$8,$P$2))","v":""},{"$f":"IF(ISBLANK('Data Input'!C310),\"\",SUM('Data Input'!P310))","v":""},{"$f":"IF(R306=\"\",\"\",R306/COUNTIF('Data Input'!$C$8:$AQ$8,$R$2))","v":""}]
[{"$f":"IF('Data Input'!A311=0,\"\",'Data Input'!A311)","v":""},{"$f":"IF(H307=\"\",\"\",IF(H307>Welcome!$K$23-1,\"Exceeding\",IF(H307>Welcome!$G$23-1,\"Expected\",IF(H307<Welcome!$G$23,\"Below\"))))","v":""},{"$f":"IF(ISBLANK('Data Input'!A311),\"\",COUNTIF('Data Input'!C311:AQ311,\"\")-1)","v":""},{"$f":"IF(ISBLANK('Data Input'!A311),\"\",COUNTIF('Data Input'!C311:AQ311,\"0\"))","v":""},{"$f":"IF(ISBLANK('Data Input'!A311),\"\",SUM(C307,D307))","v":""},{"$f":"IF(ISBLANK('Data Input'!A311),\"\",SUM('Data Input'!C311:V311))","v":""},{"$f":"IF(ISBLANK('Data Input'!A311),\"\",SUM('Data Input'!X311:AQ311))","v":""},{"$f":"IF(ISBLANK('Data Input'!A311),\"\",SUM('Data Input'!C311:AQ311))","v":""},{"$f":"IF(H307=\"\",\"\",H307/(COUNTA('Data Input'!$C$8:$AQ$8)-1))","v":""},{"$f":"IF(ISBLANK('Data Input'!A311),\"\",SUM('Data Input'!I311,'Data Input'!M311,'Data Input'!AB311,'Data Input'!AE311))","v":""},{"$f":"IF(J307=\"\",\"\",J307/COUNTIF('Data Input'!$C$8:$AQ$8,$J$2))","v":""},{"$f":"IF(ISBLANK('Data Input'!A311),\"\",SUM('Data Input'!E311,'Data Input'!G311,'Data Input'!H311,'Data Input'!L311,'Data Input'!N311,'Data Input'!Q311,'Data Input'!R311,'Data Input'!T311,'Data Input'!U311,'Data Input'!V311,'Data Input'!X311,'Data Input'!Y311,'Data Input'!Z311,'Data Input'!AA311,'Data Input'!AC311,'Data Input'!AD311,'Data Input'!AF311,'Data Input'!AG311,'Data Input'!AH311,'Data Input'!AI311,'Data Input'!AJ311,'Data Input'!AK311,'Data Input'!AL311))","v":""},{"$f":"IF(L307=\"\",\"\",L307/COUNTIF('Data Input'!$C$8:$AQ$8,$L$2))","v":""},{"$f":"IF(ISBLANK('Data Input'!A311),\"\",SUM('Data Input'!K311,'Data Input'!AQ311))","v":""},{"$f":"IF(N307=\"\",\"\",N307/COUNTIF('Data Input'!$C$8:$AQ$8,$N$2))","v":""},{"$f":"IF(ISBLANK('Data Input'!A311),\"\",SUM('Data Input'!C311,'Data Input'!D311,'Data Input'!F311,'Data Input'!J311,'Data Input'!O311,'Data Input'!S311,'Data Input'!AM311,'Data Input'!AN311,'Data Input'!AO311,'Data Input'!AP311))","v":""},{"$f":"IF(P307=\"\",\"\",P307/COUNTIF('Data Input'!$C$8:$AQ$8,$P$2))","v":""},{"$f":"IF(ISBLANK('Data Input'!C311),\"\",SUM('Data Input'!P311))","v":""},{"$f":"IF(R307=\"\",\"\",R307/COUNTIF('Data Input'!$C$8:$AQ$8,$R$2))","v":""}]
[{"$f":"IF('Data Input'!A312=0,\"\",'Data Input'!A312)","v":""},{"$f":"IF(H308=\"\",\"\",IF(H308>Welcome!$K$23-1,\"Exceeding\",IF(H308>Welcome!$G$23-1,\"Expected\",IF(H308<Welcome!$G$23,\"Below\"))))","v":""},{"$f":"IF(ISBLANK('Data Input'!A312),\"\",COUNTIF('Data Input'!C312:AQ312,\"\")-1)","v":""},{"$f":"IF(ISBLANK('Data Input'!A312),\"\",COUNTIF('Data Input'!C312:AQ312,\"0\"))","v":""},{"$f":"IF(ISBLANK('Data Input'!A312),\"\",SUM(C308,D308))","v":""},{"$f":"IF(ISBLANK('Data Input'!A312),\"\",SUM('Data Input'!C312:V312))","v":""},{"$f":"IF(ISBLANK('Data Input'!A312),\"\",SUM('Data Input'!X312:AQ312))","v":""},{"$f":"IF(ISBLANK('Data Input'!A312),\"\",SUM('Data Input'!C312:AQ312))","v":""},{"$f":"IF(H308=\"\",\"\",H308/(COUNTA('Data Input'!$C$8:$AQ$8)-1))","v":""},{"$f":"IF(ISBLANK('Data Input'!A312),\"\",SUM('Data Input'!I312,'Data Input'!M312,'Data Input'!AB312,'Data Input'!AE312))","v":""},{"$f":"IF(J308=\"\",\"\",J308/COUNTIF('Data Input'!$C$8:$AQ$8,$J$2))","v":""},{"$f":"IF(ISBLANK('Data Input'!A312),\"\",SUM('Data Input'!E312,'Data Input'!G312,'Data Input'!H312,'Data Input'!L312,'Data Input'!N312,'Data Input'!Q312,'Data Input'!R312,'Data Input'!T312,'Data Input'!U312,'Data Input'!V312,'Data Input'!X312,'Data Input'!Y312,'Data Input'!Z312,'Data Input'!AA312,'Data Input'!AC312,'Data Input'!AD312,'Data Input'!AF312,'Data Input'!AG312,'Data Input'!AH312,'Data Input'!AI312,'Data Input'!AJ312,'Data Input'!AK312,'Data Input'!AL312))","v":""},{"$f":"IF(L308=\"\",\"\",L308/COUNTIF('Data Input'!$C$8:$AQ$8,$L$2))","v":""},{"$f":"IF(ISBLANK('Data Input'!A312),\"\",SUM('Data Input'!K312,'Data Input'!AQ312))","v":""},{"$f":"IF(N308=\"\",\"\",N308/COUNTIF('Data Input'!$C$8:$AQ$8,$N$2))","v":""},{"$f":"IF(ISBLANK('Data Input'!A312),\"\",SUM('Data Input'!C312,'Data Input'!D312,'Data Input'!F312,'Data Input'!J312,'Data Input'!O312,'Data Input'!S312,'Data Input'!AM312,'Data Input'!AN312,'Data Input'!AO312,'Data Input'!AP312))","v":""},{"$f":"IF(P308=\"\",\"\",P308/COUNTIF('Data Input'!$C$8:$AQ$8,$P$2))","v":""},{"$f":"IF(ISBLANK('Data Input'!C312),\"\",SUM('Data Input'!P312))","v":""},{"$f":"IF(R308=\"\",\"\",R308/COUNTIF('Data Input'!$C$8:$AQ$8,$R$2))","v":""}]
[{"$f":"IF('Data Input'!A313=0,\"\",'Data Input'!A313)","v":""},{"$f":"IF(H309=\"\",\"\",IF(H309>Welcome!$K$23-1,\"Exceeding\",IF(H309>Welcome!$G$23-1,\"Expected\",IF(H309<Welcome!$G$23,\"Below\"))))","v":""},{"$f":"IF(ISBLANK('Data Input'!A313),\"\",COUNTIF('Data Input'!C313:AQ313,\"\")-1)","v":""},{"$f":"IF(ISBLANK('Data Input'!A313),\"\",COUNTIF('Data Input'!C313:AQ313,\"0\"))","v":""},{"$f":"IF(ISBLANK('Data Input'!A313),\"\",SUM(C309,D309))","v":""},{"$f":"IF(ISBLANK('Data Input'!A313),\"\",SUM('Data Input'!C313:V313))","v":""},{"$f":"IF(ISBLANK('Data Input'!A313),\"\",SUM('Data Input'!X313:AQ313))","v":""},{"$f":"IF(ISBLANK('Data Input'!A313),\"\",SUM('Data Input'!C313:AQ313))","v":""},{"$f":"IF(H309=\"\",\"\",H309/(COUNTA('Data Input'!$C$8:$AQ$8)-1))","v":""},{"$f":"IF(ISBLANK('Data Input'!A313),\"\",SUM('Data Input'!I313,'Data Input'!M313,'Data Input'!AB313,'Data Input'!AE313))","v":""},{"$f":"IF(J309=\"\",\"\",J309/COUNTIF('Data Input'!$C$8:$AQ$8,$J$2))","v":""},{"$f":"IF(ISBLANK('Data Input'!A313),\"\",SUM('Data Input'!E313,'Data Input'!G313,'Data Input'!H313,'Data Input'!L313,'Data Input'!N313,'Data Input'!Q313,'Data Input'!R313,'Data Input'!T313,'Data Input'!U313,'Data Input'!V313,'Data Input'!X313,'Data Input'!Y313,'Data Input'!Z313,'Data Input'!AA313,'Data Input'!AC313,'Data Input'!AD313,'Data Input'!AF313,'Data Input'!AG313,'Data Input'!AH313,'Data Input'!AI313,'Data Input'!AJ313,'Data Input'!AK313,'Data Input'!AL313))","v":""},{"$f":"IF(L309=\"\",\"\",L309/COUNTIF('Data Input'!$C$8:$AQ$8,$L$2))","v":""},{"$f":"IF(ISBLANK('Data Input'!A313),\"\",SUM('Data Input'!K313,'Data Input'!AQ313))","v":""},{"$f":"IF(N309=\"\",\"\",N309/COUNTIF('Data Input'!$C$8:$AQ$8,$N$2))","v":""},{"$f":"IF(ISBLANK('Data Input'!A313),\"\",SUM('Data Input'!C313,'Data Input'!D313,'Data Input'!F313,'Data Input'!J313,'Data Input'!O313,'Data Input'!S313,'Data Input'!AM313,'Data Input'!AN313,'Data Input'!AO313,'Data Input'!AP313))","v":""},{"$f":"IF(P309=\"\",\"\",P309/COUNTIF('Data Input'!$C$8:$AQ$8,$P$2))","v":""},{"$f":"IF(ISBLANK('Data Input'!C313),\"\",SUM('Data Input'!P313))","v":""},{"$f":"IF(R309=\"\",\"\",R309/COUNTIF('Data Input'!$C$8:$AQ$8,$R$2))","v":""}]
[{"$f":"IF('Data Input'!A314=0,\"\",'Data Input'!A314)","v":""},{"$f":"IF(H310=\"\",\"\",IF(H310>Welcome!$K$23-1,\"Exceeding\",IF(H310>Welcome!$G$23-1,\"Expected\",IF(H310<Welcome!$G$23,\"Below\"))))","v":""},{"$f":"IF(ISBLANK('Data Input'!A314),\"\",COUNTIF('Data Input'!C314:AQ314,\"\")-1)","v":""},{"$f":"IF(ISBLANK('Data Input'!A314),\"\",COUNTIF('Data Input'!C314:AQ314,\"0\"))","v":""},{"$f":"IF(ISBLANK('Data Input'!A314),\"\",SUM(C310,D310))","v":""},{"$f":"IF(ISBLANK('Data Input'!A314),\"\",SUM('Data Input'!C314:V314))","v":""},{"$f":"IF(ISBLANK('Data Input'!A314),\"\",SUM('Data Input'!X314:AQ314))","v":""},{"$f":"IF(ISBLANK('Data Input'!A314),\"\",SUM('Data Input'!C314:AQ314))","v":""},{"$f":"IF(H310=\"\",\"\",H310/(COUNTA('Data Input'!$C$8:$AQ$8)-1))","v":""},{"$f":"IF(ISBLANK('Data Input'!A314),\"\",SUM('Data Input'!I314,'Data Input'!M314,'Data Input'!AB314,'Data Input'!AE314))","v":""},{"$f":"IF(J310=\"\",\"\",J310/COUNTIF('Data Input'!$C$8:$AQ$8,$J$2))","v":""},{"$f":"IF(ISBLANK('Data Input'!A314),\"\",SUM('Data Input'!E314,'Data Input'!G314,'Data Input'!H314,'Data Input'!L314,'Data Input'!N314,'Data Input'!Q314,'Data Input'!R314,'Data Input'!T314,'Data Input'!U314,'Data Input'!V314,'Data Input'!X314,'Data Input'!Y314,'Data Input'!Z314,'Data Input'!AA314,'Data Input'!AC314,'Data Input'!AD314,'Data Input'!AF314,'Data Input'!AG314,'Data Input'!AH314,'Data Input'!AI314,'Data Input'!AJ314,'Data Input'!AK314,'Data Input'!AL314))","v":""},{"$f":"IF(L310=\"\",\"\",L310/COUNTIF('Data Input'!$C$8:$AQ$8,$L$2))","v":""},{"$f":"IF(ISBLANK('Data Input'!A314),\"\",SUM('Data Input'!K314,'Data Input'!AQ314))","v":""},{"$f":"IF(N310=\"\",\"\",N310/COUNTIF('Data Input'!$C$8:$AQ$8,$N$2))","v":""},{"$f":"IF(ISBLANK('Data Input'!A314),\"\",SUM('Data Input'!C314,'Data Input'!D314,'Data Input'!F314,'Data Input'!J314,'Data Input'!O314,'Data Input'!S314,'Data Input'!AM314,'Data Input'!AN314,'Data Input'!AO314,'Data Input'!AP314))","v":""},{"$f":"IF(P310=\"\",\"\",P310/COUNTIF('Data Input'!$C$8:$AQ$8,$P$2))","v":""},{"$f":"IF(ISBLANK('Data Input'!C314),\"\",SUM('Data Input'!P314))","v":""},{"$f":"IF(R310=\"\",\"\",R310/COUNTIF('Data Input'!$C$8:$AQ$8,$R$2))","v":""}]
[{"$f":"IF('Data Input'!A315=0,\"\",'Data Input'!A315)","v":""},{"$f":"IF(H311=\"\",\"\",IF(H311>Welcome!$K$23-1,\"Exceeding\",IF(H311>Welcome!$G$23-1,\"Expected\",IF(H311<Welcome!$G$23,\"Below\"))))","v":""},{"$f":"IF(ISBLANK('Data Input'!A315),\"\",COUNTIF('Data Input'!C315:AQ315,\"\")-1)","v":""},{"$f":"IF(ISBLANK('Data Input'!A315),\"\",COUNTIF('Data Input'!C315:AQ315,\"0\"))","v":""},{"$f":"IF(ISBLANK('Data Input'!A315),\"\",SUM(C311,D311))","v":""},{"$f":"IF(ISBLANK('Data Input'!A315),\"\",SUM('Data Input'!C315:V315))","v":""},{"$f":"IF(ISBLANK('Data Input'!A315),\"\",SUM('Data Input'!X315:AQ315))","v":""},{"$f":"IF(ISBLANK('Data Input'!A315),\"\",SUM('Data Input'!C315:AQ315))","v":""},{"$f":"IF(H311=\"\",\"\",H311/(COUNTA('Data Input'!$C$8:$AQ$8)-1))","v":""},{"$f":"IF(ISBLANK('Data Input'!A315),\"\",SUM('Data Input'!I315,'Data Input'!M315,'Data Input'!AB315,'Data Input'!AE315))","v":""},{"$f":"IF(J311=\"\",\"\",J311/COUNTIF('Data Input'!$C$8:$AQ$8,$J$2))","v":""},{"$f":"IF(ISBLANK('Data Input'!A315),\"\",SUM('Data Input'!E315,'Data Input'!G315,'Data Input'!H315,'Data Input'!L315,'Data Input'!N315,'Data Input'!Q315,'Data Input'!R315,'Data Input'!T315,'Data Input'!U315,'Data Input'!V315,'Data Input'!X315,'Data Input'!Y315,'Data Input'!Z315,'Data Input'!AA315,'Data Input'!AC315,'Data Input'!AD315,'Data Input'!AF315,'Data Input'!AG315,'Data Input'!AH315,'Data Input'!AI315,'Data Input'!AJ315,'Data Input'!AK315,'Data Input'!AL315))","v":""},{"$f":"IF(L311=\"\",\"\",L311/COUNTIF('Data Input'!$C$8:$AQ$8,$L$2))","v":""},{"$f":"IF(ISBLANK('Data Input'!A315),\"\",SUM('Data Input'!K315,'Data Input'!AQ315))","v":""},{"$f":"IF(N311=\"\",\"\",N311/COUNTIF('Data Input'!$C$8:$AQ$8,$N$2))","v":""},{"$f":"IF(ISBLANK('Data Input'!A315),\"\",SUM('Data Input'!C315,'Data Input'!D315,'Data Input'!F315,'Data Input'!J315,'Data Input'!O315,'Data Input'!S315,'Data Input'!AM315,'Data Input'!AN315,'Data Input'!AO315,'Data Input'!AP315))","v":""},{"$f":"IF(P311=\"\",\"\",P311/COUNTIF('Data Input'!$C$8:$AQ$8,$P$2))","v":""},{"$f":"IF(ISBLANK('Data Input'!C315),\"\",SUM('Data Input'!P315))","v":""},{"$f":"IF(R311=\"\",\"\",R311/COUNTIF('Data Input'!$C$8:$AQ$8,$R$2))","v":""}]
[{"$f":"IF('Data Input'!A316=0,\"\",'Data Input'!A316)","v":""},{"$f":"IF(H312=\"\",\"\",IF(H312>Welcome!$K$23-1,\"Exceeding\",IF(H312>Welcome!$G$23-1,\"Expected\",IF(H312<Welcome!$G$23,\"Below\"))))","v":""},{"$f":"IF(ISBLANK('Data Input'!A316),\"\",COUNTIF('Data Input'!C316:AQ316,\"\")-1)","v":""},{"$f":"IF(ISBLANK('Data Input'!A316),\"\",COUNTIF('Data Input'!C316:AQ316,\"0\"))","v":""},{"$f":"IF(ISBLANK('Data Input'!A316),\"\",SUM(C312,D312))","v":""},{"$f":"IF(ISBLANK('Data Input'!A316),\"\",SUM('Data Input'!C316:V316))","v":""},{"$f":"IF(ISBLANK('Data Input'!A316),\"\",SUM('Data Input'!X316:AQ316))","v":""},{"$f":"IF(ISBLANK('Data Input'!A316),\"\",SUM('Data Input'!C316:AQ316))","v":""},{"$f":"IF(H312=\"\",\"\",H312/(COUNTA('Data Input'!$C$8:$AQ$8)-1))","v":""},{"$f":"IF(ISBLANK('Data Input'!A316),\"\",SUM('Data Input'!I316,'Data Input'!M316,'Data Input'!AB316,'Data Input'!AE316))","v":""},{"$f":"IF(J312=\"\",\"\",J312/COUNTIF('Data Input'!$C$8:$AQ$8,$J$2))","v":""},{"$f":"IF(ISBLANK('Data Input'!A316),\"\",SUM('Data Input'!E316,'Data Input'!G316,'Data Input'!H316,'Data Input'!L316,'Data Input'!N316,'Data Input'!Q316,'Data Input'!R316,'Data Input'!T316,'Data Input'!U316,'Data Input'!V316,'Data Input'!X316,'Data Input'!Y316,'Data Input'!Z316,'Data Input'!AA316,'Data Input'!AC316,'Data Input'!AD316,'Data Input'!AF316,'Data Input'!AG316,'Data Input'!AH316,'Data Input'!AI316,'Data Input'!AJ316,'Data Input'!AK316,'Data Input'!AL316))","v":""},{"$f":"IF(L312=\"\",\"\",L312/COUNTIF('Data Input'!$C$8:$AQ$8,$L$2))","v":""},{"$f":"IF(ISBLANK('Data Input'!A316),\"\",SUM('Data Input'!K316,'Data Input'!AQ316))","v":""},{"$f":"IF(N312=\"\",\"\",N312/COUNTIF('Data Input'!$C$8:$AQ$8,$N$2))","v":""},{"$f":"IF(ISBLANK('Data Input'!A316),\"\",SUM('Data Input'!C316,'Data Input'!D316,'Data Input'!F316,'Data Input'!J316,'Data Input'!O316,'Data Input'!S316,'Data Input'!AM316,'Data Input'!AN316,'Data Input'!AO316,'Data Input'!AP316))","v":""},{"$f":"IF(P312=\"\",\"\",P312/COUNTIF('Data Input'!$C$8:$AQ$8,$P$2))","v":""},{"$f":"IF(ISBLANK('Data Input'!C316),\"\",SUM('Data Input'!P316))","v":""},{"$f":"IF(R312=\"\",\"\",R312/COUNTIF('Data Input'!$C$8:$AQ$8,$R$2))","v":""}]
[{"$f":"IF('Data Input'!A317=0,\"\",'Data Input'!A317)","v":""},{"$f":"IF(H313=\"\",\"\",IF(H313>Welcome!$K$23-1,\"Exceeding\",IF(H313>Welcome!$G$23-1,\"Expected\",IF(H313<Welcome!$G$23,\"Below\"))))","v":""},{"$f":"IF(ISBLANK('Data Input'!A317),\"\",COUNTIF('Data Input'!C317:AQ317,\"\")-1)","v":""},{"$f":"IF(ISBLANK('Data Input'!A317),\"\",COUNTIF('Data Input'!C317:AQ317,\"0\"))","v":""},{"$f":"IF(ISBLANK('Data Input'!A317),\"\",SUM(C313,D313))","v":""},{"$f":"IF(ISBLANK('Data Input'!A317),\"\",SUM('Data Input'!C317:V317))","v":""},{"$f":"IF(ISBLANK('Data Input'!A317),\"\",SUM('Data Input'!X317:AQ317))","v":""},{"$f":"IF(ISBLANK('Data Input'!A317),\"\",SUM('Data Input'!C317:AQ317))","v":""},{"$f":"IF(H313=\"\",\"\",H313/(COUNTA('Data Input'!$C$8:$AQ$8)-1))","v":""},{"$f":"IF(ISBLANK('Data Input'!A317),\"\",SUM('Data Input'!I317,'Data Input'!M317,'Data Input'!AB317,'Data Input'!AE317))","v":""},{"$f":"IF(J313=\"\",\"\",J313/COUNTIF('Data Input'!$C$8:$AQ$8,$J$2))","v":""},{"$f":"IF(ISBLANK('Data Input'!A317),\"\",SUM('Data Input'!E317,'Data Input'!G317,'Data Input'!H317,'Data Input'!L317,'Data Input'!N317,'Data Input'!Q317,'Data Input'!R317,'Data Input'!T317,'Data Input'!U317,'Data Input'!V317,'Data Input'!X317,'Data Input'!Y317,'Data Input'!Z317,'Data Input'!AA317,'Data Input'!AC317,'Data Input'!AD317,'Data Input'!AF317,'Data Input'!AG317,'Data Input'!AH317,'Data Input'!AI317,'Data Input'!AJ317,'Data Input'!AK317,'Data Input'!AL317))","v":""},{"$f":"IF(L313=\"\",\"\",L313/COUNTIF('Data Input'!$C$8:$AQ$8,$L$2))","v":""},{"$f":"IF(ISBLANK('Data Input'!A317),\"\",SUM('Data Input'!K317,'Data Input'!AQ317))","v":""},{"$f":"IF(N313=\"\",\"\",N313/COUNTIF('Data Input'!$C$8:$AQ$8,$N$2))","v":""},{"$f":"IF(ISBLANK('Data Input'!A317),\"\",SUM('Data Input'!C317,'Data Input'!D317,'Data Input'!F317,'Data Input'!J317,'Data Input'!O317,'Data Input'!S317,'Data Input'!AM317,'Data Input'!AN317,'Data Input'!AO317,'Data Input'!AP317))","v":""},{"$f":"IF(P313=\"\",\"\",P313/COUNTIF('Data Input'!$C$8:$AQ$8,$P$2))","v":""},{"$f":"IF(ISBLANK('Data Input'!C317),\"\",SUM('Data Input'!P317))","v":""},{"$f":"IF(R313=\"\",\"\",R313/COUNTIF('Data Input'!$C$8:$AQ$8,$R$2))","v":""}]
[{"$f":"IF('Data Input'!A318=0,\"\",'Data Input'!A318)","v":""},{"$f":"IF(H314=\"\",\"\",IF(H314>Welcome!$K$23-1,\"Exceeding\",IF(H314>Welcome!$G$23-1,\"Expected\",IF(H314<Welcome!$G$23,\"Below\"))))","v":""},{"$f":"IF(ISBLANK('Data Input'!A318),\"\",COUNTIF('Data Input'!C318:AQ318,\"\")-1)","v":""},{"$f":"IF(ISBLANK('Data Input'!A318),\"\",COUNTIF('Data Input'!C318:AQ318,\"0\"))","v":""},{"$f":"IF(ISBLANK('Data Input'!A318),\"\",SUM(C314,D314))","v":""},{"$f":"IF(ISBLANK('Data Input'!A318),\"\",SUM('Data Input'!C318:V318))","v":""},{"$f":"IF(ISBLANK('Data Input'!A318),\"\",SUM('Data Input'!X318:AQ318))","v":""},{"$f":"IF(ISBLANK('Data Input'!A318),\"\",SUM('Data Input'!C318:AQ318))","v":""},{"$f":"IF(H314=\"\",\"\",H314/(COUNTA('Data Input'!$C$8:$AQ$8)-1))","v":""},{"$f":"IF(ISBLANK('Data Input'!A318),\"\",SUM('Data Input'!I318,'Data Input'!M318,'Data Input'!AB318,'Data Input'!AE318))","v":""},{"$f":"IF(J314=\"\",\"\",J314/COUNTIF('Data Input'!$C$8:$AQ$8,$J$2))","v":""},{"$f":"IF(ISBLANK('Data Input'!A318),\"\",SUM('Data Input'!E318,'Data Input'!G318,'Data Input'!H318,'Data Input'!L318,'Data Input'!N318,'Data Input'!Q318,'Data Input'!R318,'Data Input'!T318,'Data Input'!U318,'Data Input'!V318,'Data Input'!X318,'Data Input'!Y318,'Data Input'!Z318,'Data Input'!AA318,'Data Input'!AC318,'Data Input'!AD318,'Data Input'!AF318,'Data Input'!AG318,'Data Input'!AH318,'Data Input'!AI318,'Data Input'!AJ318,'Data Input'!AK318,'Data Input'!AL318))","v":""},{"$f":"IF(L314=\"\",\"\",L314/COUNTIF('Data Input'!$C$8:$AQ$8,$L$2))","v":""},{"$f":"IF(ISBLANK('Data Input'!A318),\"\",SUM('Data Input'!K318,'Data Input'!AQ318))","v":""},{"$f":"IF(N314=\"\",\"\",N314/COUNTIF('Data Input'!$C$8:$AQ$8,$N$2))","v":""},{"$f":"IF(ISBLANK('Data Input'!A318),\"\",SUM('Data Input'!C318,'Data Input'!D318,'Data Input'!F318,'Data Input'!J318,'Data Input'!O318,'Data Input'!S318,'Data Input'!AM318,'Data Input'!AN318,'Data Input'!AO318,'Data Input'!AP318))","v":""},{"$f":"IF(P314=\"\",\"\",P314/COUNTIF('Data Input'!$C$8:$AQ$8,$P$2))","v":""},{"$f":"IF(ISBLANK('Data Input'!C318),\"\",SUM('Data Input'!P318))","v":""},{"$f":"IF(R314=\"\",\"\",R314/COUNTIF('Data Input'!$C$8:$AQ$8,$R$2))","v":""}]
[{"$f":"IF('Data Input'!A319=0,\"\",'Data Input'!A319)","v":""},{"$f":"IF(H315=\"\",\"\",IF(H315>Welcome!$K$23-1,\"Exceeding\",IF(H315>Welcome!$G$23-1,\"Expected\",IF(H315<Welcome!$G$23,\"Below\"))))","v":""},{"$f":"IF(ISBLANK('Data Input'!A319),\"\",COUNTIF('Data Input'!C319:AQ319,\"\")-1)","v":""},{"$f":"IF(ISBLANK('Data Input'!A319),\"\",COUNTIF('Data Input'!C319:AQ319,\"0\"))","v":""},{"$f":"IF(ISBLANK('Data Input'!A319),\"\",SUM(C315,D315))","v":""},{"$f":"IF(ISBLANK('Data Input'!A319),\"\",SUM('Data Input'!C319:V319))","v":""},{"$f":"IF(ISBLANK('Data Input'!A319),\"\",SUM('Data Input'!X319:AQ319))","v":""},{"$f":"IF(ISBLANK('Data Input'!A319),\"\",SUM('Data Input'!C319:AQ319))","v":""},{"$f":"IF(H315=\"\",\"\",H315/(COUNTA('Data Input'!$C$8:$AQ$8)-1))","v":""},{"$f":"IF(ISBLANK('Data Input'!A319),\"\",SUM('Data Input'!I319,'Data Input'!M319,'Data Input'!AB319,'Data Input'!AE319))","v":""},{"$f":"IF(J315=\"\",\"\",J315/COUNTIF('Data Input'!$C$8:$AQ$8,$J$2))","v":""},{"$f":"IF(ISBLANK('Data Input'!A319),\"\",SUM('Data Input'!E319,'Data Input'!G319,'Data Input'!H319,'Data Input'!L319,'Data Input'!N319,'Data Input'!Q319,'Data Input'!R319,'Data Input'!T319,'Data Input'!U319,'Data Input'!V319,'Data Input'!X319,'Data Input'!Y319,'Data Input'!Z319,'Data Input'!AA319,'Data Input'!AC319,'Data Input'!AD319,'Data Input'!AF319,'Data Input'!AG319,'Data Input'!AH319,'Data Input'!AI319,'Data Input'!AJ319,'Data Input'!AK319,'Data Input'!AL319))","v":""},{"$f":"IF(L315=\"\",\"\",L315/COUNTIF('Data Input'!$C$8:$AQ$8,$L$2))","v":""},{"$f":"IF(ISBLANK('Data Input'!A319),\"\",SUM('Data Input'!K319,'Data Input'!AQ319))","v":""},{"$f":"IF(N315=\"\",\"\",N315/COUNTIF('Data Input'!$C$8:$AQ$8,$N$2))","v":""},{"$f":"IF(ISBLANK('Data Input'!A319),\"\",SUM('Data Input'!C319,'Data Input'!D319,'Data Input'!F319,'Data Input'!J319,'Data Input'!O319,'Data Input'!S319,'Data Input'!AM319,'Data Input'!AN319,'Data Input'!AO319,'Data Input'!AP319))","v":""},{"$f":"IF(P315=\"\",\"\",P315/COUNTIF('Data Input'!$C$8:$AQ$8,$P$2))","v":""},{"$f":"IF(ISBLANK('Data Input'!C319),\"\",SUM('Data Input'!P319))","v":""},{"$f":"IF(R315=\"\",\"\",R315/COUNTIF('Data Input'!$C$8:$AQ$8,$R$2))","v":""}]
[{"$f":"IF('Data Input'!A320=0,\"\",'Data Input'!A320)","v":""},{"$f":"IF(H316=\"\",\"\",IF(H316>Welcome!$K$23-1,\"Exceeding\",IF(H316>Welcome!$G$23-1,\"Expected\",IF(H316<Welcome!$G$23,\"Below\"))))","v":""},{"$f":"IF(ISBLANK('Data Input'!A320),\"\",COUNTIF('Data Input'!C320:AQ320,\"\")-1)","v":""},{"$f":"IF(ISBLANK('Data Input'!A320),\"\",COUNTIF('Data Input'!C320:AQ320,\"0\"))","v":""},{"$f":"IF(ISBLANK('Data Input'!A320),\"\",SUM(C316,D316))","v":""},{"$f":"IF(ISBLANK('Data Input'!A320),\"\",SUM('Data Input'!C320:V320))","v":""},{"$f":"IF(ISBLANK('Data Input'!A320),\"\",SUM('Data Input'!X320:AQ320))","v":""},{"$f":"IF(ISBLANK('Data Input'!A320),\"\",SUM('Data Input'!C320:AQ320))","v":""},{"$f":"IF(H316=\"\",\"\",H316/(COUNTA('Data Input'!$C$8:$AQ$8)-1))","v":""},{"$f":"IF(ISBLANK('Data Input'!A320),\"\",SUM('Data Input'!I320,'Data Input'!M320,'Data Input'!AB320,'Data Input'!AE320))","v":""},{"$f":"IF(J316=\"\",\"\",J316/COUNTIF('Data Input'!$C$8:$AQ$8,$J$2))","v":""},{"$f":"IF(ISBLANK('Data Input'!A320),\"\",SUM('Data Input'!E320,'Data Input'!G320,'Data Input'!H320,'Data Input'!L320,'Data Input'!N320,'Data Input'!Q320,'Data Input'!R320,'Data Input'!T320,'Data Input'!U320,'Data Input'!V320,'Data Input'!X320,'Data Input'!Y320,'Data Input'!Z320,'Data Input'!AA320,'Data Input'!AC320,'Data Input'!AD320,'Data Input'!AF320,'Data Input'!AG320,'Data Input'!AH320,'Data Input'!AI320,'Data Input'!AJ320,'Data Input'!AK320,'Data Input'!AL320))","v":""},{"$f":"IF(L316=\"\",\"\",L316/COUNTIF('Data Input'!$C$8:$AQ$8,$L$2))","v":""},{"$f":"IF(ISBLANK('Data Input'!A320),\"\",SUM('Data Input'!K320,'Data Input'!AQ320))","v":""},{"$f":"IF(N316=\"\",\"\",N316/COUNTIF('Data Input'!$C$8:$AQ$8,$N$2))","v":""},{"$f":"IF(ISBLANK('Data Input'!A320),\"\",SUM('Data Input'!C320,'Data Input'!D320,'Data Input'!F320,'Data Input'!J320,'Data Input'!O320,'Data Input'!S320,'Data Input'!AM320,'Data Input'!AN320,'Data Input'!AO320,'Data Input'!AP320))","v":""},{"$f":"IF(P316=\"\",\"\",P316/COUNTIF('Data Input'!$C$8:$AQ$8,$P$2))","v":""},{"$f":"IF(ISBLANK('Data Input'!C320),\"\",SUM('Data Input'!P320))","v":""},{"$f":"IF(R316=\"\",\"\",R316/COUNTIF('Data Input'!$C$8:$AQ$8,$R$2))","v":""}]
[{"$f":"IF('Data Input'!A321=0,\"\",'Data Input'!A321)","v":""},{"$f":"IF(H317=\"\",\"\",IF(H317>Welcome!$K$23-1,\"Exceeding\",IF(H317>Welcome!$G$23-1,\"Expected\",IF(H317<Welcome!$G$23,\"Below\"))))","v":""},{"$f":"IF(ISBLANK('Data Input'!A321),\"\",COUNTIF('Data Input'!C321:AQ321,\"\")-1)","v":""},{"$f":"IF(ISBLANK('Data Input'!A321),\"\",COUNTIF('Data Input'!C321:AQ321,\"0\"))","v":""},{"$f":"IF(ISBLANK('Data Input'!A321),\"\",SUM(C317,D317))","v":""},{"$f":"IF(ISBLANK('Data Input'!A321),\"\",SUM('Data Input'!C321:V321))","v":""},{"$f":"IF(ISBLANK('Data Input'!A321),\"\",SUM('Data Input'!X321:AQ321))","v":""},{"$f":"IF(ISBLANK('Data Input'!A321),\"\",SUM('Data Input'!C321:AQ321))","v":""},{"$f":"IF(H317=\"\",\"\",H317/(COUNTA('Data Input'!$C$8:$AQ$8)-1))","v":""},{"$f":"IF(ISBLANK('Data Input'!A321),\"\",SUM('Data Input'!I321,'Data Input'!M321,'Data Input'!AB321,'Data Input'!AE321))","v":""},{"$f":"IF(J317=\"\",\"\",J317/COUNTIF('Data Input'!$C$8:$AQ$8,$J$2))","v":""},{"$f":"IF(ISBLANK('Data Input'!A321),\"\",SUM('Data Input'!E321,'Data Input'!G321,'Data Input'!H321,'Data Input'!L321,'Data Input'!N321,'Data Input'!Q321,'Data Input'!R321,'Data Input'!T321,'Data Input'!U321,'Data Input'!V321,'Data Input'!X321,'Data Input'!Y321,'Data Input'!Z321,'Data Input'!AA321,'Data Input'!AC321,'Data Input'!AD321,'Data Input'!AF321,'Data Input'!AG321,'Data Input'!AH321,'Data Input'!AI321,'Data Input'!AJ321,'Data Input'!AK321,'Data Input'!AL321))","v":""},{"$f":"IF(L317=\"\",\"\",L317/COUNTIF('Data Input'!$C$8:$AQ$8,$L$2))","v":""},{"$f":"IF(ISBLANK('Data Input'!A321),\"\",SUM('Data Input'!K321,'Data Input'!AQ321))","v":""},{"$f":"IF(N317=\"\",\"\",N317/COUNTIF('Data Input'!$C$8:$AQ$8,$N$2))","v":""},{"$f":"IF(ISBLANK('Data Input'!A321),\"\",SUM('Data Input'!C321,'Data Input'!D321,'Data Input'!F321,'Data Input'!J321,'Data Input'!O321,'Data Input'!S321,'Data Input'!AM321,'Data Input'!AN321,'Data Input'!AO321,'Data Input'!AP321))","v":""},{"$f":"IF(P317=\"\",\"\",P317/COUNTIF('Data Input'!$C$8:$AQ$8,$P$2))","v":""},{"$f":"IF(ISBLANK('Data Input'!C321),\"\",SUM('Data Input'!P321))","v":""},{"$f":"IF(R317=\"\",\"\",R317/COUNTIF('Data Input'!$C$8:$AQ$8,$R$2))","v":""}]
[{"$f":"IF('Data Input'!A322=0,\"\",'Data Input'!A322)","v":""},{"$f":"IF(H318=\"\",\"\",IF(H318>Welcome!$K$23-1,\"Exceeding\",IF(H318>Welcome!$G$23-1,\"Expected\",IF(H318<Welcome!$G$23,\"Below\"))))","v":""},{"$f":"IF(ISBLANK('Data Input'!A322),\"\",COUNTIF('Data Input'!C322:AQ322,\"\")-1)","v":""},{"$f":"IF(ISBLANK('Data Input'!A322),\"\",COUNTIF('Data Input'!C322:AQ322,\"0\"))","v":""},{"$f":"IF(ISBLANK('Data Input'!A322),\"\",SUM(C318,D318))","v":""},{"$f":"IF(ISBLANK('Data Input'!A322),\"\",SUM('Data Input'!C322:V322))","v":""},{"$f":"IF(ISBLANK('Data Input'!A322),\"\",SUM('Data Input'!X322:AQ322))","v":""},{"$f":"IF(ISBLANK('Data Input'!A322),\"\",SUM('Data Input'!C322:AQ322))","v":""},{"$f":"IF(H318=\"\",\"\",H318/(COUNTA('Data Input'!$C$8:$AQ$8)-1))","v":""},{"$f":"IF(ISBLANK('Data Input'!A322),\"\",SUM('Data Input'!I322,'Data Input'!M322,'Data Input'!AB322,'Data Input'!AE322))","v":""},{"$f":"IF(J318=\"\",\"\",J318/COUNTIF('Data Input'!$C$8:$AQ$8,$J$2))","v":""},{"$f":"IF(ISBLANK('Data Input'!A322),\"\",SUM('Data Input'!E322,'Data Input'!G322,'Data Input'!H322,'Data Input'!L322,'Data Input'!N322,'Data Input'!Q322,'Data Input'!R322,'Data Input'!T322,'Data Input'!U322,'Data Input'!V322,'Data Input'!X322,'Data Input'!Y322,'Data Input'!Z322,'Data Input'!AA322,'Data Input'!AC322,'Data Input'!AD322,'Data Input'!AF322,'Data Input'!AG322,'Data Input'!AH322,'Data Input'!AI322,'Data Input'!AJ322,'Data Input'!AK322,'Data Input'!AL322))","v":""},{"$f":"IF(L318=\"\",\"\",L318/COUNTIF('Data Input'!$C$8:$AQ$8,$L$2))","v":""},{"$f":"IF(ISBLANK('Data Input'!A322),\"\",SUM('Data Input'!K322,'Data Input'!AQ322))","v":""},{"$f":"IF(N318=\"\",\"\",N318/COUNTIF('Data Input'!$C$8:$AQ$8,$N$2))","v":""},{"$f":"IF(ISBLANK('Data Input'!A322),\"\",SUM('Data Input'!C322,'Data Input'!D322,'Data Input'!F322,'Data Input'!J322,'Data Input'!O322,'Data Input'!S322,'Data Input'!AM322,'Data Input'!AN322,'Data Input'!AO322,'Data Input'!AP322))","v":""},{"$f":"IF(P318=\"\",\"\",P318/COUNTIF('Data Input'!$C$8:$AQ$8,$P$2))","v":""},{"$f":"IF(ISBLANK('Data Input'!C322),\"\",SUM('Data Input'!P322))","v":""},{"$f":"IF(R318=\"\",\"\",R318/COUNTIF('Data Input'!$C$8:$AQ$8,$R$2))","v":""}]
[{"$f":"IF('Data Input'!A323=0,\"\",'Data Input'!A323)","v":""},{"$f":"IF(H319=\"\",\"\",IF(H319>Welcome!$K$23-1,\"Exceeding\",IF(H319>Welcome!$G$23-1,\"Expected\",IF(H319<Welcome!$G$23,\"Below\"))))","v":""},{"$f":"IF(ISBLANK('Data Input'!A323),\"\",COUNTIF('Data Input'!C323:AQ323,\"\")-1)","v":""},{"$f":"IF(ISBLANK('Data Input'!A323),\"\",COUNTIF('Data Input'!C323:AQ323,\"0\"))","v":""},{"$f":"IF(ISBLANK('Data Input'!A323),\"\",SUM(C319,D319))","v":""},{"$f":"IF(ISBLANK('Data Input'!A323),\"\",SUM('Data Input'!C323:V323))","v":""},{"$f":"IF(ISBLANK('Data Input'!A323),\"\",SUM('Data Input'!X323:AQ323))","v":""},{"$f":"IF(ISBLANK('Data Input'!A323),\"\",SUM('Data Input'!C323:AQ323))","v":""},{"$f":"IF(H319=\"\",\"\",H319/(COUNTA('Data Input'!$C$8:$AQ$8)-1))","v":""},{"$f":"IF(ISBLANK('Data Input'!A323),\"\",SUM('Data Input'!I323,'Data Input'!M323,'Data Input'!AB323,'Data Input'!AE323))","v":""},{"$f":"IF(J319=\"\",\"\",J319/COUNTIF('Data Input'!$C$8:$AQ$8,$J$2))","v":""},{"$f":"IF(ISBLANK('Data Input'!A323),\"\",SUM('Data Input'!E323,'Data Input'!G323,'Data Input'!H323,'Data Input'!L323,'Data Input'!N323,'Data Input'!Q323,'Data Input'!R323,'Data Input'!T323,'Data Input'!U323,'Data Input'!V323,'Data Input'!X323,'Data Input'!Y323,'Data Input'!Z323,'Data Input'!AA323,'Data Input'!AC323,'Data Input'!AD323,'Data Input'!AF323,'Data Input'!AG323,'Data Input'!AH323,'Data Input'!AI323,'Data Input'!AJ323,'Data Input'!AK323,'Data Input'!AL323))","v":""},{"$f":"IF(L319=\"\",\"\",L319/COUNTIF('Data Input'!$C$8:$AQ$8,$L$2))","v":""},{"$f":"IF(ISBLANK('Data Input'!A323),\"\",SUM('Data Input'!K323,'Data Input'!AQ323))","v":""},{"$f":"IF(N319=\"\",\"\",N319/COUNTIF('Data Input'!$C$8:$AQ$8,$N$2))","v":""},{"$f":"IF(ISBLANK('Data Input'!A323),\"\",SUM('Data Input'!C323,'Data Input'!D323,'Data Input'!F323,'Data Input'!J323,'Data Input'!O323,'Data Input'!S323,'Data Input'!AM323,'Data Input'!AN323,'Data Input'!AO323,'Data Input'!AP323))","v":""},{"$f":"IF(P319=\"\",\"\",P319/COUNTIF('Data Input'!$C$8:$AQ$8,$P$2))","v":""},{"$f":"IF(ISBLANK('Data Input'!C323),\"\",SUM('Data Input'!P323))","v":""},{"$f":"IF(R319=\"\",\"\",R319/COUNTIF('Data Input'!$C$8:$AQ$8,$R$2))","v":""}]
[{"$f":"IF('Data Input'!A324=0,\"\",'Data Input'!A324)","v":""},{"$f":"IF(H320=\"\",\"\",IF(H320>Welcome!$K$23-1,\"Exceeding\",IF(H320>Welcome!$G$23-1,\"Expected\",IF(H320<Welcome!$G$23,\"Below\"))))","v":""},{"$f":"IF(ISBLANK('Data Input'!A324),\"\",COUNTIF('Data Input'!C324:AQ324,\"\")-1)","v":""},{"$f":"IF(ISBLANK('Data Input'!A324),\"\",COUNTIF('Data Input'!C324:AQ324,\"0\"))","v":""},{"$f":"IF(ISBLANK('Data Input'!A324),\"\",SUM(C320,D320))","v":""},{"$f":"IF(ISBLANK('Data Input'!A324),\"\",SUM('Data Input'!C324:V324))","v":""},{"$f":"IF(ISBLANK('Data Input'!A324),\"\",SUM('Data Input'!X324:AQ324))","v":""},{"$f":"IF(ISBLANK('Data Input'!A324),\"\",SUM('Data Input'!C324:AQ324))","v":""},{"$f":"IF(H320=\"\",\"\",H320/(COUNTA('Data Input'!$C$8:$AQ$8)-1))","v":""},{"$f":"IF(ISBLANK('Data Input'!A324),\"\",SUM('Data Input'!I324,'Data Input'!M324,'Data Input'!AB324,'Data Input'!AE324))","v":""},{"$f":"IF(J320=\"\",\"\",J320/COUNTIF('Data Input'!$C$8:$AQ$8,$J$2))","v":""},{"$f":"IF(ISBLANK('Data Input'!A324),\"\",SUM('Data Input'!E324,'Data Input'!G324,'Data Input'!H324,'Data Input'!L324,'Data Input'!N324,'Data Input'!Q324,'Data Input'!R324,'Data Input'!T324,'Data Input'!U324,'Data Input'!V324,'Data Input'!X324,'Data Input'!Y324,'Data Input'!Z324,'Data Input'!AA324,'Data Input'!AC324,'Data Input'!AD324,'Data Input'!AF324,'Data Input'!AG324,'Data Input'!AH324,'Data Input'!AI324,'Data Input'!AJ324,'Data Input'!AK324,'Data Input'!AL324))","v":""},{"$f":"IF(L320=\"\",\"\",L320/COUNTIF('Data Input'!$C$8:$AQ$8,$L$2))","v":""},{"$f":"IF(ISBLANK('Data Input'!A324),\"\",SUM('Data Input'!K324,'Data Input'!AQ324))","v":""},{"$f":"IF(N320=\"\",\"\",N320/COUNTIF('Data Input'!$C$8:$AQ$8,$N$2))","v":""},{"$f":"IF(ISBLANK('Data Input'!A324),\"\",SUM('Data Input'!C324,'Data Input'!D324,'Data Input'!F324,'Data Input'!J324,'Data Input'!O324,'Data Input'!S324,'Data Input'!AM324,'Data Input'!AN324,'Data Input'!AO324,'Data Input'!AP324))","v":""},{"$f":"IF(P320=\"\",\"\",P320/COUNTIF('Data Input'!$C$8:$AQ$8,$P$2))","v":""},{"$f":"IF(ISBLANK('Data Input'!C324),\"\",SUM('Data Input'!P324))","v":""},{"$f":"IF(R320=\"\",\"\",R320/COUNTIF('Data Input'!$C$8:$AQ$8,$R$2))","v":""}]
[{"$f":"IF('Data Input'!A325=0,\"\",'Data Input'!A325)","v":""},{"$f":"IF(H321=\"\",\"\",IF(H321>Welcome!$K$23-1,\"Exceeding\",IF(H321>Welcome!$G$23-1,\"Expected\",IF(H321<Welcome!$G$23,\"Below\"))))","v":""},{"$f":"IF(ISBLANK('Data Input'!A325),\"\",COUNTIF('Data Input'!C325:AQ325,\"\")-1)","v":""},{"$f":"IF(ISBLANK('Data Input'!A325),\"\",COUNTIF('Data Input'!C325:AQ325,\"0\"))","v":""},{"$f":"IF(ISBLANK('Data Input'!A325),\"\",SUM(C321,D321))","v":""},{"$f":"IF(ISBLANK('Data Input'!A325),\"\",SUM('Data Input'!C325:V325))","v":""},{"$f":"IF(ISBLANK('Data Input'!A325),\"\",SUM('Data Input'!X325:AQ325))","v":""},{"$f":"IF(ISBLANK('Data Input'!A325),\"\",SUM('Data Input'!C325:AQ325))","v":""},{"$f":"IF(H321=\"\",\"\",H321/(COUNTA('Data Input'!$C$8:$AQ$8)-1))","v":""},{"$f":"IF(ISBLANK('Data Input'!A325),\"\",SUM('Data Input'!I325,'Data Input'!M325,'Data Input'!AB325,'Data Input'!AE325))","v":""},{"$f":"IF(J321=\"\",\"\",J321/COUNTIF('Data Input'!$C$8:$AQ$8,$J$2))","v":""},{"$f":"IF(ISBLANK('Data Input'!A325),\"\",SUM('Data Input'!E325,'Data Input'!G325,'Data Input'!H325,'Data Input'!L325,'Data Input'!N325,'Data Input'!Q325,'Data Input'!R325,'Data Input'!T325,'Data Input'!U325,'Data Input'!V325,'Data Input'!X325,'Data Input'!Y325,'Data Input'!Z325,'Data Input'!AA325,'Data Input'!AC325,'Data Input'!AD325,'Data Input'!AF325,'Data Input'!AG325,'Data Input'!AH325,'Data Input'!AI325,'Data Input'!AJ325,'Data Input'!AK325,'Data Input'!AL325))","v":""},{"$f":"IF(L321=\"\",\"\",L321/COUNTIF('Data Input'!$C$8:$AQ$8,$L$2))","v":""},{"$f":"IF(ISBLANK('Data Input'!A325),\"\",SUM('Data Input'!K325,'Data Input'!AQ325))","v":""},{"$f":"IF(N321=\"\",\"\",N321/COUNTIF('Data Input'!$C$8:$AQ$8,$N$2))","v":""},{"$f":"IF(ISBLANK('Data Input'!A325),\"\",SUM('Data Input'!C325,'Data Input'!D325,'Data Input'!F325,'Data Input'!J325,'Data Input'!O325,'Data Input'!S325,'Data Input'!AM325,'Data Input'!AN325,'Data Input'!AO325,'Data Input'!AP325))","v":""},{"$f":"IF(P321=\"\",\"\",P321/COUNTIF('Data Input'!$C$8:$AQ$8,$P$2))","v":""},{"$f":"IF(ISBLANK('Data Input'!C325),\"\",SUM('Data Input'!P325))","v":""},{"$f":"IF(R321=\"\",\"\",R321/COUNTIF('Data Input'!$C$8:$AQ$8,$R$2))","v":""}]
[{"$f":"IF('Data Input'!A326=0,\"\",'Data Input'!A326)","v":""},{"$f":"IF(H322=\"\",\"\",IF(H322>Welcome!$K$23-1,\"Exceeding\",IF(H322>Welcome!$G$23-1,\"Expected\",IF(H322<Welcome!$G$23,\"Below\"))))","v":""},{"$f":"IF(ISBLANK('Data Input'!A326),\"\",COUNTIF('Data Input'!C326:AQ326,\"\")-1)","v":""},{"$f":"IF(ISBLANK('Data Input'!A326),\"\",COUNTIF('Data Input'!C326:AQ326,\"0\"))","v":""},{"$f":"IF(ISBLANK('Data Input'!A326),\"\",SUM(C322,D322))","v":""},{"$f":"IF(ISBLANK('Data Input'!A326),\"\",SUM('Data Input'!C326:V326))","v":""},{"$f":"IF(ISBLANK('Data Input'!A326),\"\",SUM('Data Input'!X326:AQ326))","v":""},{"$f":"IF(ISBLANK('Data Input'!A326),\"\",SUM('Data Input'!C326:AQ326))","v":""},{"$f":"IF(H322=\"\",\"\",H322/(COUNTA('Data Input'!$C$8:$AQ$8)-1))","v":""},{"$f":"IF(ISBLANK('Data Input'!A326),\"\",SUM('Data Input'!I326,'Data Input'!M326,'Data Input'!AB326,'Data Input'!AE326))","v":""},{"$f":"IF(J322=\"\",\"\",J322/COUNTIF('Data Input'!$C$8:$AQ$8,$J$2))","v":""},{"$f":"IF(ISBLANK('Data Input'!A326),\"\",SUM('Data Input'!E326,'Data Input'!G326,'Data Input'!H326,'Data Input'!L326,'Data Input'!N326,'Data Input'!Q326,'Data Input'!R326,'Data Input'!T326,'Data Input'!U326,'Data Input'!V326,'Data Input'!X326,'Data Input'!Y326,'Data Input'!Z326,'Data Input'!AA326,'Data Input'!AC326,'Data Input'!AD326,'Data Input'!AF326,'Data Input'!AG326,'Data Input'!AH326,'Data Input'!AI326,'Data Input'!AJ326,'Data Input'!AK326,'Data Input'!AL326))","v":""},{"$f":"IF(L322=\"\",\"\",L322/COUNTIF('Data Input'!$C$8:$AQ$8,$L$2))","v":""},{"$f":"IF(ISBLANK('Data Input'!A326),\"\",SUM('Data Input'!K326,'Data Input'!AQ326))","v":""},{"$f":"IF(N322=\"\",\"\",N322/COUNTIF('Data Input'!$C$8:$AQ$8,$N$2))","v":""},{"$f":"IF(ISBLANK('Data Input'!A326),\"\",SUM('Data Input'!C326,'Data Input'!D326,'Data Input'!F326,'Data Input'!J326,'Data Input'!O326,'Data Input'!S326,'Data Input'!AM326,'Data Input'!AN326,'Data Input'!AO326,'Data Input'!AP326))","v":""},{"$f":"IF(P322=\"\",\"\",P322/COUNTIF('Data Input'!$C$8:$AQ$8,$P$2))","v":""},{"$f":"IF(ISBLANK('Data Input'!C326),\"\",SUM('Data Input'!P326))","v":""},{"$f":"IF(R322=\"\",\"\",R322/COUNTIF('Data Input'!$C$8:$AQ$8,$R$2))","v":""}]
[{"$f":"IF('Data Input'!A327=0,\"\",'Data Input'!A327)","v":""},{"$f":"IF(H323=\"\",\"\",IF(H323>Welcome!$K$23-1,\"Exceeding\",IF(H323>Welcome!$G$23-1,\"Expected\",IF(H323<Welcome!$G$23,\"Below\"))))","v":""},{"$f":"IF(ISBLANK('Data Input'!A327),\"\",COUNTIF('Data Input'!C327:AQ327,\"\")-1)","v":""},{"$f":"IF(ISBLANK('Data Input'!A327),\"\",COUNTIF('Data Input'!C327:AQ327,\"0\"))","v":""},{"$f":"IF(ISBLANK('Data Input'!A327),\"\",SUM(C323,D323))","v":""},{"$f":"IF(ISBLANK('Data Input'!A327),\"\",SUM('Data Input'!C327:V327))","v":""},{"$f":"IF(ISBLANK('Data Input'!A327),\"\",SUM('Data Input'!X327:AQ327))","v":""},{"$f":"IF(ISBLANK('Data Input'!A327),\"\",SUM('Data Input'!C327:AQ327))","v":""},{"$f":"IF(H323=\"\",\"\",H323/(COUNTA('Data Input'!$C$8:$AQ$8)-1))","v":""},{"$f":"IF(ISBLANK('Data Input'!A327),\"\",SUM('Data Input'!I327,'Data Input'!M327,'Data Input'!AB327,'Data Input'!AE327))","v":""},{"$f":"IF(J323=\"\",\"\",J323/COUNTIF('Data Input'!$C$8:$AQ$8,$J$2))","v":""},{"$f":"IF(ISBLANK('Data Input'!A327),\"\",SUM('Data Input'!E327,'Data Input'!G327,'Data Input'!H327,'Data Input'!L327,'Data Input'!N327,'Data Input'!Q327,'Data Input'!R327,'Data Input'!T327,'Data Input'!U327,'Data Input'!V327,'Data Input'!X327,'Data Input'!Y327,'Data Input'!Z327,'Data Input'!AA327,'Data Input'!AC327,'Data Input'!AD327,'Data Input'!AF327,'Data Input'!AG327,'Data Input'!AH327,'Data Input'!AI327,'Data Input'!AJ327,'Data Input'!AK327,'Data Input'!AL327))","v":""},{"$f":"IF(L323=\"\",\"\",L323/COUNTIF('Data Input'!$C$8:$AQ$8,$L$2))","v":""},{"$f":"IF(ISBLANK('Data Input'!A327),\"\",SUM('Data Input'!K327,'Data Input'!AQ327))","v":""},{"$f":"IF(N323=\"\",\"\",N323/COUNTIF('Data Input'!$C$8:$AQ$8,$N$2))","v":""},{"$f":"IF(ISBLANK('Data Input'!A327),\"\",SUM('Data Input'!C327,'Data Input'!D327,'Data Input'!F327,'Data Input'!J327,'Data Input'!O327,'Data Input'!S327,'Data Input'!AM327,'Data Input'!AN327,'Data Input'!AO327,'Data Input'!AP327))","v":""},{"$f":"IF(P323=\"\",\"\",P323/COUNTIF('Data Input'!$C$8:$AQ$8,$P$2))","v":""},{"$f":"IF(ISBLANK('Data Input'!C327),\"\",SUM('Data Input'!P327))","v":""},{"$f":"IF(R323=\"\",\"\",R323/COUNTIF('Data Input'!$C$8:$AQ$8,$R$2))","v":""}]
[{"$f":"IF('Data Input'!A328=0,\"\",'Data Input'!A328)","v":""},{"$f":"IF(H324=\"\",\"\",IF(H324>Welcome!$K$23-1,\"Exceeding\",IF(H324>Welcome!$G$23-1,\"Expected\",IF(H324<Welcome!$G$23,\"Below\"))))","v":""},{"$f":"IF(ISBLANK('Data Input'!A328),\"\",COUNTIF('Data Input'!C328:AQ328,\"\")-1)","v":""},{"$f":"IF(ISBLANK('Data Input'!A328),\"\",COUNTIF('Data Input'!C328:AQ328,\"0\"))","v":""},{"$f":"IF(ISBLANK('Data Input'!A328),\"\",SUM(C324,D324))","v":""},{"$f":"IF(ISBLANK('Data Input'!A328),\"\",SUM('Data Input'!C328:V328))","v":""},{"$f":"IF(ISBLANK('Data Input'!A328),\"\",SUM('Data Input'!X328:AQ328))","v":""},{"$f":"IF(ISBLANK('Data Input'!A328),\"\",SUM('Data Input'!C328:AQ328))","v":""},{"$f":"IF(H324=\"\",\"\",H324/(COUNTA('Data Input'!$C$8:$AQ$8)-1))","v":""},{"$f":"IF(ISBLANK('Data Input'!A328),\"\",SUM('Data Input'!I328,'Data Input'!M328,'Data Input'!AB328,'Data Input'!AE328))","v":""},{"$f":"IF(J324=\"\",\"\",J324/COUNTIF('Data Input'!$C$8:$AQ$8,$J$2))","v":""},{"$f":"IF(ISBLANK('Data Input'!A328),\"\",SUM('Data Input'!E328,'Data Input'!G328,'Data Input'!H328,'Data Input'!L328,'Data Input'!N328,'Data Input'!Q328,'Data Input'!R328,'Data Input'!T328,'Data Input'!U328,'Data Input'!V328,'Data Input'!X328,'Data Input'!Y328,'Data Input'!Z328,'Data Input'!AA328,'Data Input'!AC328,'Data Input'!AD328,'Data Input'!AF328,'Data Input'!AG328,'Data Input'!AH328,'Data Input'!AI328,'Data Input'!AJ328,'Data Input'!AK328,'Data Input'!AL328))","v":""},{"$f":"IF(L324=\"\",\"\",L324/COUNTIF('Data Input'!$C$8:$AQ$8,$L$2))","v":""},{"$f":"IF(ISBLANK('Data Input'!A328),\"\",SUM('Data Input'!K328,'Data Input'!AQ328))","v":""},{"$f":"IF(N324=\"\",\"\",N324/COUNTIF('Data Input'!$C$8:$AQ$8,$N$2))","v":""},{"$f":"IF(ISBLANK('Data Input'!A328),\"\",SUM('Data Input'!C328,'Data Input'!D328,'Data Input'!F328,'Data Input'!J328,'Data Input'!O328,'Data Input'!S328,'Data Input'!AM328,'Data Input'!AN328,'Data Input'!AO328,'Data Input'!AP328))","v":""},{"$f":"IF(P324=\"\",\"\",P324/COUNTIF('Data Input'!$C$8:$AQ$8,$P$2))","v":""},{"$f":"IF(ISBLANK('Data Input'!C328),\"\",SUM('Data Input'!P328))","v":""},{"$f":"IF(R324=\"\",\"\",R324/COUNTIF('Data Input'!$C$8:$AQ$8,$R$2))","v":""}]
[{"$f":"IF('Data Input'!A329=0,\"\",'Data Input'!A329)","v":""},{"$f":"IF(H325=\"\",\"\",IF(H325>Welcome!$K$23-1,\"Exceeding\",IF(H325>Welcome!$G$23-1,\"Expected\",IF(H325<Welcome!$G$23,\"Below\"))))","v":""},{"$f":"IF(ISBLANK('Data Input'!A329),\"\",COUNTIF('Data Input'!C329:AQ329,\"\")-1)","v":""},{"$f":"IF(ISBLANK('Data Input'!A329),\"\",COUNTIF('Data Input'!C329:AQ329,\"0\"))","v":""},{"$f":"IF(ISBLANK('Data Input'!A329),\"\",SUM(C325,D325))","v":""},{"$f":"IF(ISBLANK('Data Input'!A329),\"\",SUM('Data Input'!C329:V329))","v":""},{"$f":"IF(ISBLANK('Data Input'!A329),\"\",SUM('Data Input'!X329:AQ329))","v":""},{"$f":"IF(ISBLANK('Data Input'!A329),\"\",SUM('Data Input'!C329:AQ329))","v":""},{"$f":"IF(H325=\"\",\"\",H325/(COUNTA('Data Input'!$C$8:$AQ$8)-1))","v":""},{"$f":"IF(ISBLANK('Data Input'!A329),\"\",SUM('Data Input'!I329,'Data Input'!M329,'Data Input'!AB329,'Data Input'!AE329))","v":""},{"$f":"IF(J325=\"\",\"\",J325/COUNTIF('Data Input'!$C$8:$AQ$8,$J$2))","v":""},{"$f":"IF(ISBLANK('Data Input'!A329),\"\",SUM('Data Input'!E329,'Data Input'!G329,'Data Input'!H329,'Data Input'!L329,'Data Input'!N329,'Data Input'!Q329,'Data Input'!R329,'Data Input'!T329,'Data Input'!U329,'Data Input'!V329,'Data Input'!X329,'Data Input'!Y329,'Data Input'!Z329,'Data Input'!AA329,'Data Input'!AC329,'Data Input'!AD329,'Data Input'!AF329,'Data Input'!AG329,'Data Input'!AH329,'Data Input'!AI329,'Data Input'!AJ329,'Data Input'!AK329,'Data Input'!AL329))","v":""},{"$f":"IF(L325=\"\",\"\",L325/COUNTIF('Data Input'!$C$8:$AQ$8,$L$2))","v":""},{"$f":"IF(ISBLANK('Data Input'!A329),\"\",SUM('Data Input'!K329,'Data Input'!AQ329))","v":""},{"$f":"IF(N325=\"\",\"\",N325/COUNTIF('Data Input'!$C$8:$AQ$8,$N$2))","v":""},{"$f":"IF(ISBLANK('Data Input'!A329),\"\",SUM('Data Input'!C329,'Data Input'!D329,'Data Input'!F329,'Data Input'!J329,'Data Input'!O329,'Data Input'!S329,'Data Input'!AM329,'Data Input'!AN329,'Data Input'!AO329,'Data Input'!AP329))","v":""},{"$f":"IF(P325=\"\",\"\",P325/COUNTIF('Data Input'!$C$8:$AQ$8,$P$2))","v":""},{"$f":"IF(ISBLANK('Data Input'!C329),\"\",SUM('Data Input'!P329))","v":""},{"$f":"IF(R325=\"\",\"\",R325/COUNTIF('Data Input'!$C$8:$AQ$8,$R$2))","v":""}]
[{"$f":"IF('Data Input'!A330=0,\"\",'Data Input'!A330)","v":""},{"$f":"IF(H326=\"\",\"\",IF(H326>Welcome!$K$23-1,\"Exceeding\",IF(H326>Welcome!$G$23-1,\"Expected\",IF(H326<Welcome!$G$23,\"Below\"))))","v":""},{"$f":"IF(ISBLANK('Data Input'!A330),\"\",COUNTIF('Data Input'!C330:AQ330,\"\")-1)","v":""},{"$f":"IF(ISBLANK('Data Input'!A330),\"\",COUNTIF('Data Input'!C330:AQ330,\"0\"))","v":""},{"$f":"IF(ISBLANK('Data Input'!A330),\"\",SUM(C326,D326))","v":""},{"$f":"IF(ISBLANK('Data Input'!A330),\"\",SUM('Data Input'!C330:V330))","v":""},{"$f":"IF(ISBLANK('Data Input'!A330),\"\",SUM('Data Input'!X330:AQ330))","v":""},{"$f":"IF(ISBLANK('Data Input'!A330),\"\",SUM('Data Input'!C330:AQ330))","v":""},{"$f":"IF(H326=\"\",\"\",H326/(COUNTA('Data Input'!$C$8:$AQ$8)-1))","v":""},{"$f":"IF(ISBLANK('Data Input'!A330),\"\",SUM('Data Input'!I330,'Data Input'!M330,'Data Input'!AB330,'Data Input'!AE330))","v":""},{"$f":"IF(J326=\"\",\"\",J326/COUNTIF('Data Input'!$C$8:$AQ$8,$J$2))","v":""},{"$f":"IF(ISBLANK('Data Input'!A330),\"\",SUM('Data Input'!E330,'Data Input'!G330,'Data Input'!H330,'Data Input'!L330,'Data Input'!N330,'Data Input'!Q330,'Data Input'!R330,'Data Input'!T330,'Data Input'!U330,'Data Input'!V330,'Data Input'!X330,'Data Input'!Y330,'Data Input'!Z330,'Data Input'!AA330,'Data Input'!AC330,'Data Input'!AD330,'Data Input'!AF330,'Data Input'!AG330,'Data Input'!AH330,'Data Input'!AI330,'Data Input'!AJ330,'Data Input'!AK330,'Data Input'!AL330))","v":""},{"$f":"IF(L326=\"\",\"\",L326/COUNTIF('Data Input'!$C$8:$AQ$8,$L$2))","v":""},{"$f":"IF(ISBLANK('Data Input'!A330),\"\",SUM('Data Input'!K330,'Data Input'!AQ330))","v":""},{"$f":"IF(N326=\"\",\"\",N326/COUNTIF('Data Input'!$C$8:$AQ$8,$N$2))","v":""},{"$f":"IF(ISBLANK('Data Input'!A330),\"\",SUM('Data Input'!C330,'Data Input'!D330,'Data Input'!F330,'Data Input'!J330,'Data Input'!O330,'Data Input'!S330,'Data Input'!AM330,'Data Input'!AN330,'Data Input'!AO330,'Data Input'!AP330))","v":""},{"$f":"IF(P326=\"\",\"\",P326/COUNTIF('Data Input'!$C$8:$AQ$8,$P$2))","v":""},{"$f":"IF(ISBLANK('Data Input'!C330),\"\",SUM('Data Input'!P330))","v":""},{"$f":"IF(R326=\"\",\"\",R326/COUNTIF('Data Input'!$C$8:$AQ$8,$R$2))","v":""}]
[{"$f":"IF('Data Input'!A331=0,\"\",'Data Input'!A331)","v":""},{"$f":"IF(H327=\"\",\"\",IF(H327>Welcome!$K$23-1,\"Exceeding\",IF(H327>Welcome!$G$23-1,\"Expected\",IF(H327<Welcome!$G$23,\"Below\"))))","v":""},{"$f":"IF(ISBLANK('Data Input'!A331),\"\",COUNTIF('Data Input'!C331:AQ331,\"\")-1)","v":""},{"$f":"IF(ISBLANK('Data Input'!A331),\"\",COUNTIF('Data Input'!C331:AQ331,\"0\"))","v":""},{"$f":"IF(ISBLANK('Data Input'!A331),\"\",SUM(C327,D327))","v":""},{"$f":"IF(ISBLANK('Data Input'!A331),\"\",SUM('Data Input'!C331:V331))","v":""},{"$f":"IF(ISBLANK('Data Input'!A331),\"\",SUM('Data Input'!X331:AQ331))","v":""},{"$f":"IF(ISBLANK('Data Input'!A331),\"\",SUM('Data Input'!C331:AQ331))","v":""},{"$f":"IF(H327=\"\",\"\",H327/(COUNTA('Data Input'!$C$8:$AQ$8)-1))","v":""},{"$f":"IF(ISBLANK('Data Input'!A331),\"\",SUM('Data Input'!I331,'Data Input'!M331,'Data Input'!AB331,'Data Input'!AE331))","v":""},{"$f":"IF(J327=\"\",\"\",J327/COUNTIF('Data Input'!$C$8:$AQ$8,$J$2))","v":""},{"$f":"IF(ISBLANK('Data Input'!A331),\"\",SUM('Data Input'!E331,'Data Input'!G331,'Data Input'!H331,'Data Input'!L331,'Data Input'!N331,'Data Input'!Q331,'Data Input'!R331,'Data Input'!T331,'Data Input'!U331,'Data Input'!V331,'Data Input'!X331,'Data Input'!Y331,'Data Input'!Z331,'Data Input'!AA331,'Data Input'!AC331,'Data Input'!AD331,'Data Input'!AF331,'Data Input'!AG331,'Data Input'!AH331,'Data Input'!AI331,'Data Input'!AJ331,'Data Input'!AK331,'Data Input'!AL331))","v":""},{"$f":"IF(L327=\"\",\"\",L327/COUNTIF('Data Input'!$C$8:$AQ$8,$L$2))","v":""},{"$f":"IF(ISBLANK('Data Input'!A331),\"\",SUM('Data Input'!K331,'Data Input'!AQ331))","v":""},{"$f":"IF(N327=\"\",\"\",N327/COUNTIF('Data Input'!$C$8:$AQ$8,$N$2))","v":""},{"$f":"IF(ISBLANK('Data Input'!A331),\"\",SUM('Data Input'!C331,'Data Input'!D331,'Data Input'!F331,'Data Input'!J331,'Data Input'!O331,'Data Input'!S331,'Data Input'!AM331,'Data Input'!AN331,'Data Input'!AO331,'Data Input'!AP331))","v":""},{"$f":"IF(P327=\"\",\"\",P327/COUNTIF('Data Input'!$C$8:$AQ$8,$P$2))","v":""},{"$f":"IF(ISBLANK('Data Input'!C331),\"\",SUM('Data Input'!P331))","v":""},{"$f":"IF(R327=\"\",\"\",R327/COUNTIF('Data Input'!$C$8:$AQ$8,$R$2))","v":""}]
[{"$f":"IF('Data Input'!A332=0,\"\",'Data Input'!A332)","v":""},{"$f":"IF(H328=\"\",\"\",IF(H328>Welcome!$K$23-1,\"Exceeding\",IF(H328>Welcome!$G$23-1,\"Expected\",IF(H328<Welcome!$G$23,\"Below\"))))","v":""},{"$f":"IF(ISBLANK('Data Input'!A332),\"\",COUNTIF('Data Input'!C332:AQ332,\"\")-1)","v":""},{"$f":"IF(ISBLANK('Data Input'!A332),\"\",COUNTIF('Data Input'!C332:AQ332,\"0\"))","v":""},{"$f":"IF(ISBLANK('Data Input'!A332),\"\",SUM(C328,D328))","v":""},{"$f":"IF(ISBLANK('Data Input'!A332),\"\",SUM('Data Input'!C332:V332))","v":""},{"$f":"IF(ISBLANK('Data Input'!A332),\"\",SUM('Data Input'!X332:AQ332))","v":""},{"$f":"IF(ISBLANK('Data Input'!A332),\"\",SUM('Data Input'!C332:AQ332))","v":""},{"$f":"IF(H328=\"\",\"\",H328/(COUNTA('Data Input'!$C$8:$AQ$8)-1))","v":""},{"$f":"IF(ISBLANK('Data Input'!A332),\"\",SUM('Data Input'!I332,'Data Input'!M332,'Data Input'!AB332,'Data Input'!AE332))","v":""},{"$f":"IF(J328=\"\",\"\",J328/COUNTIF('Data Input'!$C$8:$AQ$8,$J$2))","v":""},{"$f":"IF(ISBLANK('Data Input'!A332),\"\",SUM('Data Input'!E332,'Data Input'!G332,'Data Input'!H332,'Data Input'!L332,'Data Input'!N332,'Data Input'!Q332,'Data Input'!R332,'Data Input'!T332,'Data Input'!U332,'Data Input'!V332,'Data Input'!X332,'Data Input'!Y332,'Data Input'!Z332,'Data Input'!AA332,'Data Input'!AC332,'Data Input'!AD332,'Data Input'!AF332,'Data Input'!AG332,'Data Input'!AH332,'Data Input'!AI332,'Data Input'!AJ332,'Data Input'!AK332,'Data Input'!AL332))","v":""},{"$f":"IF(L328=\"\",\"\",L328/COUNTIF('Data Input'!$C$8:$AQ$8,$L$2))","v":""},{"$f":"IF(ISBLANK('Data Input'!A332),\"\",SUM('Data Input'!K332,'Data Input'!AQ332))","v":""},{"$f":"IF(N328=\"\",\"\",N328/COUNTIF('Data Input'!$C$8:$AQ$8,$N$2))","v":""},{"$f":"IF(ISBLANK('Data Input'!A332),\"\",SUM('Data Input'!C332,'Data Input'!D332,'Data Input'!F332,'Data Input'!J332,'Data Input'!O332,'Data Input'!S332,'Data Input'!AM332,'Data Input'!AN332,'Data Input'!AO332,'Data Input'!AP332))","v":""},{"$f":"IF(P328=\"\",\"\",P328/COUNTIF('Data Input'!$C$8:$AQ$8,$P$2))","v":""},{"$f":"IF(ISBLANK('Data Input'!C332),\"\",SUM('Data Input'!P332))","v":""},{"$f":"IF(R328=\"\",\"\",R328/COUNTIF('Data Input'!$C$8:$AQ$8,$R$2))","v":""}]
[{"$f":"IF('Data Input'!A333=0,\"\",'Data Input'!A333)","v":""},{"$f":"IF(H329=\"\",\"\",IF(H329>Welcome!$K$23-1,\"Exceeding\",IF(H329>Welcome!$G$23-1,\"Expected\",IF(H329<Welcome!$G$23,\"Below\"))))","v":""},{"$f":"IF(ISBLANK('Data Input'!A333),\"\",COUNTIF('Data Input'!C333:AQ333,\"\")-1)","v":""},{"$f":"IF(ISBLANK('Data Input'!A333),\"\",COUNTIF('Data Input'!C333:AQ333,\"0\"))","v":""},{"$f":"IF(ISBLANK('Data Input'!A333),\"\",SUM(C329,D329))","v":""},{"$f":"IF(ISBLANK('Data Input'!A333),\"\",SUM('Data Input'!C333:V333))","v":""},{"$f":"IF(ISBLANK('Data Input'!A333),\"\",SUM('Data Input'!X333:AQ333))","v":""},{"$f":"IF(ISBLANK('Data Input'!A333),\"\",SUM('Data Input'!C333:AQ333))","v":""},{"$f":"IF(H329=\"\",\"\",H329/(COUNTA('Data Input'!$C$8:$AQ$8)-1))","v":""},{"$f":"IF(ISBLANK('Data Input'!A333),\"\",SUM('Data Input'!I333,'Data Input'!M333,'Data Input'!AB333,'Data Input'!AE333))","v":""},{"$f":"IF(J329=\"\",\"\",J329/COUNTIF('Data Input'!$C$8:$AQ$8,$J$2))","v":""},{"$f":"IF(ISBLANK('Data Input'!A333),\"\",SUM('Data Input'!E333,'Data Input'!G333,'Data Input'!H333,'Data Input'!L333,'Data Input'!N333,'Data Input'!Q333,'Data Input'!R333,'Data Input'!T333,'Data Input'!U333,'Data Input'!V333,'Data Input'!X333,'Data Input'!Y333,'Data Input'!Z333,'Data Input'!AA333,'Data Input'!AC333,'Data Input'!AD333,'Data Input'!AF333,'Data Input'!AG333,'Data Input'!AH333,'Data Input'!AI333,'Data Input'!AJ333,'Data Input'!AK333,'Data Input'!AL333))","v":""},{"$f":"IF(L329=\"\",\"\",L329/COUNTIF('Data Input'!$C$8:$AQ$8,$L$2))","v":""},{"$f":"IF(ISBLANK('Data Input'!A333),\"\",SUM('Data Input'!K333,'Data Input'!AQ333))","v":""},{"$f":"IF(N329=\"\",\"\",N329/COUNTIF('Data Input'!$C$8:$AQ$8,$N$2))","v":""},{"$f":"IF(ISBLANK('Data Input'!A333),\"\",SUM('Data Input'!C333,'Data Input'!D333,'Data Input'!F333,'Data Input'!J333,'Data Input'!O333,'Data Input'!S333,'Data Input'!AM333,'Data Input'!AN333,'Data Input'!AO333,'Data Input'!AP333))","v":""},{"$f":"IF(P329=\"\",\"\",P329/COUNTIF('Data Input'!$C$8:$AQ$8,$P$2))","v":""},{"$f":"IF(ISBLANK('Data Input'!C333),\"\",SUM('Data Input'!P333))","v":""},{"$f":"IF(R329=\"\",\"\",R329/COUNTIF('Data Input'!$C$8:$AQ$8,$R$2))","v":""}]
[{"$f":"IF('Data Input'!A334=0,\"\",'Data Input'!A334)","v":""},{"$f":"IF(H330=\"\",\"\",IF(H330>Welcome!$K$23-1,\"Exceeding\",IF(H330>Welcome!$G$23-1,\"Expected\",IF(H330<Welcome!$G$23,\"Below\"))))","v":""},{"$f":"IF(ISBLANK('Data Input'!A334),\"\",COUNTIF('Data Input'!C334:AQ334,\"\")-1)","v":""},{"$f":"IF(ISBLANK('Data Input'!A334),\"\",COUNTIF('Data Input'!C334:AQ334,\"0\"))","v":""},{"$f":"IF(ISBLANK('Data Input'!A334),\"\",SUM(C330,D330))","v":""},{"$f":"IF(ISBLANK('Data Input'!A334),\"\",SUM('Data Input'!C334:V334))","v":""},{"$f":"IF(ISBLANK('Data Input'!A334),\"\",SUM('Data Input'!X334:AQ334))","v":""},{"$f":"IF(ISBLANK('Data Input'!A334),\"\",SUM('Data Input'!C334:AQ334))","v":""},{"$f":"IF(H330=\"\",\"\",H330/(COUNTA('Data Input'!$C$8:$AQ$8)-1))","v":""},{"$f":"IF(ISBLANK('Data Input'!A334),\"\",SUM('Data Input'!I334,'Data Input'!M334,'Data Input'!AB334,'Data Input'!AE334))","v":""},{"$f":"IF(J330=\"\",\"\",J330/COUNTIF('Data Input'!$C$8:$AQ$8,$J$2))","v":""},{"$f":"IF(ISBLANK('Data Input'!A334),\"\",SUM('Data Input'!E334,'Data Input'!G334,'Data Input'!H334,'Data Input'!L334,'Data Input'!N334,'Data Input'!Q334,'Data Input'!R334,'Data Input'!T334,'Data Input'!U334,'Data Input'!V334,'Data Input'!X334,'Data Input'!Y334,'Data Input'!Z334,'Data Input'!AA334,'Data Input'!AC334,'Data Input'!AD334,'Data Input'!AF334,'Data Input'!AG334,'Data Input'!AH334,'Data Input'!AI334,'Data Input'!AJ334,'Data Input'!AK334,'Data Input'!AL334))","v":""},{"$f":"IF(L330=\"\",\"\",L330/COUNTIF('Data Input'!$C$8:$AQ$8,$L$2))","v":""},{"$f":"IF(ISBLANK('Data Input'!A334),\"\",SUM('Data Input'!K334,'Data Input'!AQ334))","v":""},{"$f":"IF(N330=\"\",\"\",N330/COUNTIF('Data Input'!$C$8:$AQ$8,$N$2))","v":""},{"$f":"IF(ISBLANK('Data Input'!A334),\"\",SUM('Data Input'!C334,'Data Input'!D334,'Data Input'!F334,'Data Input'!J334,'Data Input'!O334,'Data Input'!S334,'Data Input'!AM334,'Data Input'!AN334,'Data Input'!AO334,'Data Input'!AP334))","v":""},{"$f":"IF(P330=\"\",\"\",P330/COUNTIF('Data Input'!$C$8:$AQ$8,$P$2))","v":""},{"$f":"IF(ISBLANK('Data Input'!C334),\"\",SUM('Data Input'!P334))","v":""},{"$f":"IF(R330=\"\",\"\",R330/COUNTIF('Data Input'!$C$8:$AQ$8,$R$2))","v":""}]
[{"$f":"IF('Data Input'!A335=0,\"\",'Data Input'!A335)","v":""},{"$f":"IF(H331=\"\",\"\",IF(H331>Welcome!$K$23-1,\"Exceeding\",IF(H331>Welcome!$G$23-1,\"Expected\",IF(H331<Welcome!$G$23,\"Below\"))))","v":""},{"$f":"IF(ISBLANK('Data Input'!A335),\"\",COUNTIF('Data Input'!C335:AQ335,\"\")-1)","v":""},{"$f":"IF(ISBLANK('Data Input'!A335),\"\",COUNTIF('Data Input'!C335:AQ335,\"0\"))","v":""},{"$f":"IF(ISBLANK('Data Input'!A335),\"\",SUM(C331,D331))","v":""},{"$f":"IF(ISBLANK('Data Input'!A335),\"\",SUM('Data Input'!C335:V335))","v":""},{"$f":"IF(ISBLANK('Data Input'!A335),\"\",SUM('Data Input'!X335:AQ335))","v":""},{"$f":"IF(ISBLANK('Data Input'!A335),\"\",SUM('Data Input'!C335:AQ335))","v":""},{"$f":"IF(H331=\"\",\"\",H331/(COUNTA('Data Input'!$C$8:$AQ$8)-1))","v":""},{"$f":"IF(ISBLANK('Data Input'!A335),\"\",SUM('Data Input'!I335,'Data Input'!M335,'Data Input'!AB335,'Data Input'!AE335))","v":""},{"$f":"IF(J331=\"\",\"\",J331/COUNTIF('Data Input'!$C$8:$AQ$8,$J$2))","v":""},{"$f":"IF(ISBLANK('Data Input'!A335),\"\",SUM('Data Input'!E335,'Data Input'!G335,'Data Input'!H335,'Data Input'!L335,'Data Input'!N335,'Data Input'!Q335,'Data Input'!R335,'Data Input'!T335,'Data Input'!U335,'Data Input'!V335,'Data Input'!X335,'Data Input'!Y335,'Data Input'!Z335,'Data Input'!AA335,'Data Input'!AC335,'Data Input'!AD335,'Data Input'!AF335,'Data Input'!AG335,'Data Input'!AH335,'Data Input'!AI335,'Data Input'!AJ335,'Data Input'!AK335,'Data Input'!AL335))","v":""},{"$f":"IF(L331=\"\",\"\",L331/COUNTIF('Data Input'!$C$8:$AQ$8,$L$2))","v":""},{"$f":"IF(ISBLANK('Data Input'!A335),\"\",SUM('Data Input'!K335,'Data Input'!AQ335))","v":""},{"$f":"IF(N331=\"\",\"\",N331/COUNTIF('Data Input'!$C$8:$AQ$8,$N$2))","v":""},{"$f":"IF(ISBLANK('Data Input'!A335),\"\",SUM('Data Input'!C335,'Data Input'!D335,'Data Input'!F335,'Data Input'!J335,'Data Input'!O335,'Data Input'!S335,'Data Input'!AM335,'Data Input'!AN335,'Data Input'!AO335,'Data Input'!AP335))","v":""},{"$f":"IF(P331=\"\",\"\",P331/COUNTIF('Data Input'!$C$8:$AQ$8,$P$2))","v":""},{"$f":"IF(ISBLANK('Data Input'!C335),\"\",SUM('Data Input'!P335))","v":""},{"$f":"IF(R331=\"\",\"\",R331/COUNTIF('Data Input'!$C$8:$AQ$8,$R$2))","v":""}]
[{"$f":"IF('Data Input'!A336=0,\"\",'Data Input'!A336)","v":""},{"$f":"IF(H332=\"\",\"\",IF(H332>Welcome!$K$23-1,\"Exceeding\",IF(H332>Welcome!$G$23-1,\"Expected\",IF(H332<Welcome!$G$23,\"Below\"))))","v":""},{"$f":"IF(ISBLANK('Data Input'!A336),\"\",COUNTIF('Data Input'!C336:AQ336,\"\")-1)","v":""},{"$f":"IF(ISBLANK('Data Input'!A336),\"\",COUNTIF('Data Input'!C336:AQ336,\"0\"))","v":""},{"$f":"IF(ISBLANK('Data Input'!A336),\"\",SUM(C332,D332))","v":""},{"$f":"IF(ISBLANK('Data Input'!A336),\"\",SUM('Data Input'!C336:V336))","v":""},{"$f":"IF(ISBLANK('Data Input'!A336),\"\",SUM('Data Input'!X336:AQ336))","v":""},{"$f":"IF(ISBLANK('Data Input'!A336),\"\",SUM('Data Input'!C336:AQ336))","v":""},{"$f":"IF(H332=\"\",\"\",H332/(COUNTA('Data Input'!$C$8:$AQ$8)-1))","v":""},{"$f":"IF(ISBLANK('Data Input'!A336),\"\",SUM('Data Input'!I336,'Data Input'!M336,'Data Input'!AB336,'Data Input'!AE336))","v":""},{"$f":"IF(J332=\"\",\"\",J332/COUNTIF('Data Input'!$C$8:$AQ$8,$J$2))","v":""},{"$f":"IF(ISBLANK('Data Input'!A336),\"\",SUM('Data Input'!E336,'Data Input'!G336,'Data Input'!H336,'Data Input'!L336,'Data Input'!N336,'Data Input'!Q336,'Data Input'!R336,'Data Input'!T336,'Data Input'!U336,'Data Input'!V336,'Data Input'!X336,'Data Input'!Y336,'Data Input'!Z336,'Data Input'!AA336,'Data Input'!AC336,'Data Input'!AD336,'Data Input'!AF336,'Data Input'!AG336,'Data Input'!AH336,'Data Input'!AI336,'Data Input'!AJ336,'Data Input'!AK336,'Data Input'!AL336))","v":""},{"$f":"IF(L332=\"\",\"\",L332/COUNTIF('Data Input'!$C$8:$AQ$8,$L$2))","v":""},{"$f":"IF(ISBLANK('Data Input'!A336),\"\",SUM('Data Input'!K336,'Data Input'!AQ336))","v":""},{"$f":"IF(N332=\"\",\"\",N332/COUNTIF('Data Input'!$C$8:$AQ$8,$N$2))","v":""},{"$f":"IF(ISBLANK('Data Input'!A336),\"\",SUM('Data Input'!C336,'Data Input'!D336,'Data Input'!F336,'Data Input'!J336,'Data Input'!O336,'Data Input'!S336,'Data Input'!AM336,'Data Input'!AN336,'Data Input'!AO336,'Data Input'!AP336))","v":""},{"$f":"IF(P332=\"\",\"\",P332/COUNTIF('Data Input'!$C$8:$AQ$8,$P$2))","v":""},{"$f":"IF(ISBLANK('Data Input'!C336),\"\",SUM('Data Input'!P336))","v":""},{"$f":"IF(R332=\"\",\"\",R332/COUNTIF('Data Input'!$C$8:$AQ$8,$R$2))","v":""}]
[{"$f":"IF('Data Input'!A337=0,\"\",'Data Input'!A337)","v":""},{"$f":"IF(H333=\"\",\"\",IF(H333>Welcome!$K$23-1,\"Exceeding\",IF(H333>Welcome!$G$23-1,\"Expected\",IF(H333<Welcome!$G$23,\"Below\"))))","v":""},{"$f":"IF(ISBLANK('Data Input'!A337),\"\",COUNTIF('Data Input'!C337:AQ337,\"\")-1)","v":""},{"$f":"IF(ISBLANK('Data Input'!A337),\"\",COUNTIF('Data Input'!C337:AQ337,\"0\"))","v":""},{"$f":"IF(ISBLANK('Data Input'!A337),\"\",SUM(C333,D333))","v":""},{"$f":"IF(ISBLANK('Data Input'!A337),\"\",SUM('Data Input'!C337:V337))","v":""},{"$f":"IF(ISBLANK('Data Input'!A337),\"\",SUM('Data Input'!X337:AQ337))","v":""},{"$f":"IF(ISBLANK('Data Input'!A337),\"\",SUM('Data Input'!C337:AQ337))","v":""},{"$f":"IF(H333=\"\",\"\",H333/(COUNTA('Data Input'!$C$8:$AQ$8)-1))","v":""},{"$f":"IF(ISBLANK('Data Input'!A337),\"\",SUM('Data Input'!I337,'Data Input'!M337,'Data Input'!AB337,'Data Input'!AE337))","v":""},{"$f":"IF(J333=\"\",\"\",J333/COUNTIF('Data Input'!$C$8:$AQ$8,$J$2))","v":""},{"$f":"IF(ISBLANK('Data Input'!A337),\"\",SUM('Data Input'!E337,'Data Input'!G337,'Data Input'!H337,'Data Input'!L337,'Data Input'!N337,'Data Input'!Q337,'Data Input'!R337,'Data Input'!T337,'Data Input'!U337,'Data Input'!V337,'Data Input'!X337,'Data Input'!Y337,'Data Input'!Z337,'Data Input'!AA337,'Data Input'!AC337,'Data Input'!AD337,'Data Input'!AF337,'Data Input'!AG337,'Data Input'!AH337,'Data Input'!AI337,'Data Input'!AJ337,'Data Input'!AK337,'Data Input'!AL337))","v":""},{"$f":"IF(L333=\"\",\"\",L333/COUNTIF('Data Input'!$C$8:$AQ$8,$L$2))","v":""},{"$f":"IF(ISBLANK('Data Input'!A337),\"\",SUM('Data Input'!K337,'Data Input'!AQ337))","v":""},{"$f":"IF(N333=\"\",\"\",N333/COUNTIF('Data Input'!$C$8:$AQ$8,$N$2))","v":""},{"$f":"IF(ISBLANK('Data Input'!A337),\"\",SUM('Data Input'!C337,'Data Input'!D337,'Data Input'!F337,'Data Input'!J337,'Data Input'!O337,'Data Input'!S337,'Data Input'!AM337,'Data Input'!AN337,'Data Input'!AO337,'Data Input'!AP337))","v":""},{"$f":"IF(P333=\"\",\"\",P333/COUNTIF('Data Input'!$C$8:$AQ$8,$P$2))","v":""},{"$f":"IF(ISBLANK('Data Input'!C337),\"\",SUM('Data Input'!P337))","v":""},{"$f":"IF(R333=\"\",\"\",R333/COUNTIF('Data Input'!$C$8:$AQ$8,$R$2))","v":""}]
[{"$f":"IF('Data Input'!A338=0,\"\",'Data Input'!A338)","v":""},{"$f":"IF(H334=\"\",\"\",IF(H334>Welcome!$K$23-1,\"Exceeding\",IF(H334>Welcome!$G$23-1,\"Expected\",IF(H334<Welcome!$G$23,\"Below\"))))","v":""},{"$f":"IF(ISBLANK('Data Input'!A338),\"\",COUNTIF('Data Input'!C338:AQ338,\"\")-1)","v":""},{"$f":"IF(ISBLANK('Data Input'!A338),\"\",COUNTIF('Data Input'!C338:AQ338,\"0\"))","v":""},{"$f":"IF(ISBLANK('Data Input'!A338),\"\",SUM(C334,D334))","v":""},{"$f":"IF(ISBLANK('Data Input'!A338),\"\",SUM('Data Input'!C338:V338))","v":""},{"$f":"IF(ISBLANK('Data Input'!A338),\"\",SUM('Data Input'!X338:AQ338))","v":""},{"$f":"IF(ISBLANK('Data Input'!A338),\"\",SUM('Data Input'!C338:AQ338))","v":""},{"$f":"IF(H334=\"\",\"\",H334/(COUNTA('Data Input'!$C$8:$AQ$8)-1))","v":""},{"$f":"IF(ISBLANK('Data Input'!A338),\"\",SUM('Data Input'!I338,'Data Input'!M338,'Data Input'!AB338,'Data Input'!AE338))","v":""},{"$f":"IF(J334=\"\",\"\",J334/COUNTIF('Data Input'!$C$8:$AQ$8,$J$2))","v":""},{"$f":"IF(ISBLANK('Data Input'!A338),\"\",SUM('Data Input'!E338,'Data Input'!G338,'Data Input'!H338,'Data Input'!L338,'Data Input'!N338,'Data Input'!Q338,'Data Input'!R338,'Data Input'!T338,'Data Input'!U338,'Data Input'!V338,'Data Input'!X338,'Data Input'!Y338,'Data Input'!Z338,'Data Input'!AA338,'Data Input'!AC338,'Data Input'!AD338,'Data Input'!AF338,'Data Input'!AG338,'Data Input'!AH338,'Data Input'!AI338,'Data Input'!AJ338,'Data Input'!AK338,'Data Input'!AL338))","v":""},{"$f":"IF(L334=\"\",\"\",L334/COUNTIF('Data Input'!$C$8:$AQ$8,$L$2))","v":""},{"$f":"IF(ISBLANK('Data Input'!A338),\"\",SUM('Data Input'!K338,'Data Input'!AQ338))","v":""},{"$f":"IF(N334=\"\",\"\",N334/COUNTIF('Data Input'!$C$8:$AQ$8,$N$2))","v":""},{"$f":"IF(ISBLANK('Data Input'!A338),\"\",SUM('Data Input'!C338,'Data Input'!D338,'Data Input'!F338,'Data Input'!J338,'Data Input'!O338,'Data Input'!S338,'Data Input'!AM338,'Data Input'!AN338,'Data Input'!AO338,'Data Input'!AP338))","v":""},{"$f":"IF(P334=\"\",\"\",P334/COUNTIF('Data Input'!$C$8:$AQ$8,$P$2))","v":""},{"$f":"IF(ISBLANK('Data Input'!C338),\"\",SUM('Data Input'!P338))","v":""},{"$f":"IF(R334=\"\",\"\",R334/COUNTIF('Data Input'!$C$8:$AQ$8,$R$2))","v":""}]
[{"$f":"IF('Data Input'!A339=0,\"\",'Data Input'!A339)","v":""},{"$f":"IF(H335=\"\",\"\",IF(H335>Welcome!$K$23-1,\"Exceeding\",IF(H335>Welcome!$G$23-1,\"Expected\",IF(H335<Welcome!$G$23,\"Below\"))))","v":""},{"$f":"IF(ISBLANK('Data Input'!A339),\"\",COUNTIF('Data Input'!C339:AQ339,\"\")-1)","v":""},{"$f":"IF(ISBLANK('Data Input'!A339),\"\",COUNTIF('Data Input'!C339:AQ339,\"0\"))","v":""},{"$f":"IF(ISBLANK('Data Input'!A339),\"\",SUM(C335,D335))","v":""},{"$f":"IF(ISBLANK('Data Input'!A339),\"\",SUM('Data Input'!C339:V339))","v":""},{"$f":"IF(ISBLANK('Data Input'!A339),\"\",SUM('Data Input'!X339:AQ339))","v":""},{"$f":"IF(ISBLANK('Data Input'!A339),\"\",SUM('Data Input'!C339:AQ339))","v":""},{"$f":"IF(H335=\"\",\"\",H335/(COUNTA('Data Input'!$C$8:$AQ$8)-1))","v":""},{"$f":"IF(ISBLANK('Data Input'!A339),\"\",SUM('Data Input'!I339,'Data Input'!M339,'Data Input'!AB339,'Data Input'!AE339))","v":""},{"$f":"IF(J335=\"\",\"\",J335/COUNTIF('Data Input'!$C$8:$AQ$8,$J$2))","v":""},{"$f":"IF(ISBLANK('Data Input'!A339),\"\",SUM('Data Input'!E339,'Data Input'!G339,'Data Input'!H339,'Data Input'!L339,'Data Input'!N339,'Data Input'!Q339,'Data Input'!R339,'Data Input'!T339,'Data Input'!U339,'Data Input'!V339,'Data Input'!X339,'Data Input'!Y339,'Data Input'!Z339,'Data Input'!AA339,'Data Input'!AC339,'Data Input'!AD339,'Data Input'!AF339,'Data Input'!AG339,'Data Input'!AH339,'Data Input'!AI339,'Data Input'!AJ339,'Data Input'!AK339,'Data Input'!AL339))","v":""},{"$f":"IF(L335=\"\",\"\",L335/COUNTIF('Data Input'!$C$8:$AQ$8,$L$2))","v":""},{"$f":"IF(ISBLANK('Data Input'!A339),\"\",SUM('Data Input'!K339,'Data Input'!AQ339))","v":""},{"$f":"IF(N335=\"\",\"\",N335/COUNTIF('Data Input'!$C$8:$AQ$8,$N$2))","v":""},{"$f":"IF(ISBLANK('Data Input'!A339),\"\",SUM('Data Input'!C339,'Data Input'!D339,'Data Input'!F339,'Data Input'!J339,'Data Input'!O339,'Data Input'!S339,'Data Input'!AM339,'Data Input'!AN339,'Data Input'!AO339,'Data Input'!AP339))","v":""},{"$f":"IF(P335=\"\",\"\",P335/COUNTIF('Data Input'!$C$8:$AQ$8,$P$2))","v":""},{"$f":"IF(ISBLANK('Data Input'!C339),\"\",SUM('Data Input'!P339))","v":""},{"$f":"IF(R335=\"\",\"\",R335/COUNTIF('Data Input'!$C$8:$AQ$8,$R$2))","v":""}]
[{"$f":"IF('Data Input'!A340=0,\"\",'Data Input'!A340)","v":""},{"$f":"IF(H336=\"\",\"\",IF(H336>Welcome!$K$23-1,\"Exceeding\",IF(H336>Welcome!$G$23-1,\"Expected\",IF(H336<Welcome!$G$23,\"Below\"))))","v":""},{"$f":"IF(ISBLANK('Data Input'!A340),\"\",COUNTIF('Data Input'!C340:AQ340,\"\")-1)","v":""},{"$f":"IF(ISBLANK('Data Input'!A340),\"\",COUNTIF('Data Input'!C340:AQ340,\"0\"))","v":""},{"$f":"IF(ISBLANK('Data Input'!A340),\"\",SUM(C336,D336))","v":""},{"$f":"IF(ISBLANK('Data Input'!A340),\"\",SUM('Data Input'!C340:V340))","v":""},{"$f":"IF(ISBLANK('Data Input'!A340),\"\",SUM('Data Input'!X340:AQ340))","v":""},{"$f":"IF(ISBLANK('Data Input'!A340),\"\",SUM('Data Input'!C340:AQ340))","v":""},{"$f":"IF(H336=\"\",\"\",H336/(COUNTA('Data Input'!$C$8:$AQ$8)-1))","v":""},{"$f":"IF(ISBLANK('Data Input'!A340),\"\",SUM('Data Input'!I340,'Data Input'!M340,'Data Input'!AB340,'Data Input'!AE340))","v":""},{"$f":"IF(J336=\"\",\"\",J336/COUNTIF('Data Input'!$C$8:$AQ$8,$J$2))","v":""},{"$f":"IF(ISBLANK('Data Input'!A340),\"\",SUM('Data Input'!E340,'Data Input'!G340,'Data Input'!H340,'Data Input'!L340,'Data Input'!N340,'Data Input'!Q340,'Data Input'!R340,'Data Input'!T340,'Data Input'!U340,'Data Input'!V340,'Data Input'!X340,'Data Input'!Y340,'Data Input'!Z340,'Data Input'!AA340,'Data Input'!AC340,'Data Input'!AD340,'Data Input'!AF340,'Data Input'!AG340,'Data Input'!AH340,'Data Input'!AI340,'Data Input'!AJ340,'Data Input'!AK340,'Data Input'!AL340))","v":""},{"$f":"IF(L336=\"\",\"\",L336/COUNTIF('Data Input'!$C$8:$AQ$8,$L$2))","v":""},{"$f":"IF(ISBLANK('Data Input'!A340),\"\",SUM('Data Input'!K340,'Data Input'!AQ340))","v":""},{"$f":"IF(N336=\"\",\"\",N336/COUNTIF('Data Input'!$C$8:$AQ$8,$N$2))","v":""},{"$f":"IF(ISBLANK('Data Input'!A340),\"\",SUM('Data Input'!C340,'Data Input'!D340,'Data Input'!F340,'Data Input'!J340,'Data Input'!O340,'Data Input'!S340,'Data Input'!AM340,'Data Input'!AN340,'Data Input'!AO340,'Data Input'!AP340))","v":""},{"$f":"IF(P336=\"\",\"\",P336/COUNTIF('Data Input'!$C$8:$AQ$8,$P$2))","v":""},{"$f":"IF(ISBLANK('Data Input'!C340),\"\",SUM('Data Input'!P340))","v":""},{"$f":"IF(R336=\"\",\"\",R336/COUNTIF('Data Input'!$C$8:$AQ$8,$R$2))","v":""}]
[{"$f":"IF('Data Input'!A341=0,\"\",'Data Input'!A341)","v":""},{"$f":"IF(H337=\"\",\"\",IF(H337>Welcome!$K$23-1,\"Exceeding\",IF(H337>Welcome!$G$23-1,\"Expected\",IF(H337<Welcome!$G$23,\"Below\"))))","v":""},{"$f":"IF(ISBLANK('Data Input'!A341),\"\",COUNTIF('Data Input'!C341:AQ341,\"\")-1)","v":""},{"$f":"IF(ISBLANK('Data Input'!A341),\"\",COUNTIF('Data Input'!C341:AQ341,\"0\"))","v":""},{"$f":"IF(ISBLANK('Data Input'!A341),\"\",SUM(C337,D337))","v":""},{"$f":"IF(ISBLANK('Data Input'!A341),\"\",SUM('Data Input'!C341:V341))","v":""},{"$f":"IF(ISBLANK('Data Input'!A341),\"\",SUM('Data Input'!X341:AQ341))","v":""},{"$f":"IF(ISBLANK('Data Input'!A341),\"\",SUM('Data Input'!C341:AQ341))","v":""},{"$f":"IF(H337=\"\",\"\",H337/(COUNTA('Data Input'!$C$8:$AQ$8)-1))","v":""},{"$f":"IF(ISBLANK('Data Input'!A341),\"\",SUM('Data Input'!I341,'Data Input'!M341,'Data Input'!AB341,'Data Input'!AE341))","v":""},{"$f":"IF(J337=\"\",\"\",J337/COUNTIF('Data Input'!$C$8:$AQ$8,$J$2))","v":""},{"$f":"IF(ISBLANK('Data Input'!A341),\"\",SUM('Data Input'!E341,'Data Input'!G341,'Data Input'!H341,'Data Input'!L341,'Data Input'!N341,'Data Input'!Q341,'Data Input'!R341,'Data Input'!T341,'Data Input'!U341,'Data Input'!V341,'Data Input'!X341,'Data Input'!Y341,'Data Input'!Z341,'Data Input'!AA341,'Data Input'!AC341,'Data Input'!AD341,'Data Input'!AF341,'Data Input'!AG341,'Data Input'!AH341,'Data Input'!AI341,'Data Input'!AJ341,'Data Input'!AK341,'Data Input'!AL341))","v":""},{"$f":"IF(L337=\"\",\"\",L337/COUNTIF('Data Input'!$C$8:$AQ$8,$L$2))","v":""},{"$f":"IF(ISBLANK('Data Input'!A341),\"\",SUM('Data Input'!K341,'Data Input'!AQ341))","v":""},{"$f":"IF(N337=\"\",\"\",N337/COUNTIF('Data Input'!$C$8:$AQ$8,$N$2))","v":""},{"$f":"IF(ISBLANK('Data Input'!A341),\"\",SUM('Data Input'!C341,'Data Input'!D341,'Data Input'!F341,'Data Input'!J341,'Data Input'!O341,'Data Input'!S341,'Data Input'!AM341,'Data Input'!AN341,'Data Input'!AO341,'Data Input'!AP341))","v":""},{"$f":"IF(P337=\"\",\"\",P337/COUNTIF('Data Input'!$C$8:$AQ$8,$P$2))","v":""},{"$f":"IF(ISBLANK('Data Input'!C341),\"\",SUM('Data Input'!P341))","v":""},{"$f":"IF(R337=\"\",\"\",R337/COUNTIF('Data Input'!$C$8:$AQ$8,$R$2))","v":""}]
[{"$f":"IF('Data Input'!A342=0,\"\",'Data Input'!A342)","v":""},{"$f":"IF(H338=\"\",\"\",IF(H338>Welcome!$K$23-1,\"Exceeding\",IF(H338>Welcome!$G$23-1,\"Expected\",IF(H338<Welcome!$G$23,\"Below\"))))","v":""},{"$f":"IF(ISBLANK('Data Input'!A342),\"\",COUNTIF('Data Input'!C342:AQ342,\"\")-1)","v":""},{"$f":"IF(ISBLANK('Data Input'!A342),\"\",COUNTIF('Data Input'!C342:AQ342,\"0\"))","v":""},{"$f":"IF(ISBLANK('Data Input'!A342),\"\",SUM(C338,D338))","v":""},{"$f":"IF(ISBLANK('Data Input'!A342),\"\",SUM('Data Input'!C342:V342))","v":""},{"$f":"IF(ISBLANK('Data Input'!A342),\"\",SUM('Data Input'!X342:AQ342))","v":""},{"$f":"IF(ISBLANK('Data Input'!A342),\"\",SUM('Data Input'!C342:AQ342))","v":""},{"$f":"IF(H338=\"\",\"\",H338/(COUNTA('Data Input'!$C$8:$AQ$8)-1))","v":""},{"$f":"IF(ISBLANK('Data Input'!A342),\"\",SUM('Data Input'!I342,'Data Input'!M342,'Data Input'!AB342,'Data Input'!AE342))","v":""},{"$f":"IF(J338=\"\",\"\",J338/COUNTIF('Data Input'!$C$8:$AQ$8,$J$2))","v":""},{"$f":"IF(ISBLANK('Data Input'!A342),\"\",SUM('Data Input'!E342,'Data Input'!G342,'Data Input'!H342,'Data Input'!L342,'Data Input'!N342,'Data Input'!Q342,'Data Input'!R342,'Data Input'!T342,'Data Input'!U342,'Data Input'!V342,'Data Input'!X342,'Data Input'!Y342,'Data Input'!Z342,'Data Input'!AA342,'Data Input'!AC342,'Data Input'!AD342,'Data Input'!AF342,'Data Input'!AG342,'Data Input'!AH342,'Data Input'!AI342,'Data Input'!AJ342,'Data Input'!AK342,'Data Input'!AL342))","v":""},{"$f":"IF(L338=\"\",\"\",L338/COUNTIF('Data Input'!$C$8:$AQ$8,$L$2))","v":""},{"$f":"IF(ISBLANK('Data Input'!A342),\"\",SUM('Data Input'!K342,'Data Input'!AQ342))","v":""},{"$f":"IF(N338=\"\",\"\",N338/COUNTIF('Data Input'!$C$8:$AQ$8,$N$2))","v":""},{"$f":"IF(ISBLANK('Data Input'!A342),\"\",SUM('Data Input'!C342,'Data Input'!D342,'Data Input'!F342,'Data Input'!J342,'Data Input'!O342,'Data Input'!S342,'Data Input'!AM342,'Data Input'!AN342,'Data Input'!AO342,'Data Input'!AP342))","v":""},{"$f":"IF(P338=\"\",\"\",P338/COUNTIF('Data Input'!$C$8:$AQ$8,$P$2))","v":""},{"$f":"IF(ISBLANK('Data Input'!C342),\"\",SUM('Data Input'!P342))","v":""},{"$f":"IF(R338=\"\",\"\",R338/COUNTIF('Data Input'!$C$8:$AQ$8,$R$2))","v":""}]
[{"$f":"IF('Data Input'!A343=0,\"\",'Data Input'!A343)","v":""},{"$f":"IF(H339=\"\",\"\",IF(H339>Welcome!$K$23-1,\"Exceeding\",IF(H339>Welcome!$G$23-1,\"Expected\",IF(H339<Welcome!$G$23,\"Below\"))))","v":""},{"$f":"IF(ISBLANK('Data Input'!A343),\"\",COUNTIF('Data Input'!C343:AQ343,\"\")-1)","v":""},{"$f":"IF(ISBLANK('Data Input'!A343),\"\",COUNTIF('Data Input'!C343:AQ343,\"0\"))","v":""},{"$f":"IF(ISBLANK('Data Input'!A343),\"\",SUM(C339,D339))","v":""},{"$f":"IF(ISBLANK('Data Input'!A343),\"\",SUM('Data Input'!C343:V343))","v":""},{"$f":"IF(ISBLANK('Data Input'!A343),\"\",SUM('Data Input'!X343:AQ343))","v":""},{"$f":"IF(ISBLANK('Data Input'!A343),\"\",SUM('Data Input'!C343:AQ343))","v":""},{"$f":"IF(H339=\"\",\"\",H339/(COUNTA('Data Input'!$C$8:$AQ$8)-1))","v":""},{"$f":"IF(ISBLANK('Data Input'!A343),\"\",SUM('Data Input'!I343,'Data Input'!M343,'Data Input'!AB343,'Data Input'!AE343))","v":""},{"$f":"IF(J339=\"\",\"\",J339/COUNTIF('Data Input'!$C$8:$AQ$8,$J$2))","v":""},{"$f":"IF(ISBLANK('Data Input'!A343),\"\",SUM('Data Input'!E343,'Data Input'!G343,'Data Input'!H343,'Data Input'!L343,'Data Input'!N343,'Data Input'!Q343,'Data Input'!R343,'Data Input'!T343,'Data Input'!U343,'Data Input'!V343,'Data Input'!X343,'Data Input'!Y343,'Data Input'!Z343,'Data Input'!AA343,'Data Input'!AC343,'Data Input'!AD343,'Data Input'!AF343,'Data Input'!AG343,'Data Input'!AH343,'Data Input'!AI343,'Data Input'!AJ343,'Data Input'!AK343,'Data Input'!AL343))","v":""},{"$f":"IF(L339=\"\",\"\",L339/COUNTIF('Data Input'!$C$8:$AQ$8,$L$2))","v":""},{"$f":"IF(ISBLANK('Data Input'!A343),\"\",SUM('Data Input'!K343,'Data Input'!AQ343))","v":""},{"$f":"IF(N339=\"\",\"\",N339/COUNTIF('Data Input'!$C$8:$AQ$8,$N$2))","v":""},{"$f":"IF(ISBLANK('Data Input'!A343),\"\",SUM('Data Input'!C343,'Data Input'!D343,'Data Input'!F343,'Data Input'!J343,'Data Input'!O343,'Data Input'!S343,'Data Input'!AM343,'Data Input'!AN343,'Data Input'!AO343,'Data Input'!AP343))","v":""},{"$f":"IF(P339=\"\",\"\",P339/COUNTIF('Data Input'!$C$8:$AQ$8,$P$2))","v":""},{"$f":"IF(ISBLANK('Data Input'!C343),\"\",SUM('Data Input'!P343))","v":""},{"$f":"IF(R339=\"\",\"\",R339/COUNTIF('Data Input'!$C$8:$AQ$8,$R$2))","v":""}]
[{"$f":"IF('Data Input'!A344=0,\"\",'Data Input'!A344)","v":""},{"$f":"IF(H340=\"\",\"\",IF(H340>Welcome!$K$23-1,\"Exceeding\",IF(H340>Welcome!$G$23-1,\"Expected\",IF(H340<Welcome!$G$23,\"Below\"))))","v":""},{"$f":"IF(ISBLANK('Data Input'!A344),\"\",COUNTIF('Data Input'!C344:AQ344,\"\")-1)","v":""},{"$f":"IF(ISBLANK('Data Input'!A344),\"\",COUNTIF('Data Input'!C344:AQ344,\"0\"))","v":""},{"$f":"IF(ISBLANK('Data Input'!A344),\"\",SUM(C340,D340))","v":""},{"$f":"IF(ISBLANK('Data Input'!A344),\"\",SUM('Data Input'!C344:V344))","v":""},{"$f":"IF(ISBLANK('Data Input'!A344),\"\",SUM('Data Input'!X344:AQ344))","v":""},{"$f":"IF(ISBLANK('Data Input'!A344),\"\",SUM('Data Input'!C344:AQ344))","v":""},{"$f":"IF(H340=\"\",\"\",H340/(COUNTA('Data Input'!$C$8:$AQ$8)-1))","v":""},{"$f":"IF(ISBLANK('Data Input'!A344),\"\",SUM('Data Input'!I344,'Data Input'!M344,'Data Input'!AB344,'Data Input'!AE344))","v":""},{"$f":"IF(J340=\"\",\"\",J340/COUNTIF('Data Input'!$C$8:$AQ$8,$J$2))","v":""},{"$f":"IF(ISBLANK('Data Input'!A344),\"\",SUM('Data Input'!E344,'Data Input'!G344,'Data Input'!H344,'Data Input'!L344,'Data Input'!N344,'Data Input'!Q344,'Data Input'!R344,'Data Input'!T344,'Data Input'!U344,'Data Input'!V344,'Data Input'!X344,'Data Input'!Y344,'Data Input'!Z344,'Data Input'!AA344,'Data Input'!AC344,'Data Input'!AD344,'Data Input'!AF344,'Data Input'!AG344,'Data Input'!AH344,'Data Input'!AI344,'Data Input'!AJ344,'Data Input'!AK344,'Data Input'!AL344))","v":""},{"$f":"IF(L340=\"\",\"\",L340/COUNTIF('Data Input'!$C$8:$AQ$8,$L$2))","v":""},{"$f":"IF(ISBLANK('Data Input'!A344),\"\",SUM('Data Input'!K344,'Data Input'!AQ344))","v":""},{"$f":"IF(N340=\"\",\"\",N340/COUNTIF('Data Input'!$C$8:$AQ$8,$N$2))","v":""},{"$f":"IF(ISBLANK('Data Input'!A344),\"\",SUM('Data Input'!C344,'Data Input'!D344,'Data Input'!F344,'Data Input'!J344,'Data Input'!O344,'Data Input'!S344,'Data Input'!AM344,'Data Input'!AN344,'Data Input'!AO344,'Data Input'!AP344))","v":""},{"$f":"IF(P340=\"\",\"\",P340/COUNTIF('Data Input'!$C$8:$AQ$8,$P$2))","v":""},{"$f":"IF(ISBLANK('Data Input'!C344),\"\",SUM('Data Input'!P344))","v":""},{"$f":"IF(R340=\"\",\"\",R340/COUNTIF('Data Input'!$C$8:$AQ$8,$R$2))","v":""}]
[{"$f":"IF('Data Input'!A345=0,\"\",'Data Input'!A345)","v":""},{"$f":"IF(H341=\"\",\"\",IF(H341>Welcome!$K$23-1,\"Exceeding\",IF(H341>Welcome!$G$23-1,\"Expected\",IF(H341<Welcome!$G$23,\"Below\"))))","v":""},{"$f":"IF(ISBLANK('Data Input'!A345),\"\",COUNTIF('Data Input'!C345:AQ345,\"\")-1)","v":""},{"$f":"IF(ISBLANK('Data Input'!A345),\"\",COUNTIF('Data Input'!C345:AQ345,\"0\"))","v":""},{"$f":"IF(ISBLANK('Data Input'!A345),\"\",SUM(C341,D341))","v":""},{"$f":"IF(ISBLANK('Data Input'!A345),\"\",SUM('Data Input'!C345:V345))","v":""},{"$f":"IF(ISBLANK('Data Input'!A345),\"\",SUM('Data Input'!X345:AQ345))","v":""},{"$f":"IF(ISBLANK('Data Input'!A345),\"\",SUM('Data Input'!C345:AQ345))","v":""},{"$f":"IF(H341=\"\",\"\",H341/(COUNTA('Data Input'!$C$8:$AQ$8)-1))","v":""},{"$f":"IF(ISBLANK('Data Input'!A345),\"\",SUM('Data Input'!I345,'Data Input'!M345,'Data Input'!AB345,'Data Input'!AE345))","v":""},{"$f":"IF(J341=\"\",\"\",J341/COUNTIF('Data Input'!$C$8:$AQ$8,$J$2))","v":""},{"$f":"IF(ISBLANK('Data Input'!A345),\"\",SUM('Data Input'!E345,'Data Input'!G345,'Data Input'!H345,'Data Input'!L345,'Data Input'!N345,'Data Input'!Q345,'Data Input'!R345,'Data Input'!T345,'Data Input'!U345,'Data Input'!V345,'Data Input'!X345,'Data Input'!Y345,'Data Input'!Z345,'Data Input'!AA345,'Data Input'!AC345,'Data Input'!AD345,'Data Input'!AF345,'Data Input'!AG345,'Data Input'!AH345,'Data Input'!AI345,'Data Input'!AJ345,'Data Input'!AK345,'Data Input'!AL345))","v":""},{"$f":"IF(L341=\"\",\"\",L341/COUNTIF('Data Input'!$C$8:$AQ$8,$L$2))","v":""},{"$f":"IF(ISBLANK('Data Input'!A345),\"\",SUM('Data Input'!K345,'Data Input'!AQ345))","v":""},{"$f":"IF(N341=\"\",\"\",N341/COUNTIF('Data Input'!$C$8:$AQ$8,$N$2))","v":""},{"$f":"IF(ISBLANK('Data Input'!A345),\"\",SUM('Data Input'!C345,'Data Input'!D345,'Data Input'!F345,'Data Input'!J345,'Data Input'!O345,'Data Input'!S345,'Data Input'!AM345,'Data Input'!AN345,'Data Input'!AO345,'Data Input'!AP345))","v":""},{"$f":"IF(P341=\"\",\"\",P341/COUNTIF('Data Input'!$C$8:$AQ$8,$P$2))","v":""},{"$f":"IF(ISBLANK('Data Input'!C345),\"\",SUM('Data Input'!P345))","v":""},{"$f":"IF(R341=\"\",\"\",R341/COUNTIF('Data Input'!$C$8:$AQ$8,$R$2))","v":""}]
[{"$f":"IF('Data Input'!A346=0,\"\",'Data Input'!A346)","v":""},{"$f":"IF(H342=\"\",\"\",IF(H342>Welcome!$K$23-1,\"Exceeding\",IF(H342>Welcome!$G$23-1,\"Expected\",IF(H342<Welcome!$G$23,\"Below\"))))","v":""},{"$f":"IF(ISBLANK('Data Input'!A346),\"\",COUNTIF('Data Input'!C346:AQ346,\"\")-1)","v":""},{"$f":"IF(ISBLANK('Data Input'!A346),\"\",COUNTIF('Data Input'!C346:AQ346,\"0\"))","v":""},{"$f":"IF(ISBLANK('Data Input'!A346),\"\",SUM(C342,D342))","v":""},{"$f":"IF(ISBLANK('Data Input'!A346),\"\",SUM('Data Input'!C346:V346))","v":""},{"$f":"IF(ISBLANK('Data Input'!A346),\"\",SUM('Data Input'!X346:AQ346))","v":""},{"$f":"IF(ISBLANK('Data Input'!A346),\"\",SUM('Data Input'!C346:AQ346))","v":""},{"$f":"IF(H342=\"\",\"\",H342/(COUNTA('Data Input'!$C$8:$AQ$8)-1))","v":""},{"$f":"IF(ISBLANK('Data Input'!A346),\"\",SUM('Data Input'!I346,'Data Input'!M346,'Data Input'!AB346,'Data Input'!AE346))","v":""},{"$f":"IF(J342=\"\",\"\",J342/COUNTIF('Data Input'!$C$8:$AQ$8,$J$2))","v":""},{"$f":"IF(ISBLANK('Data Input'!A346),\"\",SUM('Data Input'!E346,'Data Input'!G346,'Data Input'!H346,'Data Input'!L346,'Data Input'!N346,'Data Input'!Q346,'Data Input'!R346,'Data Input'!T346,'Data Input'!U346,'Data Input'!V346,'Data Input'!X346,'Data Input'!Y346,'Data Input'!Z346,'Data Input'!AA346,'Data Input'!AC346,'Data Input'!AD346,'Data Input'!AF346,'Data Input'!AG346,'Data Input'!AH346,'Data Input'!AI346,'Data Input'!AJ346,'Data Input'!AK346,'Data Input'!AL346))","v":""},{"$f":"IF(L342=\"\",\"\",L342/COUNTIF('Data Input'!$C$8:$AQ$8,$L$2))","v":""},{"$f":"IF(ISBLANK('Data Input'!A346),\"\",SUM('Data Input'!K346,'Data Input'!AQ346))","v":""},{"$f":"IF(N342=\"\",\"\",N342/COUNTIF('Data Input'!$C$8:$AQ$8,$N$2))","v":""},{"$f":"IF(ISBLANK('Data Input'!A346),\"\",SUM('Data Input'!C346,'Data Input'!D346,'Data Input'!F346,'Data Input'!J346,'Data Input'!O346,'Data Input'!S346,'Data Input'!AM346,'Data Input'!AN346,'Data Input'!AO346,'Data Input'!AP346))","v":""},{"$f":"IF(P342=\"\",\"\",P342/COUNTIF('Data Input'!$C$8:$AQ$8,$P$2))","v":""},{"$f":"IF(ISBLANK('Data Input'!C346),\"\",SUM('Data Input'!P346))","v":""},{"$f":"IF(R342=\"\",\"\",R342/COUNTIF('Data Input'!$C$8:$AQ$8,$R$2))","v":""}]
[{"$f":"IF('Data Input'!A347=0,\"\",'Data Input'!A347)","v":""},{"$f":"IF(H343=\"\",\"\",IF(H343>Welcome!$K$23-1,\"Exceeding\",IF(H343>Welcome!$G$23-1,\"Expected\",IF(H343<Welcome!$G$23,\"Below\"))))","v":""},{"$f":"IF(ISBLANK('Data Input'!A347),\"\",COUNTIF('Data Input'!C347:AQ347,\"\")-1)","v":""},{"$f":"IF(ISBLANK('Data Input'!A347),\"\",COUNTIF('Data Input'!C347:AQ347,\"0\"))","v":""},{"$f":"IF(ISBLANK('Data Input'!A347),\"\",SUM(C343,D343))","v":""},{"$f":"IF(ISBLANK('Data Input'!A347),\"\",SUM('Data Input'!C347:V347))","v":""},{"$f":"IF(ISBLANK('Data Input'!A347),\"\",SUM('Data Input'!X347:AQ347))","v":""},{"$f":"IF(ISBLANK('Data Input'!A347),\"\",SUM('Data Input'!C347:AQ347))","v":""},{"$f":"IF(H343=\"\",\"\",H343/(COUNTA('Data Input'!$C$8:$AQ$8)-1))","v":""},{"$f":"IF(ISBLANK('Data Input'!A347),\"\",SUM('Data Input'!I347,'Data Input'!M347,'Data Input'!AB347,'Data Input'!AE347))","v":""},{"$f":"IF(J343=\"\",\"\",J343/COUNTIF('Data Input'!$C$8:$AQ$8,$J$2))","v":""},{"$f":"IF(ISBLANK('Data Input'!A347),\"\",SUM('Data Input'!E347,'Data Input'!G347,'Data Input'!H347,'Data Input'!L347,'Data Input'!N347,'Data Input'!Q347,'Data Input'!R347,'Data Input'!T347,'Data Input'!U347,'Data Input'!V347,'Data Input'!X347,'Data Input'!Y347,'Data Input'!Z347,'Data Input'!AA347,'Data Input'!AC347,'Data Input'!AD347,'Data Input'!AF347,'Data Input'!AG347,'Data Input'!AH347,'Data Input'!AI347,'Data Input'!AJ347,'Data Input'!AK347,'Data Input'!AL347))","v":""},{"$f":"IF(L343=\"\",\"\",L343/COUNTIF('Data Input'!$C$8:$AQ$8,$L$2))","v":""},{"$f":"IF(ISBLANK('Data Input'!A347),\"\",SUM('Data Input'!K347,'Data Input'!AQ347))","v":""},{"$f":"IF(N343=\"\",\"\",N343/COUNTIF('Data Input'!$C$8:$AQ$8,$N$2))","v":""},{"$f":"IF(ISBLANK('Data Input'!A347),\"\",SUM('Data Input'!C347,'Data Input'!D347,'Data Input'!F347,'Data Input'!J347,'Data Input'!O347,'Data Input'!S347,'Data Input'!AM347,'Data Input'!AN347,'Data Input'!AO347,'Data Input'!AP347))","v":""},{"$f":"IF(P343=\"\",\"\",P343/COUNTIF('Data Input'!$C$8:$AQ$8,$P$2))","v":""},{"$f":"IF(ISBLANK('Data Input'!C347),\"\",SUM('Data Input'!P347))","v":""},{"$f":"IF(R343=\"\",\"\",R343/COUNTIF('Data Input'!$C$8:$AQ$8,$R$2))","v":""}]
[{"$f":"IF('Data Input'!A348=0,\"\",'Data Input'!A348)","v":""},{"$f":"IF(H344=\"\",\"\",IF(H344>Welcome!$K$23-1,\"Exceeding\",IF(H344>Welcome!$G$23-1,\"Expected\",IF(H344<Welcome!$G$23,\"Below\"))))","v":""},{"$f":"IF(ISBLANK('Data Input'!A348),\"\",COUNTIF('Data Input'!C348:AQ348,\"\")-1)","v":""},{"$f":"IF(ISBLANK('Data Input'!A348),\"\",COUNTIF('Data Input'!C348:AQ348,\"0\"))","v":""},{"$f":"IF(ISBLANK('Data Input'!A348),\"\",SUM(C344,D344))","v":""},{"$f":"IF(ISBLANK('Data Input'!A348),\"\",SUM('Data Input'!C348:V348))","v":""},{"$f":"IF(ISBLANK('Data Input'!A348),\"\",SUM('Data Input'!X348:AQ348))","v":""},{"$f":"IF(ISBLANK('Data Input'!A348),\"\",SUM('Data Input'!C348:AQ348))","v":""},{"$f":"IF(H344=\"\",\"\",H344/(COUNTA('Data Input'!$C$8:$AQ$8)-1))","v":""},{"$f":"IF(ISBLANK('Data Input'!A348),\"\",SUM('Data Input'!I348,'Data Input'!M348,'Data Input'!AB348,'Data Input'!AE348))","v":""},{"$f":"IF(J344=\"\",\"\",J344/COUNTIF('Data Input'!$C$8:$AQ$8,$J$2))","v":""},{"$f":"IF(ISBLANK('Data Input'!A348),\"\",SUM('Data Input'!E348,'Data Input'!G348,'Data Input'!H348,'Data Input'!L348,'Data Input'!N348,'Data Input'!Q348,'Data Input'!R348,'Data Input'!T348,'Data Input'!U348,'Data Input'!V348,'Data Input'!X348,'Data Input'!Y348,'Data Input'!Z348,'Data Input'!AA348,'Data Input'!AC348,'Data Input'!AD348,'Data Input'!AF348,'Data Input'!AG348,'Data Input'!AH348,'Data Input'!AI348,'Data Input'!AJ348,'Data Input'!AK348,'Data Input'!AL348))","v":""},{"$f":"IF(L344=\"\",\"\",L344/COUNTIF('Data Input'!$C$8:$AQ$8,$L$2))","v":""},{"$f":"IF(ISBLANK('Data Input'!A348),\"\",SUM('Data Input'!K348,'Data Input'!AQ348))","v":""},{"$f":"IF(N344=\"\",\"\",N344/COUNTIF('Data Input'!$C$8:$AQ$8,$N$2))","v":""},{"$f":"IF(ISBLANK('Data Input'!A348),\"\",SUM('Data Input'!C348,'Data Input'!D348,'Data Input'!F348,'Data Input'!J348,'Data Input'!O348,'Data Input'!S348,'Data Input'!AM348,'Data Input'!AN348,'Data Input'!AO348,'Data Input'!AP348))","v":""},{"$f":"IF(P344=\"\",\"\",P344/COUNTIF('Data Input'!$C$8:$AQ$8,$P$2))","v":""},{"$f":"IF(ISBLANK('Data Input'!C348),\"\",SUM('Data Input'!P348))","v":""},{"$f":"IF(R344=\"\",\"\",R344/COUNTIF('Data Input'!$C$8:$AQ$8,$R$2))","v":""}]
[{"$f":"IF('Data Input'!A349=0,\"\",'Data Input'!A349)","v":""},{"$f":"IF(H345=\"\",\"\",IF(H345>Welcome!$K$23-1,\"Exceeding\",IF(H345>Welcome!$G$23-1,\"Expected\",IF(H345<Welcome!$G$23,\"Below\"))))","v":""},{"$f":"IF(ISBLANK('Data Input'!A349),\"\",COUNTIF('Data Input'!C349:AQ349,\"\")-1)","v":""},{"$f":"IF(ISBLANK('Data Input'!A349),\"\",COUNTIF('Data Input'!C349:AQ349,\"0\"))","v":""},{"$f":"IF(ISBLANK('Data Input'!A349),\"\",SUM(C345,D345))","v":""},{"$f":"IF(ISBLANK('Data Input'!A349),\"\",SUM('Data Input'!C349:V349))","v":""},{"$f":"IF(ISBLANK('Data Input'!A349),\"\",SUM('Data Input'!X349:AQ349))","v":""},{"$f":"IF(ISBLANK('Data Input'!A349),\"\",SUM('Data Input'!C349:AQ349))","v":""},{"$f":"IF(H345=\"\",\"\",H345/(COUNTA('Data Input'!$C$8:$AQ$8)-1))","v":""},{"$f":"IF(ISBLANK('Data Input'!A349),\"\",SUM('Data Input'!I349,'Data Input'!M349,'Data Input'!AB349,'Data Input'!AE349))","v":""},{"$f":"IF(J345=\"\",\"\",J345/COUNTIF('Data Input'!$C$8:$AQ$8,$J$2))","v":""},{"$f":"IF(ISBLANK('Data Input'!A349),\"\",SUM('Data Input'!E349,'Data Input'!G349,'Data Input'!H349,'Data Input'!L349,'Data Input'!N349,'Data Input'!Q349,'Data Input'!R349,'Data Input'!T349,'Data Input'!U349,'Data Input'!V349,'Data Input'!X349,'Data Input'!Y349,'Data Input'!Z349,'Data Input'!AA349,'Data Input'!AC349,'Data Input'!AD349,'Data Input'!AF349,'Data Input'!AG349,'Data Input'!AH349,'Data Input'!AI349,'Data Input'!AJ349,'Data Input'!AK349,'Data Input'!AL349))","v":""},{"$f":"IF(L345=\"\",\"\",L345/COUNTIF('Data Input'!$C$8:$AQ$8,$L$2))","v":""},{"$f":"IF(ISBLANK('Data Input'!A349),\"\",SUM('Data Input'!K349,'Data Input'!AQ349))","v":""},{"$f":"IF(N345=\"\",\"\",N345/COUNTIF('Data Input'!$C$8:$AQ$8,$N$2))","v":""},{"$f":"IF(ISBLANK('Data Input'!A349),\"\",SUM('Data Input'!C349,'Data Input'!D349,'Data Input'!F349,'Data Input'!J349,'Data Input'!O349,'Data Input'!S349,'Data Input'!AM349,'Data Input'!AN349,'Data Input'!AO349,'Data Input'!AP349))","v":""},{"$f":"IF(P345=\"\",\"\",P345/COUNTIF('Data Input'!$C$8:$AQ$8,$P$2))","v":""},{"$f":"IF(ISBLANK('Data Input'!C349),\"\",SUM('Data Input'!P349))","v":""},{"$f":"IF(R345=\"\",\"\",R345/COUNTIF('Data Input'!$C$8:$AQ$8,$R$2))","v":""}]
[{"$f":"IF('Data Input'!A350=0,\"\",'Data Input'!A350)","v":""},{"$f":"IF(H346=\"\",\"\",IF(H346>Welcome!$K$23-1,\"Exceeding\",IF(H346>Welcome!$G$23-1,\"Expected\",IF(H346<Welcome!$G$23,\"Below\"))))","v":""},{"$f":"IF(ISBLANK('Data Input'!A350),\"\",COUNTIF('Data Input'!C350:AQ350,\"\")-1)","v":""},{"$f":"IF(ISBLANK('Data Input'!A350),\"\",COUNTIF('Data Input'!C350:AQ350,\"0\"))","v":""},{"$f":"IF(ISBLANK('Data Input'!A350),\"\",SUM(C346,D346))","v":""},{"$f":"IF(ISBLANK('Data Input'!A350),\"\",SUM('Data Input'!C350:V350))","v":""},{"$f":"IF(ISBLANK('Data Input'!A350),\"\",SUM('Data Input'!X350:AQ350))","v":""},{"$f":"IF(ISBLANK('Data Input'!A350),\"\",SUM('Data Input'!C350:AQ350))","v":""},{"$f":"IF(H346=\"\",\"\",H346/(COUNTA('Data Input'!$C$8:$AQ$8)-1))","v":""},{"$f":"IF(ISBLANK('Data Input'!A350),\"\",SUM('Data Input'!I350,'Data Input'!M350,'Data Input'!AB350,'Data Input'!AE350))","v":""},{"$f":"IF(J346=\"\",\"\",J346/COUNTIF('Data Input'!$C$8:$AQ$8,$J$2))","v":""},{"$f":"IF(ISBLANK('Data Input'!A350),\"\",SUM('Data Input'!E350,'Data Input'!G350,'Data Input'!H350,'Data Input'!L350,'Data Input'!N350,'Data Input'!Q350,'Data Input'!R350,'Data Input'!T350,'Data Input'!U350,'Data Input'!V350,'Data Input'!X350,'Data Input'!Y350,'Data Input'!Z350,'Data Input'!AA350,'Data Input'!AC350,'Data Input'!AD350,'Data Input'!AF350,'Data Input'!AG350,'Data Input'!AH350,'Data Input'!AI350,'Data Input'!AJ350,'Data Input'!AK350,'Data Input'!AL350))","v":""},{"$f":"IF(L346=\"\",\"\",L346/COUNTIF('Data Input'!$C$8:$AQ$8,$L$2))","v":""},{"$f":"IF(ISBLANK('Data Input'!A350),\"\",SUM('Data Input'!K350,'Data Input'!AQ350))","v":""},{"$f":"IF(N346=\"\",\"\",N346/COUNTIF('Data Input'!$C$8:$AQ$8,$N$2))","v":""},{"$f":"IF(ISBLANK('Data Input'!A350),\"\",SUM('Data Input'!C350,'Data Input'!D350,'Data Input'!F350,'Data Input'!J350,'Data Input'!O350,'Data Input'!S350,'Data Input'!AM350,'Data Input'!AN350,'Data Input'!AO350,'Data Input'!AP350))","v":""},{"$f":"IF(P346=\"\",\"\",P346/COUNTIF('Data Input'!$C$8:$AQ$8,$P$2))","v":""},{"$f":"IF(ISBLANK('Data Input'!C350),\"\",SUM('Data Input'!P350))","v":""},{"$f":"IF(R346=\"\",\"\",R346/COUNTIF('Data Input'!$C$8:$AQ$8,$R$2))","v":""}]
[{"$f":"IF('Data Input'!A351=0,\"\",'Data Input'!A351)","v":""},{"$f":"IF(H347=\"\",\"\",IF(H347>Welcome!$K$23-1,\"Exceeding\",IF(H347>Welcome!$G$23-1,\"Expected\",IF(H347<Welcome!$G$23,\"Below\"))))","v":""},{"$f":"IF(ISBLANK('Data Input'!A351),\"\",COUNTIF('Data Input'!C351:AQ351,\"\")-1)","v":""},{"$f":"IF(ISBLANK('Data Input'!A351),\"\",COUNTIF('Data Input'!C351:AQ351,\"0\"))","v":""},{"$f":"IF(ISBLANK('Data Input'!A351),\"\",SUM(C347,D347))","v":""},{"$f":"IF(ISBLANK('Data Input'!A351),\"\",SUM('Data Input'!C351:V351))","v":""},{"$f":"IF(ISBLANK('Data Input'!A351),\"\",SUM('Data Input'!X351:AQ351))","v":""},{"$f":"IF(ISBLANK('Data Input'!A351),\"\",SUM('Data Input'!C351:AQ351))","v":""},{"$f":"IF(H347=\"\",\"\",H347/(COUNTA('Data Input'!$C$8:$AQ$8)-1))","v":""},{"$f":"IF(ISBLANK('Data Input'!A351),\"\",SUM('Data Input'!I351,'Data Input'!M351,'Data Input'!AB351,'Data Input'!AE351))","v":""},{"$f":"IF(J347=\"\",\"\",J347/COUNTIF('Data Input'!$C$8:$AQ$8,$J$2))","v":""},{"$f":"IF(ISBLANK('Data Input'!A351),\"\",SUM('Data Input'!E351,'Data Input'!G351,'Data Input'!H351,'Data Input'!L351,'Data Input'!N351,'Data Input'!Q351,'Data Input'!R351,'Data Input'!T351,'Data Input'!U351,'Data Input'!V351,'Data Input'!X351,'Data Input'!Y351,'Data Input'!Z351,'Data Input'!AA351,'Data Input'!AC351,'Data Input'!AD351,'Data Input'!AF351,'Data Input'!AG351,'Data Input'!AH351,'Data Input'!AI351,'Data Input'!AJ351,'Data Input'!AK351,'Data Input'!AL351))","v":""},{"$f":"IF(L347=\"\",\"\",L347/COUNTIF('Data Input'!$C$8:$AQ$8,$L$2))","v":""},{"$f":"IF(ISBLANK('Data Input'!A351),\"\",SUM('Data Input'!K351,'Data Input'!AQ351))","v":""},{"$f":"IF(N347=\"\",\"\",N347/COUNTIF('Data Input'!$C$8:$AQ$8,$N$2))","v":""},{"$f":"IF(ISBLANK('Data Input'!A351),\"\",SUM('Data Input'!C351,'Data Input'!D351,'Data Input'!F351,'Data Input'!J351,'Data Input'!O351,'Data Input'!S351,'Data Input'!AM351,'Data Input'!AN351,'Data Input'!AO351,'Data Input'!AP351))","v":""},{"$f":"IF(P347=\"\",\"\",P347/COUNTIF('Data Input'!$C$8:$AQ$8,$P$2))","v":""},{"$f":"IF(ISBLANK('Data Input'!C351),\"\",SUM('Data Input'!P351))","v":""},{"$f":"IF(R347=\"\",\"\",R347/COUNTIF('Data Input'!$C$8:$AQ$8,$R$2))","v":""}]
[{"$f":"IF('Data Input'!A352=0,\"\",'Data Input'!A352)","v":""},{"$f":"IF(H348=\"\",\"\",IF(H348>Welcome!$K$23-1,\"Exceeding\",IF(H348>Welcome!$G$23-1,\"Expected\",IF(H348<Welcome!$G$23,\"Below\"))))","v":""},{"$f":"IF(ISBLANK('Data Input'!A352),\"\",COUNTIF('Data Input'!C352:AQ352,\"\")-1)","v":""},{"$f":"IF(ISBLANK('Data Input'!A352),\"\",COUNTIF('Data Input'!C352:AQ352,\"0\"))","v":""},{"$f":"IF(ISBLANK('Data Input'!A352),\"\",SUM(C348,D348))","v":""},{"$f":"IF(ISBLANK('Data Input'!A352),\"\",SUM('Data Input'!C352:V352))","v":""},{"$f":"IF(ISBLANK('Data Input'!A352),\"\",SUM('Data Input'!X352:AQ352))","v":""},{"$f":"IF(ISBLANK('Data Input'!A352),\"\",SUM('Data Input'!C352:AQ352))","v":""},{"$f":"IF(H348=\"\",\"\",H348/(COUNTA('Data Input'!$C$8:$AQ$8)-1))","v":""},{"$f":"IF(ISBLANK('Data Input'!A352),\"\",SUM('Data Input'!I352,'Data Input'!M352,'Data Input'!AB352,'Data Input'!AE352))","v":""},{"$f":"IF(J348=\"\",\"\",J348/COUNTIF('Data Input'!$C$8:$AQ$8,$J$2))","v":""},{"$f":"IF(ISBLANK('Data Input'!A352),\"\",SUM('Data Input'!E352,'Data Input'!G352,'Data Input'!H352,'Data Input'!L352,'Data Input'!N352,'Data Input'!Q352,'Data Input'!R352,'Data Input'!T352,'Data Input'!U352,'Data Input'!V352,'Data Input'!X352,'Data Input'!Y352,'Data Input'!Z352,'Data Input'!AA352,'Data Input'!AC352,'Data Input'!AD352,'Data Input'!AF352,'Data Input'!AG352,'Data Input'!AH352,'Data Input'!AI352,'Data Input'!AJ352,'Data Input'!AK352,'Data Input'!AL352))","v":""},{"$f":"IF(L348=\"\",\"\",L348/COUNTIF('Data Input'!$C$8:$AQ$8,$L$2))","v":""},{"$f":"IF(ISBLANK('Data Input'!A352),\"\",SUM('Data Input'!K352,'Data Input'!AQ352))","v":""},{"$f":"IF(N348=\"\",\"\",N348/COUNTIF('Data Input'!$C$8:$AQ$8,$N$2))","v":""},{"$f":"IF(ISBLANK('Data Input'!A352),\"\",SUM('Data Input'!C352,'Data Input'!D352,'Data Input'!F352,'Data Input'!J352,'Data Input'!O352,'Data Input'!S352,'Data Input'!AM352,'Data Input'!AN352,'Data Input'!AO352,'Data Input'!AP352))","v":""},{"$f":"IF(P348=\"\",\"\",P348/COUNTIF('Data Input'!$C$8:$AQ$8,$P$2))","v":""},{"$f":"IF(ISBLANK('Data Input'!C352),\"\",SUM('Data Input'!P352))","v":""},{"$f":"IF(R348=\"\",\"\",R348/COUNTIF('Data Input'!$C$8:$AQ$8,$R$2))","v":""}]
[{"$f":"IF('Data Input'!A353=0,\"\",'Data Input'!A353)","v":""},{"$f":"IF(H349=\"\",\"\",IF(H349>Welcome!$K$23-1,\"Exceeding\",IF(H349>Welcome!$G$23-1,\"Expected\",IF(H349<Welcome!$G$23,\"Below\"))))","v":""},{"$f":"IF(ISBLANK('Data Input'!A353),\"\",COUNTIF('Data Input'!C353:AQ353,\"\")-1)","v":""},{"$f":"IF(ISBLANK('Data Input'!A353),\"\",COUNTIF('Data Input'!C353:AQ353,\"0\"))","v":""},{"$f":"IF(ISBLANK('Data Input'!A353),\"\",SUM(C349,D349))","v":""},{"$f":"IF(ISBLANK('Data Input'!A353),\"\",SUM('Data Input'!C353:V353))","v":""},{"$f":"IF(ISBLANK('Data Input'!A353),\"\",SUM('Data Input'!X353:AQ353))","v":""},{"$f":"IF(ISBLANK('Data Input'!A353),\"\",SUM('Data Input'!C353:AQ353))","v":""},{"$f":"IF(H349=\"\",\"\",H349/(COUNTA('Data Input'!$C$8:$AQ$8)-1))","v":""},{"$f":"IF(ISBLANK('Data Input'!A353),\"\",SUM('Data Input'!I353,'Data Input'!M353,'Data Input'!AB353,'Data Input'!AE353))","v":""},{"$f":"IF(J349=\"\",\"\",J349/COUNTIF('Data Input'!$C$8:$AQ$8,$J$2))","v":""},{"$f":"IF(ISBLANK('Data Input'!A353),\"\",SUM('Data Input'!E353,'Data Input'!G353,'Data Input'!H353,'Data Input'!L353,'Data Input'!N353,'Data Input'!Q353,'Data Input'!R353,'Data Input'!T353,'Data Input'!U353,'Data Input'!V353,'Data Input'!X353,'Data Input'!Y353,'Data Input'!Z353,'Data Input'!AA353,'Data Input'!AC353,'Data Input'!AD353,'Data Input'!AF353,'Data Input'!AG353,'Data Input'!AH353,'Data Input'!AI353,'Data Input'!AJ353,'Data Input'!AK353,'Data Input'!AL353))","v":""},{"$f":"IF(L349=\"\",\"\",L349/COUNTIF('Data Input'!$C$8:$AQ$8,$L$2))","v":""},{"$f":"IF(ISBLANK('Data Input'!A353),\"\",SUM('Data Input'!K353,'Data Input'!AQ353))","v":""},{"$f":"IF(N349=\"\",\"\",N349/COUNTIF('Data Input'!$C$8:$AQ$8,$N$2))","v":""},{"$f":"IF(ISBLANK('Data Input'!A353),\"\",SUM('Data Input'!C353,'Data Input'!D353,'Data Input'!F353,'Data Input'!J353,'Data Input'!O353,'Data Input'!S353,'Data Input'!AM353,'Data Input'!AN353,'Data Input'!AO353,'Data Input'!AP353))","v":""},{"$f":"IF(P349=\"\",\"\",P349/COUNTIF('Data Input'!$C$8:$AQ$8,$P$2))","v":""},{"$f":"IF(ISBLANK('Data Input'!C353),\"\",SUM('Data Input'!P353))","v":""},{"$f":"IF(R349=\"\",\"\",R349/COUNTIF('Data Input'!$C$8:$AQ$8,$R$2))","v":""}]
[{"$f":"IF('Data Input'!A354=0,\"\",'Data Input'!A354)","v":""},{"$f":"IF(H350=\"\",\"\",IF(H350>Welcome!$K$23-1,\"Exceeding\",IF(H350>Welcome!$G$23-1,\"Expected\",IF(H350<Welcome!$G$23,\"Below\"))))","v":""},{"$f":"IF(ISBLANK('Data Input'!A354),\"\",COUNTIF('Data Input'!C354:AQ354,\"\")-1)","v":""},{"$f":"IF(ISBLANK('Data Input'!A354),\"\",COUNTIF('Data Input'!C354:AQ354,\"0\"))","v":""},{"$f":"IF(ISBLANK('Data Input'!A354),\"\",SUM(C350,D350))","v":""},{"$f":"IF(ISBLANK('Data Input'!A354),\"\",SUM('Data Input'!C354:V354))","v":""},{"$f":"IF(ISBLANK('Data Input'!A354),\"\",SUM('Data Input'!X354:AQ354))","v":""},{"$f":"IF(ISBLANK('Data Input'!A354),\"\",SUM('Data Input'!C354:AQ354))","v":""},{"$f":"IF(H350=\"\",\"\",H350/(COUNTA('Data Input'!$C$8:$AQ$8)-1))","v":""},{"$f":"IF(ISBLANK('Data Input'!A354),\"\",SUM('Data Input'!I354,'Data Input'!M354,'Data Input'!AB354,'Data Input'!AE354))","v":""},{"$f":"IF(J350=\"\",\"\",J350/COUNTIF('Data Input'!$C$8:$AQ$8,$J$2))","v":""},{"$f":"IF(ISBLANK('Data Input'!A354),\"\",SUM('Data Input'!E354,'Data Input'!G354,'Data Input'!H354,'Data Input'!L354,'Data Input'!N354,'Data Input'!Q354,'Data Input'!R354,'Data Input'!T354,'Data Input'!U354,'Data Input'!V354,'Data Input'!X354,'Data Input'!Y354,'Data Input'!Z354,'Data Input'!AA354,'Data Input'!AC354,'Data Input'!AD354,'Data Input'!AF354,'Data Input'!AG354,'Data Input'!AH354,'Data Input'!AI354,'Data Input'!AJ354,'Data Input'!AK354,'Data Input'!AL354))","v":""},{"$f":"IF(L350=\"\",\"\",L350/COUNTIF('Data Input'!$C$8:$AQ$8,$L$2))","v":""},{"$f":"IF(ISBLANK('Data Input'!A354),\"\",SUM('Data Input'!K354,'Data Input'!AQ354))","v":""},{"$f":"IF(N350=\"\",\"\",N350/COUNTIF('Data Input'!$C$8:$AQ$8,$N$2))","v":""},{"$f":"IF(ISBLANK('Data Input'!A354),\"\",SUM('Data Input'!C354,'Data Input'!D354,'Data Input'!F354,'Data Input'!J354,'Data Input'!O354,'Data Input'!S354,'Data Input'!AM354,'Data Input'!AN354,'Data Input'!AO354,'Data Input'!AP354))","v":""},{"$f":"IF(P350=\"\",\"\",P350/COUNTIF('Data Input'!$C$8:$AQ$8,$P$2))","v":""},{"$f":"IF(ISBLANK('Data Input'!C354),\"\",SUM('Data Input'!P354))","v":""},{"$f":"IF(R350=\"\",\"\",R350/COUNTIF('Data Input'!$C$8:$AQ$8,$R$2))","v":""}]
[{"$f":"IF('Data Input'!A355=0,\"\",'Data Input'!A355)","v":""},{"$f":"IF(H351=\"\",\"\",IF(H351>Welcome!$K$23-1,\"Exceeding\",IF(H351>Welcome!$G$23-1,\"Expected\",IF(H351<Welcome!$G$23,\"Below\"))))","v":""},{"$f":"IF(ISBLANK('Data Input'!A355),\"\",COUNTIF('Data Input'!C355:AQ355,\"\")-1)","v":""},{"$f":"IF(ISBLANK('Data Input'!A355),\"\",COUNTIF('Data Input'!C355:AQ355,\"0\"))","v":""},{"$f":"IF(ISBLANK('Data Input'!A355),\"\",SUM(C351,D351))","v":""},{"$f":"IF(ISBLANK('Data Input'!A355),\"\",SUM('Data Input'!C355:V355))","v":""},{"$f":"IF(ISBLANK('Data Input'!A355),\"\",SUM('Data Input'!X355:AQ355))","v":""},{"$f":"IF(ISBLANK('Data Input'!A355),\"\",SUM('Data Input'!C355:AQ355))","v":""},{"$f":"IF(H351=\"\",\"\",H351/(COUNTA('Data Input'!$C$8:$AQ$8)-1))","v":""},{"$f":"IF(ISBLANK('Data Input'!A355),\"\",SUM('Data Input'!I355,'Data Input'!M355,'Data Input'!AB355,'Data Input'!AE355))","v":""},{"$f":"IF(J351=\"\",\"\",J351/COUNTIF('Data Input'!$C$8:$AQ$8,$J$2))","v":""},{"$f":"IF(ISBLANK('Data Input'!A355),\"\",SUM('Data Input'!E355,'Data Input'!G355,'Data Input'!H355,'Data Input'!L355,'Data Input'!N355,'Data Input'!Q355,'Data Input'!R355,'Data Input'!T355,'Data Input'!U355,'Data Input'!V355,'Data Input'!X355,'Data Input'!Y355,'Data Input'!Z355,'Data Input'!AA355,'Data Input'!AC355,'Data Input'!AD355,'Data Input'!AF355,'Data Input'!AG355,'Data Input'!AH355,'Data Input'!AI355,'Data Input'!AJ355,'Data Input'!AK355,'Data Input'!AL355))","v":""},{"$f":"IF(L351=\"\",\"\",L351/COUNTIF('Data Input'!$C$8:$AQ$8,$L$2))","v":""},{"$f":"IF(ISBLANK('Data Input'!A355),\"\",SUM('Data Input'!K355,'Data Input'!AQ355))","v":""},{"$f":"IF(N351=\"\",\"\",N351/COUNTIF('Data Input'!$C$8:$AQ$8,$N$2))","v":""},{"$f":"IF(ISBLANK('Data Input'!A355),\"\",SUM('Data Input'!C355,'Data Input'!D355,'Data Input'!F355,'Data Input'!J355,'Data Input'!O355,'Data Input'!S355,'Data Input'!AM355,'Data Input'!AN355,'Data Input'!AO355,'Data Input'!AP355))","v":""},{"$f":"IF(P351=\"\",\"\",P351/COUNTIF('Data Input'!$C$8:$AQ$8,$P$2))","v":""},{"$f":"IF(ISBLANK('Data Input'!C355),\"\",SUM('Data Input'!P355))","v":""},{"$f":"IF(R351=\"\",\"\",R351/COUNTIF('Data Input'!$C$8:$AQ$8,$R$2))","v":""}]
[{"$f":"IF('Data Input'!A356=0,\"\",'Data Input'!A356)","v":""},{"$f":"IF(H352=\"\",\"\",IF(H352>Welcome!$K$23-1,\"Exceeding\",IF(H352>Welcome!$G$23-1,\"Expected\",IF(H352<Welcome!$G$23,\"Below\"))))","v":""},{"$f":"IF(ISBLANK('Data Input'!A356),\"\",COUNTIF('Data Input'!C356:AQ356,\"\")-1)","v":""},{"$f":"IF(ISBLANK('Data Input'!A356),\"\",COUNTIF('Data Input'!C356:AQ356,\"0\"))","v":""},{"$f":"IF(ISBLANK('Data Input'!A356),\"\",SUM(C352,D352))","v":""},{"$f":"IF(ISBLANK('Data Input'!A356),\"\",SUM('Data Input'!C356:V356))","v":""},{"$f":"IF(ISBLANK('Data Input'!A356),\"\",SUM('Data Input'!X356:AQ356))","v":""},{"$f":"IF(ISBLANK('Data Input'!A356),\"\",SUM('Data Input'!C356:AQ356))","v":""},{"$f":"IF(H352=\"\",\"\",H352/(COUNTA('Data Input'!$C$8:$AQ$8)-1))","v":""},{"$f":"IF(ISBLANK('Data Input'!A356),\"\",SUM('Data Input'!I356,'Data Input'!M356,'Data Input'!AB356,'Data Input'!AE356))","v":""},{"$f":"IF(J352=\"\",\"\",J352/COUNTIF('Data Input'!$C$8:$AQ$8,$J$2))","v":""},{"$f":"IF(ISBLANK('Data Input'!A356),\"\",SUM('Data Input'!E356,'Data Input'!G356,'Data Input'!H356,'Data Input'!L356,'Data Input'!N356,'Data Input'!Q356,'Data Input'!R356,'Data Input'!T356,'Data Input'!U356,'Data Input'!V356,'Data Input'!X356,'Data Input'!Y356,'Data Input'!Z356,'Data Input'!AA356,'Data Input'!AC356,'Data Input'!AD356,'Data Input'!AF356,'Data Input'!AG356,'Data Input'!AH356,'Data Input'!AI356,'Data Input'!AJ356,'Data Input'!AK356,'Data Input'!AL356))","v":""},{"$f":"IF(L352=\"\",\"\",L352/COUNTIF('Data Input'!$C$8:$AQ$8,$L$2))","v":""},{"$f":"IF(ISBLANK('Data Input'!A356),\"\",SUM('Data Input'!K356,'Data Input'!AQ356))","v":""},{"$f":"IF(N352=\"\",\"\",N352/COUNTIF('Data Input'!$C$8:$AQ$8,$N$2))","v":""},{"$f":"IF(ISBLANK('Data Input'!A356),\"\",SUM('Data Input'!C356,'Data Input'!D356,'Data Input'!F356,'Data Input'!J356,'Data Input'!O356,'Data Input'!S356,'Data Input'!AM356,'Data Input'!AN356,'Data Input'!AO356,'Data Input'!AP356))","v":""},{"$f":"IF(P352=\"\",\"\",P352/COUNTIF('Data Input'!$C$8:$AQ$8,$P$2))","v":""},{"$f":"IF(ISBLANK('Data Input'!C356),\"\",SUM('Data Input'!P356))","v":""},{"$f":"IF(R352=\"\",\"\",R352/COUNTIF('Data Input'!$C$8:$AQ$8,$R$2))","v":""}]
[{"$f":"IF('Data Input'!A357=0,\"\",'Data Input'!A357)","v":""},{"$f":"IF(H353=\"\",\"\",IF(H353>Welcome!$K$23-1,\"Exceeding\",IF(H353>Welcome!$G$23-1,\"Expected\",IF(H353<Welcome!$G$23,\"Below\"))))","v":""},{"$f":"IF(ISBLANK('Data Input'!A357),\"\",COUNTIF('Data Input'!C357:AQ357,\"\")-1)","v":""},{"$f":"IF(ISBLANK('Data Input'!A357),\"\",COUNTIF('Data Input'!C357:AQ357,\"0\"))","v":""},{"$f":"IF(ISBLANK('Data Input'!A357),\"\",SUM(C353,D353))","v":""},{"$f":"IF(ISBLANK('Data Input'!A357),\"\",SUM('Data Input'!C357:V357))","v":""},{"$f":"IF(ISBLANK('Data Input'!A357),\"\",SUM('Data Input'!X357:AQ357))","v":""},{"$f":"IF(ISBLANK('Data Input'!A357),\"\",SUM('Data Input'!C357:AQ357))","v":""},{"$f":"IF(H353=\"\",\"\",H353/(COUNTA('Data Input'!$C$8:$AQ$8)-1))","v":""},{"$f":"IF(ISBLANK('Data Input'!A357),\"\",SUM('Data Input'!I357,'Data Input'!M357,'Data Input'!AB357,'Data Input'!AE357))","v":""},{"$f":"IF(J353=\"\",\"\",J353/COUNTIF('Data Input'!$C$8:$AQ$8,$J$2))","v":""},{"$f":"IF(ISBLANK('Data Input'!A357),\"\",SUM('Data Input'!E357,'Data Input'!G357,'Data Input'!H357,'Data Input'!L357,'Data Input'!N357,'Data Input'!Q357,'Data Input'!R357,'Data Input'!T357,'Data Input'!U357,'Data Input'!V357,'Data Input'!X357,'Data Input'!Y357,'Data Input'!Z357,'Data Input'!AA357,'Data Input'!AC357,'Data Input'!AD357,'Data Input'!AF357,'Data Input'!AG357,'Data Input'!AH357,'Data Input'!AI357,'Data Input'!AJ357,'Data Input'!AK357,'Data Input'!AL357))","v":""},{"$f":"IF(L353=\"\",\"\",L353/COUNTIF('Data Input'!$C$8:$AQ$8,$L$2))","v":""},{"$f":"IF(ISBLANK('Data Input'!A357),\"\",SUM('Data Input'!K357,'Data Input'!AQ357))","v":""},{"$f":"IF(N353=\"\",\"\",N353/COUNTIF('Data Input'!$C$8:$AQ$8,$N$2))","v":""},{"$f":"IF(ISBLANK('Data Input'!A357),\"\",SUM('Data Input'!C357,'Data Input'!D357,'Data Input'!F357,'Data Input'!J357,'Data Input'!O357,'Data Input'!S357,'Data Input'!AM357,'Data Input'!AN357,'Data Input'!AO357,'Data Input'!AP357))","v":""},{"$f":"IF(P353=\"\",\"\",P353/COUNTIF('Data Input'!$C$8:$AQ$8,$P$2))","v":""},{"$f":"IF(ISBLANK('Data Input'!C357),\"\",SUM('Data Input'!P357))","v":""},{"$f":"IF(R353=\"\",\"\",R353/COUNTIF('Data Input'!$C$8:$AQ$8,$R$2))","v":""}]
[{"$f":"IF('Data Input'!A358=0,\"\",'Data Input'!A358)","v":""},{"$f":"IF(H354=\"\",\"\",IF(H354>Welcome!$K$23-1,\"Exceeding\",IF(H354>Welcome!$G$23-1,\"Expected\",IF(H354<Welcome!$G$23,\"Below\"))))","v":""},{"$f":"IF(ISBLANK('Data Input'!A358),\"\",COUNTIF('Data Input'!C358:AQ358,\"\")-1)","v":""},{"$f":"IF(ISBLANK('Data Input'!A358),\"\",COUNTIF('Data Input'!C358:AQ358,\"0\"))","v":""},{"$f":"IF(ISBLANK('Data Input'!A358),\"\",SUM(C354,D354))","v":""},{"$f":"IF(ISBLANK('Data Input'!A358),\"\",SUM('Data Input'!C358:V358))","v":""},{"$f":"IF(ISBLANK('Data Input'!A358),\"\",SUM('Data Input'!X358:AQ358))","v":""},{"$f":"IF(ISBLANK('Data Input'!A358),\"\",SUM('Data Input'!C358:AQ358))","v":""},{"$f":"IF(H354=\"\",\"\",H354/(COUNTA('Data Input'!$C$8:$AQ$8)-1))","v":""},{"$f":"IF(ISBLANK('Data Input'!A358),\"\",SUM('Data Input'!I358,'Data Input'!M358,'Data Input'!AB358,'Data Input'!AE358))","v":""},{"$f":"IF(J354=\"\",\"\",J354/COUNTIF('Data Input'!$C$8:$AQ$8,$J$2))","v":""},{"$f":"IF(ISBLANK('Data Input'!A358),\"\",SUM('Data Input'!E358,'Data Input'!G358,'Data Input'!H358,'Data Input'!L358,'Data Input'!N358,'Data Input'!Q358,'Data Input'!R358,'Data Input'!T358,'Data Input'!U358,'Data Input'!V358,'Data Input'!X358,'Data Input'!Y358,'Data Input'!Z358,'Data Input'!AA358,'Data Input'!AC358,'Data Input'!AD358,'Data Input'!AF358,'Data Input'!AG358,'Data Input'!AH358,'Data Input'!AI358,'Data Input'!AJ358,'Data Input'!AK358,'Data Input'!AL358))","v":""},{"$f":"IF(L354=\"\",\"\",L354/COUNTIF('Data Input'!$C$8:$AQ$8,$L$2))","v":""},{"$f":"IF(ISBLANK('Data Input'!A358),\"\",SUM('Data Input'!K358,'Data Input'!AQ358))","v":""},{"$f":"IF(N354=\"\",\"\",N354/COUNTIF('Data Input'!$C$8:$AQ$8,$N$2))","v":""},{"$f":"IF(ISBLANK('Data Input'!A358),\"\",SUM('Data Input'!C358,'Data Input'!D358,'Data Input'!F358,'Data Input'!J358,'Data Input'!O358,'Data Input'!S358,'Data Input'!AM358,'Data Input'!AN358,'Data Input'!AO358,'Data Input'!AP358))","v":""},{"$f":"IF(P354=\"\",\"\",P354/COUNTIF('Data Input'!$C$8:$AQ$8,$P$2))","v":""},{"$f":"IF(ISBLANK('Data Input'!C358),\"\",SUM('Data Input'!P358))","v":""},{"$f":"IF(R354=\"\",\"\",R354/COUNTIF('Data Input'!$C$8:$AQ$8,$R$2))","v":""}]
[{"$f":"IF('Data Input'!A359=0,\"\",'Data Input'!A359)","v":""},{"$f":"IF(H355=\"\",\"\",IF(H355>Welcome!$K$23-1,\"Exceeding\",IF(H355>Welcome!$G$23-1,\"Expected\",IF(H355<Welcome!$G$23,\"Below\"))))","v":""},{"$f":"IF(ISBLANK('Data Input'!A359),\"\",COUNTIF('Data Input'!C359:AQ359,\"\")-1)","v":""},{"$f":"IF(ISBLANK('Data Input'!A359),\"\",COUNTIF('Data Input'!C359:AQ359,\"0\"))","v":""},{"$f":"IF(ISBLANK('Data Input'!A359),\"\",SUM(C355,D355))","v":""},{"$f":"IF(ISBLANK('Data Input'!A359),\"\",SUM('Data Input'!C359:V359))","v":""},{"$f":"IF(ISBLANK('Data Input'!A359),\"\",SUM('Data Input'!X359:AQ359))","v":""},{"$f":"IF(ISBLANK('Data Input'!A359),\"\",SUM('Data Input'!C359:AQ359))","v":""},{"$f":"IF(H355=\"\",\"\",H355/(COUNTA('Data Input'!$C$8:$AQ$8)-1))","v":""},{"$f":"IF(ISBLANK('Data Input'!A359),\"\",SUM('Data Input'!I359,'Data Input'!M359,'Data Input'!AB359,'Data Input'!AE359))","v":""},{"$f":"IF(J355=\"\",\"\",J355/COUNTIF('Data Input'!$C$8:$AQ$8,$J$2))","v":""},{"$f":"IF(ISBLANK('Data Input'!A359),\"\",SUM('Data Input'!E359,'Data Input'!G359,'Data Input'!H359,'Data Input'!L359,'Data Input'!N359,'Data Input'!Q359,'Data Input'!R359,'Data Input'!T359,'Data Input'!U359,'Data Input'!V359,'Data Input'!X359,'Data Input'!Y359,'Data Input'!Z359,'Data Input'!AA359,'Data Input'!AC359,'Data Input'!AD359,'Data Input'!AF359,'Data Input'!AG359,'Data Input'!AH359,'Data Input'!AI359,'Data Input'!AJ359,'Data Input'!AK359,'Data Input'!AL359))","v":""},{"$f":"IF(L355=\"\",\"\",L355/COUNTIF('Data Input'!$C$8:$AQ$8,$L$2))","v":""},{"$f":"IF(ISBLANK('Data Input'!A359),\"\",SUM('Data Input'!K359,'Data Input'!AQ359))","v":""},{"$f":"IF(N355=\"\",\"\",N355/COUNTIF('Data Input'!$C$8:$AQ$8,$N$2))","v":""},{"$f":"IF(ISBLANK('Data Input'!A359),\"\",SUM('Data Input'!C359,'Data Input'!D359,'Data Input'!F359,'Data Input'!J359,'Data Input'!O359,'Data Input'!S359,'Data Input'!AM359,'Data Input'!AN359,'Data Input'!AO359,'Data Input'!AP359))","v":""},{"$f":"IF(P355=\"\",\"\",P355/COUNTIF('Data Input'!$C$8:$AQ$8,$P$2))","v":""},{"$f":"IF(ISBLANK('Data Input'!C359),\"\",SUM('Data Input'!P359))","v":""},{"$f":"IF(R355=\"\",\"\",R355/COUNTIF('Data Input'!$C$8:$AQ$8,$R$2))","v":""}]
[{"$f":"IF('Data Input'!A360=0,\"\",'Data Input'!A360)","v":""},{"$f":"IF(H356=\"\",\"\",IF(H356>Welcome!$K$23-1,\"Exceeding\",IF(H356>Welcome!$G$23-1,\"Expected\",IF(H356<Welcome!$G$23,\"Below\"))))","v":""},{"$f":"IF(ISBLANK('Data Input'!A360),\"\",COUNTIF('Data Input'!C360:AQ360,\"\")-1)","v":""},{"$f":"IF(ISBLANK('Data Input'!A360),\"\",COUNTIF('Data Input'!C360:AQ360,\"0\"))","v":""},{"$f":"IF(ISBLANK('Data Input'!A360),\"\",SUM(C356,D356))","v":""},{"$f":"IF(ISBLANK('Data Input'!A360),\"\",SUM('Data Input'!C360:V360))","v":""},{"$f":"IF(ISBLANK('Data Input'!A360),\"\",SUM('Data Input'!X360:AQ360))","v":""},{"$f":"IF(ISBLANK('Data Input'!A360),\"\",SUM('Data Input'!C360:AQ360))","v":""},{"$f":"IF(H356=\"\",\"\",H356/(COUNTA('Data Input'!$C$8:$AQ$8)-1))","v":""},{"$f":"IF(ISBLANK('Data Input'!A360),\"\",SUM('Data Input'!I360,'Data Input'!M360,'Data Input'!AB360,'Data Input'!AE360))","v":""},{"$f":"IF(J356=\"\",\"\",J356/COUNTIF('Data Input'!$C$8:$AQ$8,$J$2))","v":""},{"$f":"IF(ISBLANK('Data Input'!A360),\"\",SUM('Data Input'!E360,'Data Input'!G360,'Data Input'!H360,'Data Input'!L360,'Data Input'!N360,'Data Input'!Q360,'Data Input'!R360,'Data Input'!T360,'Data Input'!U360,'Data Input'!V360,'Data Input'!X360,'Data Input'!Y360,'Data Input'!Z360,'Data Input'!AA360,'Data Input'!AC360,'Data Input'!AD360,'Data Input'!AF360,'Data Input'!AG360,'Data Input'!AH360,'Data Input'!AI360,'Data Input'!AJ360,'Data Input'!AK360,'Data Input'!AL360))","v":""},{"$f":"IF(L356=\"\",\"\",L356/COUNTIF('Data Input'!$C$8:$AQ$8,$L$2))","v":""},{"$f":"IF(ISBLANK('Data Input'!A360),\"\",SUM('Data Input'!K360,'Data Input'!AQ360))","v":""},{"$f":"IF(N356=\"\",\"\",N356/COUNTIF('Data Input'!$C$8:$AQ$8,$N$2))","v":""},{"$f":"IF(ISBLANK('Data Input'!A360),\"\",SUM('Data Input'!C360,'Data Input'!D360,'Data Input'!F360,'Data Input'!J360,'Data Input'!O360,'Data Input'!S360,'Data Input'!AM360,'Data Input'!AN360,'Data Input'!AO360,'Data Input'!AP360))","v":""},{"$f":"IF(P356=\"\",\"\",P356/COUNTIF('Data Input'!$C$8:$AQ$8,$P$2))","v":""},{"$f":"IF(ISBLANK('Data Input'!C360),\"\",SUM('Data Input'!P360))","v":""},{"$f":"IF(R356=\"\",\"\",R356/COUNTIF('Data Input'!$C$8:$AQ$8,$R$2))","v":""}]
[{"$f":"IF('Data Input'!A361=0,\"\",'Data Input'!A361)","v":""},{"$f":"IF(H357=\"\",\"\",IF(H357>Welcome!$K$23-1,\"Exceeding\",IF(H357>Welcome!$G$23-1,\"Expected\",IF(H357<Welcome!$G$23,\"Below\"))))","v":""},{"$f":"IF(ISBLANK('Data Input'!A361),\"\",COUNTIF('Data Input'!C361:AQ361,\"\")-1)","v":""},{"$f":"IF(ISBLANK('Data Input'!A361),\"\",COUNTIF('Data Input'!C361:AQ361,\"0\"))","v":""},{"$f":"IF(ISBLANK('Data Input'!A361),\"\",SUM(C357,D357))","v":""},{"$f":"IF(ISBLANK('Data Input'!A361),\"\",SUM('Data Input'!C361:V361))","v":""},{"$f":"IF(ISBLANK('Data Input'!A361),\"\",SUM('Data Input'!X361:AQ361))","v":""},{"$f":"IF(ISBLANK('Data Input'!A361),\"\",SUM('Data Input'!C361:AQ361))","v":""},{"$f":"IF(H357=\"\",\"\",H357/(COUNTA('Data Input'!$C$8:$AQ$8)-1))","v":""},{"$f":"IF(ISBLANK('Data Input'!A361),\"\",SUM('Data Input'!I361,'Data Input'!M361,'Data Input'!AB361,'Data Input'!AE361))","v":""},{"$f":"IF(J357=\"\",\"\",J357/COUNTIF('Data Input'!$C$8:$AQ$8,$J$2))","v":""},{"$f":"IF(ISBLANK('Data Input'!A361),\"\",SUM('Data Input'!E361,'Data Input'!G361,'Data Input'!H361,'Data Input'!L361,'Data Input'!N361,'Data Input'!Q361,'Data Input'!R361,'Data Input'!T361,'Data Input'!U361,'Data Input'!V361,'Data Input'!X361,'Data Input'!Y361,'Data Input'!Z361,'Data Input'!AA361,'Data Input'!AC361,'Data Input'!AD361,'Data Input'!AF361,'Data Input'!AG361,'Data Input'!AH361,'Data Input'!AI361,'Data Input'!AJ361,'Data Input'!AK361,'Data Input'!AL361))","v":""},{"$f":"IF(L357=\"\",\"\",L357/COUNTIF('Data Input'!$C$8:$AQ$8,$L$2))","v":""},{"$f":"IF(ISBLANK('Data Input'!A361),\"\",SUM('Data Input'!K361,'Data Input'!AQ361))","v":""},{"$f":"IF(N357=\"\",\"\",N357/COUNTIF('Data Input'!$C$8:$AQ$8,$N$2))","v":""},{"$f":"IF(ISBLANK('Data Input'!A361),\"\",SUM('Data Input'!C361,'Data Input'!D361,'Data Input'!F361,'Data Input'!J361,'Data Input'!O361,'Data Input'!S361,'Data Input'!AM361,'Data Input'!AN361,'Data Input'!AO361,'Data Input'!AP361))","v":""},{"$f":"IF(P357=\"\",\"\",P357/COUNTIF('Data Input'!$C$8:$AQ$8,$P$2))","v":""},{"$f":"IF(ISBLANK('Data Input'!C361),\"\",SUM('Data Input'!P361))","v":""},{"$f":"IF(R357=\"\",\"\",R357/COUNTIF('Data Input'!$C$8:$AQ$8,$R$2))","v":""}]
[{"$f":"IF('Data Input'!A362=0,\"\",'Data Input'!A362)","v":""},{"$f":"IF(H358=\"\",\"\",IF(H358>Welcome!$K$23-1,\"Exceeding\",IF(H358>Welcome!$G$23-1,\"Expected\",IF(H358<Welcome!$G$23,\"Below\"))))","v":""},{"$f":"IF(ISBLANK('Data Input'!A362),\"\",COUNTIF('Data Input'!C362:AQ362,\"\")-1)","v":""},{"$f":"IF(ISBLANK('Data Input'!A362),\"\",COUNTIF('Data Input'!C362:AQ362,\"0\"))","v":""},{"$f":"IF(ISBLANK('Data Input'!A362),\"\",SUM(C358,D358))","v":""},{"$f":"IF(ISBLANK('Data Input'!A362),\"\",SUM('Data Input'!C362:V362))","v":""},{"$f":"IF(ISBLANK('Data Input'!A362),\"\",SUM('Data Input'!X362:AQ362))","v":""},{"$f":"IF(ISBLANK('Data Input'!A362),\"\",SUM('Data Input'!C362:AQ362))","v":""},{"$f":"IF(H358=\"\",\"\",H358/(COUNTA('Data Input'!$C$8:$AQ$8)-1))","v":""},{"$f":"IF(ISBLANK('Data Input'!A362),\"\",SUM('Data Input'!I362,'Data Input'!M362,'Data Input'!AB362,'Data Input'!AE362))","v":""},{"$f":"IF(J358=\"\",\"\",J358/COUNTIF('Data Input'!$C$8:$AQ$8,$J$2))","v":""},{"$f":"IF(ISBLANK('Data Input'!A362),\"\",SUM('Data Input'!E362,'Data Input'!G362,'Data Input'!H362,'Data Input'!L362,'Data Input'!N362,'Data Input'!Q362,'Data Input'!R362,'Data Input'!T362,'Data Input'!U362,'Data Input'!V362,'Data Input'!X362,'Data Input'!Y362,'Data Input'!Z362,'Data Input'!AA362,'Data Input'!AC362,'Data Input'!AD362,'Data Input'!AF362,'Data Input'!AG362,'Data Input'!AH362,'Data Input'!AI362,'Data Input'!AJ362,'Data Input'!AK362,'Data Input'!AL362))","v":""},{"$f":"IF(L358=\"\",\"\",L358/COUNTIF('Data Input'!$C$8:$AQ$8,$L$2))","v":""},{"$f":"IF(ISBLANK('Data Input'!A362),\"\",SUM('Data Input'!K362,'Data Input'!AQ362))","v":""},{"$f":"IF(N358=\"\",\"\",N358/COUNTIF('Data Input'!$C$8:$AQ$8,$N$2))","v":""},{"$f":"IF(ISBLANK('Data Input'!A362),\"\",SUM('Data Input'!C362,'Data Input'!D362,'Data Input'!F362,'Data Input'!J362,'Data Input'!O362,'Data Input'!S362,'Data Input'!AM362,'Data Input'!AN362,'Data Input'!AO362,'Data Input'!AP362))","v":""},{"$f":"IF(P358=\"\",\"\",P358/COUNTIF('Data Input'!$C$8:$AQ$8,$P$2))","v":""},{"$f":"IF(ISBLANK('Data Input'!C362),\"\",SUM('Data Input'!P362))","v":""},{"$f":"IF(R358=\"\",\"\",R358/COUNTIF('Data Input'!$C$8:$AQ$8,$R$2))","v":""}]
[{"$f":"IF('Data Input'!A363=0,\"\",'Data Input'!A363)","v":""},{"$f":"IF(H359=\"\",\"\",IF(H359>Welcome!$K$23-1,\"Exceeding\",IF(H359>Welcome!$G$23-1,\"Expected\",IF(H359<Welcome!$G$23,\"Below\"))))","v":""},{"$f":"IF(ISBLANK('Data Input'!A363),\"\",COUNTIF('Data Input'!C363:AQ363,\"\")-1)","v":""},{"$f":"IF(ISBLANK('Data Input'!A363),\"\",COUNTIF('Data Input'!C363:AQ363,\"0\"))","v":""},{"$f":"IF(ISBLANK('Data Input'!A363),\"\",SUM(C359,D359))","v":""},{"$f":"IF(ISBLANK('Data Input'!A363),\"\",SUM('Data Input'!C363:V363))","v":""},{"$f":"IF(ISBLANK('Data Input'!A363),\"\",SUM('Data Input'!X363:AQ363))","v":""},{"$f":"IF(ISBLANK('Data Input'!A363),\"\",SUM('Data Input'!C363:AQ363))","v":""},{"$f":"IF(H359=\"\",\"\",H359/(COUNTA('Data Input'!$C$8:$AQ$8)-1))","v":""},{"$f":"IF(ISBLANK('Data Input'!A363),\"\",SUM('Data Input'!I363,'Data Input'!M363,'Data Input'!AB363,'Data Input'!AE363))","v":""},{"$f":"IF(J359=\"\",\"\",J359/COUNTIF('Data Input'!$C$8:$AQ$8,$J$2))","v":""},{"$f":"IF(ISBLANK('Data Input'!A363),\"\",SUM('Data Input'!E363,'Data Input'!G363,'Data Input'!H363,'Data Input'!L363,'Data Input'!N363,'Data Input'!Q363,'Data Input'!R363,'Data Input'!T363,'Data Input'!U363,'Data Input'!V363,'Data Input'!X363,'Data Input'!Y363,'Data Input'!Z363,'Data Input'!AA363,'Data Input'!AC363,'Data Input'!AD363,'Data Input'!AF363,'Data Input'!AG363,'Data Input'!AH363,'Data Input'!AI363,'Data Input'!AJ363,'Data Input'!AK363,'Data Input'!AL363))","v":""},{"$f":"IF(L359=\"\",\"\",L359/COUNTIF('Data Input'!$C$8:$AQ$8,$L$2))","v":""},{"$f":"IF(ISBLANK('Data Input'!A363),\"\",SUM('Data Input'!K363,'Data Input'!AQ363))","v":""},{"$f":"IF(N359=\"\",\"\",N359/COUNTIF('Data Input'!$C$8:$AQ$8,$N$2))","v":""},{"$f":"IF(ISBLANK('Data Input'!A363),\"\",SUM('Data Input'!C363,'Data Input'!D363,'Data Input'!F363,'Data Input'!J363,'Data Input'!O363,'Data Input'!S363,'Data Input'!AM363,'Data Input'!AN363,'Data Input'!AO363,'Data Input'!AP363))","v":""},{"$f":"IF(P359=\"\",\"\",P359/COUNTIF('Data Input'!$C$8:$AQ$8,$P$2))","v":""},{"$f":"IF(ISBLANK('Data Input'!C363),\"\",SUM('Data Input'!P363))","v":""},{"$f":"IF(R359=\"\",\"\",R359/COUNTIF('Data Input'!$C$8:$AQ$8,$R$2))","v":""}]
[{"$f":"IF('Data Input'!A364=0,\"\",'Data Input'!A364)","v":""},{"$f":"IF(H360=\"\",\"\",IF(H360>Welcome!$K$23-1,\"Exceeding\",IF(H360>Welcome!$G$23-1,\"Expected\",IF(H360<Welcome!$G$23,\"Below\"))))","v":""},{"$f":"IF(ISBLANK('Data Input'!A364),\"\",COUNTIF('Data Input'!C364:AQ364,\"\")-1)","v":""},{"$f":"IF(ISBLANK('Data Input'!A364),\"\",COUNTIF('Data Input'!C364:AQ364,\"0\"))","v":""},{"$f":"IF(ISBLANK('Data Input'!A364),\"\",SUM(C360,D360))","v":""},{"$f":"IF(ISBLANK('Data Input'!A364),\"\",SUM('Data Input'!C364:V364))","v":""},{"$f":"IF(ISBLANK('Data Input'!A364),\"\",SUM('Data Input'!X364:AQ364))","v":""},{"$f":"IF(ISBLANK('Data Input'!A364),\"\",SUM('Data Input'!C364:AQ364))","v":""},{"$f":"IF(H360=\"\",\"\",H360/(COUNTA('Data Input'!$C$8:$AQ$8)-1))","v":""},{"$f":"IF(ISBLANK('Data Input'!A364),\"\",SUM('Data Input'!I364,'Data Input'!M364,'Data Input'!AB364,'Data Input'!AE364))","v":""},{"$f":"IF(J360=\"\",\"\",J360/COUNTIF('Data Input'!$C$8:$AQ$8,$J$2))","v":""},{"$f":"IF(ISBLANK('Data Input'!A364),\"\",SUM('Data Input'!E364,'Data Input'!G364,'Data Input'!H364,'Data Input'!L364,'Data Input'!N364,'Data Input'!Q364,'Data Input'!R364,'Data Input'!T364,'Data Input'!U364,'Data Input'!V364,'Data Input'!X364,'Data Input'!Y364,'Data Input'!Z364,'Data Input'!AA364,'Data Input'!AC364,'Data Input'!AD364,'Data Input'!AF364,'Data Input'!AG364,'Data Input'!AH364,'Data Input'!AI364,'Data Input'!AJ364,'Data Input'!AK364,'Data Input'!AL364))","v":""},{"$f":"IF(L360=\"\",\"\",L360/COUNTIF('Data Input'!$C$8:$AQ$8,$L$2))","v":""},{"$f":"IF(ISBLANK('Data Input'!A364),\"\",SUM('Data Input'!K364,'Data Input'!AQ364))","v":""},{"$f":"IF(N360=\"\",\"\",N360/COUNTIF('Data Input'!$C$8:$AQ$8,$N$2))","v":""},{"$f":"IF(ISBLANK('Data Input'!A364),\"\",SUM('Data Input'!C364,'Data Input'!D364,'Data Input'!F364,'Data Input'!J364,'Data Input'!O364,'Data Input'!S364,'Data Input'!AM364,'Data Input'!AN364,'Data Input'!AO364,'Data Input'!AP364))","v":""},{"$f":"IF(P360=\"\",\"\",P360/COUNTIF('Data Input'!$C$8:$AQ$8,$P$2))","v":""},{"$f":"IF(ISBLANK('Data Input'!C364),\"\",SUM('Data Input'!P364))","v":""},{"$f":"IF(R360=\"\",\"\",R360/COUNTIF('Data Input'!$C$8:$AQ$8,$R$2))","v":""}]
[{"$f":"IF('Data Input'!A365=0,\"\",'Data Input'!A365)","v":""},{"$f":"IF(H361=\"\",\"\",IF(H361>Welcome!$K$23-1,\"Exceeding\",IF(H361>Welcome!$G$23-1,\"Expected\",IF(H361<Welcome!$G$23,\"Below\"))))","v":""},{"$f":"IF(ISBLANK('Data Input'!A365),\"\",COUNTIF('Data Input'!C365:AQ365,\"\")-1)","v":""},{"$f":"IF(ISBLANK('Data Input'!A365),\"\",COUNTIF('Data Input'!C365:AQ365,\"0\"))","v":""},{"$f":"IF(ISBLANK('Data Input'!A365),\"\",SUM(C361,D361))","v":""},{"$f":"IF(ISBLANK('Data Input'!A365),\"\",SUM('Data Input'!C365:V365))","v":""},{"$f":"IF(ISBLANK('Data Input'!A365),\"\",SUM('Data Input'!X365:AQ365))","v":""},{"$f":"IF(ISBLANK('Data Input'!A365),\"\",SUM('Data Input'!C365:AQ365))","v":""},{"$f":"IF(H361=\"\",\"\",H361/(COUNTA('Data Input'!$C$8:$AQ$8)-1))","v":""},{"$f":"IF(ISBLANK('Data Input'!A365),\"\",SUM('Data Input'!I365,'Data Input'!M365,'Data Input'!AB365,'Data Input'!AE365))","v":""},{"$f":"IF(J361=\"\",\"\",J361/COUNTIF('Data Input'!$C$8:$AQ$8,$J$2))","v":""},{"$f":"IF(ISBLANK('Data Input'!A365),\"\",SUM('Data Input'!E365,'Data Input'!G365,'Data Input'!H365,'Data Input'!L365,'Data Input'!N365,'Data Input'!Q365,'Data Input'!R365,'Data Input'!T365,'Data Input'!U365,'Data Input'!V365,'Data Input'!X365,'Data Input'!Y365,'Data Input'!Z365,'Data Input'!AA365,'Data Input'!AC365,'Data Input'!AD365,'Data Input'!AF365,'Data Input'!AG365,'Data Input'!AH365,'Data Input'!AI365,'Data Input'!AJ365,'Data Input'!AK365,'Data Input'!AL365))","v":""},{"$f":"IF(L361=\"\",\"\",L361/COUNTIF('Data Input'!$C$8:$AQ$8,$L$2))","v":""},{"$f":"IF(ISBLANK('Data Input'!A365),\"\",SUM('Data Input'!K365,'Data Input'!AQ365))","v":""},{"$f":"IF(N361=\"\",\"\",N361/COUNTIF('Data Input'!$C$8:$AQ$8,$N$2))","v":""},{"$f":"IF(ISBLANK('Data Input'!A365),\"\",SUM('Data Input'!C365,'Data Input'!D365,'Data Input'!F365,'Data Input'!J365,'Data Input'!O365,'Data Input'!S365,'Data Input'!AM365,'Data Input'!AN365,'Data Input'!AO365,'Data Input'!AP365))","v":""},{"$f":"IF(P361=\"\",\"\",P361/COUNTIF('Data Input'!$C$8:$AQ$8,$P$2))","v":""},{"$f":"IF(ISBLANK('Data Input'!C365),\"\",SUM('Data Input'!P365))","v":""},{"$f":"IF(R361=\"\",\"\",R361/COUNTIF('Data Input'!$C$8:$AQ$8,$R$2))","v":""}]
[{"$f":"IF('Data Input'!A366=0,\"\",'Data Input'!A366)","v":""},{"$f":"IF(H362=\"\",\"\",IF(H362>Welcome!$K$23-1,\"Exceeding\",IF(H362>Welcome!$G$23-1,\"Expected\",IF(H362<Welcome!$G$23,\"Below\"))))","v":""},{"$f":"IF(ISBLANK('Data Input'!A366),\"\",COUNTIF('Data Input'!C366:AQ366,\"\")-1)","v":""},{"$f":"IF(ISBLANK('Data Input'!A366),\"\",COUNTIF('Data Input'!C366:AQ366,\"0\"))","v":""},{"$f":"IF(ISBLANK('Data Input'!A366),\"\",SUM(C362,D362))","v":""},{"$f":"IF(ISBLANK('Data Input'!A366),\"\",SUM('Data Input'!C366:V366))","v":""},{"$f":"IF(ISBLANK('Data Input'!A366),\"\",SUM('Data Input'!X366:AQ366))","v":""},{"$f":"IF(ISBLANK('Data Input'!A366),\"\",SUM('Data Input'!C366:AQ366))","v":""},{"$f":"IF(H362=\"\",\"\",H362/(COUNTA('Data Input'!$C$8:$AQ$8)-1))","v":""},{"$f":"IF(ISBLANK('Data Input'!A366),\"\",SUM('Data Input'!I366,'Data Input'!M366,'Data Input'!AB366,'Data Input'!AE366))","v":""},{"$f":"IF(J362=\"\",\"\",J362/COUNTIF('Data Input'!$C$8:$AQ$8,$J$2))","v":""},{"$f":"IF(ISBLANK('Data Input'!A366),\"\",SUM('Data Input'!E366,'Data Input'!G366,'Data Input'!H366,'Data Input'!L366,'Data Input'!N366,'Data Input'!Q366,'Data Input'!R366,'Data Input'!T366,'Data Input'!U366,'Data Input'!V366,'Data Input'!X366,'Data Input'!Y366,'Data Input'!Z366,'Data Input'!AA366,'Data Input'!AC366,'Data Input'!AD366,'Data Input'!AF366,'Data Input'!AG366,'Data Input'!AH366,'Data Input'!AI366,'Data Input'!AJ366,'Data Input'!AK366,'Data Input'!AL366))","v":""},{"$f":"IF(L362=\"\",\"\",L362/COUNTIF('Data Input'!$C$8:$AQ$8,$L$2))","v":""},{"$f":"IF(ISBLANK('Data Input'!A366),\"\",SUM('Data Input'!K366,'Data Input'!AQ366))","v":""},{"$f":"IF(N362=\"\",\"\",N362/COUNTIF('Data Input'!$C$8:$AQ$8,$N$2))","v":""},{"$f":"IF(ISBLANK('Data Input'!A366),\"\",SUM('Data Input'!C366,'Data Input'!D366,'Data Input'!F366,'Data Input'!J366,'Data Input'!O366,'Data Input'!S366,'Data Input'!AM366,'Data Input'!AN366,'Data Input'!AO366,'Data Input'!AP366))","v":""},{"$f":"IF(P362=\"\",\"\",P362/COUNTIF('Data Input'!$C$8:$AQ$8,$P$2))","v":""},{"$f":"IF(ISBLANK('Data Input'!C366),\"\",SUM('Data Input'!P366))","v":""},{"$f":"IF(R362=\"\",\"\",R362/COUNTIF('Data Input'!$C$8:$AQ$8,$R$2))","v":""}]
[{"$f":"IF('Data Input'!A367=0,\"\",'Data Input'!A367)","v":""},{"$f":"IF(H363=\"\",\"\",IF(H363>Welcome!$K$23-1,\"Exceeding\",IF(H363>Welcome!$G$23-1,\"Expected\",IF(H363<Welcome!$G$23,\"Below\"))))","v":""},{"$f":"IF(ISBLANK('Data Input'!A367),\"\",COUNTIF('Data Input'!C367:AQ367,\"\")-1)","v":""},{"$f":"IF(ISBLANK('Data Input'!A367),\"\",COUNTIF('Data Input'!C367:AQ367,\"0\"))","v":""},{"$f":"IF(ISBLANK('Data Input'!A367),\"\",SUM(C363,D363))","v":""},{"$f":"IF(ISBLANK('Data Input'!A367),\"\",SUM('Data Input'!C367:V367))","v":""},{"$f":"IF(ISBLANK('Data Input'!A367),\"\",SUM('Data Input'!X367:AQ367))","v":""},{"$f":"IF(ISBLANK('Data Input'!A367),\"\",SUM('Data Input'!C367:AQ367))","v":""},{"$f":"IF(H363=\"\",\"\",H363/(COUNTA('Data Input'!$C$8:$AQ$8)-1))","v":""},{"$f":"IF(ISBLANK('Data Input'!A367),\"\",SUM('Data Input'!I367,'Data Input'!M367,'Data Input'!AB367,'Data Input'!AE367))","v":""},{"$f":"IF(J363=\"\",\"\",J363/COUNTIF('Data Input'!$C$8:$AQ$8,$J$2))","v":""},{"$f":"IF(ISBLANK('Data Input'!A367),\"\",SUM('Data Input'!E367,'Data Input'!G367,'Data Input'!H367,'Data Input'!L367,'Data Input'!N367,'Data Input'!Q367,'Data Input'!R367,'Data Input'!T367,'Data Input'!U367,'Data Input'!V367,'Data Input'!X367,'Data Input'!Y367,'Data Input'!Z367,'Data Input'!AA367,'Data Input'!AC367,'Data Input'!AD367,'Data Input'!AF367,'Data Input'!AG367,'Data Input'!AH367,'Data Input'!AI367,'Data Input'!AJ367,'Data Input'!AK367,'Data Input'!AL367))","v":""},{"$f":"IF(L363=\"\",\"\",L363/COUNTIF('Data Input'!$C$8:$AQ$8,$L$2))","v":""},{"$f":"IF(ISBLANK('Data Input'!A367),\"\",SUM('Data Input'!K367,'Data Input'!AQ367))","v":""},{"$f":"IF(N363=\"\",\"\",N363/COUNTIF('Data Input'!$C$8:$AQ$8,$N$2))","v":""},{"$f":"IF(ISBLANK('Data Input'!A367),\"\",SUM('Data Input'!C367,'Data Input'!D367,'Data Input'!F367,'Data Input'!J367,'Data Input'!O367,'Data Input'!S367,'Data Input'!AM367,'Data Input'!AN367,'Data Input'!AO367,'Data Input'!AP367))","v":""},{"$f":"IF(P363=\"\",\"\",P363/COUNTIF('Data Input'!$C$8:$AQ$8,$P$2))","v":""},{"$f":"IF(ISBLANK('Data Input'!C367),\"\",SUM('Data Input'!P367))","v":""},{"$f":"IF(R363=\"\",\"\",R363/COUNTIF('Data Input'!$C$8:$AQ$8,$R$2))","v":""}]
[{"$f":"IF('Data Input'!A368=0,\"\",'Data Input'!A368)","v":""},{"$f":"IF(H364=\"\",\"\",IF(H364>Welcome!$K$23-1,\"Exceeding\",IF(H364>Welcome!$G$23-1,\"Expected\",IF(H364<Welcome!$G$23,\"Below\"))))","v":""},{"$f":"IF(ISBLANK('Data Input'!A368),\"\",COUNTIF('Data Input'!C368:AQ368,\"\")-1)","v":""},{"$f":"IF(ISBLANK('Data Input'!A368),\"\",COUNTIF('Data Input'!C368:AQ368,\"0\"))","v":""},{"$f":"IF(ISBLANK('Data Input'!A368),\"\",SUM(C364,D364))","v":""},{"$f":"IF(ISBLANK('Data Input'!A368),\"\",SUM('Data Input'!C368:V368))","v":""},{"$f":"IF(ISBLANK('Data Input'!A368),\"\",SUM('Data Input'!X368:AQ368))","v":""},{"$f":"IF(ISBLANK('Data Input'!A368),\"\",SUM('Data Input'!C368:AQ368))","v":""},{"$f":"IF(H364=\"\",\"\",H364/(COUNTA('Data Input'!$C$8:$AQ$8)-1))","v":""},{"$f":"IF(ISBLANK('Data Input'!A368),\"\",SUM('Data Input'!I368,'Data Input'!M368,'Data Input'!AB368,'Data Input'!AE368))","v":""},{"$f":"IF(J364=\"\",\"\",J364/COUNTIF('Data Input'!$C$8:$AQ$8,$J$2))","v":""},{"$f":"IF(ISBLANK('Data Input'!A368),\"\",SUM('Data Input'!E368,'Data Input'!G368,'Data Input'!H368,'Data Input'!L368,'Data Input'!N368,'Data Input'!Q368,'Data Input'!R368,'Data Input'!T368,'Data Input'!U368,'Data Input'!V368,'Data Input'!X368,'Data Input'!Y368,'Data Input'!Z368,'Data Input'!AA368,'Data Input'!AC368,'Data Input'!AD368,'Data Input'!AF368,'Data Input'!AG368,'Data Input'!AH368,'Data Input'!AI368,'Data Input'!AJ368,'Data Input'!AK368,'Data Input'!AL368))","v":""},{"$f":"IF(L364=\"\",\"\",L364/COUNTIF('Data Input'!$C$8:$AQ$8,$L$2))","v":""},{"$f":"IF(ISBLANK('Data Input'!A368),\"\",SUM('Data Input'!K368,'Data Input'!AQ368))","v":""},{"$f":"IF(N364=\"\",\"\",N364/COUNTIF('Data Input'!$C$8:$AQ$8,$N$2))","v":""},{"$f":"IF(ISBLANK('Data Input'!A368),\"\",SUM('Data Input'!C368,'Data Input'!D368,'Data Input'!F368,'Data Input'!J368,'Data Input'!O368,'Data Input'!S368,'Data Input'!AM368,'Data Input'!AN368,'Data Input'!AO368,'Data Input'!AP368))","v":""},{"$f":"IF(P364=\"\",\"\",P364/COUNTIF('Data Input'!$C$8:$AQ$8,$P$2))","v":""},{"$f":"IF(ISBLANK('Data Input'!C368),\"\",SUM('Data Input'!P368))","v":""},{"$f":"IF(R364=\"\",\"\",R364/COUNTIF('Data Input'!$C$8:$AQ$8,$R$2))","v":""}]
[{"$f":"IF('Data Input'!A369=0,\"\",'Data Input'!A369)","v":""},{"$f":"IF(H365=\"\",\"\",IF(H365>Welcome!$K$23-1,\"Exceeding\",IF(H365>Welcome!$G$23-1,\"Expected\",IF(H365<Welcome!$G$23,\"Below\"))))","v":""},{"$f":"IF(ISBLANK('Data Input'!A369),\"\",COUNTIF('Data Input'!C369:AQ369,\"\")-1)","v":""},{"$f":"IF(ISBLANK('Data Input'!A369),\"\",COUNTIF('Data Input'!C369:AQ369,\"0\"))","v":""},{"$f":"IF(ISBLANK('Data Input'!A369),\"\",SUM(C365,D365))","v":""},{"$f":"IF(ISBLANK('Data Input'!A369),\"\",SUM('Data Input'!C369:V369))","v":""},{"$f":"IF(ISBLANK('Data Input'!A369),\"\",SUM('Data Input'!X369:AQ369))","v":""},{"$f":"IF(ISBLANK('Data Input'!A369),\"\",SUM('Data Input'!C369:AQ369))","v":""},{"$f":"IF(H365=\"\",\"\",H365/(COUNTA('Data Input'!$C$8:$AQ$8)-1))","v":""},{"$f":"IF(ISBLANK('Data Input'!A369),\"\",SUM('Data Input'!I369,'Data Input'!M369,'Data Input'!AB369,'Data Input'!AE369))","v":""},{"$f":"IF(J365=\"\",\"\",J365/COUNTIF('Data Input'!$C$8:$AQ$8,$J$2))","v":""},{"$f":"IF(ISBLANK('Data Input'!A369),\"\",SUM('Data Input'!E369,'Data Input'!G369,'Data Input'!H369,'Data Input'!L369,'Data Input'!N369,'Data Input'!Q369,'Data Input'!R369,'Data Input'!T369,'Data Input'!U369,'Data Input'!V369,'Data Input'!X369,'Data Input'!Y369,'Data Input'!Z369,'Data Input'!AA369,'Data Input'!AC369,'Data Input'!AD369,'Data Input'!AF369,'Data Input'!AG369,'Data Input'!AH369,'Data Input'!AI369,'Data Input'!AJ369,'Data Input'!AK369,'Data Input'!AL369))","v":""},{"$f":"IF(L365=\"\",\"\",L365/COUNTIF('Data Input'!$C$8:$AQ$8,$L$2))","v":""},{"$f":"IF(ISBLANK('Data Input'!A369),\"\",SUM('Data Input'!K369,'Data Input'!AQ369))","v":""},{"$f":"IF(N365=\"\",\"\",N365/COUNTIF('Data Input'!$C$8:$AQ$8,$N$2))","v":""},{"$f":"IF(ISBLANK('Data Input'!A369),\"\",SUM('Data Input'!C369,'Data Input'!D369,'Data Input'!F369,'Data Input'!J369,'Data Input'!O369,'Data Input'!S369,'Data Input'!AM369,'Data Input'!AN369,'Data Input'!AO369,'Data Input'!AP369))","v":""},{"$f":"IF(P365=\"\",\"\",P365/COUNTIF('Data Input'!$C$8:$AQ$8,$P$2))","v":""},{"$f":"IF(ISBLANK('Data Input'!C369),\"\",SUM('Data Input'!P369))","v":""},{"$f":"IF(R365=\"\",\"\",R365/COUNTIF('Data Input'!$C$8:$AQ$8,$R$2))","v":""}]
[{"$f":"IF('Data Input'!A370=0,\"\",'Data Input'!A370)","v":""},{"$f":"IF(H366=\"\",\"\",IF(H366>Welcome!$K$23-1,\"Exceeding\",IF(H366>Welcome!$G$23-1,\"Expected\",IF(H366<Welcome!$G$23,\"Below\"))))","v":""},{"$f":"IF(ISBLANK('Data Input'!A370),\"\",COUNTIF('Data Input'!C370:AQ370,\"\")-1)","v":""},{"$f":"IF(ISBLANK('Data Input'!A370),\"\",COUNTIF('Data Input'!C370:AQ370,\"0\"))","v":""},{"$f":"IF(ISBLANK('Data Input'!A370),\"\",SUM(C366,D366))","v":""},{"$f":"IF(ISBLANK('Data Input'!A370),\"\",SUM('Data Input'!C370:V370))","v":""},{"$f":"IF(ISBLANK('Data Input'!A370),\"\",SUM('Data Input'!X370:AQ370))","v":""},{"$f":"IF(ISBLANK('Data Input'!A370),\"\",SUM('Data Input'!C370:AQ370))","v":""},{"$f":"IF(H366=\"\",\"\",H366/(COUNTA('Data Input'!$C$8:$AQ$8)-1))","v":""},{"$f":"IF(ISBLANK('Data Input'!A370),\"\",SUM('Data Input'!I370,'Data Input'!M370,'Data Input'!AB370,'Data Input'!AE370))","v":""},{"$f":"IF(J366=\"\",\"\",J366/COUNTIF('Data Input'!$C$8:$AQ$8,$J$2))","v":""},{"$f":"IF(ISBLANK('Data Input'!A370),\"\",SUM('Data Input'!E370,'Data Input'!G370,'Data Input'!H370,'Data Input'!L370,'Data Input'!N370,'Data Input'!Q370,'Data Input'!R370,'Data Input'!T370,'Data Input'!U370,'Data Input'!V370,'Data Input'!X370,'Data Input'!Y370,'Data Input'!Z370,'Data Input'!AA370,'Data Input'!AC370,'Data Input'!AD370,'Data Input'!AF370,'Data Input'!AG370,'Data Input'!AH370,'Data Input'!AI370,'Data Input'!AJ370,'Data Input'!AK370,'Data Input'!AL370))","v":""},{"$f":"IF(L366=\"\",\"\",L366/COUNTIF('Data Input'!$C$8:$AQ$8,$L$2))","v":""},{"$f":"IF(ISBLANK('Data Input'!A370),\"\",SUM('Data Input'!K370,'Data Input'!AQ370))","v":""},{"$f":"IF(N366=\"\",\"\",N366/COUNTIF('Data Input'!$C$8:$AQ$8,$N$2))","v":""},{"$f":"IF(ISBLANK('Data Input'!A370),\"\",SUM('Data Input'!C370,'Data Input'!D370,'Data Input'!F370,'Data Input'!J370,'Data Input'!O370,'Data Input'!S370,'Data Input'!AM370,'Data Input'!AN370,'Data Input'!AO370,'Data Input'!AP370))","v":""},{"$f":"IF(P366=\"\",\"\",P366/COUNTIF('Data Input'!$C$8:$AQ$8,$P$2))","v":""},{"$f":"IF(ISBLANK('Data Input'!C370),\"\",SUM('Data Input'!P370))","v":""},{"$f":"IF(R366=\"\",\"\",R366/COUNTIF('Data Input'!$C$8:$AQ$8,$R$2))","v":""}]
[{"$f":"IF('Data Input'!A371=0,\"\",'Data Input'!A371)","v":""},{"$f":"IF(H367=\"\",\"\",IF(H367>Welcome!$K$23-1,\"Exceeding\",IF(H367>Welcome!$G$23-1,\"Expected\",IF(H367<Welcome!$G$23,\"Below\"))))","v":""},{"$f":"IF(ISBLANK('Data Input'!A371),\"\",COUNTIF('Data Input'!C371:AQ371,\"\")-1)","v":""},{"$f":"IF(ISBLANK('Data Input'!A371),\"\",COUNTIF('Data Input'!C371:AQ371,\"0\"))","v":""},{"$f":"IF(ISBLANK('Data Input'!A371),\"\",SUM(C367,D367))","v":""},{"$f":"IF(ISBLANK('Data Input'!A371),\"\",SUM('Data Input'!C371:V371))","v":""},{"$f":"IF(ISBLANK('Data Input'!A371),\"\",SUM('Data Input'!X371:AQ371))","v":""},{"$f":"IF(ISBLANK('Data Input'!A371),\"\",SUM('Data Input'!C371:AQ371))","v":""},{"$f":"IF(H367=\"\",\"\",H367/(COUNTA('Data Input'!$C$8:$AQ$8)-1))","v":""},{"$f":"IF(ISBLANK('Data Input'!A371),\"\",SUM('Data Input'!I371,'Data Input'!M371,'Data Input'!AB371,'Data Input'!AE371))","v":""},{"$f":"IF(J367=\"\",\"\",J367/COUNTIF('Data Input'!$C$8:$AQ$8,$J$2))","v":""},{"$f":"IF(ISBLANK('Data Input'!A371),\"\",SUM('Data Input'!E371,'Data Input'!G371,'Data Input'!H371,'Data Input'!L371,'Data Input'!N371,'Data Input'!Q371,'Data Input'!R371,'Data Input'!T371,'Data Input'!U371,'Data Input'!V371,'Data Input'!X371,'Data Input'!Y371,'Data Input'!Z371,'Data Input'!AA371,'Data Input'!AC371,'Data Input'!AD371,'Data Input'!AF371,'Data Input'!AG371,'Data Input'!AH371,'Data Input'!AI371,'Data Input'!AJ371,'Data Input'!AK371,'Data Input'!AL371))","v":""},{"$f":"IF(L367=\"\",\"\",L367/COUNTIF('Data Input'!$C$8:$AQ$8,$L$2))","v":""},{"$f":"IF(ISBLANK('Data Input'!A371),\"\",SUM('Data Input'!K371,'Data Input'!AQ371))","v":""},{"$f":"IF(N367=\"\",\"\",N367/COUNTIF('Data Input'!$C$8:$AQ$8,$N$2))","v":""},{"$f":"IF(ISBLANK('Data Input'!A371),\"\",SUM('Data Input'!C371,'Data Input'!D371,'Data Input'!F371,'Data Input'!J371,'Data Input'!O371,'Data Input'!S371,'Data Input'!AM371,'Data Input'!AN371,'Data Input'!AO371,'Data Input'!AP371))","v":""},{"$f":"IF(P367=\"\",\"\",P367/COUNTIF('Data Input'!$C$8:$AQ$8,$P$2))","v":""},{"$f":"IF(ISBLANK('Data Input'!C371),\"\",SUM('Data Input'!P371))","v":""},{"$f":"IF(R367=\"\",\"\",R367/COUNTIF('Data Input'!$C$8:$AQ$8,$R$2))","v":""}]
[{"$f":"IF('Data Input'!A372=0,\"\",'Data Input'!A372)","v":""},{"$f":"IF(H368=\"\",\"\",IF(H368>Welcome!$K$23-1,\"Exceeding\",IF(H368>Welcome!$G$23-1,\"Expected\",IF(H368<Welcome!$G$23,\"Below\"))))","v":""},{"$f":"IF(ISBLANK('Data Input'!A372),\"\",COUNTIF('Data Input'!C372:AQ372,\"\")-1)","v":""},{"$f":"IF(ISBLANK('Data Input'!A372),\"\",COUNTIF('Data Input'!C372:AQ372,\"0\"))","v":""},{"$f":"IF(ISBLANK('Data Input'!A372),\"\",SUM(C368,D368))","v":""},{"$f":"IF(ISBLANK('Data Input'!A372),\"\",SUM('Data Input'!C372:V372))","v":""},{"$f":"IF(ISBLANK('Data Input'!A372),\"\",SUM('Data Input'!X372:AQ372))","v":""},{"$f":"IF(ISBLANK('Data Input'!A372),\"\",SUM('Data Input'!C372:AQ372))","v":""},{"$f":"IF(H368=\"\",\"\",H368/(COUNTA('Data Input'!$C$8:$AQ$8)-1))","v":""},{"$f":"IF(ISBLANK('Data Input'!A372),\"\",SUM('Data Input'!I372,'Data Input'!M372,'Data Input'!AB372,'Data Input'!AE372))","v":""},{"$f":"IF(J368=\"\",\"\",J368/COUNTIF('Data Input'!$C$8:$AQ$8,$J$2))","v":""},{"$f":"IF(ISBLANK('Data Input'!A372),\"\",SUM('Data Input'!E372,'Data Input'!G372,'Data Input'!H372,'Data Input'!L372,'Data Input'!N372,'Data Input'!Q372,'Data Input'!R372,'Data Input'!T372,'Data Input'!U372,'Data Input'!V372,'Data Input'!X372,'Data Input'!Y372,'Data Input'!Z372,'Data Input'!AA372,'Data Input'!AC372,'Data Input'!AD372,'Data Input'!AF372,'Data Input'!AG372,'Data Input'!AH372,'Data Input'!AI372,'Data Input'!AJ372,'Data Input'!AK372,'Data Input'!AL372))","v":""},{"$f":"IF(L368=\"\",\"\",L368/COUNTIF('Data Input'!$C$8:$AQ$8,$L$2))","v":""},{"$f":"IF(ISBLANK('Data Input'!A372),\"\",SUM('Data Input'!K372,'Data Input'!AQ372))","v":""},{"$f":"IF(N368=\"\",\"\",N368/COUNTIF('Data Input'!$C$8:$AQ$8,$N$2))","v":""},{"$f":"IF(ISBLANK('Data Input'!A372),\"\",SUM('Data Input'!C372,'Data Input'!D372,'Data Input'!F372,'Data Input'!J372,'Data Input'!O372,'Data Input'!S372,'Data Input'!AM372,'Data Input'!AN372,'Data Input'!AO372,'Data Input'!AP372))","v":""},{"$f":"IF(P368=\"\",\"\",P368/COUNTIF('Data Input'!$C$8:$AQ$8,$P$2))","v":""},{"$f":"IF(ISBLANK('Data Input'!C372),\"\",SUM('Data Input'!P372))","v":""},{"$f":"IF(R368=\"\",\"\",R368/COUNTIF('Data Input'!$C$8:$AQ$8,$R$2))","v":""}]
[{"$f":"IF('Data Input'!A373=0,\"\",'Data Input'!A373)","v":""},{"$f":"IF(H369=\"\",\"\",IF(H369>Welcome!$K$23-1,\"Exceeding\",IF(H369>Welcome!$G$23-1,\"Expected\",IF(H369<Welcome!$G$23,\"Below\"))))","v":""},{"$f":"IF(ISBLANK('Data Input'!A373),\"\",COUNTIF('Data Input'!C373:AQ373,\"\")-1)","v":""},{"$f":"IF(ISBLANK('Data Input'!A373),\"\",COUNTIF('Data Input'!C373:AQ373,\"0\"))","v":""},{"$f":"IF(ISBLANK('Data Input'!A373),\"\",SUM(C369,D369))","v":""},{"$f":"IF(ISBLANK('Data Input'!A373),\"\",SUM('Data Input'!C373:V373))","v":""},{"$f":"IF(ISBLANK('Data Input'!A373),\"\",SUM('Data Input'!X373:AQ373))","v":""},{"$f":"IF(ISBLANK('Data Input'!A373),\"\",SUM('Data Input'!C373:AQ373))","v":""},{"$f":"IF(H369=\"\",\"\",H369/(COUNTA('Data Input'!$C$8:$AQ$8)-1))","v":""},{"$f":"IF(ISBLANK('Data Input'!A373),\"\",SUM('Data Input'!I373,'Data Input'!M373,'Data Input'!AB373,'Data Input'!AE373))","v":""},{"$f":"IF(J369=\"\",\"\",J369/COUNTIF('Data Input'!$C$8:$AQ$8,$J$2))","v":""},{"$f":"IF(ISBLANK('Data Input'!A373),\"\",SUM('Data Input'!E373,'Data Input'!G373,'Data Input'!H373,'Data Input'!L373,'Data Input'!N373,'Data Input'!Q373,'Data Input'!R373,'Data Input'!T373,'Data Input'!U373,'Data Input'!V373,'Data Input'!X373,'Data Input'!Y373,'Data Input'!Z373,'Data Input'!AA373,'Data Input'!AC373,'Data Input'!AD373,'Data Input'!AF373,'Data Input'!AG373,'Data Input'!AH373,'Data Input'!AI373,'Data Input'!AJ373,'Data Input'!AK373,'Data Input'!AL373))","v":""},{"$f":"IF(L369=\"\",\"\",L369/COUNTIF('Data Input'!$C$8:$AQ$8,$L$2))","v":""},{"$f":"IF(ISBLANK('Data Input'!A373),\"\",SUM('Data Input'!K373,'Data Input'!AQ373))","v":""},{"$f":"IF(N369=\"\",\"\",N369/COUNTIF('Data Input'!$C$8:$AQ$8,$N$2))","v":""},{"$f":"IF(ISBLANK('Data Input'!A373),\"\",SUM('Data Input'!C373,'Data Input'!D373,'Data Input'!F373,'Data Input'!J373,'Data Input'!O373,'Data Input'!S373,'Data Input'!AM373,'Data Input'!AN373,'Data Input'!AO373,'Data Input'!AP373))","v":""},{"$f":"IF(P369=\"\",\"\",P369/COUNTIF('Data Input'!$C$8:$AQ$8,$P$2))","v":""},{"$f":"IF(ISBLANK('Data Input'!C373),\"\",SUM('Data Input'!P373))","v":""},{"$f":"IF(R369=\"\",\"\",R369/COUNTIF('Data Input'!$C$8:$AQ$8,$R$2))","v":""}]
[{"$f":"IF('Data Input'!A374=0,\"\",'Data Input'!A374)","v":""},{"$f":"IF(H370=\"\",\"\",IF(H370>Welcome!$K$23-1,\"Exceeding\",IF(H370>Welcome!$G$23-1,\"Expected\",IF(H370<Welcome!$G$23,\"Below\"))))","v":""},{"$f":"IF(ISBLANK('Data Input'!A374),\"\",COUNTIF('Data Input'!C374:AQ374,\"\")-1)","v":""},{"$f":"IF(ISBLANK('Data Input'!A374),\"\",COUNTIF('Data Input'!C374:AQ374,\"0\"))","v":""},{"$f":"IF(ISBLANK('Data Input'!A374),\"\",SUM(C370,D370))","v":""},{"$f":"IF(ISBLANK('Data Input'!A374),\"\",SUM('Data Input'!C374:V374))","v":""},{"$f":"IF(ISBLANK('Data Input'!A374),\"\",SUM('Data Input'!X374:AQ374))","v":""},{"$f":"IF(ISBLANK('Data Input'!A374),\"\",SUM('Data Input'!C374:AQ374))","v":""},{"$f":"IF(H370=\"\",\"\",H370/(COUNTA('Data Input'!$C$8:$AQ$8)-1))","v":""},{"$f":"IF(ISBLANK('Data Input'!A374),\"\",SUM('Data Input'!I374,'Data Input'!M374,'Data Input'!AB374,'Data Input'!AE374))","v":""},{"$f":"IF(J370=\"\",\"\",J370/COUNTIF('Data Input'!$C$8:$AQ$8,$J$2))","v":""},{"$f":"IF(ISBLANK('Data Input'!A374),\"\",SUM('Data Input'!E374,'Data Input'!G374,'Data Input'!H374,'Data Input'!L374,'Data Input'!N374,'Data Input'!Q374,'Data Input'!R374,'Data Input'!T374,'Data Input'!U374,'Data Input'!V374,'Data Input'!X374,'Data Input'!Y374,'Data Input'!Z374,'Data Input'!AA374,'Data Input'!AC374,'Data Input'!AD374,'Data Input'!AF374,'Data Input'!AG374,'Data Input'!AH374,'Data Input'!AI374,'Data Input'!AJ374,'Data Input'!AK374,'Data Input'!AL374))","v":""},{"$f":"IF(L370=\"\",\"\",L370/COUNTIF('Data Input'!$C$8:$AQ$8,$L$2))","v":""},{"$f":"IF(ISBLANK('Data Input'!A374),\"\",SUM('Data Input'!K374,'Data Input'!AQ374))","v":""},{"$f":"IF(N370=\"\",\"\",N370/COUNTIF('Data Input'!$C$8:$AQ$8,$N$2))","v":""},{"$f":"IF(ISBLANK('Data Input'!A374),\"\",SUM('Data Input'!C374,'Data Input'!D374,'Data Input'!F374,'Data Input'!J374,'Data Input'!O374,'Data Input'!S374,'Data Input'!AM374,'Data Input'!AN374,'Data Input'!AO374,'Data Input'!AP374))","v":""},{"$f":"IF(P370=\"\",\"\",P370/COUNTIF('Data Input'!$C$8:$AQ$8,$P$2))","v":""},{"$f":"IF(ISBLANK('Data Input'!C374),\"\",SUM('Data Input'!P374))","v":""},{"$f":"IF(R370=\"\",\"\",R370/COUNTIF('Data Input'!$C$8:$AQ$8,$R$2))","v":""}]
[{"$f":"IF('Data Input'!A375=0,\"\",'Data Input'!A375)","v":""},{"$f":"IF(H371=\"\",\"\",IF(H371>Welcome!$K$23-1,\"Exceeding\",IF(H371>Welcome!$G$23-1,\"Expected\",IF(H371<Welcome!$G$23,\"Below\"))))","v":""},{"$f":"IF(ISBLANK('Data Input'!A375),\"\",COUNTIF('Data Input'!C375:AQ375,\"\")-1)","v":""},{"$f":"IF(ISBLANK('Data Input'!A375),\"\",COUNTIF('Data Input'!C375:AQ375,\"0\"))","v":""},{"$f":"IF(ISBLANK('Data Input'!A375),\"\",SUM(C371,D371))","v":""},{"$f":"IF(ISBLANK('Data Input'!A375),\"\",SUM('Data Input'!C375:V375))","v":""},{"$f":"IF(ISBLANK('Data Input'!A375),\"\",SUM('Data Input'!X375:AQ375))","v":""},{"$f":"IF(ISBLANK('Data Input'!A375),\"\",SUM('Data Input'!C375:AQ375))","v":""},{"$f":"IF(H371=\"\",\"\",H371/(COUNTA('Data Input'!$C$8:$AQ$8)-1))","v":""},{"$f":"IF(ISBLANK('Data Input'!A375),\"\",SUM('Data Input'!I375,'Data Input'!M375,'Data Input'!AB375,'Data Input'!AE375))","v":""},{"$f":"IF(J371=\"\",\"\",J371/COUNTIF('Data Input'!$C$8:$AQ$8,$J$2))","v":""},{"$f":"IF(ISBLANK('Data Input'!A375),\"\",SUM('Data Input'!E375,'Data Input'!G375,'Data Input'!H375,'Data Input'!L375,'Data Input'!N375,'Data Input'!Q375,'Data Input'!R375,'Data Input'!T375,'Data Input'!U375,'Data Input'!V375,'Data Input'!X375,'Data Input'!Y375,'Data Input'!Z375,'Data Input'!AA375,'Data Input'!AC375,'Data Input'!AD375,'Data Input'!AF375,'Data Input'!AG375,'Data Input'!AH375,'Data Input'!AI375,'Data Input'!AJ375,'Data Input'!AK375,'Data Input'!AL375))","v":""},{"$f":"IF(L371=\"\",\"\",L371/COUNTIF('Data Input'!$C$8:$AQ$8,$L$2))","v":""},{"$f":"IF(ISBLANK('Data Input'!A375),\"\",SUM('Data Input'!K375,'Data Input'!AQ375))","v":""},{"$f":"IF(N371=\"\",\"\",N371/COUNTIF('Data Input'!$C$8:$AQ$8,$N$2))","v":""},{"$f":"IF(ISBLANK('Data Input'!A375),\"\",SUM('Data Input'!C375,'Data Input'!D375,'Data Input'!F375,'Data Input'!J375,'Data Input'!O375,'Data Input'!S375,'Data Input'!AM375,'Data Input'!AN375,'Data Input'!AO375,'Data Input'!AP375))","v":""},{"$f":"IF(P371=\"\",\"\",P371/COUNTIF('Data Input'!$C$8:$AQ$8,$P$2))","v":""},{"$f":"IF(ISBLANK('Data Input'!C375),\"\",SUM('Data Input'!P375))","v":""},{"$f":"IF(R371=\"\",\"\",R371/COUNTIF('Data Input'!$C$8:$AQ$8,$R$2))","v":""}]
[{"$f":"IF('Data Input'!A376=0,\"\",'Data Input'!A376)","v":""},{"$f":"IF(H372=\"\",\"\",IF(H372>Welcome!$K$23-1,\"Exceeding\",IF(H372>Welcome!$G$23-1,\"Expected\",IF(H372<Welcome!$G$23,\"Below\"))))","v":""},{"$f":"IF(ISBLANK('Data Input'!A376),\"\",COUNTIF('Data Input'!C376:AQ376,\"\")-1)","v":""},{"$f":"IF(ISBLANK('Data Input'!A376),\"\",COUNTIF('Data Input'!C376:AQ376,\"0\"))","v":""},{"$f":"IF(ISBLANK('Data Input'!A376),\"\",SUM(C372,D372))","v":""},{"$f":"IF(ISBLANK('Data Input'!A376),\"\",SUM('Data Input'!C376:V376))","v":""},{"$f":"IF(ISBLANK('Data Input'!A376),\"\",SUM('Data Input'!X376:AQ376))","v":""},{"$f":"IF(ISBLANK('Data Input'!A376),\"\",SUM('Data Input'!C376:AQ376))","v":""},{"$f":"IF(H372=\"\",\"\",H372/(COUNTA('Data Input'!$C$8:$AQ$8)-1))","v":""},{"$f":"IF(ISBLANK('Data Input'!A376),\"\",SUM('Data Input'!I376,'Data Input'!M376,'Data Input'!AB376,'Data Input'!AE376))","v":""},{"$f":"IF(J372=\"\",\"\",J372/COUNTIF('Data Input'!$C$8:$AQ$8,$J$2))","v":""},{"$f":"IF(ISBLANK('Data Input'!A376),\"\",SUM('Data Input'!E376,'Data Input'!G376,'Data Input'!H376,'Data Input'!L376,'Data Input'!N376,'Data Input'!Q376,'Data Input'!R376,'Data Input'!T376,'Data Input'!U376,'Data Input'!V376,'Data Input'!X376,'Data Input'!Y376,'Data Input'!Z376,'Data Input'!AA376,'Data Input'!AC376,'Data Input'!AD376,'Data Input'!AF376,'Data Input'!AG376,'Data Input'!AH376,'Data Input'!AI376,'Data Input'!AJ376,'Data Input'!AK376,'Data Input'!AL376))","v":""},{"$f":"IF(L372=\"\",\"\",L372/COUNTIF('Data Input'!$C$8:$AQ$8,$L$2))","v":""},{"$f":"IF(ISBLANK('Data Input'!A376),\"\",SUM('Data Input'!K376,'Data Input'!AQ376))","v":""},{"$f":"IF(N372=\"\",\"\",N372/COUNTIF('Data Input'!$C$8:$AQ$8,$N$2))","v":""},{"$f":"IF(ISBLANK('Data Input'!A376),\"\",SUM('Data Input'!C376,'Data Input'!D376,'Data Input'!F376,'Data Input'!J376,'Data Input'!O376,'Data Input'!S376,'Data Input'!AM376,'Data Input'!AN376,'Data Input'!AO376,'Data Input'!AP376))","v":""},{"$f":"IF(P372=\"\",\"\",P372/COUNTIF('Data Input'!$C$8:$AQ$8,$P$2))","v":""},{"$f":"IF(ISBLANK('Data Input'!C376),\"\",SUM('Data Input'!P376))","v":""},{"$f":"IF(R372=\"\",\"\",R372/COUNTIF('Data Input'!$C$8:$AQ$8,$R$2))","v":""}]
[{"$f":"IF('Data Input'!A377=0,\"\",'Data Input'!A377)","v":""},{"$f":"IF(H373=\"\",\"\",IF(H373>Welcome!$K$23-1,\"Exceeding\",IF(H373>Welcome!$G$23-1,\"Expected\",IF(H373<Welcome!$G$23,\"Below\"))))","v":""},{"$f":"IF(ISBLANK('Data Input'!A377),\"\",COUNTIF('Data Input'!C377:AQ377,\"\")-1)","v":""},{"$f":"IF(ISBLANK('Data Input'!A377),\"\",COUNTIF('Data Input'!C377:AQ377,\"0\"))","v":""},{"$f":"IF(ISBLANK('Data Input'!A377),\"\",SUM(C373,D373))","v":""},{"$f":"IF(ISBLANK('Data Input'!A377),\"\",SUM('Data Input'!C377:V377))","v":""},{"$f":"IF(ISBLANK('Data Input'!A377),\"\",SUM('Data Input'!X377:AQ377))","v":""},{"$f":"IF(ISBLANK('Data Input'!A377),\"\",SUM('Data Input'!C377:AQ377))","v":""},{"$f":"IF(H373=\"\",\"\",H373/(COUNTA('Data Input'!$C$8:$AQ$8)-1))","v":""},{"$f":"IF(ISBLANK('Data Input'!A377),\"\",SUM('Data Input'!I377,'Data Input'!M377,'Data Input'!AB377,'Data Input'!AE377))","v":""},{"$f":"IF(J373=\"\",\"\",J373/COUNTIF('Data Input'!$C$8:$AQ$8,$J$2))","v":""},{"$f":"IF(ISBLANK('Data Input'!A377),\"\",SUM('Data Input'!E377,'Data Input'!G377,'Data Input'!H377,'Data Input'!L377,'Data Input'!N377,'Data Input'!Q377,'Data Input'!R377,'Data Input'!T377,'Data Input'!U377,'Data Input'!V377,'Data Input'!X377,'Data Input'!Y377,'Data Input'!Z377,'Data Input'!AA377,'Data Input'!AC377,'Data Input'!AD377,'Data Input'!AF377,'Data Input'!AG377,'Data Input'!AH377,'Data Input'!AI377,'Data Input'!AJ377,'Data Input'!AK377,'Data Input'!AL377))","v":""},{"$f":"IF(L373=\"\",\"\",L373/COUNTIF('Data Input'!$C$8:$AQ$8,$L$2))","v":""},{"$f":"IF(ISBLANK('Data Input'!A377),\"\",SUM('Data Input'!K377,'Data Input'!AQ377))","v":""},{"$f":"IF(N373=\"\",\"\",N373/COUNTIF('Data Input'!$C$8:$AQ$8,$N$2))","v":""},{"$f":"IF(ISBLANK('Data Input'!A377),\"\",SUM('Data Input'!C377,'Data Input'!D377,'Data Input'!F377,'Data Input'!J377,'Data Input'!O377,'Data Input'!S377,'Data Input'!AM377,'Data Input'!AN377,'Data Input'!AO377,'Data Input'!AP377))","v":""},{"$f":"IF(P373=\"\",\"\",P373/COUNTIF('Data Input'!$C$8:$AQ$8,$P$2))","v":""},{"$f":"IF(ISBLANK('Data Input'!C377),\"\",SUM('Data Input'!P377))","v":""},{"$f":"IF(R373=\"\",\"\",R373/COUNTIF('Data Input'!$C$8:$AQ$8,$R$2))","v":""}]
[{"$f":"IF('Data Input'!A378=0,\"\",'Data Input'!A378)","v":""},{"$f":"IF(H374=\"\",\"\",IF(H374>Welcome!$K$23-1,\"Exceeding\",IF(H374>Welcome!$G$23-1,\"Expected\",IF(H374<Welcome!$G$23,\"Below\"))))","v":""},{"$f":"IF(ISBLANK('Data Input'!A378),\"\",COUNTIF('Data Input'!C378:AQ378,\"\")-1)","v":""},{"$f":"IF(ISBLANK('Data Input'!A378),\"\",COUNTIF('Data Input'!C378:AQ378,\"0\"))","v":""},{"$f":"IF(ISBLANK('Data Input'!A378),\"\",SUM(C374,D374))","v":""},{"$f":"IF(ISBLANK('Data Input'!A378),\"\",SUM('Data Input'!C378:V378))","v":""},{"$f":"IF(ISBLANK('Data Input'!A378),\"\",SUM('Data Input'!X378:AQ378))","v":""},{"$f":"IF(ISBLANK('Data Input'!A378),\"\",SUM('Data Input'!C378:AQ378))","v":""},{"$f":"IF(H374=\"\",\"\",H374/(COUNTA('Data Input'!$C$8:$AQ$8)-1))","v":""},{"$f":"IF(ISBLANK('Data Input'!A378),\"\",SUM('Data Input'!I378,'Data Input'!M378,'Data Input'!AB378,'Data Input'!AE378))","v":""},{"$f":"IF(J374=\"\",\"\",J374/COUNTIF('Data Input'!$C$8:$AQ$8,$J$2))","v":""},{"$f":"IF(ISBLANK('Data Input'!A378),\"\",SUM('Data Input'!E378,'Data Input'!G378,'Data Input'!H378,'Data Input'!L378,'Data Input'!N378,'Data Input'!Q378,'Data Input'!R378,'Data Input'!T378,'Data Input'!U378,'Data Input'!V378,'Data Input'!X378,'Data Input'!Y378,'Data Input'!Z378,'Data Input'!AA378,'Data Input'!AC378,'Data Input'!AD378,'Data Input'!AF378,'Data Input'!AG378,'Data Input'!AH378,'Data Input'!AI378,'Data Input'!AJ378,'Data Input'!AK378,'Data Input'!AL378))","v":""},{"$f":"IF(L374=\"\",\"\",L374/COUNTIF('Data Input'!$C$8:$AQ$8,$L$2))","v":""},{"$f":"IF(ISBLANK('Data Input'!A378),\"\",SUM('Data Input'!K378,'Data Input'!AQ378))","v":""},{"$f":"IF(N374=\"\",\"\",N374/COUNTIF('Data Input'!$C$8:$AQ$8,$N$2))","v":""},{"$f":"IF(ISBLANK('Data Input'!A378),\"\",SUM('Data Input'!C378,'Data Input'!D378,'Data Input'!F378,'Data Input'!J378,'Data Input'!O378,'Data Input'!S378,'Data Input'!AM378,'Data Input'!AN378,'Data Input'!AO378,'Data Input'!AP378))","v":""},{"$f":"IF(P374=\"\",\"\",P374/COUNTIF('Data Input'!$C$8:$AQ$8,$P$2))","v":""},{"$f":"IF(ISBLANK('Data Input'!C378),\"\",SUM('Data Input'!P378))","v":""},{"$f":"IF(R374=\"\",\"\",R374/COUNTIF('Data Input'!$C$8:$AQ$8,$R$2))","v":""}]
[{"$f":"IF('Data Input'!A379=0,\"\",'Data Input'!A379)","v":""},{"$f":"IF(H375=\"\",\"\",IF(H375>Welcome!$K$23-1,\"Exceeding\",IF(H375>Welcome!$G$23-1,\"Expected\",IF(H375<Welcome!$G$23,\"Below\"))))","v":""},{"$f":"IF(ISBLANK('Data Input'!A379),\"\",COUNTIF('Data Input'!C379:AQ379,\"\")-1)","v":""},{"$f":"IF(ISBLANK('Data Input'!A379),\"\",COUNTIF('Data Input'!C379:AQ379,\"0\"))","v":""},{"$f":"IF(ISBLANK('Data Input'!A379),\"\",SUM(C375,D375))","v":""},{"$f":"IF(ISBLANK('Data Input'!A379),\"\",SUM('Data Input'!C379:V379))","v":""},{"$f":"IF(ISBLANK('Data Input'!A379),\"\",SUM('Data Input'!X379:AQ379))","v":""},{"$f":"IF(ISBLANK('Data Input'!A379),\"\",SUM('Data Input'!C379:AQ379))","v":""},{"$f":"IF(H375=\"\",\"\",H375/(COUNTA('Data Input'!$C$8:$AQ$8)-1))","v":""},{"$f":"IF(ISBLANK('Data Input'!A379),\"\",SUM('Data Input'!I379,'Data Input'!M379,'Data Input'!AB379,'Data Input'!AE379))","v":""},{"$f":"IF(J375=\"\",\"\",J375/COUNTIF('Data Input'!$C$8:$AQ$8,$J$2))","v":""},{"$f":"IF(ISBLANK('Data Input'!A379),\"\",SUM('Data Input'!E379,'Data Input'!G379,'Data Input'!H379,'Data Input'!L379,'Data Input'!N379,'Data Input'!Q379,'Data Input'!R379,'Data Input'!T379,'Data Input'!U379,'Data Input'!V379,'Data Input'!X379,'Data Input'!Y379,'Data Input'!Z379,'Data Input'!AA379,'Data Input'!AC379,'Data Input'!AD379,'Data Input'!AF379,'Data Input'!AG379,'Data Input'!AH379,'Data Input'!AI379,'Data Input'!AJ379,'Data Input'!AK379,'Data Input'!AL379))","v":""},{"$f":"IF(L375=\"\",\"\",L375/COUNTIF('Data Input'!$C$8:$AQ$8,$L$2))","v":""},{"$f":"IF(ISBLANK('Data Input'!A379),\"\",SUM('Data Input'!K379,'Data Input'!AQ379))","v":""},{"$f":"IF(N375=\"\",\"\",N375/COUNTIF('Data Input'!$C$8:$AQ$8,$N$2))","v":""},{"$f":"IF(ISBLANK('Data Input'!A379),\"\",SUM('Data Input'!C379,'Data Input'!D379,'Data Input'!F379,'Data Input'!J379,'Data Input'!O379,'Data Input'!S379,'Data Input'!AM379,'Data Input'!AN379,'Data Input'!AO379,'Data Input'!AP379))","v":""},{"$f":"IF(P375=\"\",\"\",P375/COUNTIF('Data Input'!$C$8:$AQ$8,$P$2))","v":""},{"$f":"IF(ISBLANK('Data Input'!C379),\"\",SUM('Data Input'!P379))","v":""},{"$f":"IF(R375=\"\",\"\",R375/COUNTIF('Data Input'!$C$8:$AQ$8,$R$2))","v":""}]
[{"$f":"IF('Data Input'!A380=0,\"\",'Data Input'!A380)","v":""},{"$f":"IF(H376=\"\",\"\",IF(H376>Welcome!$K$23-1,\"Exceeding\",IF(H376>Welcome!$G$23-1,\"Expected\",IF(H376<Welcome!$G$23,\"Below\"))))","v":""},{"$f":"IF(ISBLANK('Data Input'!A380),\"\",COUNTIF('Data Input'!C380:AQ380,\"\")-1)","v":""},{"$f":"IF(ISBLANK('Data Input'!A380),\"\",COUNTIF('Data Input'!C380:AQ380,\"0\"))","v":""},{"$f":"IF(ISBLANK('Data Input'!A380),\"\",SUM(C376,D376))","v":""},{"$f":"IF(ISBLANK('Data Input'!A380),\"\",SUM('Data Input'!C380:V380))","v":""},{"$f":"IF(ISBLANK('Data Input'!A380),\"\",SUM('Data Input'!X380:AQ380))","v":""},{"$f":"IF(ISBLANK('Data Input'!A380),\"\",SUM('Data Input'!C380:AQ380))","v":""},{"$f":"IF(H376=\"\",\"\",H376/(COUNTA('Data Input'!$C$8:$AQ$8)-1))","v":""},{"$f":"IF(ISBLANK('Data Input'!A380),\"\",SUM('Data Input'!I380,'Data Input'!M380,'Data Input'!AB380,'Data Input'!AE380))","v":""},{"$f":"IF(J376=\"\",\"\",J376/COUNTIF('Data Input'!$C$8:$AQ$8,$J$2))","v":""},{"$f":"IF(ISBLANK('Data Input'!A380),\"\",SUM('Data Input'!E380,'Data Input'!G380,'Data Input'!H380,'Data Input'!L380,'Data Input'!N380,'Data Input'!Q380,'Data Input'!R380,'Data Input'!T380,'Data Input'!U380,'Data Input'!V380,'Data Input'!X380,'Data Input'!Y380,'Data Input'!Z380,'Data Input'!AA380,'Data Input'!AC380,'Data Input'!AD380,'Data Input'!AF380,'Data Input'!AG380,'Data Input'!AH380,'Data Input'!AI380,'Data Input'!AJ380,'Data Input'!AK380,'Data Input'!AL380))","v":""},{"$f":"IF(L376=\"\",\"\",L376/COUNTIF('Data Input'!$C$8:$AQ$8,$L$2))","v":""},{"$f":"IF(ISBLANK('Data Input'!A380),\"\",SUM('Data Input'!K380,'Data Input'!AQ380))","v":""},{"$f":"IF(N376=\"\",\"\",N376/COUNTIF('Data Input'!$C$8:$AQ$8,$N$2))","v":""},{"$f":"IF(ISBLANK('Data Input'!A380),\"\",SUM('Data Input'!C380,'Data Input'!D380,'Data Input'!F380,'Data Input'!J380,'Data Input'!O380,'Data Input'!S380,'Data Input'!AM380,'Data Input'!AN380,'Data Input'!AO380,'Data Input'!AP380))","v":""},{"$f":"IF(P376=\"\",\"\",P376/COUNTIF('Data Input'!$C$8:$AQ$8,$P$2))","v":""},{"$f":"IF(ISBLANK('Data Input'!C380),\"\",SUM('Data Input'!P380))","v":""},{"$f":"IF(R376=\"\",\"\",R376/COUNTIF('Data Input'!$C$8:$AQ$8,$R$2))","v":""}]
[{"$f":"IF('Data Input'!A381=0,\"\",'Data Input'!A381)","v":""},{"$f":"IF(H377=\"\",\"\",IF(H377>Welcome!$K$23-1,\"Exceeding\",IF(H377>Welcome!$G$23-1,\"Expected\",IF(H377<Welcome!$G$23,\"Below\"))))","v":""},{"$f":"IF(ISBLANK('Data Input'!A381),\"\",COUNTIF('Data Input'!C381:AQ381,\"\")-1)","v":""},{"$f":"IF(ISBLANK('Data Input'!A381),\"\",COUNTIF('Data Input'!C381:AQ381,\"0\"))","v":""},{"$f":"IF(ISBLANK('Data Input'!A381),\"\",SUM(C377,D377))","v":""},{"$f":"IF(ISBLANK('Data Input'!A381),\"\",SUM('Data Input'!C381:V381))","v":""},{"$f":"IF(ISBLANK('Data Input'!A381),\"\",SUM('Data Input'!X381:AQ381))","v":""},{"$f":"IF(ISBLANK('Data Input'!A381),\"\",SUM('Data Input'!C381:AQ381))","v":""},{"$f":"IF(H377=\"\",\"\",H377/(COUNTA('Data Input'!$C$8:$AQ$8)-1))","v":""},{"$f":"IF(ISBLANK('Data Input'!A381),\"\",SUM('Data Input'!I381,'Data Input'!M381,'Data Input'!AB381,'Data Input'!AE381))","v":""},{"$f":"IF(J377=\"\",\"\",J377/COUNTIF('Data Input'!$C$8:$AQ$8,$J$2))","v":""},{"$f":"IF(ISBLANK('Data Input'!A381),\"\",SUM('Data Input'!E381,'Data Input'!G381,'Data Input'!H381,'Data Input'!L381,'Data Input'!N381,'Data Input'!Q381,'Data Input'!R381,'Data Input'!T381,'Data Input'!U381,'Data Input'!V381,'Data Input'!X381,'Data Input'!Y381,'Data Input'!Z381,'Data Input'!AA381,'Data Input'!AC381,'Data Input'!AD381,'Data Input'!AF381,'Data Input'!AG381,'Data Input'!AH381,'Data Input'!AI381,'Data Input'!AJ381,'Data Input'!AK381,'Data Input'!AL381))","v":""},{"$f":"IF(L377=\"\",\"\",L377/COUNTIF('Data Input'!$C$8:$AQ$8,$L$2))","v":""},{"$f":"IF(ISBLANK('Data Input'!A381),\"\",SUM('Data Input'!K381,'Data Input'!AQ381))","v":""},{"$f":"IF(N377=\"\",\"\",N377/COUNTIF('Data Input'!$C$8:$AQ$8,$N$2))","v":""},{"$f":"IF(ISBLANK('Data Input'!A381),\"\",SUM('Data Input'!C381,'Data Input'!D381,'Data Input'!F381,'Data Input'!J381,'Data Input'!O381,'Data Input'!S381,'Data Input'!AM381,'Data Input'!AN381,'Data Input'!AO381,'Data Input'!AP381))","v":""},{"$f":"IF(P377=\"\",\"\",P377/COUNTIF('Data Input'!$C$8:$AQ$8,$P$2))","v":""},{"$f":"IF(ISBLANK('Data Input'!C381),\"\",SUM('Data Input'!P381))","v":""},{"$f":"IF(R377=\"\",\"\",R377/COUNTIF('Data Input'!$C$8:$AQ$8,$R$2))","v":""}]
[{"$f":"IF('Data Input'!A382=0,\"\",'Data Input'!A382)","v":""},{"$f":"IF(H378=\"\",\"\",IF(H378>Welcome!$K$23-1,\"Exceeding\",IF(H378>Welcome!$G$23-1,\"Expected\",IF(H378<Welcome!$G$23,\"Below\"))))","v":""},{"$f":"IF(ISBLANK('Data Input'!A382),\"\",COUNTIF('Data Input'!C382:AQ382,\"\")-1)","v":""},{"$f":"IF(ISBLANK('Data Input'!A382),\"\",COUNTIF('Data Input'!C382:AQ382,\"0\"))","v":""},{"$f":"IF(ISBLANK('Data Input'!A382),\"\",SUM(C378,D378))","v":""},{"$f":"IF(ISBLANK('Data Input'!A382),\"\",SUM('Data Input'!C382:V382))","v":""},{"$f":"IF(ISBLANK('Data Input'!A382),\"\",SUM('Data Input'!X382:AQ382))","v":""},{"$f":"IF(ISBLANK('Data Input'!A382),\"\",SUM('Data Input'!C382:AQ382))","v":""},{"$f":"IF(H378=\"\",\"\",H378/(COUNTA('Data Input'!$C$8:$AQ$8)-1))","v":""},{"$f":"IF(ISBLANK('Data Input'!A382),\"\",SUM('Data Input'!I382,'Data Input'!M382,'Data Input'!AB382,'Data Input'!AE382))","v":""},{"$f":"IF(J378=\"\",\"\",J378/COUNTIF('Data Input'!$C$8:$AQ$8,$J$2))","v":""},{"$f":"IF(ISBLANK('Data Input'!A382),\"\",SUM('Data Input'!E382,'Data Input'!G382,'Data Input'!H382,'Data Input'!L382,'Data Input'!N382,'Data Input'!Q382,'Data Input'!R382,'Data Input'!T382,'Data Input'!U382,'Data Input'!V382,'Data Input'!X382,'Data Input'!Y382,'Data Input'!Z382,'Data Input'!AA382,'Data Input'!AC382,'Data Input'!AD382,'Data Input'!AF382,'Data Input'!AG382,'Data Input'!AH382,'Data Input'!AI382,'Data Input'!AJ382,'Data Input'!AK382,'Data Input'!AL382))","v":""},{"$f":"IF(L378=\"\",\"\",L378/COUNTIF('Data Input'!$C$8:$AQ$8,$L$2))","v":""},{"$f":"IF(ISBLANK('Data Input'!A382),\"\",SUM('Data Input'!K382,'Data Input'!AQ382))","v":""},{"$f":"IF(N378=\"\",\"\",N378/COUNTIF('Data Input'!$C$8:$AQ$8,$N$2))","v":""},{"$f":"IF(ISBLANK('Data Input'!A382),\"\",SUM('Data Input'!C382,'Data Input'!D382,'Data Input'!F382,'Data Input'!J382,'Data Input'!O382,'Data Input'!S382,'Data Input'!AM382,'Data Input'!AN382,'Data Input'!AO382,'Data Input'!AP382))","v":""},{"$f":"IF(P378=\"\",\"\",P378/COUNTIF('Data Input'!$C$8:$AQ$8,$P$2))","v":""},{"$f":"IF(ISBLANK('Data Input'!C382),\"\",SUM('Data Input'!P382))","v":""},{"$f":"IF(R378=\"\",\"\",R378/COUNTIF('Data Input'!$C$8:$AQ$8,$R$2))","v":""}]
[{"$f":"IF('Data Input'!A383=0,\"\",'Data Input'!A383)","v":""},{"$f":"IF(H379=\"\",\"\",IF(H379>Welcome!$K$23-1,\"Exceeding\",IF(H379>Welcome!$G$23-1,\"Expected\",IF(H379<Welcome!$G$23,\"Below\"))))","v":""},{"$f":"IF(ISBLANK('Data Input'!A383),\"\",COUNTIF('Data Input'!C383:AQ383,\"\")-1)","v":""},{"$f":"IF(ISBLANK('Data Input'!A383),\"\",COUNTIF('Data Input'!C383:AQ383,\"0\"))","v":""},{"$f":"IF(ISBLANK('Data Input'!A383),\"\",SUM(C379,D379))","v":""},{"$f":"IF(ISBLANK('Data Input'!A383),\"\",SUM('Data Input'!C383:V383))","v":""},{"$f":"IF(ISBLANK('Data Input'!A383),\"\",SUM('Data Input'!X383:AQ383))","v":""},{"$f":"IF(ISBLANK('Data Input'!A383),\"\",SUM('Data Input'!C383:AQ383))","v":""},{"$f":"IF(H379=\"\",\"\",H379/(COUNTA('Data Input'!$C$8:$AQ$8)-1))","v":""},{"$f":"IF(ISBLANK('Data Input'!A383),\"\",SUM('Data Input'!I383,'Data Input'!M383,'Data Input'!AB383,'Data Input'!AE383))","v":""},{"$f":"IF(J379=\"\",\"\",J379/COUNTIF('Data Input'!$C$8:$AQ$8,$J$2))","v":""},{"$f":"IF(ISBLANK('Data Input'!A383),\"\",SUM('Data Input'!E383,'Data Input'!G383,'Data Input'!H383,'Data Input'!L383,'Data Input'!N383,'Data Input'!Q383,'Data Input'!R383,'Data Input'!T383,'Data Input'!U383,'Data Input'!V383,'Data Input'!X383,'Data Input'!Y383,'Data Input'!Z383,'Data Input'!AA383,'Data Input'!AC383,'Data Input'!AD383,'Data Input'!AF383,'Data Input'!AG383,'Data Input'!AH383,'Data Input'!AI383,'Data Input'!AJ383,'Data Input'!AK383,'Data Input'!AL383))","v":""},{"$f":"IF(L379=\"\",\"\",L379/COUNTIF('Data Input'!$C$8:$AQ$8,$L$2))","v":""},{"$f":"IF(ISBLANK('Data Input'!A383),\"\",SUM('Data Input'!K383,'Data Input'!AQ383))","v":""},{"$f":"IF(N379=\"\",\"\",N379/COUNTIF('Data Input'!$C$8:$AQ$8,$N$2))","v":""},{"$f":"IF(ISBLANK('Data Input'!A383),\"\",SUM('Data Input'!C383,'Data Input'!D383,'Data Input'!F383,'Data Input'!J383,'Data Input'!O383,'Data Input'!S383,'Data Input'!AM383,'Data Input'!AN383,'Data Input'!AO383,'Data Input'!AP383))","v":""},{"$f":"IF(P379=\"\",\"\",P379/COUNTIF('Data Input'!$C$8:$AQ$8,$P$2))","v":""},{"$f":"IF(ISBLANK('Data Input'!C383),\"\",SUM('Data Input'!P383))","v":""},{"$f":"IF(R379=\"\",\"\",R379/COUNTIF('Data Input'!$C$8:$AQ$8,$R$2))","v":""}]
[{"$f":"IF('Data Input'!A384=0,\"\",'Data Input'!A384)","v":""},{"$f":"IF(H380=\"\",\"\",IF(H380>Welcome!$K$23-1,\"Exceeding\",IF(H380>Welcome!$G$23-1,\"Expected\",IF(H380<Welcome!$G$23,\"Below\"))))","v":""},{"$f":"IF(ISBLANK('Data Input'!A384),\"\",COUNTIF('Data Input'!C384:AQ384,\"\")-1)","v":""},{"$f":"IF(ISBLANK('Data Input'!A384),\"\",COUNTIF('Data Input'!C384:AQ384,\"0\"))","v":""},{"$f":"IF(ISBLANK('Data Input'!A384),\"\",SUM(C380,D380))","v":""},{"$f":"IF(ISBLANK('Data Input'!A384),\"\",SUM('Data Input'!C384:V384))","v":""},{"$f":"IF(ISBLANK('Data Input'!A384),\"\",SUM('Data Input'!X384:AQ384))","v":""},{"$f":"IF(ISBLANK('Data Input'!A384),\"\",SUM('Data Input'!C384:AQ384))","v":""},{"$f":"IF(H380=\"\",\"\",H380/(COUNTA('Data Input'!$C$8:$AQ$8)-1))","v":""},{"$f":"IF(ISBLANK('Data Input'!A384),\"\",SUM('Data Input'!I384,'Data Input'!M384,'Data Input'!AB384,'Data Input'!AE384))","v":""},{"$f":"IF(J380=\"\",\"\",J380/COUNTIF('Data Input'!$C$8:$AQ$8,$J$2))","v":""},{"$f":"IF(ISBLANK('Data Input'!A384),\"\",SUM('Data Input'!E384,'Data Input'!G384,'Data Input'!H384,'Data Input'!L384,'Data Input'!N384,'Data Input'!Q384,'Data Input'!R384,'Data Input'!T384,'Data Input'!U384,'Data Input'!V384,'Data Input'!X384,'Data Input'!Y384,'Data Input'!Z384,'Data Input'!AA384,'Data Input'!AC384,'Data Input'!AD384,'Data Input'!AF384,'Data Input'!AG384,'Data Input'!AH384,'Data Input'!AI384,'Data Input'!AJ384,'Data Input'!AK384,'Data Input'!AL384))","v":""},{"$f":"IF(L380=\"\",\"\",L380/COUNTIF('Data Input'!$C$8:$AQ$8,$L$2))","v":""},{"$f":"IF(ISBLANK('Data Input'!A384),\"\",SUM('Data Input'!K384,'Data Input'!AQ384))","v":""},{"$f":"IF(N380=\"\",\"\",N380/COUNTIF('Data Input'!$C$8:$AQ$8,$N$2))","v":""},{"$f":"IF(ISBLANK('Data Input'!A384),\"\",SUM('Data Input'!C384,'Data Input'!D384,'Data Input'!F384,'Data Input'!J384,'Data Input'!O384,'Data Input'!S384,'Data Input'!AM384,'Data Input'!AN384,'Data Input'!AO384,'Data Input'!AP384))","v":""},{"$f":"IF(P380=\"\",\"\",P380/COUNTIF('Data Input'!$C$8:$AQ$8,$P$2))","v":""},{"$f":"IF(ISBLANK('Data Input'!C384),\"\",SUM('Data Input'!P384))","v":""},{"$f":"IF(R380=\"\",\"\",R380/COUNTIF('Data Input'!$C$8:$AQ$8,$R$2))","v":""}]
[{"$f":"IF('Data Input'!A385=0,\"\",'Data Input'!A385)","v":""},{"$f":"IF(H381=\"\",\"\",IF(H381>Welcome!$K$23-1,\"Exceeding\",IF(H381>Welcome!$G$23-1,\"Expected\",IF(H381<Welcome!$G$23,\"Below\"))))","v":""},{"$f":"IF(ISBLANK('Data Input'!A385),\"\",COUNTIF('Data Input'!C385:AQ385,\"\")-1)","v":""},{"$f":"IF(ISBLANK('Data Input'!A385),\"\",COUNTIF('Data Input'!C385:AQ385,\"0\"))","v":""},{"$f":"IF(ISBLANK('Data Input'!A385),\"\",SUM(C381,D381))","v":""},{"$f":"IF(ISBLANK('Data Input'!A385),\"\",SUM('Data Input'!C385:V385))","v":""},{"$f":"IF(ISBLANK('Data Input'!A385),\"\",SUM('Data Input'!X385:AQ385))","v":""},{"$f":"IF(ISBLANK('Data Input'!A385),\"\",SUM('Data Input'!C385:AQ385))","v":""},{"$f":"IF(H381=\"\",\"\",H381/(COUNTA('Data Input'!$C$8:$AQ$8)-1))","v":""},{"$f":"IF(ISBLANK('Data Input'!A385),\"\",SUM('Data Input'!I385,'Data Input'!M385,'Data Input'!AB385,'Data Input'!AE385))","v":""},{"$f":"IF(J381=\"\",\"\",J381/COUNTIF('Data Input'!$C$8:$AQ$8,$J$2))","v":""},{"$f":"IF(ISBLANK('Data Input'!A385),\"\",SUM('Data Input'!E385,'Data Input'!G385,'Data Input'!H385,'Data Input'!L385,'Data Input'!N385,'Data Input'!Q385,'Data Input'!R385,'Data Input'!T385,'Data Input'!U385,'Data Input'!V385,'Data Input'!X385,'Data Input'!Y385,'Data Input'!Z385,'Data Input'!AA385,'Data Input'!AC385,'Data Input'!AD385,'Data Input'!AF385,'Data Input'!AG385,'Data Input'!AH385,'Data Input'!AI385,'Data Input'!AJ385,'Data Input'!AK385,'Data Input'!AL385))","v":""},{"$f":"IF(L381=\"\",\"\",L381/COUNTIF('Data Input'!$C$8:$AQ$8,$L$2))","v":""},{"$f":"IF(ISBLANK('Data Input'!A385),\"\",SUM('Data Input'!K385,'Data Input'!AQ385))","v":""},{"$f":"IF(N381=\"\",\"\",N381/COUNTIF('Data Input'!$C$8:$AQ$8,$N$2))","v":""},{"$f":"IF(ISBLANK('Data Input'!A385),\"\",SUM('Data Input'!C385,'Data Input'!D385,'Data Input'!F385,'Data Input'!J385,'Data Input'!O385,'Data Input'!S385,'Data Input'!AM385,'Data Input'!AN385,'Data Input'!AO385,'Data Input'!AP385))","v":""},{"$f":"IF(P381=\"\",\"\",P381/COUNTIF('Data Input'!$C$8:$AQ$8,$P$2))","v":""},{"$f":"IF(ISBLANK('Data Input'!C385),\"\",SUM('Data Input'!P385))","v":""},{"$f":"IF(R381=\"\",\"\",R381/COUNTIF('Data Input'!$C$8:$AQ$8,$R$2))","v":""}]
[{"$f":"IF('Data Input'!A386=0,\"\",'Data Input'!A386)","v":""},{"$f":"IF(H382=\"\",\"\",IF(H382>Welcome!$K$23-1,\"Exceeding\",IF(H382>Welcome!$G$23-1,\"Expected\",IF(H382<Welcome!$G$23,\"Below\"))))","v":""},{"$f":"IF(ISBLANK('Data Input'!A386),\"\",COUNTIF('Data Input'!C386:AQ386,\"\")-1)","v":""},{"$f":"IF(ISBLANK('Data Input'!A386),\"\",COUNTIF('Data Input'!C386:AQ386,\"0\"))","v":""},{"$f":"IF(ISBLANK('Data Input'!A386),\"\",SUM(C382,D382))","v":""},{"$f":"IF(ISBLANK('Data Input'!A386),\"\",SUM('Data Input'!C386:V386))","v":""},{"$f":"IF(ISBLANK('Data Input'!A386),\"\",SUM('Data Input'!X386:AQ386))","v":""},{"$f":"IF(ISBLANK('Data Input'!A386),\"\",SUM('Data Input'!C386:AQ386))","v":""},{"$f":"IF(H382=\"\",\"\",H382/(COUNTA('Data Input'!$C$8:$AQ$8)-1))","v":""},{"$f":"IF(ISBLANK('Data Input'!A386),\"\",SUM('Data Input'!I386,'Data Input'!M386,'Data Input'!AB386,'Data Input'!AE386))","v":""},{"$f":"IF(J382=\"\",\"\",J382/COUNTIF('Data Input'!$C$8:$AQ$8,$J$2))","v":""},{"$f":"IF(ISBLANK('Data Input'!A386),\"\",SUM('Data Input'!E386,'Data Input'!G386,'Data Input'!H386,'Data Input'!L386,'Data Input'!N386,'Data Input'!Q386,'Data Input'!R386,'Data Input'!T386,'Data Input'!U386,'Data Input'!V386,'Data Input'!X386,'Data Input'!Y386,'Data Input'!Z386,'Data Input'!AA386,'Data Input'!AC386,'Data Input'!AD386,'Data Input'!AF386,'Data Input'!AG386,'Data Input'!AH386,'Data Input'!AI386,'Data Input'!AJ386,'Data Input'!AK386,'Data Input'!AL386))","v":""},{"$f":"IF(L382=\"\",\"\",L382/COUNTIF('Data Input'!$C$8:$AQ$8,$L$2))","v":""},{"$f":"IF(ISBLANK('Data Input'!A386),\"\",SUM('Data Input'!K386,'Data Input'!AQ386))","v":""},{"$f":"IF(N382=\"\",\"\",N382/COUNTIF('Data Input'!$C$8:$AQ$8,$N$2))","v":""},{"$f":"IF(ISBLANK('Data Input'!A386),\"\",SUM('Data Input'!C386,'Data Input'!D386,'Data Input'!F386,'Data Input'!J386,'Data Input'!O386,'Data Input'!S386,'Data Input'!AM386,'Data Input'!AN386,'Data Input'!AO386,'Data Input'!AP386))","v":""},{"$f":"IF(P382=\"\",\"\",P382/COUNTIF('Data Input'!$C$8:$AQ$8,$P$2))","v":""},{"$f":"IF(ISBLANK('Data Input'!C386),\"\",SUM('Data Input'!P386))","v":""},{"$f":"IF(R382=\"\",\"\",R382/COUNTIF('Data Input'!$C$8:$AQ$8,$R$2))","v":""}]
[{"$f":"IF('Data Input'!A387=0,\"\",'Data Input'!A387)","v":""},{"$f":"IF(H383=\"\",\"\",IF(H383>Welcome!$K$23-1,\"Exceeding\",IF(H383>Welcome!$G$23-1,\"Expected\",IF(H383<Welcome!$G$23,\"Below\"))))","v":""},{"$f":"IF(ISBLANK('Data Input'!A387),\"\",COUNTIF('Data Input'!C387:AQ387,\"\")-1)","v":""},{"$f":"IF(ISBLANK('Data Input'!A387),\"\",COUNTIF('Data Input'!C387:AQ387,\"0\"))","v":""},{"$f":"IF(ISBLANK('Data Input'!A387),\"\",SUM(C383,D383))","v":""},{"$f":"IF(ISBLANK('Data Input'!A387),\"\",SUM('Data Input'!C387:V387))","v":""},{"$f":"IF(ISBLANK('Data Input'!A387),\"\",SUM('Data Input'!X387:AQ387))","v":""},{"$f":"IF(ISBLANK('Data Input'!A387),\"\",SUM('Data Input'!C387:AQ387))","v":""},{"$f":"IF(H383=\"\",\"\",H383/(COUNTA('Data Input'!$C$8:$AQ$8)-1))","v":""},{"$f":"IF(ISBLANK('Data Input'!A387),\"\",SUM('Data Input'!I387,'Data Input'!M387,'Data Input'!AB387,'Data Input'!AE387))","v":""},{"$f":"IF(J383=\"\",\"\",J383/COUNTIF('Data Input'!$C$8:$AQ$8,$J$2))","v":""},{"$f":"IF(ISBLANK('Data Input'!A387),\"\",SUM('Data Input'!E387,'Data Input'!G387,'Data Input'!H387,'Data Input'!L387,'Data Input'!N387,'Data Input'!Q387,'Data Input'!R387,'Data Input'!T387,'Data Input'!U387,'Data Input'!V387,'Data Input'!X387,'Data Input'!Y387,'Data Input'!Z387,'Data Input'!AA387,'Data Input'!AC387,'Data Input'!AD387,'Data Input'!AF387,'Data Input'!AG387,'Data Input'!AH387,'Data Input'!AI387,'Data Input'!AJ387,'Data Input'!AK387,'Data Input'!AL387))","v":""},{"$f":"IF(L383=\"\",\"\",L383/COUNTIF('Data Input'!$C$8:$AQ$8,$L$2))","v":""},{"$f":"IF(ISBLANK('Data Input'!A387),\"\",SUM('Data Input'!K387,'Data Input'!AQ387))","v":""},{"$f":"IF(N383=\"\",\"\",N383/COUNTIF('Data Input'!$C$8:$AQ$8,$N$2))","v":""},{"$f":"IF(ISBLANK('Data Input'!A387),\"\",SUM('Data Input'!C387,'Data Input'!D387,'Data Input'!F387,'Data Input'!J387,'Data Input'!O387,'Data Input'!S387,'Data Input'!AM387,'Data Input'!AN387,'Data Input'!AO387,'Data Input'!AP387))","v":""},{"$f":"IF(P383=\"\",\"\",P383/COUNTIF('Data Input'!$C$8:$AQ$8,$P$2))","v":""},{"$f":"IF(ISBLANK('Data Input'!C387),\"\",SUM('Data Input'!P387))","v":""},{"$f":"IF(R383=\"\",\"\",R383/COUNTIF('Data Input'!$C$8:$AQ$8,$R$2))","v":""}]
[{"$f":"IF('Data Input'!A388=0,\"\",'Data Input'!A388)","v":""},{"$f":"IF(H384=\"\",\"\",IF(H384>Welcome!$K$23-1,\"Exceeding\",IF(H384>Welcome!$G$23-1,\"Expected\",IF(H384<Welcome!$G$23,\"Below\"))))","v":""},{"$f":"IF(ISBLANK('Data Input'!A388),\"\",COUNTIF('Data Input'!C388:AQ388,\"\")-1)","v":""},{"$f":"IF(ISBLANK('Data Input'!A388),\"\",COUNTIF('Data Input'!C388:AQ388,\"0\"))","v":""},{"$f":"IF(ISBLANK('Data Input'!A388),\"\",SUM(C384,D384))","v":""},{"$f":"IF(ISBLANK('Data Input'!A388),\"\",SUM('Data Input'!C388:V388))","v":""},{"$f":"IF(ISBLANK('Data Input'!A388),\"\",SUM('Data Input'!X388:AQ388))","v":""},{"$f":"IF(ISBLANK('Data Input'!A388),\"\",SUM('Data Input'!C388:AQ388))","v":""},{"$f":"IF(H384=\"\",\"\",H384/(COUNTA('Data Input'!$C$8:$AQ$8)-1))","v":""},{"$f":"IF(ISBLANK('Data Input'!A388),\"\",SUM('Data Input'!I388,'Data Input'!M388,'Data Input'!AB388,'Data Input'!AE388))","v":""},{"$f":"IF(J384=\"\",\"\",J384/COUNTIF('Data Input'!$C$8:$AQ$8,$J$2))","v":""},{"$f":"IF(ISBLANK('Data Input'!A388),\"\",SUM('Data Input'!E388,'Data Input'!G388,'Data Input'!H388,'Data Input'!L388,'Data Input'!N388,'Data Input'!Q388,'Data Input'!R388,'Data Input'!T388,'Data Input'!U388,'Data Input'!V388,'Data Input'!X388,'Data Input'!Y388,'Data Input'!Z388,'Data Input'!AA388,'Data Input'!AC388,'Data Input'!AD388,'Data Input'!AF388,'Data Input'!AG388,'Data Input'!AH388,'Data Input'!AI388,'Data Input'!AJ388,'Data Input'!AK388,'Data Input'!AL388))","v":""},{"$f":"IF(L384=\"\",\"\",L384/COUNTIF('Data Input'!$C$8:$AQ$8,$L$2))","v":""},{"$f":"IF(ISBLANK('Data Input'!A388),\"\",SUM('Data Input'!K388,'Data Input'!AQ388))","v":""},{"$f":"IF(N384=\"\",\"\",N384/COUNTIF('Data Input'!$C$8:$AQ$8,$N$2))","v":""},{"$f":"IF(ISBLANK('Data Input'!A388),\"\",SUM('Data Input'!C388,'Data Input'!D388,'Data Input'!F388,'Data Input'!J388,'Data Input'!O388,'Data Input'!S388,'Data Input'!AM388,'Data Input'!AN388,'Data Input'!AO388,'Data Input'!AP388))","v":""},{"$f":"IF(P384=\"\",\"\",P384/COUNTIF('Data Input'!$C$8:$AQ$8,$P$2))","v":""},{"$f":"IF(ISBLANK('Data Input'!C388),\"\",SUM('Data Input'!P388))","v":""},{"$f":"IF(R384=\"\",\"\",R384/COUNTIF('Data Input'!$C$8:$AQ$8,$R$2))","v":""}]
[{"$f":"IF('Data Input'!A389=0,\"\",'Data Input'!A389)","v":""},{"$f":"IF(H385=\"\",\"\",IF(H385>Welcome!$K$23-1,\"Exceeding\",IF(H385>Welcome!$G$23-1,\"Expected\",IF(H385<Welcome!$G$23,\"Below\"))))","v":""},{"$f":"IF(ISBLANK('Data Input'!A389),\"\",COUNTIF('Data Input'!C389:AQ389,\"\")-1)","v":""},{"$f":"IF(ISBLANK('Data Input'!A389),\"\",COUNTIF('Data Input'!C389:AQ389,\"0\"))","v":""},{"$f":"IF(ISBLANK('Data Input'!A389),\"\",SUM(C385,D385))","v":""},{"$f":"IF(ISBLANK('Data Input'!A389),\"\",SUM('Data Input'!C389:V389))","v":""},{"$f":"IF(ISBLANK('Data Input'!A389),\"\",SUM('Data Input'!X389:AQ389))","v":""},{"$f":"IF(ISBLANK('Data Input'!A389),\"\",SUM('Data Input'!C389:AQ389))","v":""},{"$f":"IF(H385=\"\",\"\",H385/(COUNTA('Data Input'!$C$8:$AQ$8)-1))","v":""},{"$f":"IF(ISBLANK('Data Input'!A389),\"\",SUM('Data Input'!I389,'Data Input'!M389,'Data Input'!AB389,'Data Input'!AE389))","v":""},{"$f":"IF(J385=\"\",\"\",J385/COUNTIF('Data Input'!$C$8:$AQ$8,$J$2))","v":""},{"$f":"IF(ISBLANK('Data Input'!A389),\"\",SUM('Data Input'!E389,'Data Input'!G389,'Data Input'!H389,'Data Input'!L389,'Data Input'!N389,'Data Input'!Q389,'Data Input'!R389,'Data Input'!T389,'Data Input'!U389,'Data Input'!V389,'Data Input'!X389,'Data Input'!Y389,'Data Input'!Z389,'Data Input'!AA389,'Data Input'!AC389,'Data Input'!AD389,'Data Input'!AF389,'Data Input'!AG389,'Data Input'!AH389,'Data Input'!AI389,'Data Input'!AJ389,'Data Input'!AK389,'Data Input'!AL389))","v":""},{"$f":"IF(L385=\"\",\"\",L385/COUNTIF('Data Input'!$C$8:$AQ$8,$L$2))","v":""},{"$f":"IF(ISBLANK('Data Input'!A389),\"\",SUM('Data Input'!K389,'Data Input'!AQ389))","v":""},{"$f":"IF(N385=\"\",\"\",N385/COUNTIF('Data Input'!$C$8:$AQ$8,$N$2))","v":""},{"$f":"IF(ISBLANK('Data Input'!A389),\"\",SUM('Data Input'!C389,'Data Input'!D389,'Data Input'!F389,'Data Input'!J389,'Data Input'!O389,'Data Input'!S389,'Data Input'!AM389,'Data Input'!AN389,'Data Input'!AO389,'Data Input'!AP389))","v":""},{"$f":"IF(P385=\"\",\"\",P385/COUNTIF('Data Input'!$C$8:$AQ$8,$P$2))","v":""},{"$f":"IF(ISBLANK('Data Input'!C389),\"\",SUM('Data Input'!P389))","v":""},{"$f":"IF(R385=\"\",\"\",R385/COUNTIF('Data Input'!$C$8:$AQ$8,$R$2))","v":""}]
[{"$f":"IF('Data Input'!A390=0,\"\",'Data Input'!A390)","v":""},{"$f":"IF(H386=\"\",\"\",IF(H386>Welcome!$K$23-1,\"Exceeding\",IF(H386>Welcome!$G$23-1,\"Expected\",IF(H386<Welcome!$G$23,\"Below\"))))","v":""},{"$f":"IF(ISBLANK('Data Input'!A390),\"\",COUNTIF('Data Input'!C390:AQ390,\"\")-1)","v":""},{"$f":"IF(ISBLANK('Data Input'!A390),\"\",COUNTIF('Data Input'!C390:AQ390,\"0\"))","v":""},{"$f":"IF(ISBLANK('Data Input'!A390),\"\",SUM(C386,D386))","v":""},{"$f":"IF(ISBLANK('Data Input'!A390),\"\",SUM('Data Input'!C390:V390))","v":""},{"$f":"IF(ISBLANK('Data Input'!A390),\"\",SUM('Data Input'!X390:AQ390))","v":""},{"$f":"IF(ISBLANK('Data Input'!A390),\"\",SUM('Data Input'!C390:AQ390))","v":""},{"$f":"IF(H386=\"\",\"\",H386/(COUNTA('Data Input'!$C$8:$AQ$8)-1))","v":""},{"$f":"IF(ISBLANK('Data Input'!A390),\"\",SUM('Data Input'!I390,'Data Input'!M390,'Data Input'!AB390,'Data Input'!AE390))","v":""},{"$f":"IF(J386=\"\",\"\",J386/COUNTIF('Data Input'!$C$8:$AQ$8,$J$2))","v":""},{"$f":"IF(ISBLANK('Data Input'!A390),\"\",SUM('Data Input'!E390,'Data Input'!G390,'Data Input'!H390,'Data Input'!L390,'Data Input'!N390,'Data Input'!Q390,'Data Input'!R390,'Data Input'!T390,'Data Input'!U390,'Data Input'!V390,'Data Input'!X390,'Data Input'!Y390,'Data Input'!Z390,'Data Input'!AA390,'Data Input'!AC390,'Data Input'!AD390,'Data Input'!AF390,'Data Input'!AG390,'Data Input'!AH390,'Data Input'!AI390,'Data Input'!AJ390,'Data Input'!AK390,'Data Input'!AL390))","v":""},{"$f":"IF(L386=\"\",\"\",L386/COUNTIF('Data Input'!$C$8:$AQ$8,$L$2))","v":""},{"$f":"IF(ISBLANK('Data Input'!A390),\"\",SUM('Data Input'!K390,'Data Input'!AQ390))","v":""},{"$f":"IF(N386=\"\",\"\",N386/COUNTIF('Data Input'!$C$8:$AQ$8,$N$2))","v":""},{"$f":"IF(ISBLANK('Data Input'!A390),\"\",SUM('Data Input'!C390,'Data Input'!D390,'Data Input'!F390,'Data Input'!J390,'Data Input'!O390,'Data Input'!S390,'Data Input'!AM390,'Data Input'!AN390,'Data Input'!AO390,'Data Input'!AP390))","v":""},{"$f":"IF(P386=\"\",\"\",P386/COUNTIF('Data Input'!$C$8:$AQ$8,$P$2))","v":""},{"$f":"IF(ISBLANK('Data Input'!C390),\"\",SUM('Data Input'!P390))","v":""},{"$f":"IF(R386=\"\",\"\",R386/COUNTIF('Data Input'!$C$8:$AQ$8,$R$2))","v":""}]
[{"$f":"IF('Data Input'!A391=0,\"\",'Data Input'!A391)","v":""},{"$f":"IF(H387=\"\",\"\",IF(H387>Welcome!$K$23-1,\"Exceeding\",IF(H387>Welcome!$G$23-1,\"Expected\",IF(H387<Welcome!$G$23,\"Below\"))))","v":""},{"$f":"IF(ISBLANK('Data Input'!A391),\"\",COUNTIF('Data Input'!C391:AQ391,\"\")-1)","v":""},{"$f":"IF(ISBLANK('Data Input'!A391),\"\",COUNTIF('Data Input'!C391:AQ391,\"0\"))","v":""},{"$f":"IF(ISBLANK('Data Input'!A391),\"\",SUM(C387,D387))","v":""},{"$f":"IF(ISBLANK('Data Input'!A391),\"\",SUM('Data Input'!C391:V391))","v":""},{"$f":"IF(ISBLANK('Data Input'!A391),\"\",SUM('Data Input'!X391:AQ391))","v":""},{"$f":"IF(ISBLANK('Data Input'!A391),\"\",SUM('Data Input'!C391:AQ391))","v":""},{"$f":"IF(H387=\"\",\"\",H387/(COUNTA('Data Input'!$C$8:$AQ$8)-1))","v":""},{"$f":"IF(ISBLANK('Data Input'!A391),\"\",SUM('Data Input'!I391,'Data Input'!M391,'Data Input'!AB391,'Data Input'!AE391))","v":""},{"$f":"IF(J387=\"\",\"\",J387/COUNTIF('Data Input'!$C$8:$AQ$8,$J$2))","v":""},{"$f":"IF(ISBLANK('Data Input'!A391),\"\",SUM('Data Input'!E391,'Data Input'!G391,'Data Input'!H391,'Data Input'!L391,'Data Input'!N391,'Data Input'!Q391,'Data Input'!R391,'Data Input'!T391,'Data Input'!U391,'Data Input'!V391,'Data Input'!X391,'Data Input'!Y391,'Data Input'!Z391,'Data Input'!AA391,'Data Input'!AC391,'Data Input'!AD391,'Data Input'!AF391,'Data Input'!AG391,'Data Input'!AH391,'Data Input'!AI391,'Data Input'!AJ391,'Data Input'!AK391,'Data Input'!AL391))","v":""},{"$f":"IF(L387=\"\",\"\",L387/COUNTIF('Data Input'!$C$8:$AQ$8,$L$2))","v":""},{"$f":"IF(ISBLANK('Data Input'!A391),\"\",SUM('Data Input'!K391,'Data Input'!AQ391))","v":""},{"$f":"IF(N387=\"\",\"\",N387/COUNTIF('Data Input'!$C$8:$AQ$8,$N$2))","v":""},{"$f":"IF(ISBLANK('Data Input'!A391),\"\",SUM('Data Input'!C391,'Data Input'!D391,'Data Input'!F391,'Data Input'!J391,'Data Input'!O391,'Data Input'!S391,'Data Input'!AM391,'Data Input'!AN391,'Data Input'!AO391,'Data Input'!AP391))","v":""},{"$f":"IF(P387=\"\",\"\",P387/COUNTIF('Data Input'!$C$8:$AQ$8,$P$2))","v":""},{"$f":"IF(ISBLANK('Data Input'!C391),\"\",SUM('Data Input'!P391))","v":""},{"$f":"IF(R387=\"\",\"\",R387/COUNTIF('Data Input'!$C$8:$AQ$8,$R$2))","v":""}]
[{"$f":"IF('Data Input'!A392=0,\"\",'Data Input'!A392)","v":""},{"$f":"IF(H388=\"\",\"\",IF(H388>Welcome!$K$23-1,\"Exceeding\",IF(H388>Welcome!$G$23-1,\"Expected\",IF(H388<Welcome!$G$23,\"Below\"))))","v":""},{"$f":"IF(ISBLANK('Data Input'!A392),\"\",COUNTIF('Data Input'!C392:AQ392,\"\")-1)","v":""},{"$f":"IF(ISBLANK('Data Input'!A392),\"\",COUNTIF('Data Input'!C392:AQ392,\"0\"))","v":""},{"$f":"IF(ISBLANK('Data Input'!A392),\"\",SUM(C388,D388))","v":""},{"$f":"IF(ISBLANK('Data Input'!A392),\"\",SUM('Data Input'!C392:V392))","v":""},{"$f":"IF(ISBLANK('Data Input'!A392),\"\",SUM('Data Input'!X392:AQ392))","v":""},{"$f":"IF(ISBLANK('Data Input'!A392),\"\",SUM('Data Input'!C392:AQ392))","v":""},{"$f":"IF(H388=\"\",\"\",H388/(COUNTA('Data Input'!$C$8:$AQ$8)-1))","v":""},{"$f":"IF(ISBLANK('Data Input'!A392),\"\",SUM('Data Input'!I392,'Data Input'!M392,'Data Input'!AB392,'Data Input'!AE392))","v":""},{"$f":"IF(J388=\"\",\"\",J388/COUNTIF('Data Input'!$C$8:$AQ$8,$J$2))","v":""},{"$f":"IF(ISBLANK('Data Input'!A392),\"\",SUM('Data Input'!E392,'Data Input'!G392,'Data Input'!H392,'Data Input'!L392,'Data Input'!N392,'Data Input'!Q392,'Data Input'!R392,'Data Input'!T392,'Data Input'!U392,'Data Input'!V392,'Data Input'!X392,'Data Input'!Y392,'Data Input'!Z392,'Data Input'!AA392,'Data Input'!AC392,'Data Input'!AD392,'Data Input'!AF392,'Data Input'!AG392,'Data Input'!AH392,'Data Input'!AI392,'Data Input'!AJ392,'Data Input'!AK392,'Data Input'!AL392))","v":""},{"$f":"IF(L388=\"\",\"\",L388/COUNTIF('Data Input'!$C$8:$AQ$8,$L$2))","v":""},{"$f":"IF(ISBLANK('Data Input'!A392),\"\",SUM('Data Input'!K392,'Data Input'!AQ392))","v":""},{"$f":"IF(N388=\"\",\"\",N388/COUNTIF('Data Input'!$C$8:$AQ$8,$N$2))","v":""},{"$f":"IF(ISBLANK('Data Input'!A392),\"\",SUM('Data Input'!C392,'Data Input'!D392,'Data Input'!F392,'Data Input'!J392,'Data Input'!O392,'Data Input'!S392,'Data Input'!AM392,'Data Input'!AN392,'Data Input'!AO392,'Data Input'!AP392))","v":""},{"$f":"IF(P388=\"\",\"\",P388/COUNTIF('Data Input'!$C$8:$AQ$8,$P$2))","v":""},{"$f":"IF(ISBLANK('Data Input'!C392),\"\",SUM('Data Input'!P392))","v":""},{"$f":"IF(R388=\"\",\"\",R388/COUNTIF('Data Input'!$C$8:$AQ$8,$R$2))","v":""}]
[{"$f":"IF('Data Input'!A393=0,\"\",'Data Input'!A393)","v":""},{"$f":"IF(H389=\"\",\"\",IF(H389>Welcome!$K$23-1,\"Exceeding\",IF(H389>Welcome!$G$23-1,\"Expected\",IF(H389<Welcome!$G$23,\"Below\"))))","v":""},{"$f":"IF(ISBLANK('Data Input'!A393),\"\",COUNTIF('Data Input'!C393:AQ393,\"\")-1)","v":""},{"$f":"IF(ISBLANK('Data Input'!A393),\"\",COUNTIF('Data Input'!C393:AQ393,\"0\"))","v":""},{"$f":"IF(ISBLANK('Data Input'!A393),\"\",SUM(C389,D389))","v":""},{"$f":"IF(ISBLANK('Data Input'!A393),\"\",SUM('Data Input'!C393:V393))","v":""},{"$f":"IF(ISBLANK('Data Input'!A393),\"\",SUM('Data Input'!X393:AQ393))","v":""},{"$f":"IF(ISBLANK('Data Input'!A393),\"\",SUM('Data Input'!C393:AQ393))","v":""},{"$f":"IF(H389=\"\",\"\",H389/(COUNTA('Data Input'!$C$8:$AQ$8)-1))","v":""},{"$f":"IF(ISBLANK('Data Input'!A393),\"\",SUM('Data Input'!I393,'Data Input'!M393,'Data Input'!AB393,'Data Input'!AE393))","v":""},{"$f":"IF(J389=\"\",\"\",J389/COUNTIF('Data Input'!$C$8:$AQ$8,$J$2))","v":""},{"$f":"IF(ISBLANK('Data Input'!A393),\"\",SUM('Data Input'!E393,'Data Input'!G393,'Data Input'!H393,'Data Input'!L393,'Data Input'!N393,'Data Input'!Q393,'Data Input'!R393,'Data Input'!T393,'Data Input'!U393,'Data Input'!V393,'Data Input'!X393,'Data Input'!Y393,'Data Input'!Z393,'Data Input'!AA393,'Data Input'!AC393,'Data Input'!AD393,'Data Input'!AF393,'Data Input'!AG393,'Data Input'!AH393,'Data Input'!AI393,'Data Input'!AJ393,'Data Input'!AK393,'Data Input'!AL393))","v":""},{"$f":"IF(L389=\"\",\"\",L389/COUNTIF('Data Input'!$C$8:$AQ$8,$L$2))","v":""},{"$f":"IF(ISBLANK('Data Input'!A393),\"\",SUM('Data Input'!K393,'Data Input'!AQ393))","v":""},{"$f":"IF(N389=\"\",\"\",N389/COUNTIF('Data Input'!$C$8:$AQ$8,$N$2))","v":""},{"$f":"IF(ISBLANK('Data Input'!A393),\"\",SUM('Data Input'!C393,'Data Input'!D393,'Data Input'!F393,'Data Input'!J393,'Data Input'!O393,'Data Input'!S393,'Data Input'!AM393,'Data Input'!AN393,'Data Input'!AO393,'Data Input'!AP393))","v":""},{"$f":"IF(P389=\"\",\"\",P389/COUNTIF('Data Input'!$C$8:$AQ$8,$P$2))","v":""},{"$f":"IF(ISBLANK('Data Input'!C393),\"\",SUM('Data Input'!P393))","v":""},{"$f":"IF(R389=\"\",\"\",R389/COUNTIF('Data Input'!$C$8:$AQ$8,$R$2))","v":""}]
[{"$f":"IF('Data Input'!A394=0,\"\",'Data Input'!A394)","v":""},{"$f":"IF(H390=\"\",\"\",IF(H390>Welcome!$K$23-1,\"Exceeding\",IF(H390>Welcome!$G$23-1,\"Expected\",IF(H390<Welcome!$G$23,\"Below\"))))","v":""},{"$f":"IF(ISBLANK('Data Input'!A394),\"\",COUNTIF('Data Input'!C394:AQ394,\"\")-1)","v":""},{"$f":"IF(ISBLANK('Data Input'!A394),\"\",COUNTIF('Data Input'!C394:AQ394,\"0\"))","v":""},{"$f":"IF(ISBLANK('Data Input'!A394),\"\",SUM(C390,D390))","v":""},{"$f":"IF(ISBLANK('Data Input'!A394),\"\",SUM('Data Input'!C394:V394))","v":""},{"$f":"IF(ISBLANK('Data Input'!A394),\"\",SUM('Data Input'!X394:AQ394))","v":""},{"$f":"IF(ISBLANK('Data Input'!A394),\"\",SUM('Data Input'!C394:AQ394))","v":""},{"$f":"IF(H390=\"\",\"\",H390/(COUNTA('Data Input'!$C$8:$AQ$8)-1))","v":""},{"$f":"IF(ISBLANK('Data Input'!A394),\"\",SUM('Data Input'!I394,'Data Input'!M394,'Data Input'!AB394,'Data Input'!AE394))","v":""},{"$f":"IF(J390=\"\",\"\",J390/COUNTIF('Data Input'!$C$8:$AQ$8,$J$2))","v":""},{"$f":"IF(ISBLANK('Data Input'!A394),\"\",SUM('Data Input'!E394,'Data Input'!G394,'Data Input'!H394,'Data Input'!L394,'Data Input'!N394,'Data Input'!Q394,'Data Input'!R394,'Data Input'!T394,'Data Input'!U394,'Data Input'!V394,'Data Input'!X394,'Data Input'!Y394,'Data Input'!Z394,'Data Input'!AA394,'Data Input'!AC394,'Data Input'!AD394,'Data Input'!AF394,'Data Input'!AG394,'Data Input'!AH394,'Data Input'!AI394,'Data Input'!AJ394,'Data Input'!AK394,'Data Input'!AL394))","v":""},{"$f":"IF(L390=\"\",\"\",L390/COUNTIF('Data Input'!$C$8:$AQ$8,$L$2))","v":""},{"$f":"IF(ISBLANK('Data Input'!A394),\"\",SUM('Data Input'!K394,'Data Input'!AQ394))","v":""},{"$f":"IF(N390=\"\",\"\",N390/COUNTIF('Data Input'!$C$8:$AQ$8,$N$2))","v":""},{"$f":"IF(ISBLANK('Data Input'!A394),\"\",SUM('Data Input'!C394,'Data Input'!D394,'Data Input'!F394,'Data Input'!J394,'Data Input'!O394,'Data Input'!S394,'Data Input'!AM394,'Data Input'!AN394,'Data Input'!AO394,'Data Input'!AP394))","v":""},{"$f":"IF(P390=\"\",\"\",P390/COUNTIF('Data Input'!$C$8:$AQ$8,$P$2))","v":""},{"$f":"IF(ISBLANK('Data Input'!C394),\"\",SUM('Data Input'!P394))","v":""},{"$f":"IF(R390=\"\",\"\",R390/COUNTIF('Data Input'!$C$8:$AQ$8,$R$2))","v":""}]
[{"$f":"IF('Data Input'!A395=0,\"\",'Data Input'!A395)","v":""},{"$f":"IF(H391=\"\",\"\",IF(H391>Welcome!$K$23-1,\"Exceeding\",IF(H391>Welcome!$G$23-1,\"Expected\",IF(H391<Welcome!$G$23,\"Below\"))))","v":""},{"$f":"IF(ISBLANK('Data Input'!A395),\"\",COUNTIF('Data Input'!C395:AQ395,\"\")-1)","v":""},{"$f":"IF(ISBLANK('Data Input'!A395),\"\",COUNTIF('Data Input'!C395:AQ395,\"0\"))","v":""},{"$f":"IF(ISBLANK('Data Input'!A395),\"\",SUM(C391,D391))","v":""},{"$f":"IF(ISBLANK('Data Input'!A395),\"\",SUM('Data Input'!C395:V395))","v":""},{"$f":"IF(ISBLANK('Data Input'!A395),\"\",SUM('Data Input'!X395:AQ395))","v":""},{"$f":"IF(ISBLANK('Data Input'!A395),\"\",SUM('Data Input'!C395:AQ395))","v":""},{"$f":"IF(H391=\"\",\"\",H391/(COUNTA('Data Input'!$C$8:$AQ$8)-1))","v":""},{"$f":"IF(ISBLANK('Data Input'!A395),\"\",SUM('Data Input'!I395,'Data Input'!M395,'Data Input'!AB395,'Data Input'!AE395))","v":""},{"$f":"IF(J391=\"\",\"\",J391/COUNTIF('Data Input'!$C$8:$AQ$8,$J$2))","v":""},{"$f":"IF(ISBLANK('Data Input'!A395),\"\",SUM('Data Input'!E395,'Data Input'!G395,'Data Input'!H395,'Data Input'!L395,'Data Input'!N395,'Data Input'!Q395,'Data Input'!R395,'Data Input'!T395,'Data Input'!U395,'Data Input'!V395,'Data Input'!X395,'Data Input'!Y395,'Data Input'!Z395,'Data Input'!AA395,'Data Input'!AC395,'Data Input'!AD395,'Data Input'!AF395,'Data Input'!AG395,'Data Input'!AH395,'Data Input'!AI395,'Data Input'!AJ395,'Data Input'!AK395,'Data Input'!AL395))","v":""},{"$f":"IF(L391=\"\",\"\",L391/COUNTIF('Data Input'!$C$8:$AQ$8,$L$2))","v":""},{"$f":"IF(ISBLANK('Data Input'!A395),\"\",SUM('Data Input'!K395,'Data Input'!AQ395))","v":""},{"$f":"IF(N391=\"\",\"\",N391/COUNTIF('Data Input'!$C$8:$AQ$8,$N$2))","v":""},{"$f":"IF(ISBLANK('Data Input'!A395),\"\",SUM('Data Input'!C395,'Data Input'!D395,'Data Input'!F395,'Data Input'!J395,'Data Input'!O395,'Data Input'!S395,'Data Input'!AM395,'Data Input'!AN395,'Data Input'!AO395,'Data Input'!AP395))","v":""},{"$f":"IF(P391=\"\",\"\",P391/COUNTIF('Data Input'!$C$8:$AQ$8,$P$2))","v":""},{"$f":"IF(ISBLANK('Data Input'!C395),\"\",SUM('Data Input'!P395))","v":""},{"$f":"IF(R391=\"\",\"\",R391/COUNTIF('Data Input'!$C$8:$AQ$8,$R$2))","v":""}]
[{"$f":"IF('Data Input'!A396=0,\"\",'Data Input'!A396)","v":""},{"$f":"IF(H392=\"\",\"\",IF(H392>Welcome!$K$23-1,\"Exceeding\",IF(H392>Welcome!$G$23-1,\"Expected\",IF(H392<Welcome!$G$23,\"Below\"))))","v":""},{"$f":"IF(ISBLANK('Data Input'!A396),\"\",COUNTIF('Data Input'!C396:AQ396,\"\")-1)","v":""},{"$f":"IF(ISBLANK('Data Input'!A396),\"\",COUNTIF('Data Input'!C396:AQ396,\"0\"))","v":""},{"$f":"IF(ISBLANK('Data Input'!A396),\"\",SUM(C392,D392))","v":""},{"$f":"IF(ISBLANK('Data Input'!A396),\"\",SUM('Data Input'!C396:V396))","v":""},{"$f":"IF(ISBLANK('Data Input'!A396),\"\",SUM('Data Input'!X396:AQ396))","v":""},{"$f":"IF(ISBLANK('Data Input'!A396),\"\",SUM('Data Input'!C396:AQ396))","v":""},{"$f":"IF(H392=\"\",\"\",H392/(COUNTA('Data Input'!$C$8:$AQ$8)-1))","v":""},{"$f":"IF(ISBLANK('Data Input'!A396),\"\",SUM('Data Input'!I396,'Data Input'!M396,'Data Input'!AB396,'Data Input'!AE396))","v":""},{"$f":"IF(J392=\"\",\"\",J392/COUNTIF('Data Input'!$C$8:$AQ$8,$J$2))","v":""},{"$f":"IF(ISBLANK('Data Input'!A396),\"\",SUM('Data Input'!E396,'Data Input'!G396,'Data Input'!H396,'Data Input'!L396,'Data Input'!N396,'Data Input'!Q396,'Data Input'!R396,'Data Input'!T396,'Data Input'!U396,'Data Input'!V396,'Data Input'!X396,'Data Input'!Y396,'Data Input'!Z396,'Data Input'!AA396,'Data Input'!AC396,'Data Input'!AD396,'Data Input'!AF396,'Data Input'!AG396,'Data Input'!AH396,'Data Input'!AI396,'Data Input'!AJ396,'Data Input'!AK396,'Data Input'!AL396))","v":""},{"$f":"IF(L392=\"\",\"\",L392/COUNTIF('Data Input'!$C$8:$AQ$8,$L$2))","v":""},{"$f":"IF(ISBLANK('Data Input'!A396),\"\",SUM('Data Input'!K396,'Data Input'!AQ396))","v":""},{"$f":"IF(N392=\"\",\"\",N392/COUNTIF('Data Input'!$C$8:$AQ$8,$N$2))","v":""},{"$f":"IF(ISBLANK('Data Input'!A396),\"\",SUM('Data Input'!C396,'Data Input'!D396,'Data Input'!F396,'Data Input'!J396,'Data Input'!O396,'Data Input'!S396,'Data Input'!AM396,'Data Input'!AN396,'Data Input'!AO396,'Data Input'!AP396))","v":""},{"$f":"IF(P392=\"\",\"\",P392/COUNTIF('Data Input'!$C$8:$AQ$8,$P$2))","v":""},{"$f":"IF(ISBLANK('Data Input'!C396),\"\",SUM('Data Input'!P396))","v":""},{"$f":"IF(R392=\"\",\"\",R392/COUNTIF('Data Input'!$C$8:$AQ$8,$R$2))","v":""}]
[{"$f":"IF('Data Input'!A397=0,\"\",'Data Input'!A397)","v":""},{"$f":"IF(H393=\"\",\"\",IF(H393>Welcome!$K$23-1,\"Exceeding\",IF(H393>Welcome!$G$23-1,\"Expected\",IF(H393<Welcome!$G$23,\"Below\"))))","v":""},{"$f":"IF(ISBLANK('Data Input'!A397),\"\",COUNTIF('Data Input'!C397:AQ397,\"\")-1)","v":""},{"$f":"IF(ISBLANK('Data Input'!A397),\"\",COUNTIF('Data Input'!C397:AQ397,\"0\"))","v":""},{"$f":"IF(ISBLANK('Data Input'!A397),\"\",SUM(C393,D393))","v":""},{"$f":"IF(ISBLANK('Data Input'!A397),\"\",SUM('Data Input'!C397:V397))","v":""},{"$f":"IF(ISBLANK('Data Input'!A397),\"\",SUM('Data Input'!X397:AQ397))","v":""},{"$f":"IF(ISBLANK('Data Input'!A397),\"\",SUM('Data Input'!C397:AQ397))","v":""},{"$f":"IF(H393=\"\",\"\",H393/(COUNTA('Data Input'!$C$8:$AQ$8)-1))","v":""},{"$f":"IF(ISBLANK('Data Input'!A397),\"\",SUM('Data Input'!I397,'Data Input'!M397,'Data Input'!AB397,'Data Input'!AE397))","v":""},{"$f":"IF(J393=\"\",\"\",J393/COUNTIF('Data Input'!$C$8:$AQ$8,$J$2))","v":""},{"$f":"IF(ISBLANK('Data Input'!A397),\"\",SUM('Data Input'!E397,'Data Input'!G397,'Data Input'!H397,'Data Input'!L397,'Data Input'!N397,'Data Input'!Q397,'Data Input'!R397,'Data Input'!T397,'Data Input'!U397,'Data Input'!V397,'Data Input'!X397,'Data Input'!Y397,'Data Input'!Z397,'Data Input'!AA397,'Data Input'!AC397,'Data Input'!AD397,'Data Input'!AF397,'Data Input'!AG397,'Data Input'!AH397,'Data Input'!AI397,'Data Input'!AJ397,'Data Input'!AK397,'Data Input'!AL397))","v":""},{"$f":"IF(L393=\"\",\"\",L393/COUNTIF('Data Input'!$C$8:$AQ$8,$L$2))","v":""},{"$f":"IF(ISBLANK('Data Input'!A397),\"\",SUM('Data Input'!K397,'Data Input'!AQ397))","v":""},{"$f":"IF(N393=\"\",\"\",N393/COUNTIF('Data Input'!$C$8:$AQ$8,$N$2))","v":""},{"$f":"IF(ISBLANK('Data Input'!A397),\"\",SUM('Data Input'!C397,'Data Input'!D397,'Data Input'!F397,'Data Input'!J397,'Data Input'!O397,'Data Input'!S397,'Data Input'!AM397,'Data Input'!AN397,'Data Input'!AO397,'Data Input'!AP397))","v":""},{"$f":"IF(P393=\"\",\"\",P393/COUNTIF('Data Input'!$C$8:$AQ$8,$P$2))","v":""},{"$f":"IF(ISBLANK('Data Input'!C397),\"\",SUM('Data Input'!P397))","v":""},{"$f":"IF(R393=\"\",\"\",R393/COUNTIF('Data Input'!$C$8:$AQ$8,$R$2))","v":""}]
[{"$f":"IF('Data Input'!A398=0,\"\",'Data Input'!A398)","v":""},{"$f":"IF(H394=\"\",\"\",IF(H394>Welcome!$K$23-1,\"Exceeding\",IF(H394>Welcome!$G$23-1,\"Expected\",IF(H394<Welcome!$G$23,\"Below\"))))","v":""},{"$f":"IF(ISBLANK('Data Input'!A398),\"\",COUNTIF('Data Input'!C398:AQ398,\"\")-1)","v":""},{"$f":"IF(ISBLANK('Data Input'!A398),\"\",COUNTIF('Data Input'!C398:AQ398,\"0\"))","v":""},{"$f":"IF(ISBLANK('Data Input'!A398),\"\",SUM(C394,D394))","v":""},{"$f":"IF(ISBLANK('Data Input'!A398),\"\",SUM('Data Input'!C398:V398))","v":""},{"$f":"IF(ISBLANK('Data Input'!A398),\"\",SUM('Data Input'!X398:AQ398))","v":""},{"$f":"IF(ISBLANK('Data Input'!A398),\"\",SUM('Data Input'!C398:AQ398))","v":""},{"$f":"IF(H394=\"\",\"\",H394/(COUNTA('Data Input'!$C$8:$AQ$8)-1))","v":""},{"$f":"IF(ISBLANK('Data Input'!A398),\"\",SUM('Data Input'!I398,'Data Input'!M398,'Data Input'!AB398,'Data Input'!AE398))","v":""},{"$f":"IF(J394=\"\",\"\",J394/COUNTIF('Data Input'!$C$8:$AQ$8,$J$2))","v":""},{"$f":"IF(ISBLANK('Data Input'!A398),\"\",SUM('Data Input'!E398,'Data Input'!G398,'Data Input'!H398,'Data Input'!L398,'Data Input'!N398,'Data Input'!Q398,'Data Input'!R398,'Data Input'!T398,'Data Input'!U398,'Data Input'!V398,'Data Input'!X398,'Data Input'!Y398,'Data Input'!Z398,'Data Input'!AA398,'Data Input'!AC398,'Data Input'!AD398,'Data Input'!AF398,'Data Input'!AG398,'Data Input'!AH398,'Data Input'!AI398,'Data Input'!AJ398,'Data Input'!AK398,'Data Input'!AL398))","v":""},{"$f":"IF(L394=\"\",\"\",L394/COUNTIF('Data Input'!$C$8:$AQ$8,$L$2))","v":""},{"$f":"IF(ISBLANK('Data Input'!A398),\"\",SUM('Data Input'!K398,'Data Input'!AQ398))","v":""},{"$f":"IF(N394=\"\",\"\",N394/COUNTIF('Data Input'!$C$8:$AQ$8,$N$2))","v":""},{"$f":"IF(ISBLANK('Data Input'!A398),\"\",SUM('Data Input'!C398,'Data Input'!D398,'Data Input'!F398,'Data Input'!J398,'Data Input'!O398,'Data Input'!S398,'Data Input'!AM398,'Data Input'!AN398,'Data Input'!AO398,'Data Input'!AP398))","v":""},{"$f":"IF(P394=\"\",\"\",P394/COUNTIF('Data Input'!$C$8:$AQ$8,$P$2))","v":""},{"$f":"IF(ISBLANK('Data Input'!C398),\"\",SUM('Data Input'!P398))","v":""},{"$f":"IF(R394=\"\",\"\",R394/COUNTIF('Data Input'!$C$8:$AQ$8,$R$2))","v":""}]
[{"$f":"IF('Data Input'!A399=0,\"\",'Data Input'!A399)","v":""},{"$f":"IF(H395=\"\",\"\",IF(H395>Welcome!$K$23-1,\"Exceeding\",IF(H395>Welcome!$G$23-1,\"Expected\",IF(H395<Welcome!$G$23,\"Below\"))))","v":""},{"$f":"IF(ISBLANK('Data Input'!A399),\"\",COUNTIF('Data Input'!C399:AQ399,\"\")-1)","v":""},{"$f":"IF(ISBLANK('Data Input'!A399),\"\",COUNTIF('Data Input'!C399:AQ399,\"0\"))","v":""},{"$f":"IF(ISBLANK('Data Input'!A399),\"\",SUM(C395,D395))","v":""},{"$f":"IF(ISBLANK('Data Input'!A399),\"\",SUM('Data Input'!C399:V399))","v":""},{"$f":"IF(ISBLANK('Data Input'!A399),\"\",SUM('Data Input'!X399:AQ399))","v":""},{"$f":"IF(ISBLANK('Data Input'!A399),\"\",SUM('Data Input'!C399:AQ399))","v":""},{"$f":"IF(H395=\"\",\"\",H395/(COUNTA('Data Input'!$C$8:$AQ$8)-1))","v":""},{"$f":"IF(ISBLANK('Data Input'!A399),\"\",SUM('Data Input'!I399,'Data Input'!M399,'Data Input'!AB399,'Data Input'!AE399))","v":""},{"$f":"IF(J395=\"\",\"\",J395/COUNTIF('Data Input'!$C$8:$AQ$8,$J$2))","v":""},{"$f":"IF(ISBLANK('Data Input'!A399),\"\",SUM('Data Input'!E399,'Data Input'!G399,'Data Input'!H399,'Data Input'!L399,'Data Input'!N399,'Data Input'!Q399,'Data Input'!R399,'Data Input'!T399,'Data Input'!U399,'Data Input'!V399,'Data Input'!X399,'Data Input'!Y399,'Data Input'!Z399,'Data Input'!AA399,'Data Input'!AC399,'Data Input'!AD399,'Data Input'!AF399,'Data Input'!AG399,'Data Input'!AH399,'Data Input'!AI399,'Data Input'!AJ399,'Data Input'!AK399,'Data Input'!AL399))","v":""},{"$f":"IF(L395=\"\",\"\",L395/COUNTIF('Data Input'!$C$8:$AQ$8,$L$2))","v":""},{"$f":"IF(ISBLANK('Data Input'!A399),\"\",SUM('Data Input'!K399,'Data Input'!AQ399))","v":""},{"$f":"IF(N395=\"\",\"\",N395/COUNTIF('Data Input'!$C$8:$AQ$8,$N$2))","v":""},{"$f":"IF(ISBLANK('Data Input'!A399),\"\",SUM('Data Input'!C399,'Data Input'!D399,'Data Input'!F399,'Data Input'!J399,'Data Input'!O399,'Data Input'!S399,'Data Input'!AM399,'Data Input'!AN399,'Data Input'!AO399,'Data Input'!AP399))","v":""},{"$f":"IF(P395=\"\",\"\",P395/COUNTIF('Data Input'!$C$8:$AQ$8,$P$2))","v":""},{"$f":"IF(ISBLANK('Data Input'!C399),\"\",SUM('Data Input'!P399))","v":""},{"$f":"IF(R395=\"\",\"\",R395/COUNTIF('Data Input'!$C$8:$AQ$8,$R$2))","v":""}]
[{"$f":"IF('Data Input'!A400=0,\"\",'Data Input'!A400)","v":""},{"$f":"IF(H396=\"\",\"\",IF(H396>Welcome!$K$23-1,\"Exceeding\",IF(H396>Welcome!$G$23-1,\"Expected\",IF(H396<Welcome!$G$23,\"Below\"))))","v":""},{"$f":"IF(ISBLANK('Data Input'!A400),\"\",COUNTIF('Data Input'!C400:AQ400,\"\")-1)","v":""},{"$f":"IF(ISBLANK('Data Input'!A400),\"\",COUNTIF('Data Input'!C400:AQ400,\"0\"))","v":""},{"$f":"IF(ISBLANK('Data Input'!A400),\"\",SUM(C396,D396))","v":""},{"$f":"IF(ISBLANK('Data Input'!A400),\"\",SUM('Data Input'!C400:V400))","v":""},{"$f":"IF(ISBLANK('Data Input'!A400),\"\",SUM('Data Input'!X400:AQ400))","v":""},{"$f":"IF(ISBLANK('Data Input'!A400),\"\",SUM('Data Input'!C400:AQ400))","v":""},{"$f":"IF(H396=\"\",\"\",H396/(COUNTA('Data Input'!$C$8:$AQ$8)-1))","v":""},{"$f":"IF(ISBLANK('Data Input'!A400),\"\",SUM('Data Input'!I400,'Data Input'!M400,'Data Input'!AB400,'Data Input'!AE400))","v":""},{"$f":"IF(J396=\"\",\"\",J396/COUNTIF('Data Input'!$C$8:$AQ$8,$J$2))","v":""},{"$f":"IF(ISBLANK('Data Input'!A400),\"\",SUM('Data Input'!E400,'Data Input'!G400,'Data Input'!H400,'Data Input'!L400,'Data Input'!N400,'Data Input'!Q400,'Data Input'!R400,'Data Input'!T400,'Data Input'!U400,'Data Input'!V400,'Data Input'!X400,'Data Input'!Y400,'Data Input'!Z400,'Data Input'!AA400,'Data Input'!AC400,'Data Input'!AD400,'Data Input'!AF400,'Data Input'!AG400,'Data Input'!AH400,'Data Input'!AI400,'Data Input'!AJ400,'Data Input'!AK400,'Data Input'!AL400))","v":""},{"$f":"IF(L396=\"\",\"\",L396/COUNTIF('Data Input'!$C$8:$AQ$8,$L$2))","v":""},{"$f":"IF(ISBLANK('Data Input'!A400),\"\",SUM('Data Input'!K400,'Data Input'!AQ400))","v":""},{"$f":"IF(N396=\"\",\"\",N396/COUNTIF('Data Input'!$C$8:$AQ$8,$N$2))","v":""},{"$f":"IF(ISBLANK('Data Input'!A400),\"\",SUM('Data Input'!C400,'Data Input'!D400,'Data Input'!F400,'Data Input'!J400,'Data Input'!O400,'Data Input'!S400,'Data Input'!AM400,'Data Input'!AN400,'Data Input'!AO400,'Data Input'!AP400))","v":""},{"$f":"IF(P396=\"\",\"\",P396/COUNTIF('Data Input'!$C$8:$AQ$8,$P$2))","v":""},{"$f":"IF(ISBLANK('Data Input'!C400),\"\",SUM('Data Input'!P400))","v":""},{"$f":"IF(R396=\"\",\"\",R396/COUNTIF('Data Input'!$C$8:$AQ$8,$R$2))","v":""}]
[{"$f":"IF('Data Input'!A401=0,\"\",'Data Input'!A401)","v":""},{"$f":"IF(H397=\"\",\"\",IF(H397>Welcome!$K$23-1,\"Exceeding\",IF(H397>Welcome!$G$23-1,\"Expected\",IF(H397<Welcome!$G$23,\"Below\"))))","v":""},{"$f":"IF(ISBLANK('Data Input'!A401),\"\",COUNTIF('Data Input'!C401:AQ401,\"\")-1)","v":""},{"$f":"IF(ISBLANK('Data Input'!A401),\"\",COUNTIF('Data Input'!C401:AQ401,\"0\"))","v":""},{"$f":"IF(ISBLANK('Data Input'!A401),\"\",SUM(C397,D397))","v":""},{"$f":"IF(ISBLANK('Data Input'!A401),\"\",SUM('Data Input'!C401:V401))","v":""},{"$f":"IF(ISBLANK('Data Input'!A401),\"\",SUM('Data Input'!X401:AQ401))","v":""},{"$f":"IF(ISBLANK('Data Input'!A401),\"\",SUM('Data Input'!C401:AQ401))","v":""},{"$f":"IF(H397=\"\",\"\",H397/(COUNTA('Data Input'!$C$8:$AQ$8)-1))","v":""},{"$f":"IF(ISBLANK('Data Input'!A401),\"\",SUM('Data Input'!I401,'Data Input'!M401,'Data Input'!AB401,'Data Input'!AE401))","v":""},{"$f":"IF(J397=\"\",\"\",J397/COUNTIF('Data Input'!$C$8:$AQ$8,$J$2))","v":""},{"$f":"IF(ISBLANK('Data Input'!A401),\"\",SUM('Data Input'!E401,'Data Input'!G401,'Data Input'!H401,'Data Input'!L401,'Data Input'!N401,'Data Input'!Q401,'Data Input'!R401,'Data Input'!T401,'Data Input'!U401,'Data Input'!V401,'Data Input'!X401,'Data Input'!Y401,'Data Input'!Z401,'Data Input'!AA401,'Data Input'!AC401,'Data Input'!AD401,'Data Input'!AF401,'Data Input'!AG401,'Data Input'!AH401,'Data Input'!AI401,'Data Input'!AJ401,'Data Input'!AK401,'Data Input'!AL401))","v":""},{"$f":"IF(L397=\"\",\"\",L397/COUNTIF('Data Input'!$C$8:$AQ$8,$L$2))","v":""},{"$f":"IF(ISBLANK('Data Input'!A401),\"\",SUM('Data Input'!K401,'Data Input'!AQ401))","v":""},{"$f":"IF(N397=\"\",\"\",N397/COUNTIF('Data Input'!$C$8:$AQ$8,$N$2))","v":""},{"$f":"IF(ISBLANK('Data Input'!A401),\"\",SUM('Data Input'!C401,'Data Input'!D401,'Data Input'!F401,'Data Input'!J401,'Data Input'!O401,'Data Input'!S401,'Data Input'!AM401,'Data Input'!AN401,'Data Input'!AO401,'Data Input'!AP401))","v":""},{"$f":"IF(P397=\"\",\"\",P397/COUNTIF('Data Input'!$C$8:$AQ$8,$P$2))","v":""},{"$f":"IF(ISBLANK('Data Input'!C401),\"\",SUM('Data Input'!P401))","v":""},{"$f":"IF(R397=\"\",\"\",R397/COUNTIF('Data Input'!$C$8:$AQ$8,$R$2))","v":""}]
[{"$f":"IF('Data Input'!A402=0,\"\",'Data Input'!A402)","v":""},{"$f":"IF(H398=\"\",\"\",IF(H398>Welcome!$K$23-1,\"Exceeding\",IF(H398>Welcome!$G$23-1,\"Expected\",IF(H398<Welcome!$G$23,\"Below\"))))","v":""},{"$f":"IF(ISBLANK('Data Input'!A402),\"\",COUNTIF('Data Input'!C402:AQ402,\"\")-1)","v":""},{"$f":"IF(ISBLANK('Data Input'!A402),\"\",COUNTIF('Data Input'!C402:AQ402,\"0\"))","v":""},{"$f":"IF(ISBLANK('Data Input'!A402),\"\",SUM(C398,D398))","v":""},{"$f":"IF(ISBLANK('Data Input'!A402),\"\",SUM('Data Input'!C402:V402))","v":""},{"$f":"IF(ISBLANK('Data Input'!A402),\"\",SUM('Data Input'!X402:AQ402))","v":""},{"$f":"IF(ISBLANK('Data Input'!A402),\"\",SUM('Data Input'!C402:AQ402))","v":""},{"$f":"IF(H398=\"\",\"\",H398/(COUNTA('Data Input'!$C$8:$AQ$8)-1))","v":""},{"$f":"IF(ISBLANK('Data Input'!A402),\"\",SUM('Data Input'!I402,'Data Input'!M402,'Data Input'!AB402,'Data Input'!AE402))","v":""},{"$f":"IF(J398=\"\",\"\",J398/COUNTIF('Data Input'!$C$8:$AQ$8,$J$2))","v":""},{"$f":"IF(ISBLANK('Data Input'!A402),\"\",SUM('Data Input'!E402,'Data Input'!G402,'Data Input'!H402,'Data Input'!L402,'Data Input'!N402,'Data Input'!Q402,'Data Input'!R402,'Data Input'!T402,'Data Input'!U402,'Data Input'!V402,'Data Input'!X402,'Data Input'!Y402,'Data Input'!Z402,'Data Input'!AA402,'Data Input'!AC402,'Data Input'!AD402,'Data Input'!AF402,'Data Input'!AG402,'Data Input'!AH402,'Data Input'!AI402,'Data Input'!AJ402,'Data Input'!AK402,'Data Input'!AL402))","v":""},{"$f":"IF(L398=\"\",\"\",L398/COUNTIF('Data Input'!$C$8:$AQ$8,$L$2))","v":""},{"$f":"IF(ISBLANK('Data Input'!A402),\"\",SUM('Data Input'!K402,'Data Input'!AQ402))","v":""},{"$f":"IF(N398=\"\",\"\",N398/COUNTIF('Data Input'!$C$8:$AQ$8,$N$2))","v":""},{"$f":"IF(ISBLANK('Data Input'!A402),\"\",SUM('Data Input'!C402,'Data Input'!D402,'Data Input'!F402,'Data Input'!J402,'Data Input'!O402,'Data Input'!S402,'Data Input'!AM402,'Data Input'!AN402,'Data Input'!AO402,'Data Input'!AP402))","v":""},{"$f":"IF(P398=\"\",\"\",P398/COUNTIF('Data Input'!$C$8:$AQ$8,$P$2))","v":""},{"$f":"IF(ISBLANK('Data Input'!C402),\"\",SUM('Data Input'!P402))","v":""},{"$f":"IF(R398=\"\",\"\",R398/COUNTIF('Data Input'!$C$8:$AQ$8,$R$2))","v":""}]
[{"$f":"IF('Data Input'!A403=0,\"\",'Data Input'!A403)","v":""},{"$f":"IF(H399=\"\",\"\",IF(H399>Welcome!$K$23-1,\"Exceeding\",IF(H399>Welcome!$G$23-1,\"Expected\",IF(H399<Welcome!$G$23,\"Below\"))))","v":""},{"$f":"IF(ISBLANK('Data Input'!A403),\"\",COUNTIF('Data Input'!C403:AQ403,\"\")-1)","v":""},{"$f":"IF(ISBLANK('Data Input'!A403),\"\",COUNTIF('Data Input'!C403:AQ403,\"0\"))","v":""},{"$f":"IF(ISBLANK('Data Input'!A403),\"\",SUM(C399,D399))","v":""},{"$f":"IF(ISBLANK('Data Input'!A403),\"\",SUM('Data Input'!C403:V403))","v":""},{"$f":"IF(ISBLANK('Data Input'!A403),\"\",SUM('Data Input'!X403:AQ403))","v":""},{"$f":"IF(ISBLANK('Data Input'!A403),\"\",SUM('Data Input'!C403:AQ403))","v":""},{"$f":"IF(H399=\"\",\"\",H399/(COUNTA('Data Input'!$C$8:$AQ$8)-1))","v":""},{"$f":"IF(ISBLANK('Data Input'!A403),\"\",SUM('Data Input'!I403,'Data Input'!M403,'Data Input'!AB403,'Data Input'!AE403))","v":""},{"$f":"IF(J399=\"\",\"\",J399/COUNTIF('Data Input'!$C$8:$AQ$8,$J$2))","v":""},{"$f":"IF(ISBLANK('Data Input'!A403),\"\",SUM('Data Input'!E403,'Data Input'!G403,'Data Input'!H403,'Data Input'!L403,'Data Input'!N403,'Data Input'!Q403,'Data Input'!R403,'Data Input'!T403,'Data Input'!U403,'Data Input'!V403,'Data Input'!X403,'Data Input'!Y403,'Data Input'!Z403,'Data Input'!AA403,'Data Input'!AC403,'Data Input'!AD403,'Data Input'!AF403,'Data Input'!AG403,'Data Input'!AH403,'Data Input'!AI403,'Data Input'!AJ403,'Data Input'!AK403,'Data Input'!AL403))","v":""},{"$f":"IF(L399=\"\",\"\",L399/COUNTIF('Data Input'!$C$8:$AQ$8,$L$2))","v":""},{"$f":"IF(ISBLANK('Data Input'!A403),\"\",SUM('Data Input'!K403,'Data Input'!AQ403))","v":""},{"$f":"IF(N399=\"\",\"\",N399/COUNTIF('Data Input'!$C$8:$AQ$8,$N$2))","v":""},{"$f":"IF(ISBLANK('Data Input'!A403),\"\",SUM('Data Input'!C403,'Data Input'!D403,'Data Input'!F403,'Data Input'!J403,'Data Input'!O403,'Data Input'!S403,'Data Input'!AM403,'Data Input'!AN403,'Data Input'!AO403,'Data Input'!AP403))","v":""},{"$f":"IF(P399=\"\",\"\",P399/COUNTIF('Data Input'!$C$8:$AQ$8,$P$2))","v":""},{"$f":"IF(ISBLANK('Data Input'!C403),\"\",SUM('Data Input'!P403))","v":""},{"$f":"IF(R399=\"\",\"\",R399/COUNTIF('Data Input'!$C$8:$AQ$8,$R$2))","v":""}]
[{"$f":"IF('Data Input'!A404=0,\"\",'Data Input'!A404)","v":""},{"$f":"IF(H400=\"\",\"\",IF(H400>Welcome!$K$23-1,\"Exceeding\",IF(H400>Welcome!$G$23-1,\"Expected\",IF(H400<Welcome!$G$23,\"Below\"))))","v":""},{"$f":"IF(ISBLANK('Data Input'!A404),\"\",COUNTIF('Data Input'!C404:AQ404,\"\")-1)","v":""},{"$f":"IF(ISBLANK('Data Input'!A404),\"\",COUNTIF('Data Input'!C404:AQ404,\"0\"))","v":""},{"$f":"IF(ISBLANK('Data Input'!A404),\"\",SUM(C400,D400))","v":""},{"$f":"IF(ISBLANK('Data Input'!A404),\"\",SUM('Data Input'!C404:V404))","v":""},{"$f":"IF(ISBLANK('Data Input'!A404),\"\",SUM('Data Input'!X404:AQ404))","v":""},{"$f":"IF(ISBLANK('Data Input'!A404),\"\",SUM('Data Input'!C404:AQ404))","v":""},{"$f":"IF(H400=\"\",\"\",H400/(COUNTA('Data Input'!$C$8:$AQ$8)-1))","v":""},{"$f":"IF(ISBLANK('Data Input'!A404),\"\",SUM('Data Input'!I404,'Data Input'!M404,'Data Input'!AB404,'Data Input'!AE404))","v":""},{"$f":"IF(J400=\"\",\"\",J400/COUNTIF('Data Input'!$C$8:$AQ$8,$J$2))","v":""},{"$f":"IF(ISBLANK('Data Input'!A404),\"\",SUM('Data Input'!E404,'Data Input'!G404,'Data Input'!H404,'Data Input'!L404,'Data Input'!N404,'Data Input'!Q404,'Data Input'!R404,'Data Input'!T404,'Data Input'!U404,'Data Input'!V404,'Data Input'!X404,'Data Input'!Y404,'Data Input'!Z404,'Data Input'!AA404,'Data Input'!AC404,'Data Input'!AD404,'Data Input'!AF404,'Data Input'!AG404,'Data Input'!AH404,'Data Input'!AI404,'Data Input'!AJ404,'Data Input'!AK404,'Data Input'!AL404))","v":""},{"$f":"IF(L400=\"\",\"\",L400/COUNTIF('Data Input'!$C$8:$AQ$8,$L$2))","v":""},{"$f":"IF(ISBLANK('Data Input'!A404),\"\",SUM('Data Input'!K404,'Data Input'!AQ404))","v":""},{"$f":"IF(N400=\"\",\"\",N400/COUNTIF('Data Input'!$C$8:$AQ$8,$N$2))","v":""},{"$f":"IF(ISBLANK('Data Input'!A404),\"\",SUM('Data Input'!C404,'Data Input'!D404,'Data Input'!F404,'Data Input'!J404,'Data Input'!O404,'Data Input'!S404,'Data Input'!AM404,'Data Input'!AN404,'Data Input'!AO404,'Data Input'!AP404))","v":""},{"$f":"IF(P400=\"\",\"\",P400/COUNTIF('Data Input'!$C$8:$AQ$8,$P$2))","v":""},{"$f":"IF(ISBLANK('Data Input'!C404),\"\",SUM('Data Input'!P404))","v":""},{"$f":"IF(R400=\"\",\"\",R400/COUNTIF('Data Input'!$C$8:$AQ$8,$R$2))","v":""}]
[{"$f":"IF('Data Input'!A405=0,\"\",'Data Input'!A405)","v":""},{"$f":"IF(H401=\"\",\"\",IF(H401>Welcome!$K$23-1,\"Exceeding\",IF(H401>Welcome!$G$23-1,\"Expected\",IF(H401<Welcome!$G$23,\"Below\"))))","v":""},{"$f":"IF(ISBLANK('Data Input'!A405),\"\",COUNTIF('Data Input'!C405:AQ405,\"\")-1)","v":""},{"$f":"IF(ISBLANK('Data Input'!A405),\"\",COUNTIF('Data Input'!C405:AQ405,\"0\"))","v":""},{"$f":"IF(ISBLANK('Data Input'!A405),\"\",SUM(C401,D401))","v":""},{"$f":"IF(ISBLANK('Data Input'!A405),\"\",SUM('Data Input'!C405:V405))","v":""},{"$f":"IF(ISBLANK('Data Input'!A405),\"\",SUM('Data Input'!X405:AQ405))","v":""},{"$f":"IF(ISBLANK('Data Input'!A405),\"\",SUM('Data Input'!C405:AQ405))","v":""},{"$f":"IF(H401=\"\",\"\",H401/(COUNTA('Data Input'!$C$8:$AQ$8)-1))","v":""},{"$f":"IF(ISBLANK('Data Input'!A405),\"\",SUM('Data Input'!I405,'Data Input'!M405,'Data Input'!AB405,'Data Input'!AE405))","v":""},{"$f":"IF(J401=\"\",\"\",J401/COUNTIF('Data Input'!$C$8:$AQ$8,$J$2))","v":""},{"$f":"IF(ISBLANK('Data Input'!A405),\"\",SUM('Data Input'!E405,'Data Input'!G405,'Data Input'!H405,'Data Input'!L405,'Data Input'!N405,'Data Input'!Q405,'Data Input'!R405,'Data Input'!T405,'Data Input'!U405,'Data Input'!V405,'Data Input'!X405,'Data Input'!Y405,'Data Input'!Z405,'Data Input'!AA405,'Data Input'!AC405,'Data Input'!AD405,'Data Input'!AF405,'Data Input'!AG405,'Data Input'!AH405,'Data Input'!AI405,'Data Input'!AJ405,'Data Input'!AK405,'Data Input'!AL405))","v":""},{"$f":"IF(L401=\"\",\"\",L401/COUNTIF('Data Input'!$C$8:$AQ$8,$L$2))","v":""},{"$f":"IF(ISBLANK('Data Input'!A405),\"\",SUM('Data Input'!K405,'Data Input'!AQ405))","v":""},{"$f":"IF(N401=\"\",\"\",N401/COUNTIF('Data Input'!$C$8:$AQ$8,$N$2))","v":""},{"$f":"IF(ISBLANK('Data Input'!A405),\"\",SUM('Data Input'!C405,'Data Input'!D405,'Data Input'!F405,'Data Input'!J405,'Data Input'!O405,'Data Input'!S405,'Data Input'!AM405,'Data Input'!AN405,'Data Input'!AO405,'Data Input'!AP405))","v":""},{"$f":"IF(P401=\"\",\"\",P401/COUNTIF('Data Input'!$C$8:$AQ$8,$P$2))","v":""},{"$f":"IF(ISBLANK('Data Input'!C405),\"\",SUM('Data Input'!P405))","v":""},{"$f":"IF(R401=\"\",\"\",R401/COUNTIF('Data Input'!$C$8:$AQ$8,$R$2))","v":""}]
[{"$f":"IF('Data Input'!A406=0,\"\",'Data Input'!A406)","v":""},{"$f":"IF(H402=\"\",\"\",IF(H402>Welcome!$K$23-1,\"Exceeding\",IF(H402>Welcome!$G$23-1,\"Expected\",IF(H402<Welcome!$G$23,\"Below\"))))","v":""},{"$f":"IF(ISBLANK('Data Input'!A406),\"\",COUNTIF('Data Input'!C406:AQ406,\"\")-1)","v":""},{"$f":"IF(ISBLANK('Data Input'!A406),\"\",COUNTIF('Data Input'!C406:AQ406,\"0\"))","v":""},{"$f":"IF(ISBLANK('Data Input'!A406),\"\",SUM(C402,D402))","v":""},{"$f":"IF(ISBLANK('Data Input'!A406),\"\",SUM('Data Input'!C406:V406))","v":""},{"$f":"IF(ISBLANK('Data Input'!A406),\"\",SUM('Data Input'!X406:AQ406))","v":""},{"$f":"IF(ISBLANK('Data Input'!A406),\"\",SUM('Data Input'!C406:AQ406))","v":""},{"$f":"IF(H402=\"\",\"\",H402/(COUNTA('Data Input'!$C$8:$AQ$8)-1))","v":""},{"$f":"IF(ISBLANK('Data Input'!A406),\"\",SUM('Data Input'!I406,'Data Input'!M406,'Data Input'!AB406,'Data Input'!AE406))","v":""},{"$f":"IF(J402=\"\",\"\",J402/COUNTIF('Data Input'!$C$8:$AQ$8,$J$2))","v":""},{"$f":"IF(ISBLANK('Data Input'!A406),\"\",SUM('Data Input'!E406,'Data Input'!G406,'Data Input'!H406,'Data Input'!L406,'Data Input'!N406,'Data Input'!Q406,'Data Input'!R406,'Data Input'!T406,'Data Input'!U406,'Data Input'!V406,'Data Input'!X406,'Data Input'!Y406,'Data Input'!Z406,'Data Input'!AA406,'Data Input'!AC406,'Data Input'!AD406,'Data Input'!AF406,'Data Input'!AG406,'Data Input'!AH406,'Data Input'!AI406,'Data Input'!AJ406,'Data Input'!AK406,'Data Input'!AL406))","v":""},{"$f":"IF(L402=\"\",\"\",L402/COUNTIF('Data Input'!$C$8:$AQ$8,$L$2))","v":""},{"$f":"IF(ISBLANK('Data Input'!A406),\"\",SUM('Data Input'!K406,'Data Input'!AQ406))","v":""},{"$f":"IF(N402=\"\",\"\",N402/COUNTIF('Data Input'!$C$8:$AQ$8,$N$2))","v":""},{"$f":"IF(ISBLANK('Data Input'!A406),\"\",SUM('Data Input'!C406,'Data Input'!D406,'Data Input'!F406,'Data Input'!J406,'Data Input'!O406,'Data Input'!S406,'Data Input'!AM406,'Data Input'!AN406,'Data Input'!AO406,'Data Input'!AP406))","v":""},{"$f":"IF(P402=\"\",\"\",P402/COUNTIF('Data Input'!$C$8:$AQ$8,$P$2))","v":""},{"$f":"IF(ISBLANK('Data Input'!C406),\"\",SUM('Data Input'!P406))","v":""},{"$f":"IF(R402=\"\",\"\",R402/COUNTIF('Data Input'!$C$8:$AQ$8,$R$2))","v":""}]
[{"$f":"IF('Data Input'!A407=0,\"\",'Data Input'!A407)","v":""},{"$f":"IF(H403=\"\",\"\",IF(H403>Welcome!$K$23-1,\"Exceeding\",IF(H403>Welcome!$G$23-1,\"Expected\",IF(H403<Welcome!$G$23,\"Below\"))))","v":""},{"$f":"IF(ISBLANK('Data Input'!A407),\"\",COUNTIF('Data Input'!C407:AQ407,\"\")-1)","v":""},{"$f":"IF(ISBLANK('Data Input'!A407),\"\",COUNTIF('Data Input'!C407:AQ407,\"0\"))","v":""},{"$f":"IF(ISBLANK('Data Input'!A407),\"\",SUM(C403,D403))","v":""},{"$f":"IF(ISBLANK('Data Input'!A407),\"\",SUM('Data Input'!C407:V407))","v":""},{"$f":"IF(ISBLANK('Data Input'!A407),\"\",SUM('Data Input'!X407:AQ407))","v":""},{"$f":"IF(ISBLANK('Data Input'!A407),\"\",SUM('Data Input'!C407:AQ407))","v":""},{"$f":"IF(H403=\"\",\"\",H403/(COUNTA('Data Input'!$C$8:$AQ$8)-1))","v":""},{"$f":"IF(ISBLANK('Data Input'!A407),\"\",SUM('Data Input'!I407,'Data Input'!M407,'Data Input'!AB407,'Data Input'!AE407))","v":""},{"$f":"IF(J403=\"\",\"\",J403/COUNTIF('Data Input'!$C$8:$AQ$8,$J$2))","v":""},{"$f":"IF(ISBLANK('Data Input'!A407),\"\",SUM('Data Input'!E407,'Data Input'!G407,'Data Input'!H407,'Data Input'!L407,'Data Input'!N407,'Data Input'!Q407,'Data Input'!R407,'Data Input'!T407,'Data Input'!U407,'Data Input'!V407,'Data Input'!X407,'Data Input'!Y407,'Data Input'!Z407,'Data Input'!AA407,'Data Input'!AC407,'Data Input'!AD407,'Data Input'!AF407,'Data Input'!AG407,'Data Input'!AH407,'Data Input'!AI407,'Data Input'!AJ407,'Data Input'!AK407,'Data Input'!AL407))","v":""},{"$f":"IF(L403=\"\",\"\",L403/COUNTIF('Data Input'!$C$8:$AQ$8,$L$2))","v":""},{"$f":"IF(ISBLANK('Data Input'!A407),\"\",SUM('Data Input'!K407,'Data Input'!AQ407))","v":""},{"$f":"IF(N403=\"\",\"\",N403/COUNTIF('Data Input'!$C$8:$AQ$8,$N$2))","v":""},{"$f":"IF(ISBLANK('Data Input'!A407),\"\",SUM('Data Input'!C407,'Data Input'!D407,'Data Input'!F407,'Data Input'!J407,'Data Input'!O407,'Data Input'!S407,'Data Input'!AM407,'Data Input'!AN407,'Data Input'!AO407,'Data Input'!AP407))","v":""},{"$f":"IF(P403=\"\",\"\",P403/COUNTIF('Data Input'!$C$8:$AQ$8,$P$2))","v":""},{"$f":"IF(ISBLANK('Data Input'!C407),\"\",SUM('Data Input'!P407))","v":""},{"$f":"IF(R403=\"\",\"\",R403/COUNTIF('Data Input'!$C$8:$AQ$8,$R$2))","v":""}]
[{"$f":"IF('Data Input'!A408=0,\"\",'Data Input'!A408)","v":""},{"$f":"IF(H404=\"\",\"\",IF(H404>Welcome!$K$23-1,\"Exceeding\",IF(H404>Welcome!$G$23-1,\"Expected\",IF(H404<Welcome!$G$23,\"Below\"))))","v":""},{"$f":"IF(ISBLANK('Data Input'!A408),\"\",COUNTIF('Data Input'!C408:AQ408,\"\")-1)","v":""},{"$f":"IF(ISBLANK('Data Input'!A408),\"\",COUNTIF('Data Input'!C408:AQ408,\"0\"))","v":""},{"$f":"IF(ISBLANK('Data Input'!A408),\"\",SUM(C404,D404))","v":""},{"$f":"IF(ISBLANK('Data Input'!A408),\"\",SUM('Data Input'!C408:V408))","v":""},{"$f":"IF(ISBLANK('Data Input'!A408),\"\",SUM('Data Input'!X408:AQ408))","v":""},{"$f":"IF(ISBLANK('Data Input'!A408),\"\",SUM('Data Input'!C408:AQ408))","v":""},{"$f":"IF(H404=\"\",\"\",H404/(COUNTA('Data Input'!$C$8:$AQ$8)-1))","v":""},{"$f":"IF(ISBLANK('Data Input'!A408),\"\",SUM('Data Input'!I408,'Data Input'!M408,'Data Input'!AB408,'Data Input'!AE408))","v":""},{"$f":"IF(J404=\"\",\"\",J404/COUNTIF('Data Input'!$C$8:$AQ$8,$J$2))","v":""},{"$f":"IF(ISBLANK('Data Input'!A408),\"\",SUM('Data Input'!E408,'Data Input'!G408,'Data Input'!H408,'Data Input'!L408,'Data Input'!N408,'Data Input'!Q408,'Data Input'!R408,'Data Input'!T408,'Data Input'!U408,'Data Input'!V408,'Data Input'!X408,'Data Input'!Y408,'Data Input'!Z408,'Data Input'!AA408,'Data Input'!AC408,'Data Input'!AD408,'Data Input'!AF408,'Data Input'!AG408,'Data Input'!AH408,'Data Input'!AI408,'Data Input'!AJ408,'Data Input'!AK408,'Data Input'!AL408))","v":""},{"$f":"IF(L404=\"\",\"\",L404/COUNTIF('Data Input'!$C$8:$AQ$8,$L$2))","v":""},{"$f":"IF(ISBLANK('Data Input'!A408),\"\",SUM('Data Input'!K408,'Data Input'!AQ408))","v":""},{"$f":"IF(N404=\"\",\"\",N404/COUNTIF('Data Input'!$C$8:$AQ$8,$N$2))","v":""},{"$f":"IF(ISBLANK('Data Input'!A408),\"\",SUM('Data Input'!C408,'Data Input'!D408,'Data Input'!F408,'Data Input'!J408,'Data Input'!O408,'Data Input'!S408,'Data Input'!AM408,'Data Input'!AN408,'Data Input'!AO408,'Data Input'!AP408))","v":""},{"$f":"IF(P404=\"\",\"\",P404/COUNTIF('Data Input'!$C$8:$AQ$8,$P$2))","v":""},{"$f":"IF(ISBLANK('Data Input'!C408),\"\",SUM('Data Input'!P408))","v":""},{"$f":"IF(R404=\"\",\"\",R404/COUNTIF('Data Input'!$C$8:$AQ$8,$R$2))","v":""}]
[{"$f":"IF('Data Input'!A409=0,\"\",'Data Input'!A409)","v":""},{"$f":"IF(H405=\"\",\"\",IF(H405>Welcome!$K$23-1,\"Exceeding\",IF(H405>Welcome!$G$23-1,\"Expected\",IF(H405<Welcome!$G$23,\"Below\"))))","v":""},{"$f":"IF(ISBLANK('Data Input'!A409),\"\",COUNTIF('Data Input'!C409:AQ409,\"\")-1)","v":""},{"$f":"IF(ISBLANK('Data Input'!A409),\"\",COUNTIF('Data Input'!C409:AQ409,\"0\"))","v":""},{"$f":"IF(ISBLANK('Data Input'!A409),\"\",SUM(C405,D405))","v":""},{"$f":"IF(ISBLANK('Data Input'!A409),\"\",SUM('Data Input'!C409:V409))","v":""},{"$f":"IF(ISBLANK('Data Input'!A409),\"\",SUM('Data Input'!X409:AQ409))","v":""},{"$f":"IF(ISBLANK('Data Input'!A409),\"\",SUM('Data Input'!C409:AQ409))","v":""},{"$f":"IF(H405=\"\",\"\",H405/(COUNTA('Data Input'!$C$8:$AQ$8)-1))","v":""},{"$f":"IF(ISBLANK('Data Input'!A409),\"\",SUM('Data Input'!I409,'Data Input'!M409,'Data Input'!AB409,'Data Input'!AE409))","v":""},{"$f":"IF(J405=\"\",\"\",J405/COUNTIF('Data Input'!$C$8:$AQ$8,$J$2))","v":""},{"$f":"IF(ISBLANK('Data Input'!A409),\"\",SUM('Data Input'!E409,'Data Input'!G409,'Data Input'!H409,'Data Input'!L409,'Data Input'!N409,'Data Input'!Q409,'Data Input'!R409,'Data Input'!T409,'Data Input'!U409,'Data Input'!V409,'Data Input'!X409,'Data Input'!Y409,'Data Input'!Z409,'Data Input'!AA409,'Data Input'!AC409,'Data Input'!AD409,'Data Input'!AF409,'Data Input'!AG409,'Data Input'!AH409,'Data Input'!AI409,'Data Input'!AJ409,'Data Input'!AK409,'Data Input'!AL409))","v":""},{"$f":"IF(L405=\"\",\"\",L405/COUNTIF('Data Input'!$C$8:$AQ$8,$L$2))","v":""},{"$f":"IF(ISBLANK('Data Input'!A409),\"\",SUM('Data Input'!K409,'Data Input'!AQ409))","v":""},{"$f":"IF(N405=\"\",\"\",N405/COUNTIF('Data Input'!$C$8:$AQ$8,$N$2))","v":""},{"$f":"IF(ISBLANK('Data Input'!A409),\"\",SUM('Data Input'!C409,'Data Input'!D409,'Data Input'!F409,'Data Input'!J409,'Data Input'!O409,'Data Input'!S409,'Data Input'!AM409,'Data Input'!AN409,'Data Input'!AO409,'Data Input'!AP409))","v":""},{"$f":"IF(P405=\"\",\"\",P405/COUNTIF('Data Input'!$C$8:$AQ$8,$P$2))","v":""},{"$f":"IF(ISBLANK('Data Input'!C409),\"\",SUM('Data Input'!P409))","v":""},{"$f":"IF(R405=\"\",\"\",R405/COUNTIF('Data Input'!$C$8:$AQ$8,$R$2))","v":""}]
[{"$f":"IF('Data Input'!A410=0,\"\",'Data Input'!A410)","v":""},{"$f":"IF(H406=\"\",\"\",IF(H406>Welcome!$K$23-1,\"Exceeding\",IF(H406>Welcome!$G$23-1,\"Expected\",IF(H406<Welcome!$G$23,\"Below\"))))","v":""},{"$f":"IF(ISBLANK('Data Input'!A410),\"\",COUNTIF('Data Input'!C410:AQ410,\"\")-1)","v":""},{"$f":"IF(ISBLANK('Data Input'!A410),\"\",COUNTIF('Data Input'!C410:AQ410,\"0\"))","v":""},{"$f":"IF(ISBLANK('Data Input'!A410),\"\",SUM(C406,D406))","v":""},{"$f":"IF(ISBLANK('Data Input'!A410),\"\",SUM('Data Input'!C410:V410))","v":""},{"$f":"IF(ISBLANK('Data Input'!A410),\"\",SUM('Data Input'!X410:AQ410))","v":""},{"$f":"IF(ISBLANK('Data Input'!A410),\"\",SUM('Data Input'!C410:AQ410))","v":""},{"$f":"IF(H406=\"\",\"\",H406/(COUNTA('Data Input'!$C$8:$AQ$8)-1))","v":""},{"$f":"IF(ISBLANK('Data Input'!A410),\"\",SUM('Data Input'!I410,'Data Input'!M410,'Data Input'!AB410,'Data Input'!AE410))","v":""},{"$f":"IF(J406=\"\",\"\",J406/COUNTIF('Data Input'!$C$8:$AQ$8,$J$2))","v":""},{"$f":"IF(ISBLANK('Data Input'!A410),\"\",SUM('Data Input'!E410,'Data Input'!G410,'Data Input'!H410,'Data Input'!L410,'Data Input'!N410,'Data Input'!Q410,'Data Input'!R410,'Data Input'!T410,'Data Input'!U410,'Data Input'!V410,'Data Input'!X410,'Data Input'!Y410,'Data Input'!Z410,'Data Input'!AA410,'Data Input'!AC410,'Data Input'!AD410,'Data Input'!AF410,'Data Input'!AG410,'Data Input'!AH410,'Data Input'!AI410,'Data Input'!AJ410,'Data Input'!AK410,'Data Input'!AL410))","v":""},{"$f":"IF(L406=\"\",\"\",L406/COUNTIF('Data Input'!$C$8:$AQ$8,$L$2))","v":""},{"$f":"IF(ISBLANK('Data Input'!A410),\"\",SUM('Data Input'!K410,'Data Input'!AQ410))","v":""},{"$f":"IF(N406=\"\",\"\",N406/COUNTIF('Data Input'!$C$8:$AQ$8,$N$2))","v":""},{"$f":"IF(ISBLANK('Data Input'!A410),\"\",SUM('Data Input'!C410,'Data Input'!D410,'Data Input'!F410,'Data Input'!J410,'Data Input'!O410,'Data Input'!S410,'Data Input'!AM410,'Data Input'!AN410,'Data Input'!AO410,'Data Input'!AP410))","v":""},{"$f":"IF(P406=\"\",\"\",P406/COUNTIF('Data Input'!$C$8:$AQ$8,$P$2))","v":""},{"$f":"IF(ISBLANK('Data Input'!C410),\"\",SUM('Data Input'!P410))","v":""},{"$f":"IF(R406=\"\",\"\",R406/COUNTIF('Data Input'!$C$8:$AQ$8,$R$2))","v":""}]
[{"$f":"IF('Data Input'!A411=0,\"\",'Data Input'!A411)","v":""},{"$f":"IF(H407=\"\",\"\",IF(H407>Welcome!$K$23-1,\"Exceeding\",IF(H407>Welcome!$G$23-1,\"Expected\",IF(H407<Welcome!$G$23,\"Below\"))))","v":""},{"$f":"IF(ISBLANK('Data Input'!A411),\"\",COUNTIF('Data Input'!C411:AQ411,\"\")-1)","v":""},{"$f":"IF(ISBLANK('Data Input'!A411),\"\",COUNTIF('Data Input'!C411:AQ411,\"0\"))","v":""},{"$f":"IF(ISBLANK('Data Input'!A411),\"\",SUM(C407,D407))","v":""},{"$f":"IF(ISBLANK('Data Input'!A411),\"\",SUM('Data Input'!C411:V411))","v":""},{"$f":"IF(ISBLANK('Data Input'!A411),\"\",SUM('Data Input'!X411:AQ411))","v":""},{"$f":"IF(ISBLANK('Data Input'!A411),\"\",SUM('Data Input'!C411:AQ411))","v":""},{"$f":"IF(H407=\"\",\"\",H407/(COUNTA('Data Input'!$C$8:$AQ$8)-1))","v":""},{"$f":"IF(ISBLANK('Data Input'!A411),\"\",SUM('Data Input'!I411,'Data Input'!M411,'Data Input'!AB411,'Data Input'!AE411))","v":""},{"$f":"IF(J407=\"\",\"\",J407/COUNTIF('Data Input'!$C$8:$AQ$8,$J$2))","v":""},{"$f":"IF(ISBLANK('Data Input'!A411),\"\",SUM('Data Input'!E411,'Data Input'!G411,'Data Input'!H411,'Data Input'!L411,'Data Input'!N411,'Data Input'!Q411,'Data Input'!R411,'Data Input'!T411,'Data Input'!U411,'Data Input'!V411,'Data Input'!X411,'Data Input'!Y411,'Data Input'!Z411,'Data Input'!AA411,'Data Input'!AC411,'Data Input'!AD411,'Data Input'!AF411,'Data Input'!AG411,'Data Input'!AH411,'Data Input'!AI411,'Data Input'!AJ411,'Data Input'!AK411,'Data Input'!AL411))","v":""},{"$f":"IF(L407=\"\",\"\",L407/COUNTIF('Data Input'!$C$8:$AQ$8,$L$2))","v":""},{"$f":"IF(ISBLANK('Data Input'!A411),\"\",SUM('Data Input'!K411,'Data Input'!AQ411))","v":""},{"$f":"IF(N407=\"\",\"\",N407/COUNTIF('Data Input'!$C$8:$AQ$8,$N$2))","v":""},{"$f":"IF(ISBLANK('Data Input'!A411),\"\",SUM('Data Input'!C411,'Data Input'!D411,'Data Input'!F411,'Data Input'!J411,'Data Input'!O411,'Data Input'!S411,'Data Input'!AM411,'Data Input'!AN411,'Data Input'!AO411,'Data Input'!AP411))","v":""},{"$f":"IF(P407=\"\",\"\",P407/COUNTIF('Data Input'!$C$8:$AQ$8,$P$2))","v":""},{"$f":"IF(ISBLANK('Data Input'!C411),\"\",SUM('Data Input'!P411))","v":""},{"$f":"IF(R407=\"\",\"\",R407/COUNTIF('Data Input'!$C$8:$AQ$8,$R$2))","v":""}]
[{"$f":"IF('Data Input'!A412=0,\"\",'Data Input'!A412)","v":""},{"$f":"IF(H408=\"\",\"\",IF(H408>Welcome!$K$23-1,\"Exceeding\",IF(H408>Welcome!$G$23-1,\"Expected\",IF(H408<Welcome!$G$23,\"Below\"))))","v":""},{"$f":"IF(ISBLANK('Data Input'!A412),\"\",COUNTIF('Data Input'!C412:AQ412,\"\")-1)","v":""},{"$f":"IF(ISBLANK('Data Input'!A412),\"\",COUNTIF('Data Input'!C412:AQ412,\"0\"))","v":""},{"$f":"IF(ISBLANK('Data Input'!A412),\"\",SUM(C408,D408))","v":""},{"$f":"IF(ISBLANK('Data Input'!A412),\"\",SUM('Data Input'!C412:V412))","v":""},{"$f":"IF(ISBLANK('Data Input'!A412),\"\",SUM('Data Input'!X412:AQ412))","v":""},{"$f":"IF(ISBLANK('Data Input'!A412),\"\",SUM('Data Input'!C412:AQ412))","v":""},{"$f":"IF(H408=\"\",\"\",H408/(COUNTA('Data Input'!$C$8:$AQ$8)-1))","v":""},{"$f":"IF(ISBLANK('Data Input'!A412),\"\",SUM('Data Input'!I412,'Data Input'!M412,'Data Input'!AB412,'Data Input'!AE412))","v":""},{"$f":"IF(J408=\"\",\"\",J408/COUNTIF('Data Input'!$C$8:$AQ$8,$J$2))","v":""},{"$f":"IF(ISBLANK('Data Input'!A412),\"\",SUM('Data Input'!E412,'Data Input'!G412,'Data Input'!H412,'Data Input'!L412,'Data Input'!N412,'Data Input'!Q412,'Data Input'!R412,'Data Input'!T412,'Data Input'!U412,'Data Input'!V412,'Data Input'!X412,'Data Input'!Y412,'Data Input'!Z412,'Data Input'!AA412,'Data Input'!AC412,'Data Input'!AD412,'Data Input'!AF412,'Data Input'!AG412,'Data Input'!AH412,'Data Input'!AI412,'Data Input'!AJ412,'Data Input'!AK412,'Data Input'!AL412))","v":""},{"$f":"IF(L408=\"\",\"\",L408/COUNTIF('Data Input'!$C$8:$AQ$8,$L$2))","v":""},{"$f":"IF(ISBLANK('Data Input'!A412),\"\",SUM('Data Input'!K412,'Data Input'!AQ412))","v":""},{"$f":"IF(N408=\"\",\"\",N408/COUNTIF('Data Input'!$C$8:$AQ$8,$N$2))","v":""},{"$f":"IF(ISBLANK('Data Input'!A412),\"\",SUM('Data Input'!C412,'Data Input'!D412,'Data Input'!F412,'Data Input'!J412,'Data Input'!O412,'Data Input'!S412,'Data Input'!AM412,'Data Input'!AN412,'Data Input'!AO412,'Data Input'!AP412))","v":""},{"$f":"IF(P408=\"\",\"\",P408/COUNTIF('Data Input'!$C$8:$AQ$8,$P$2))","v":""},{"$f":"IF(ISBLANK('Data Input'!C412),\"\",SUM('Data Input'!P412))","v":""},{"$f":"IF(R408=\"\",\"\",R408/COUNTIF('Data Input'!$C$8:$AQ$8,$R$2))","v":""}]
[{"$f":"IF('Data Input'!A413=0,\"\",'Data Input'!A413)","v":""},{"$f":"IF(H409=\"\",\"\",IF(H409>Welcome!$K$23-1,\"Exceeding\",IF(H409>Welcome!$G$23-1,\"Expected\",IF(H409<Welcome!$G$23,\"Below\"))))","v":""},{"$f":"IF(ISBLANK('Data Input'!A413),\"\",COUNTIF('Data Input'!C413:AQ413,\"\")-1)","v":""},{"$f":"IF(ISBLANK('Data Input'!A413),\"\",COUNTIF('Data Input'!C413:AQ413,\"0\"))","v":""},{"$f":"IF(ISBLANK('Data Input'!A413),\"\",SUM(C409,D409))","v":""},{"$f":"IF(ISBLANK('Data Input'!A413),\"\",SUM('Data Input'!C413:V413))","v":""},{"$f":"IF(ISBLANK('Data Input'!A413),\"\",SUM('Data Input'!X413:AQ413))","v":""},{"$f":"IF(ISBLANK('Data Input'!A413),\"\",SUM('Data Input'!C413:AQ413))","v":""},{"$f":"IF(H409=\"\",\"\",H409/(COUNTA('Data Input'!$C$8:$AQ$8)-1))","v":""},{"$f":"IF(ISBLANK('Data Input'!A413),\"\",SUM('Data Input'!I413,'Data Input'!M413,'Data Input'!AB413,'Data Input'!AE413))","v":""},{"$f":"IF(J409=\"\",\"\",J409/COUNTIF('Data Input'!$C$8:$AQ$8,$J$2))","v":""},{"$f":"IF(ISBLANK('Data Input'!A413),\"\",SUM('Data Input'!E413,'Data Input'!G413,'Data Input'!H413,'Data Input'!L413,'Data Input'!N413,'Data Input'!Q413,'Data Input'!R413,'Data Input'!T413,'Data Input'!U413,'Data Input'!V413,'Data Input'!X413,'Data Input'!Y413,'Data Input'!Z413,'Data Input'!AA413,'Data Input'!AC413,'Data Input'!AD413,'Data Input'!AF413,'Data Input'!AG413,'Data Input'!AH413,'Data Input'!AI413,'Data Input'!AJ413,'Data Input'!AK413,'Data Input'!AL413))","v":""},{"$f":"IF(L409=\"\",\"\",L409/COUNTIF('Data Input'!$C$8:$AQ$8,$L$2))","v":""},{"$f":"IF(ISBLANK('Data Input'!A413),\"\",SUM('Data Input'!K413,'Data Input'!AQ413))","v":""},{"$f":"IF(N409=\"\",\"\",N409/COUNTIF('Data Input'!$C$8:$AQ$8,$N$2))","v":""},{"$f":"IF(ISBLANK('Data Input'!A413),\"\",SUM('Data Input'!C413,'Data Input'!D413,'Data Input'!F413,'Data Input'!J413,'Data Input'!O413,'Data Input'!S413,'Data Input'!AM413,'Data Input'!AN413,'Data Input'!AO413,'Data Input'!AP413))","v":""},{"$f":"IF(P409=\"\",\"\",P409/COUNTIF('Data Input'!$C$8:$AQ$8,$P$2))","v":""},{"$f":"IF(ISBLANK('Data Input'!C413),\"\",SUM('Data Input'!P413))","v":""},{"$f":"IF(R409=\"\",\"\",R409/COUNTIF('Data Input'!$C$8:$AQ$8,$R$2))","v":""}]
[{"$f":"IF('Data Input'!A414=0,\"\",'Data Input'!A414)","v":""},{"$f":"IF(H410=\"\",\"\",IF(H410>Welcome!$K$23-1,\"Exceeding\",IF(H410>Welcome!$G$23-1,\"Expected\",IF(H410<Welcome!$G$23,\"Below\"))))","v":""},{"$f":"IF(ISBLANK('Data Input'!A414),\"\",COUNTIF('Data Input'!C414:AQ414,\"\")-1)","v":""},{"$f":"IF(ISBLANK('Data Input'!A414),\"\",COUNTIF('Data Input'!C414:AQ414,\"0\"))","v":""},{"$f":"IF(ISBLANK('Data Input'!A414),\"\",SUM(C410,D410))","v":""},{"$f":"IF(ISBLANK('Data Input'!A414),\"\",SUM('Data Input'!C414:V414))","v":""},{"$f":"IF(ISBLANK('Data Input'!A414),\"\",SUM('Data Input'!X414:AQ414))","v":""},{"$f":"IF(ISBLANK('Data Input'!A414),\"\",SUM('Data Input'!C414:AQ414))","v":""},{"$f":"IF(H410=\"\",\"\",H410/(COUNTA('Data Input'!$C$8:$AQ$8)-1))","v":""},{"$f":"IF(ISBLANK('Data Input'!A414),\"\",SUM('Data Input'!I414,'Data Input'!M414,'Data Input'!AB414,'Data Input'!AE414))","v":""},{"$f":"IF(J410=\"\",\"\",J410/COUNTIF('Data Input'!$C$8:$AQ$8,$J$2))","v":""},{"$f":"IF(ISBLANK('Data Input'!A414),\"\",SUM('Data Input'!E414,'Data Input'!G414,'Data Input'!H414,'Data Input'!L414,'Data Input'!N414,'Data Input'!Q414,'Data Input'!R414,'Data Input'!T414,'Data Input'!U414,'Data Input'!V414,'Data Input'!X414,'Data Input'!Y414,'Data Input'!Z414,'Data Input'!AA414,'Data Input'!AC414,'Data Input'!AD414,'Data Input'!AF414,'Data Input'!AG414,'Data Input'!AH414,'Data Input'!AI414,'Data Input'!AJ414,'Data Input'!AK414,'Data Input'!AL414))","v":""},{"$f":"IF(L410=\"\",\"\",L410/COUNTIF('Data Input'!$C$8:$AQ$8,$L$2))","v":""},{"$f":"IF(ISBLANK('Data Input'!A414),\"\",SUM('Data Input'!K414,'Data Input'!AQ414))","v":""},{"$f":"IF(N410=\"\",\"\",N410/COUNTIF('Data Input'!$C$8:$AQ$8,$N$2))","v":""},{"$f":"IF(ISBLANK('Data Input'!A414),\"\",SUM('Data Input'!C414,'Data Input'!D414,'Data Input'!F414,'Data Input'!J414,'Data Input'!O414,'Data Input'!S414,'Data Input'!AM414,'Data Input'!AN414,'Data Input'!AO414,'Data Input'!AP414))","v":""},{"$f":"IF(P410=\"\",\"\",P410/COUNTIF('Data Input'!$C$8:$AQ$8,$P$2))","v":""},{"$f":"IF(ISBLANK('Data Input'!C414),\"\",SUM('Data Input'!P414))","v":""},{"$f":"IF(R410=\"\",\"\",R410/COUNTIF('Data Input'!$C$8:$AQ$8,$R$2))","v":""}]
[{"$f":"IF('Data Input'!A415=0,\"\",'Data Input'!A415)","v":""},{"$f":"IF(H411=\"\",\"\",IF(H411>Welcome!$K$23-1,\"Exceeding\",IF(H411>Welcome!$G$23-1,\"Expected\",IF(H411<Welcome!$G$23,\"Below\"))))","v":""},{"$f":"IF(ISBLANK('Data Input'!A415),\"\",COUNTIF('Data Input'!C415:AQ415,\"\")-1)","v":""},{"$f":"IF(ISBLANK('Data Input'!A415),\"\",COUNTIF('Data Input'!C415:AQ415,\"0\"))","v":""},{"$f":"IF(ISBLANK('Data Input'!A415),\"\",SUM(C411,D411))","v":""},{"$f":"IF(ISBLANK('Data Input'!A415),\"\",SUM('Data Input'!C415:V415))","v":""},{"$f":"IF(ISBLANK('Data Input'!A415),\"\",SUM('Data Input'!X415:AQ415))","v":""},{"$f":"IF(ISBLANK('Data Input'!A415),\"\",SUM('Data Input'!C415:AQ415))","v":""},{"$f":"IF(H411=\"\",\"\",H411/(COUNTA('Data Input'!$C$8:$AQ$8)-1))","v":""},{"$f":"IF(ISBLANK('Data Input'!A415),\"\",SUM('Data Input'!I415,'Data Input'!M415,'Data Input'!AB415,'Data Input'!AE415))","v":""},{"$f":"IF(J411=\"\",\"\",J411/COUNTIF('Data Input'!$C$8:$AQ$8,$J$2))","v":""},{"$f":"IF(ISBLANK('Data Input'!A415),\"\",SUM('Data Input'!E415,'Data Input'!G415,'Data Input'!H415,'Data Input'!L415,'Data Input'!N415,'Data Input'!Q415,'Data Input'!R415,'Data Input'!T415,'Data Input'!U415,'Data Input'!V415,'Data Input'!X415,'Data Input'!Y415,'Data Input'!Z415,'Data Input'!AA415,'Data Input'!AC415,'Data Input'!AD415,'Data Input'!AF415,'Data Input'!AG415,'Data Input'!AH415,'Data Input'!AI415,'Data Input'!AJ415,'Data Input'!AK415,'Data Input'!AL415))","v":""},{"$f":"IF(L411=\"\",\"\",L411/COUNTIF('Data Input'!$C$8:$AQ$8,$L$2))","v":""},{"$f":"IF(ISBLANK('Data Input'!A415),\"\",SUM('Data Input'!K415,'Data Input'!AQ415))","v":""},{"$f":"IF(N411=\"\",\"\",N411/COUNTIF('Data Input'!$C$8:$AQ$8,$N$2))","v":""},{"$f":"IF(ISBLANK('Data Input'!A415),\"\",SUM('Data Input'!C415,'Data Input'!D415,'Data Input'!F415,'Data Input'!J415,'Data Input'!O415,'Data Input'!S415,'Data Input'!AM415,'Data Input'!AN415,'Data Input'!AO415,'Data Input'!AP415))","v":""},{"$f":"IF(P411=\"\",\"\",P411/COUNTIF('Data Input'!$C$8:$AQ$8,$P$2))","v":""},{"$f":"IF(ISBLANK('Data Input'!C415),\"\",SUM('Data Input'!P415))","v":""},{"$f":"IF(R411=\"\",\"\",R411/COUNTIF('Data Input'!$C$8:$AQ$8,$R$2))","v":""}]
[{"$f":"IF('Data Input'!A416=0,\"\",'Data Input'!A416)","v":""},{"$f":"IF(H412=\"\",\"\",IF(H412>Welcome!$K$23-1,\"Exceeding\",IF(H412>Welcome!$G$23-1,\"Expected\",IF(H412<Welcome!$G$23,\"Below\"))))","v":""},{"$f":"IF(ISBLANK('Data Input'!A416),\"\",COUNTIF('Data Input'!C416:AQ416,\"\")-1)","v":""},{"$f":"IF(ISBLANK('Data Input'!A416),\"\",COUNTIF('Data Input'!C416:AQ416,\"0\"))","v":""},{"$f":"IF(ISBLANK('Data Input'!A416),\"\",SUM(C412,D412))","v":""},{"$f":"IF(ISBLANK('Data Input'!A416),\"\",SUM('Data Input'!C416:V416))","v":""},{"$f":"IF(ISBLANK('Data Input'!A416),\"\",SUM('Data Input'!X416:AQ416))","v":""},{"$f":"IF(ISBLANK('Data Input'!A416),\"\",SUM('Data Input'!C416:AQ416))","v":""},{"$f":"IF(H412=\"\",\"\",H412/(COUNTA('Data Input'!$C$8:$AQ$8)-1))","v":""},{"$f":"IF(ISBLANK('Data Input'!A416),\"\",SUM('Data Input'!I416,'Data Input'!M416,'Data Input'!AB416,'Data Input'!AE416))","v":""},{"$f":"IF(J412=\"\",\"\",J412/COUNTIF('Data Input'!$C$8:$AQ$8,$J$2))","v":""},{"$f":"IF(ISBLANK('Data Input'!A416),\"\",SUM('Data Input'!E416,'Data Input'!G416,'Data Input'!H416,'Data Input'!L416,'Data Input'!N416,'Data Input'!Q416,'Data Input'!R416,'Data Input'!T416,'Data Input'!U416,'Data Input'!V416,'Data Input'!X416,'Data Input'!Y416,'Data Input'!Z416,'Data Input'!AA416,'Data Input'!AC416,'Data Input'!AD416,'Data Input'!AF416,'Data Input'!AG416,'Data Input'!AH416,'Data Input'!AI416,'Data Input'!AJ416,'Data Input'!AK416,'Data Input'!AL416))","v":""},{"$f":"IF(L412=\"\",\"\",L412/COUNTIF('Data Input'!$C$8:$AQ$8,$L$2))","v":""},{"$f":"IF(ISBLANK('Data Input'!A416),\"\",SUM('Data Input'!K416,'Data Input'!AQ416))","v":""},{"$f":"IF(N412=\"\",\"\",N412/COUNTIF('Data Input'!$C$8:$AQ$8,$N$2))","v":""},{"$f":"IF(ISBLANK('Data Input'!A416),\"\",SUM('Data Input'!C416,'Data Input'!D416,'Data Input'!F416,'Data Input'!J416,'Data Input'!O416,'Data Input'!S416,'Data Input'!AM416,'Data Input'!AN416,'Data Input'!AO416,'Data Input'!AP416))","v":""},{"$f":"IF(P412=\"\",\"\",P412/COUNTIF('Data Input'!$C$8:$AQ$8,$P$2))","v":""},{"$f":"IF(ISBLANK('Data Input'!C416),\"\",SUM('Data Input'!P416))","v":""},{"$f":"IF(R412=\"\",\"\",R412/COUNTIF('Data Input'!$C$8:$AQ$8,$R$2))","v":""}]
[{"$f":"IF('Data Input'!A417=0,\"\",'Data Input'!A417)","v":""},{"$f":"IF(H413=\"\",\"\",IF(H413>Welcome!$K$23-1,\"Exceeding\",IF(H413>Welcome!$G$23-1,\"Expected\",IF(H413<Welcome!$G$23,\"Below\"))))","v":""},{"$f":"IF(ISBLANK('Data Input'!A417),\"\",COUNTIF('Data Input'!C417:AQ417,\"\")-1)","v":""},{"$f":"IF(ISBLANK('Data Input'!A417),\"\",COUNTIF('Data Input'!C417:AQ417,\"0\"))","v":""},{"$f":"IF(ISBLANK('Data Input'!A417),\"\",SUM(C413,D413))","v":""},{"$f":"IF(ISBLANK('Data Input'!A417),\"\",SUM('Data Input'!C417:V417))","v":""},{"$f":"IF(ISBLANK('Data Input'!A417),\"\",SUM('Data Input'!X417:AQ417))","v":""},{"$f":"IF(ISBLANK('Data Input'!A417),\"\",SUM('Data Input'!C417:AQ417))","v":""},{"$f":"IF(H413=\"\",\"\",H413/(COUNTA('Data Input'!$C$8:$AQ$8)-1))","v":""},{"$f":"IF(ISBLANK('Data Input'!A417),\"\",SUM('Data Input'!I417,'Data Input'!M417,'Data Input'!AB417,'Data Input'!AE417))","v":""},{"$f":"IF(J413=\"\",\"\",J413/COUNTIF('Data Input'!$C$8:$AQ$8,$J$2))","v":""},{"$f":"IF(ISBLANK('Data Input'!A417),\"\",SUM('Data Input'!E417,'Data Input'!G417,'Data Input'!H417,'Data Input'!L417,'Data Input'!N417,'Data Input'!Q417,'Data Input'!R417,'Data Input'!T417,'Data Input'!U417,'Data Input'!V417,'Data Input'!X417,'Data Input'!Y417,'Data Input'!Z417,'Data Input'!AA417,'Data Input'!AC417,'Data Input'!AD417,'Data Input'!AF417,'Data Input'!AG417,'Data Input'!AH417,'Data Input'!AI417,'Data Input'!AJ417,'Data Input'!AK417,'Data Input'!AL417))","v":""},{"$f":"IF(L413=\"\",\"\",L413/COUNTIF('Data Input'!$C$8:$AQ$8,$L$2))","v":""},{"$f":"IF(ISBLANK('Data Input'!A417),\"\",SUM('Data Input'!K417,'Data Input'!AQ417))","v":""},{"$f":"IF(N413=\"\",\"\",N413/COUNTIF('Data Input'!$C$8:$AQ$8,$N$2))","v":""},{"$f":"IF(ISBLANK('Data Input'!A417),\"\",SUM('Data Input'!C417,'Data Input'!D417,'Data Input'!F417,'Data Input'!J417,'Data Input'!O417,'Data Input'!S417,'Data Input'!AM417,'Data Input'!AN417,'Data Input'!AO417,'Data Input'!AP417))","v":""},{"$f":"IF(P413=\"\",\"\",P413/COUNTIF('Data Input'!$C$8:$AQ$8,$P$2))","v":""},{"$f":"IF(ISBLANK('Data Input'!C417),\"\",SUM('Data Input'!P417))","v":""},{"$f":"IF(R413=\"\",\"\",R413/COUNTIF('Data Input'!$C$8:$AQ$8,$R$2))","v":""}]
[{"$f":"IF('Data Input'!A418=0,\"\",'Data Input'!A418)","v":""},{"$f":"IF(H414=\"\",\"\",IF(H414>Welcome!$K$23-1,\"Exceeding\",IF(H414>Welcome!$G$23-1,\"Expected\",IF(H414<Welcome!$G$23,\"Below\"))))","v":""},{"$f":"IF(ISBLANK('Data Input'!A418),\"\",COUNTIF('Data Input'!C418:AQ418,\"\")-1)","v":""},{"$f":"IF(ISBLANK('Data Input'!A418),\"\",COUNTIF('Data Input'!C418:AQ418,\"0\"))","v":""},{"$f":"IF(ISBLANK('Data Input'!A418),\"\",SUM(C414,D414))","v":""},{"$f":"IF(ISBLANK('Data Input'!A418),\"\",SUM('Data Input'!C418:V418))","v":""},{"$f":"IF(ISBLANK('Data Input'!A418),\"\",SUM('Data Input'!X418:AQ418))","v":""},{"$f":"IF(ISBLANK('Data Input'!A418),\"\",SUM('Data Input'!C418:AQ418))","v":""},{"$f":"IF(H414=\"\",\"\",H414/(COUNTA('Data Input'!$C$8:$AQ$8)-1))","v":""},{"$f":"IF(ISBLANK('Data Input'!A418),\"\",SUM('Data Input'!I418,'Data Input'!M418,'Data Input'!AB418,'Data Input'!AE418))","v":""},{"$f":"IF(J414=\"\",\"\",J414/COUNTIF('Data Input'!$C$8:$AQ$8,$J$2))","v":""},{"$f":"IF(ISBLANK('Data Input'!A418),\"\",SUM('Data Input'!E418,'Data Input'!G418,'Data Input'!H418,'Data Input'!L418,'Data Input'!N418,'Data Input'!Q418,'Data Input'!R418,'Data Input'!T418,'Data Input'!U418,'Data Input'!V418,'Data Input'!X418,'Data Input'!Y418,'Data Input'!Z418,'Data Input'!AA418,'Data Input'!AC418,'Data Input'!AD418,'Data Input'!AF418,'Data Input'!AG418,'Data Input'!AH418,'Data Input'!AI418,'Data Input'!AJ418,'Data Input'!AK418,'Data Input'!AL418))","v":""},{"$f":"IF(L414=\"\",\"\",L414/COUNTIF('Data Input'!$C$8:$AQ$8,$L$2))","v":""},{"$f":"IF(ISBLANK('Data Input'!A418),\"\",SUM('Data Input'!K418,'Data Input'!AQ418))","v":""},{"$f":"IF(N414=\"\",\"\",N414/COUNTIF('Data Input'!$C$8:$AQ$8,$N$2))","v":""},{"$f":"IF(ISBLANK('Data Input'!A418),\"\",SUM('Data Input'!C418,'Data Input'!D418,'Data Input'!F418,'Data Input'!J418,'Data Input'!O418,'Data Input'!S418,'Data Input'!AM418,'Data Input'!AN418,'Data Input'!AO418,'Data Input'!AP418))","v":""},{"$f":"IF(P414=\"\",\"\",P414/COUNTIF('Data Input'!$C$8:$AQ$8,$P$2))","v":""},{"$f":"IF(ISBLANK('Data Input'!C418),\"\",SUM('Data Input'!P418))","v":""},{"$f":"IF(R414=\"\",\"\",R414/COUNTIF('Data Input'!$C$8:$AQ$8,$R$2))","v":""}]
[{"$f":"IF('Data Input'!A419=0,\"\",'Data Input'!A419)","v":""},{"$f":"IF(H415=\"\",\"\",IF(H415>Welcome!$K$23-1,\"Exceeding\",IF(H415>Welcome!$G$23-1,\"Expected\",IF(H415<Welcome!$G$23,\"Below\"))))","v":""},{"$f":"IF(ISBLANK('Data Input'!A419),\"\",COUNTIF('Data Input'!C419:AQ419,\"\")-1)","v":""},{"$f":"IF(ISBLANK('Data Input'!A419),\"\",COUNTIF('Data Input'!C419:AQ419,\"0\"))","v":""},{"$f":"IF(ISBLANK('Data Input'!A419),\"\",SUM(C415,D415))","v":""},{"$f":"IF(ISBLANK('Data Input'!A419),\"\",SUM('Data Input'!C419:V419))","v":""},{"$f":"IF(ISBLANK('Data Input'!A419),\"\",SUM('Data Input'!X419:AQ419))","v":""},{"$f":"IF(ISBLANK('Data Input'!A419),\"\",SUM('Data Input'!C419:AQ419))","v":""},{"$f":"IF(H415=\"\",\"\",H415/(COUNTA('Data Input'!$C$8:$AQ$8)-1))","v":""},{"$f":"IF(ISBLANK('Data Input'!A419),\"\",SUM('Data Input'!I419,'Data Input'!M419,'Data Input'!AB419,'Data Input'!AE419))","v":""},{"$f":"IF(J415=\"\",\"\",J415/COUNTIF('Data Input'!$C$8:$AQ$8,$J$2))","v":""},{"$f":"IF(ISBLANK('Data Input'!A419),\"\",SUM('Data Input'!E419,'Data Input'!G419,'Data Input'!H419,'Data Input'!L419,'Data Input'!N419,'Data Input'!Q419,'Data Input'!R419,'Data Input'!T419,'Data Input'!U419,'Data Input'!V419,'Data Input'!X419,'Data Input'!Y419,'Data Input'!Z419,'Data Input'!AA419,'Data Input'!AC419,'Data Input'!AD419,'Data Input'!AF419,'Data Input'!AG419,'Data Input'!AH419,'Data Input'!AI419,'Data Input'!AJ419,'Data Input'!AK419,'Data Input'!AL419))","v":""},{"$f":"IF(L415=\"\",\"\",L415/COUNTIF('Data Input'!$C$8:$AQ$8,$L$2))","v":""},{"$f":"IF(ISBLANK('Data Input'!A419),\"\",SUM('Data Input'!K419,'Data Input'!AQ419))","v":""},{"$f":"IF(N415=\"\",\"\",N415/COUNTIF('Data Input'!$C$8:$AQ$8,$N$2))","v":""},{"$f":"IF(ISBLANK('Data Input'!A419),\"\",SUM('Data Input'!C419,'Data Input'!D419,'Data Input'!F419,'Data Input'!J419,'Data Input'!O419,'Data Input'!S419,'Data Input'!AM419,'Data Input'!AN419,'Data Input'!AO419,'Data Input'!AP419))","v":""},{"$f":"IF(P415=\"\",\"\",P415/COUNTIF('Data Input'!$C$8:$AQ$8,$P$2))","v":""},{"$f":"IF(ISBLANK('Data Input'!C419),\"\",SUM('Data Input'!P419))","v":""},{"$f":"IF(R415=\"\",\"\",R415/COUNTIF('Data Input'!$C$8:$AQ$8,$R$2))","v":""}]
[{"$f":"IF('Data Input'!A420=0,\"\",'Data Input'!A420)","v":""},{"$f":"IF(H416=\"\",\"\",IF(H416>Welcome!$K$23-1,\"Exceeding\",IF(H416>Welcome!$G$23-1,\"Expected\",IF(H416<Welcome!$G$23,\"Below\"))))","v":""},{"$f":"IF(ISBLANK('Data Input'!A420),\"\",COUNTIF('Data Input'!C420:AQ420,\"\")-1)","v":""},{"$f":"IF(ISBLANK('Data Input'!A420),\"\",COUNTIF('Data Input'!C420:AQ420,\"0\"))","v":""},{"$f":"IF(ISBLANK('Data Input'!A420),\"\",SUM(C416,D416))","v":""},{"$f":"IF(ISBLANK('Data Input'!A420),\"\",SUM('Data Input'!C420:V420))","v":""},{"$f":"IF(ISBLANK('Data Input'!A420),\"\",SUM('Data Input'!X420:AQ420))","v":""},{"$f":"IF(ISBLANK('Data Input'!A420),\"\",SUM('Data Input'!C420:AQ420))","v":""},{"$f":"IF(H416=\"\",\"\",H416/(COUNTA('Data Input'!$C$8:$AQ$8)-1))","v":""},{"$f":"IF(ISBLANK('Data Input'!A420),\"\",SUM('Data Input'!I420,'Data Input'!M420,'Data Input'!AB420,'Data Input'!AE420))","v":""},{"$f":"IF(J416=\"\",\"\",J416/COUNTIF('Data Input'!$C$8:$AQ$8,$J$2))","v":""},{"$f":"IF(ISBLANK('Data Input'!A420),\"\",SUM('Data Input'!E420,'Data Input'!G420,'Data Input'!H420,'Data Input'!L420,'Data Input'!N420,'Data Input'!Q420,'Data Input'!R420,'Data Input'!T420,'Data Input'!U420,'Data Input'!V420,'Data Input'!X420,'Data Input'!Y420,'Data Input'!Z420,'Data Input'!AA420,'Data Input'!AC420,'Data Input'!AD420,'Data Input'!AF420,'Data Input'!AG420,'Data Input'!AH420,'Data Input'!AI420,'Data Input'!AJ420,'Data Input'!AK420,'Data Input'!AL420))","v":""},{"$f":"IF(L416=\"\",\"\",L416/COUNTIF('Data Input'!$C$8:$AQ$8,$L$2))","v":""},{"$f":"IF(ISBLANK('Data Input'!A420),\"\",SUM('Data Input'!K420,'Data Input'!AQ420))","v":""},{"$f":"IF(N416=\"\",\"\",N416/COUNTIF('Data Input'!$C$8:$AQ$8,$N$2))","v":""},{"$f":"IF(ISBLANK('Data Input'!A420),\"\",SUM('Data Input'!C420,'Data Input'!D420,'Data Input'!F420,'Data Input'!J420,'Data Input'!O420,'Data Input'!S420,'Data Input'!AM420,'Data Input'!AN420,'Data Input'!AO420,'Data Input'!AP420))","v":""},{"$f":"IF(P416=\"\",\"\",P416/COUNTIF('Data Input'!$C$8:$AQ$8,$P$2))","v":""},{"$f":"IF(ISBLANK('Data Input'!C420),\"\",SUM('Data Input'!P420))","v":""},{"$f":"IF(R416=\"\",\"\",R416/COUNTIF('Data Input'!$C$8:$AQ$8,$R$2))","v":""}]
[{"$f":"IF('Data Input'!A421=0,\"\",'Data Input'!A421)","v":""},{"$f":"IF(H417=\"\",\"\",IF(H417>Welcome!$K$23-1,\"Exceeding\",IF(H417>Welcome!$G$23-1,\"Expected\",IF(H417<Welcome!$G$23,\"Below\"))))","v":""},{"$f":"IF(ISBLANK('Data Input'!A421),\"\",COUNTIF('Data Input'!C421:AQ421,\"\")-1)","v":""},{"$f":"IF(ISBLANK('Data Input'!A421),\"\",COUNTIF('Data Input'!C421:AQ421,\"0\"))","v":""},{"$f":"IF(ISBLANK('Data Input'!A421),\"\",SUM(C417,D417))","v":""},{"$f":"IF(ISBLANK('Data Input'!A421),\"\",SUM('Data Input'!C421:V421))","v":""},{"$f":"IF(ISBLANK('Data Input'!A421),\"\",SUM('Data Input'!X421:AQ421))","v":""},{"$f":"IF(ISBLANK('Data Input'!A421),\"\",SUM('Data Input'!C421:AQ421))","v":""},{"$f":"IF(H417=\"\",\"\",H417/(COUNTA('Data Input'!$C$8:$AQ$8)-1))","v":""},{"$f":"IF(ISBLANK('Data Input'!A421),\"\",SUM('Data Input'!I421,'Data Input'!M421,'Data Input'!AB421,'Data Input'!AE421))","v":""},{"$f":"IF(J417=\"\",\"\",J417/COUNTIF('Data Input'!$C$8:$AQ$8,$J$2))","v":""},{"$f":"IF(ISBLANK('Data Input'!A421),\"\",SUM('Data Input'!E421,'Data Input'!G421,'Data Input'!H421,'Data Input'!L421,'Data Input'!N421,'Data Input'!Q421,'Data Input'!R421,'Data Input'!T421,'Data Input'!U421,'Data Input'!V421,'Data Input'!X421,'Data Input'!Y421,'Data Input'!Z421,'Data Input'!AA421,'Data Input'!AC421,'Data Input'!AD421,'Data Input'!AF421,'Data Input'!AG421,'Data Input'!AH421,'Data Input'!AI421,'Data Input'!AJ421,'Data Input'!AK421,'Data Input'!AL421))","v":""},{"$f":"IF(L417=\"\",\"\",L417/COUNTIF('Data Input'!$C$8:$AQ$8,$L$2))","v":""},{"$f":"IF(ISBLANK('Data Input'!A421),\"\",SUM('Data Input'!K421,'Data Input'!AQ421))","v":""},{"$f":"IF(N417=\"\",\"\",N417/COUNTIF('Data Input'!$C$8:$AQ$8,$N$2))","v":""},{"$f":"IF(ISBLANK('Data Input'!A421),\"\",SUM('Data Input'!C421,'Data Input'!D421,'Data Input'!F421,'Data Input'!J421,'Data Input'!O421,'Data Input'!S421,'Data Input'!AM421,'Data Input'!AN421,'Data Input'!AO421,'Data Input'!AP421))","v":""},{"$f":"IF(P417=\"\",\"\",P417/COUNTIF('Data Input'!$C$8:$AQ$8,$P$2))","v":""},{"$f":"IF(ISBLANK('Data Input'!C421),\"\",SUM('Data Input'!P421))","v":""},{"$f":"IF(R417=\"\",\"\",R417/COUNTIF('Data Input'!$C$8:$AQ$8,$R$2))","v":""}]
[{"$f":"IF('Data Input'!A422=0,\"\",'Data Input'!A422)","v":""},{"$f":"IF(H418=\"\",\"\",IF(H418>Welcome!$K$23-1,\"Exceeding\",IF(H418>Welcome!$G$23-1,\"Expected\",IF(H418<Welcome!$G$23,\"Below\"))))","v":""},{"$f":"IF(ISBLANK('Data Input'!A422),\"\",COUNTIF('Data Input'!C422:AQ422,\"\")-1)","v":""},{"$f":"IF(ISBLANK('Data Input'!A422),\"\",COUNTIF('Data Input'!C422:AQ422,\"0\"))","v":""},{"$f":"IF(ISBLANK('Data Input'!A422),\"\",SUM(C418,D418))","v":""},{"$f":"IF(ISBLANK('Data Input'!A422),\"\",SUM('Data Input'!C422:V422))","v":""},{"$f":"IF(ISBLANK('Data Input'!A422),\"\",SUM('Data Input'!X422:AQ422))","v":""},{"$f":"IF(ISBLANK('Data Input'!A422),\"\",SUM('Data Input'!C422:AQ422))","v":""},{"$f":"IF(H418=\"\",\"\",H418/(COUNTA('Data Input'!$C$8:$AQ$8)-1))","v":""},{"$f":"IF(ISBLANK('Data Input'!A422),\"\",SUM('Data Input'!I422,'Data Input'!M422,'Data Input'!AB422,'Data Input'!AE422))","v":""},{"$f":"IF(J418=\"\",\"\",J418/COUNTIF('Data Input'!$C$8:$AQ$8,$J$2))","v":""},{"$f":"IF(ISBLANK('Data Input'!A422),\"\",SUM('Data Input'!E422,'Data Input'!G422,'Data Input'!H422,'Data Input'!L422,'Data Input'!N422,'Data Input'!Q422,'Data Input'!R422,'Data Input'!T422,'Data Input'!U422,'Data Input'!V422,'Data Input'!X422,'Data Input'!Y422,'Data Input'!Z422,'Data Input'!AA422,'Data Input'!AC422,'Data Input'!AD422,'Data Input'!AF422,'Data Input'!AG422,'Data Input'!AH422,'Data Input'!AI422,'Data Input'!AJ422,'Data Input'!AK422,'Data Input'!AL422))","v":""},{"$f":"IF(L418=\"\",\"\",L418/COUNTIF('Data Input'!$C$8:$AQ$8,$L$2))","v":""},{"$f":"IF(ISBLANK('Data Input'!A422),\"\",SUM('Data Input'!K422,'Data Input'!AQ422))","v":""},{"$f":"IF(N418=\"\",\"\",N418/COUNTIF('Data Input'!$C$8:$AQ$8,$N$2))","v":""},{"$f":"IF(ISBLANK('Data Input'!A422),\"\",SUM('Data Input'!C422,'Data Input'!D422,'Data Input'!F422,'Data Input'!J422,'Data Input'!O422,'Data Input'!S422,'Data Input'!AM422,'Data Input'!AN422,'Data Input'!AO422,'Data Input'!AP422))","v":""},{"$f":"IF(P418=\"\",\"\",P418/COUNTIF('Data Input'!$C$8:$AQ$8,$P$2))","v":""},{"$f":"IF(ISBLANK('Data Input'!C422),\"\",SUM('Data Input'!P422))","v":""},{"$f":"IF(R418=\"\",\"\",R418/COUNTIF('Data Input'!$C$8:$AQ$8,$R$2))","v":""}]
[{"$f":"IF('Data Input'!A423=0,\"\",'Data Input'!A423)","v":""},{"$f":"IF(H419=\"\",\"\",IF(H419>Welcome!$K$23-1,\"Exceeding\",IF(H419>Welcome!$G$23-1,\"Expected\",IF(H419<Welcome!$G$23,\"Below\"))))","v":""},{"$f":"IF(ISBLANK('Data Input'!A423),\"\",COUNTIF('Data Input'!C423:AQ423,\"\")-1)","v":""},{"$f":"IF(ISBLANK('Data Input'!A423),\"\",COUNTIF('Data Input'!C423:AQ423,\"0\"))","v":""},{"$f":"IF(ISBLANK('Data Input'!A423),\"\",SUM(C419,D419))","v":""},{"$f":"IF(ISBLANK('Data Input'!A423),\"\",SUM('Data Input'!C423:V423))","v":""},{"$f":"IF(ISBLANK('Data Input'!A423),\"\",SUM('Data Input'!X423:AQ423))","v":""},{"$f":"IF(ISBLANK('Data Input'!A423),\"\",SUM('Data Input'!C423:AQ423))","v":""},{"$f":"IF(H419=\"\",\"\",H419/(COUNTA('Data Input'!$C$8:$AQ$8)-1))","v":""},{"$f":"IF(ISBLANK('Data Input'!A423),\"\",SUM('Data Input'!I423,'Data Input'!M423,'Data Input'!AB423,'Data Input'!AE423))","v":""},{"$f":"IF(J419=\"\",\"\",J419/COUNTIF('Data Input'!$C$8:$AQ$8,$J$2))","v":""},{"$f":"IF(ISBLANK('Data Input'!A423),\"\",SUM('Data Input'!E423,'Data Input'!G423,'Data Input'!H423,'Data Input'!L423,'Data Input'!N423,'Data Input'!Q423,'Data Input'!R423,'Data Input'!T423,'Data Input'!U423,'Data Input'!V423,'Data Input'!X423,'Data Input'!Y423,'Data Input'!Z423,'Data Input'!AA423,'Data Input'!AC423,'Data Input'!AD423,'Data Input'!AF423,'Data Input'!AG423,'Data Input'!AH423,'Data Input'!AI423,'Data Input'!AJ423,'Data Input'!AK423,'Data Input'!AL423))","v":""},{"$f":"IF(L419=\"\",\"\",L419/COUNTIF('Data Input'!$C$8:$AQ$8,$L$2))","v":""},{"$f":"IF(ISBLANK('Data Input'!A423),\"\",SUM('Data Input'!K423,'Data Input'!AQ423))","v":""},{"$f":"IF(N419=\"\",\"\",N419/COUNTIF('Data Input'!$C$8:$AQ$8,$N$2))","v":""},{"$f":"IF(ISBLANK('Data Input'!A423),\"\",SUM('Data Input'!C423,'Data Input'!D423,'Data Input'!F423,'Data Input'!J423,'Data Input'!O423,'Data Input'!S423,'Data Input'!AM423,'Data Input'!AN423,'Data Input'!AO423,'Data Input'!AP423))","v":""},{"$f":"IF(P419=\"\",\"\",P419/COUNTIF('Data Input'!$C$8:$AQ$8,$P$2))","v":""},{"$f":"IF(ISBLANK('Data Input'!C423),\"\",SUM('Data Input'!P423))","v":""},{"$f":"IF(R419=\"\",\"\",R419/COUNTIF('Data Input'!$C$8:$AQ$8,$R$2))","v":""}]
[{"$f":"IF('Data Input'!A424=0,\"\",'Data Input'!A424)","v":""},{"$f":"IF(H420=\"\",\"\",IF(H420>Welcome!$K$23-1,\"Exceeding\",IF(H420>Welcome!$G$23-1,\"Expected\",IF(H420<Welcome!$G$23,\"Below\"))))","v":""},{"$f":"IF(ISBLANK('Data Input'!A424),\"\",COUNTIF('Data Input'!C424:AQ424,\"\")-1)","v":""},{"$f":"IF(ISBLANK('Data Input'!A424),\"\",COUNTIF('Data Input'!C424:AQ424,\"0\"))","v":""},{"$f":"IF(ISBLANK('Data Input'!A424),\"\",SUM(C420,D420))","v":""},{"$f":"IF(ISBLANK('Data Input'!A424),\"\",SUM('Data Input'!C424:V424))","v":""},{"$f":"IF(ISBLANK('Data Input'!A424),\"\",SUM('Data Input'!X424:AQ424))","v":""},{"$f":"IF(ISBLANK('Data Input'!A424),\"\",SUM('Data Input'!C424:AQ424))","v":""},{"$f":"IF(H420=\"\",\"\",H420/(COUNTA('Data Input'!$C$8:$AQ$8)-1))","v":""},{"$f":"IF(ISBLANK('Data Input'!A424),\"\",SUM('Data Input'!I424,'Data Input'!M424,'Data Input'!AB424,'Data Input'!AE424))","v":""},{"$f":"IF(J420=\"\",\"\",J420/COUNTIF('Data Input'!$C$8:$AQ$8,$J$2))","v":""},{"$f":"IF(ISBLANK('Data Input'!A424),\"\",SUM('Data Input'!E424,'Data Input'!G424,'Data Input'!H424,'Data Input'!L424,'Data Input'!N424,'Data Input'!Q424,'Data Input'!R424,'Data Input'!T424,'Data Input'!U424,'Data Input'!V424,'Data Input'!X424,'Data Input'!Y424,'Data Input'!Z424,'Data Input'!AA424,'Data Input'!AC424,'Data Input'!AD424,'Data Input'!AF424,'Data Input'!AG424,'Data Input'!AH424,'Data Input'!AI424,'Data Input'!AJ424,'Data Input'!AK424,'Data Input'!AL424))","v":""},{"$f":"IF(L420=\"\",\"\",L420/COUNTIF('Data Input'!$C$8:$AQ$8,$L$2))","v":""},{"$f":"IF(ISBLANK('Data Input'!A424),\"\",SUM('Data Input'!K424,'Data Input'!AQ424))","v":""},{"$f":"IF(N420=\"\",\"\",N420/COUNTIF('Data Input'!$C$8:$AQ$8,$N$2))","v":""},{"$f":"IF(ISBLANK('Data Input'!A424),\"\",SUM('Data Input'!C424,'Data Input'!D424,'Data Input'!F424,'Data Input'!J424,'Data Input'!O424,'Data Input'!S424,'Data Input'!AM424,'Data Input'!AN424,'Data Input'!AO424,'Data Input'!AP424))","v":""},{"$f":"IF(P420=\"\",\"\",P420/COUNTIF('Data Input'!$C$8:$AQ$8,$P$2))","v":""},{"$f":"IF(ISBLANK('Data Input'!C424),\"\",SUM('Data Input'!P424))","v":""},{"$f":"IF(R420=\"\",\"\",R420/COUNTIF('Data Input'!$C$8:$AQ$8,$R$2))","v":""}]
[{"$f":"IF('Data Input'!A425=0,\"\",'Data Input'!A425)","v":""},{"$f":"IF(H421=\"\",\"\",IF(H421>Welcome!$K$23-1,\"Exceeding\",IF(H421>Welcome!$G$23-1,\"Expected\",IF(H421<Welcome!$G$23,\"Below\"))))","v":""},{"$f":"IF(ISBLANK('Data Input'!A425),\"\",COUNTIF('Data Input'!C425:AQ425,\"\")-1)","v":""},{"$f":"IF(ISBLANK('Data Input'!A425),\"\",COUNTIF('Data Input'!C425:AQ425,\"0\"))","v":""},{"$f":"IF(ISBLANK('Data Input'!A425),\"\",SUM(C421,D421))","v":""},{"$f":"IF(ISBLANK('Data Input'!A425),\"\",SUM('Data Input'!C425:V425))","v":""},{"$f":"IF(ISBLANK('Data Input'!A425),\"\",SUM('Data Input'!X425:AQ425))","v":""},{"$f":"IF(ISBLANK('Data Input'!A425),\"\",SUM('Data Input'!C425:AQ425))","v":""},{"$f":"IF(H421=\"\",\"\",H421/(COUNTA('Data Input'!$C$8:$AQ$8)-1))","v":""},{"$f":"IF(ISBLANK('Data Input'!A425),\"\",SUM('Data Input'!I425,'Data Input'!M425,'Data Input'!AB425,'Data Input'!AE425))","v":""},{"$f":"IF(J421=\"\",\"\",J421/COUNTIF('Data Input'!$C$8:$AQ$8,$J$2))","v":""},{"$f":"IF(ISBLANK('Data Input'!A425),\"\",SUM('Data Input'!E425,'Data Input'!G425,'Data Input'!H425,'Data Input'!L425,'Data Input'!N425,'Data Input'!Q425,'Data Input'!R425,'Data Input'!T425,'Data Input'!U425,'Data Input'!V425,'Data Input'!X425,'Data Input'!Y425,'Data Input'!Z425,'Data Input'!AA425,'Data Input'!AC425,'Data Input'!AD425,'Data Input'!AF425,'Data Input'!AG425,'Data Input'!AH425,'Data Input'!AI425,'Data Input'!AJ425,'Data Input'!AK425,'Data Input'!AL425))","v":""},{"$f":"IF(L421=\"\",\"\",L421/COUNTIF('Data Input'!$C$8:$AQ$8,$L$2))","v":""},{"$f":"IF(ISBLANK('Data Input'!A425),\"\",SUM('Data Input'!K425,'Data Input'!AQ425))","v":""},{"$f":"IF(N421=\"\",\"\",N421/COUNTIF('Data Input'!$C$8:$AQ$8,$N$2))","v":""},{"$f":"IF(ISBLANK('Data Input'!A425),\"\",SUM('Data Input'!C425,'Data Input'!D425,'Data Input'!F425,'Data Input'!J425,'Data Input'!O425,'Data Input'!S425,'Data Input'!AM425,'Data Input'!AN425,'Data Input'!AO425,'Data Input'!AP425))","v":""},{"$f":"IF(P421=\"\",\"\",P421/COUNTIF('Data Input'!$C$8:$AQ$8,$P$2))","v":""},{"$f":"IF(ISBLANK('Data Input'!C425),\"\",SUM('Data Input'!P425))","v":""},{"$f":"IF(R421=\"\",\"\",R421/COUNTIF('Data Input'!$C$8:$AQ$8,$R$2))","v":""}]
[{"$f":"IF('Data Input'!A426=0,\"\",'Data Input'!A426)","v":""},{"$f":"IF(H422=\"\",\"\",IF(H422>Welcome!$K$23-1,\"Exceeding\",IF(H422>Welcome!$G$23-1,\"Expected\",IF(H422<Welcome!$G$23,\"Below\"))))","v":""},{"$f":"IF(ISBLANK('Data Input'!A426),\"\",COUNTIF('Data Input'!C426:AQ426,\"\")-1)","v":""},{"$f":"IF(ISBLANK('Data Input'!A426),\"\",COUNTIF('Data Input'!C426:AQ426,\"0\"))","v":""},{"$f":"IF(ISBLANK('Data Input'!A426),\"\",SUM(C422,D422))","v":""},{"$f":"IF(ISBLANK('Data Input'!A426),\"\",SUM('Data Input'!C426:V426))","v":""},{"$f":"IF(ISBLANK('Data Input'!A426),\"\",SUM('Data Input'!X426:AQ426))","v":""},{"$f":"IF(ISBLANK('Data Input'!A426),\"\",SUM('Data Input'!C426:AQ426))","v":""},{"$f":"IF(H422=\"\",\"\",H422/(COUNTA('Data Input'!$C$8:$AQ$8)-1))","v":""},{"$f":"IF(ISBLANK('Data Input'!A426),\"\",SUM('Data Input'!I426,'Data Input'!M426,'Data Input'!AB426,'Data Input'!AE426))","v":""},{"$f":"IF(J422=\"\",\"\",J422/COUNTIF('Data Input'!$C$8:$AQ$8,$J$2))","v":""},{"$f":"IF(ISBLANK('Data Input'!A426),\"\",SUM('Data Input'!E426,'Data Input'!G426,'Data Input'!H426,'Data Input'!L426,'Data Input'!N426,'Data Input'!Q426,'Data Input'!R426,'Data Input'!T426,'Data Input'!U426,'Data Input'!V426,'Data Input'!X426,'Data Input'!Y426,'Data Input'!Z426,'Data Input'!AA426,'Data Input'!AC426,'Data Input'!AD426,'Data Input'!AF426,'Data Input'!AG426,'Data Input'!AH426,'Data Input'!AI426,'Data Input'!AJ426,'Data Input'!AK426,'Data Input'!AL426))","v":""},{"$f":"IF(L422=\"\",\"\",L422/COUNTIF('Data Input'!$C$8:$AQ$8,$L$2))","v":""},{"$f":"IF(ISBLANK('Data Input'!A426),\"\",SUM('Data Input'!K426,'Data Input'!AQ426))","v":""},{"$f":"IF(N422=\"\",\"\",N422/COUNTIF('Data Input'!$C$8:$AQ$8,$N$2))","v":""},{"$f":"IF(ISBLANK('Data Input'!A426),\"\",SUM('Data Input'!C426,'Data Input'!D426,'Data Input'!F426,'Data Input'!J426,'Data Input'!O426,'Data Input'!S426,'Data Input'!AM426,'Data Input'!AN426,'Data Input'!AO426,'Data Input'!AP426))","v":""},{"$f":"IF(P422=\"\",\"\",P422/COUNTIF('Data Input'!$C$8:$AQ$8,$P$2))","v":""},{"$f":"IF(ISBLANK('Data Input'!C426),\"\",SUM('Data Input'!P426))","v":""},{"$f":"IF(R422=\"\",\"\",R422/COUNTIF('Data Input'!$C$8:$AQ$8,$R$2))","v":""}]
[{"$f":"IF('Data Input'!A427=0,\"\",'Data Input'!A427)","v":""},{"$f":"IF(H423=\"\",\"\",IF(H423>Welcome!$K$23-1,\"Exceeding\",IF(H423>Welcome!$G$23-1,\"Expected\",IF(H423<Welcome!$G$23,\"Below\"))))","v":""},{"$f":"IF(ISBLANK('Data Input'!A427),\"\",COUNTIF('Data Input'!C427:AQ427,\"\")-1)","v":""},{"$f":"IF(ISBLANK('Data Input'!A427),\"\",COUNTIF('Data Input'!C427:AQ427,\"0\"))","v":""},{"$f":"IF(ISBLANK('Data Input'!A427),\"\",SUM(C423,D423))","v":""},{"$f":"IF(ISBLANK('Data Input'!A427),\"\",SUM('Data Input'!C427:V427))","v":""},{"$f":"IF(ISBLANK('Data Input'!A427),\"\",SUM('Data Input'!X427:AQ427))","v":""},{"$f":"IF(ISBLANK('Data Input'!A427),\"\",SUM('Data Input'!C427:AQ427))","v":""},{"$f":"IF(H423=\"\",\"\",H423/(COUNTA('Data Input'!$C$8:$AQ$8)-1))","v":""},{"$f":"IF(ISBLANK('Data Input'!A427),\"\",SUM('Data Input'!I427,'Data Input'!M427,'Data Input'!AB427,'Data Input'!AE427))","v":""},{"$f":"IF(J423=\"\",\"\",J423/COUNTIF('Data Input'!$C$8:$AQ$8,$J$2))","v":""},{"$f":"IF(ISBLANK('Data Input'!A427),\"\",SUM('Data Input'!E427,'Data Input'!G427,'Data Input'!H427,'Data Input'!L427,'Data Input'!N427,'Data Input'!Q427,'Data Input'!R427,'Data Input'!T427,'Data Input'!U427,'Data Input'!V427,'Data Input'!X427,'Data Input'!Y427,'Data Input'!Z427,'Data Input'!AA427,'Data Input'!AC427,'Data Input'!AD427,'Data Input'!AF427,'Data Input'!AG427,'Data Input'!AH427,'Data Input'!AI427,'Data Input'!AJ427,'Data Input'!AK427,'Data Input'!AL427))","v":""},{"$f":"IF(L423=\"\",\"\",L423/COUNTIF('Data Input'!$C$8:$AQ$8,$L$2))","v":""},{"$f":"IF(ISBLANK('Data Input'!A427),\"\",SUM('Data Input'!K427,'Data Input'!AQ427))","v":""},{"$f":"IF(N423=\"\",\"\",N423/COUNTIF('Data Input'!$C$8:$AQ$8,$N$2))","v":""},{"$f":"IF(ISBLANK('Data Input'!A427),\"\",SUM('Data Input'!C427,'Data Input'!D427,'Data Input'!F427,'Data Input'!J427,'Data Input'!O427,'Data Input'!S427,'Data Input'!AM427,'Data Input'!AN427,'Data Input'!AO427,'Data Input'!AP427))","v":""},{"$f":"IF(P423=\"\",\"\",P423/COUNTIF('Data Input'!$C$8:$AQ$8,$P$2))","v":""},{"$f":"IF(ISBLANK('Data Input'!C427),\"\",SUM('Data Input'!P427))","v":""},{"$f":"IF(R423=\"\",\"\",R423/COUNTIF('Data Input'!$C$8:$AQ$8,$R$2))","v":""}]
[{"$f":"IF('Data Input'!A428=0,\"\",'Data Input'!A428)","v":""},{"$f":"IF(H424=\"\",\"\",IF(H424>Welcome!$K$23-1,\"Exceeding\",IF(H424>Welcome!$G$23-1,\"Expected\",IF(H424<Welcome!$G$23,\"Below\"))))","v":""},{"$f":"IF(ISBLANK('Data Input'!A428),\"\",COUNTIF('Data Input'!C428:AQ428,\"\")-1)","v":""},{"$f":"IF(ISBLANK('Data Input'!A428),\"\",COUNTIF('Data Input'!C428:AQ428,\"0\"))","v":""},{"$f":"IF(ISBLANK('Data Input'!A428),\"\",SUM(C424,D424))","v":""},{"$f":"IF(ISBLANK('Data Input'!A428),\"\",SUM('Data Input'!C428:V428))","v":""},{"$f":"IF(ISBLANK('Data Input'!A428),\"\",SUM('Data Input'!X428:AQ428))","v":""},{"$f":"IF(ISBLANK('Data Input'!A428),\"\",SUM('Data Input'!C428:AQ428))","v":""},{"$f":"IF(H424=\"\",\"\",H424/(COUNTA('Data Input'!$C$8:$AQ$8)-1))","v":""},{"$f":"IF(ISBLANK('Data Input'!A428),\"\",SUM('Data Input'!I428,'Data Input'!M428,'Data Input'!AB428,'Data Input'!AE428))","v":""},{"$f":"IF(J424=\"\",\"\",J424/COUNTIF('Data Input'!$C$8:$AQ$8,$J$2))","v":""},{"$f":"IF(ISBLANK('Data Input'!A428),\"\",SUM('Data Input'!E428,'Data Input'!G428,'Data Input'!H428,'Data Input'!L428,'Data Input'!N428,'Data Input'!Q428,'Data Input'!R428,'Data Input'!T428,'Data Input'!U428,'Data Input'!V428,'Data Input'!X428,'Data Input'!Y428,'Data Input'!Z428,'Data Input'!AA428,'Data Input'!AC428,'Data Input'!AD428,'Data Input'!AF428,'Data Input'!AG428,'Data Input'!AH428,'Data Input'!AI428,'Data Input'!AJ428,'Data Input'!AK428,'Data Input'!AL428))","v":""},{"$f":"IF(L424=\"\",\"\",L424/COUNTIF('Data Input'!$C$8:$AQ$8,$L$2))","v":""},{"$f":"IF(ISBLANK('Data Input'!A428),\"\",SUM('Data Input'!K428,'Data Input'!AQ428))","v":""},{"$f":"IF(N424=\"\",\"\",N424/COUNTIF('Data Input'!$C$8:$AQ$8,$N$2))","v":""},{"$f":"IF(ISBLANK('Data Input'!A428),\"\",SUM('Data Input'!C428,'Data Input'!D428,'Data Input'!F428,'Data Input'!J428,'Data Input'!O428,'Data Input'!S428,'Data Input'!AM428,'Data Input'!AN428,'Data Input'!AO428,'Data Input'!AP428))","v":""},{"$f":"IF(P424=\"\",\"\",P424/COUNTIF('Data Input'!$C$8:$AQ$8,$P$2))","v":""},{"$f":"IF(ISBLANK('Data Input'!C428),\"\",SUM('Data Input'!P428))","v":""},{"$f":"IF(R424=\"\",\"\",R424/COUNTIF('Data Input'!$C$8:$AQ$8,$R$2))","v":""}]
[{"$f":"IF('Data Input'!A429=0,\"\",'Data Input'!A429)","v":""},{"$f":"IF(H425=\"\",\"\",IF(H425>Welcome!$K$23-1,\"Exceeding\",IF(H425>Welcome!$G$23-1,\"Expected\",IF(H425<Welcome!$G$23,\"Below\"))))","v":""},{"$f":"IF(ISBLANK('Data Input'!A429),\"\",COUNTIF('Data Input'!C429:AQ429,\"\")-1)","v":""},{"$f":"IF(ISBLANK('Data Input'!A429),\"\",COUNTIF('Data Input'!C429:AQ429,\"0\"))","v":""},{"$f":"IF(ISBLANK('Data Input'!A429),\"\",SUM(C425,D425))","v":""},{"$f":"IF(ISBLANK('Data Input'!A429),\"\",SUM('Data Input'!C429:V429))","v":""},{"$f":"IF(ISBLANK('Data Input'!A429),\"\",SUM('Data Input'!X429:AQ429))","v":""},{"$f":"IF(ISBLANK('Data Input'!A429),\"\",SUM('Data Input'!C429:AQ429))","v":""},{"$f":"IF(H425=\"\",\"\",H425/(COUNTA('Data Input'!$C$8:$AQ$8)-1))","v":""},{"$f":"IF(ISBLANK('Data Input'!A429),\"\",SUM('Data Input'!I429,'Data Input'!M429,'Data Input'!AB429,'Data Input'!AE429))","v":""},{"$f":"IF(J425=\"\",\"\",J425/COUNTIF('Data Input'!$C$8:$AQ$8,$J$2))","v":""},{"$f":"IF(ISBLANK('Data Input'!A429),\"\",SUM('Data Input'!E429,'Data Input'!G429,'Data Input'!H429,'Data Input'!L429,'Data Input'!N429,'Data Input'!Q429,'Data Input'!R429,'Data Input'!T429,'Data Input'!U429,'Data Input'!V429,'Data Input'!X429,'Data Input'!Y429,'Data Input'!Z429,'Data Input'!AA429,'Data Input'!AC429,'Data Input'!AD429,'Data Input'!AF429,'Data Input'!AG429,'Data Input'!AH429,'Data Input'!AI429,'Data Input'!AJ429,'Data Input'!AK429,'Data Input'!AL429))","v":""},{"$f":"IF(L425=\"\",\"\",L425/COUNTIF('Data Input'!$C$8:$AQ$8,$L$2))","v":""},{"$f":"IF(ISBLANK('Data Input'!A429),\"\",SUM('Data Input'!K429,'Data Input'!AQ429))","v":""},{"$f":"IF(N425=\"\",\"\",N425/COUNTIF('Data Input'!$C$8:$AQ$8,$N$2))","v":""},{"$f":"IF(ISBLANK('Data Input'!A429),\"\",SUM('Data Input'!C429,'Data Input'!D429,'Data Input'!F429,'Data Input'!J429,'Data Input'!O429,'Data Input'!S429,'Data Input'!AM429,'Data Input'!AN429,'Data Input'!AO429,'Data Input'!AP429))","v":""},{"$f":"IF(P425=\"\",\"\",P425/COUNTIF('Data Input'!$C$8:$AQ$8,$P$2))","v":""},{"$f":"IF(ISBLANK('Data Input'!C429),\"\",SUM('Data Input'!P429))","v":""},{"$f":"IF(R425=\"\",\"\",R425/COUNTIF('Data Input'!$C$8:$AQ$8,$R$2))","v":""}]
[{"$f":"IF('Data Input'!A430=0,\"\",'Data Input'!A430)","v":""},{"$f":"IF(H426=\"\",\"\",IF(H426>Welcome!$K$23-1,\"Exceeding\",IF(H426>Welcome!$G$23-1,\"Expected\",IF(H426<Welcome!$G$23,\"Below\"))))","v":""},{"$f":"IF(ISBLANK('Data Input'!A430),\"\",COUNTIF('Data Input'!C430:AQ430,\"\")-1)","v":""},{"$f":"IF(ISBLANK('Data Input'!A430),\"\",COUNTIF('Data Input'!C430:AQ430,\"0\"))","v":""},{"$f":"IF(ISBLANK('Data Input'!A430),\"\",SUM(C426,D426))","v":""},{"$f":"IF(ISBLANK('Data Input'!A430),\"\",SUM('Data Input'!C430:V430))","v":""},{"$f":"IF(ISBLANK('Data Input'!A430),\"\",SUM('Data Input'!X430:AQ430))","v":""},{"$f":"IF(ISBLANK('Data Input'!A430),\"\",SUM('Data Input'!C430:AQ430))","v":""},{"$f":"IF(H426=\"\",\"\",H426/(COUNTA('Data Input'!$C$8:$AQ$8)-1))","v":""},{"$f":"IF(ISBLANK('Data Input'!A430),\"\",SUM('Data Input'!I430,'Data Input'!M430,'Data Input'!AB430,'Data Input'!AE430))","v":""},{"$f":"IF(J426=\"\",\"\",J426/COUNTIF('Data Input'!$C$8:$AQ$8,$J$2))","v":""},{"$f":"IF(ISBLANK('Data Input'!A430),\"\",SUM('Data Input'!E430,'Data Input'!G430,'Data Input'!H430,'Data Input'!L430,'Data Input'!N430,'Data Input'!Q430,'Data Input'!R430,'Data Input'!T430,'Data Input'!U430,'Data Input'!V430,'Data Input'!X430,'Data Input'!Y430,'Data Input'!Z430,'Data Input'!AA430,'Data Input'!AC430,'Data Input'!AD430,'Data Input'!AF430,'Data Input'!AG430,'Data Input'!AH430,'Data Input'!AI430,'Data Input'!AJ430,'Data Input'!AK430,'Data Input'!AL430))","v":""},{"$f":"IF(L426=\"\",\"\",L426/COUNTIF('Data Input'!$C$8:$AQ$8,$L$2))","v":""},{"$f":"IF(ISBLANK('Data Input'!A430),\"\",SUM('Data Input'!K430,'Data Input'!AQ430))","v":""},{"$f":"IF(N426=\"\",\"\",N426/COUNTIF('Data Input'!$C$8:$AQ$8,$N$2))","v":""},{"$f":"IF(ISBLANK('Data Input'!A430),\"\",SUM('Data Input'!C430,'Data Input'!D430,'Data Input'!F430,'Data Input'!J430,'Data Input'!O430,'Data Input'!S430,'Data Input'!AM430,'Data Input'!AN430,'Data Input'!AO430,'Data Input'!AP430))","v":""},{"$f":"IF(P426=\"\",\"\",P426/COUNTIF('Data Input'!$C$8:$AQ$8,$P$2))","v":""},{"$f":"IF(ISBLANK('Data Input'!C430),\"\",SUM('Data Input'!P430))","v":""},{"$f":"IF(R426=\"\",\"\",R426/COUNTIF('Data Input'!$C$8:$AQ$8,$R$2))","v":""}]
[{"$f":"IF('Data Input'!A431=0,\"\",'Data Input'!A431)","v":""},{"$f":"IF(H427=\"\",\"\",IF(H427>Welcome!$K$23-1,\"Exceeding\",IF(H427>Welcome!$G$23-1,\"Expected\",IF(H427<Welcome!$G$23,\"Below\"))))","v":""},{"$f":"IF(ISBLANK('Data Input'!A431),\"\",COUNTIF('Data Input'!C431:AQ431,\"\")-1)","v":""},{"$f":"IF(ISBLANK('Data Input'!A431),\"\",COUNTIF('Data Input'!C431:AQ431,\"0\"))","v":""},{"$f":"IF(ISBLANK('Data Input'!A431),\"\",SUM(C427,D427))","v":""},{"$f":"IF(ISBLANK('Data Input'!A431),\"\",SUM('Data Input'!C431:V431))","v":""},{"$f":"IF(ISBLANK('Data Input'!A431),\"\",SUM('Data Input'!X431:AQ431))","v":""},{"$f":"IF(ISBLANK('Data Input'!A431),\"\",SUM('Data Input'!C431:AQ431))","v":""},{"$f":"IF(H427=\"\",\"\",H427/(COUNTA('Data Input'!$C$8:$AQ$8)-1))","v":""},{"$f":"IF(ISBLANK('Data Input'!A431),\"\",SUM('Data Input'!I431,'Data Input'!M431,'Data Input'!AB431,'Data Input'!AE431))","v":""},{"$f":"IF(J427=\"\",\"\",J427/COUNTIF('Data Input'!$C$8:$AQ$8,$J$2))","v":""},{"$f":"IF(ISBLANK('Data Input'!A431),\"\",SUM('Data Input'!E431,'Data Input'!G431,'Data Input'!H431,'Data Input'!L431,'Data Input'!N431,'Data Input'!Q431,'Data Input'!R431,'Data Input'!T431,'Data Input'!U431,'Data Input'!V431,'Data Input'!X431,'Data Input'!Y431,'Data Input'!Z431,'Data Input'!AA431,'Data Input'!AC431,'Data Input'!AD431,'Data Input'!AF431,'Data Input'!AG431,'Data Input'!AH431,'Data Input'!AI431,'Data Input'!AJ431,'Data Input'!AK431,'Data Input'!AL431))","v":""},{"$f":"IF(L427=\"\",\"\",L427/COUNTIF('Data Input'!$C$8:$AQ$8,$L$2))","v":""},{"$f":"IF(ISBLANK('Data Input'!A431),\"\",SUM('Data Input'!K431,'Data Input'!AQ431))","v":""},{"$f":"IF(N427=\"\",\"\",N427/COUNTIF('Data Input'!$C$8:$AQ$8,$N$2))","v":""},{"$f":"IF(ISBLANK('Data Input'!A431),\"\",SUM('Data Input'!C431,'Data Input'!D431,'Data Input'!F431,'Data Input'!J431,'Data Input'!O431,'Data Input'!S431,'Data Input'!AM431,'Data Input'!AN431,'Data Input'!AO431,'Data Input'!AP431))","v":""},{"$f":"IF(P427=\"\",\"\",P427/COUNTIF('Data Input'!$C$8:$AQ$8,$P$2))","v":""},{"$f":"IF(ISBLANK('Data Input'!C431),\"\",SUM('Data Input'!P431))","v":""},{"$f":"IF(R427=\"\",\"\",R427/COUNTIF('Data Input'!$C$8:$AQ$8,$R$2))","v":""}]
[{"$f":"IF('Data Input'!A432=0,\"\",'Data Input'!A432)","v":""},{"$f":"IF(H428=\"\",\"\",IF(H428>Welcome!$K$23-1,\"Exceeding\",IF(H428>Welcome!$G$23-1,\"Expected\",IF(H428<Welcome!$G$23,\"Below\"))))","v":""},{"$f":"IF(ISBLANK('Data Input'!A432),\"\",COUNTIF('Data Input'!C432:AQ432,\"\")-1)","v":""},{"$f":"IF(ISBLANK('Data Input'!A432),\"\",COUNTIF('Data Input'!C432:AQ432,\"0\"))","v":""},{"$f":"IF(ISBLANK('Data Input'!A432),\"\",SUM(C428,D428))","v":""},{"$f":"IF(ISBLANK('Data Input'!A432),\"\",SUM('Data Input'!C432:V432))","v":""},{"$f":"IF(ISBLANK('Data Input'!A432),\"\",SUM('Data Input'!X432:AQ432))","v":""},{"$f":"IF(ISBLANK('Data Input'!A432),\"\",SUM('Data Input'!C432:AQ432))","v":""},{"$f":"IF(H428=\"\",\"\",H428/(COUNTA('Data Input'!$C$8:$AQ$8)-1))","v":""},{"$f":"IF(ISBLANK('Data Input'!A432),\"\",SUM('Data Input'!I432,'Data Input'!M432,'Data Input'!AB432,'Data Input'!AE432))","v":""},{"$f":"IF(J428=\"\",\"\",J428/COUNTIF('Data Input'!$C$8:$AQ$8,$J$2))","v":""},{"$f":"IF(ISBLANK('Data Input'!A432),\"\",SUM('Data Input'!E432,'Data Input'!G432,'Data Input'!H432,'Data Input'!L432,'Data Input'!N432,'Data Input'!Q432,'Data Input'!R432,'Data Input'!T432,'Data Input'!U432,'Data Input'!V432,'Data Input'!X432,'Data Input'!Y432,'Data Input'!Z432,'Data Input'!AA432,'Data Input'!AC432,'Data Input'!AD432,'Data Input'!AF432,'Data Input'!AG432,'Data Input'!AH432,'Data Input'!AI432,'Data Input'!AJ432,'Data Input'!AK432,'Data Input'!AL432))","v":""},{"$f":"IF(L428=\"\",\"\",L428/COUNTIF('Data Input'!$C$8:$AQ$8,$L$2))","v":""},{"$f":"IF(ISBLANK('Data Input'!A432),\"\",SUM('Data Input'!K432,'Data Input'!AQ432))","v":""},{"$f":"IF(N428=\"\",\"\",N428/COUNTIF('Data Input'!$C$8:$AQ$8,$N$2))","v":""},{"$f":"IF(ISBLANK('Data Input'!A432),\"\",SUM('Data Input'!C432,'Data Input'!D432,'Data Input'!F432,'Data Input'!J432,'Data Input'!O432,'Data Input'!S432,'Data Input'!AM432,'Data Input'!AN432,'Data Input'!AO432,'Data Input'!AP432))","v":""},{"$f":"IF(P428=\"\",\"\",P428/COUNTIF('Data Input'!$C$8:$AQ$8,$P$2))","v":""},{"$f":"IF(ISBLANK('Data Input'!C432),\"\",SUM('Data Input'!P432))","v":""},{"$f":"IF(R428=\"\",\"\",R428/COUNTIF('Data Input'!$C$8:$AQ$8,$R$2))","v":""}]
[{"$f":"IF('Data Input'!A433=0,\"\",'Data Input'!A433)","v":""},{"$f":"IF(H429=\"\",\"\",IF(H429>Welcome!$K$23-1,\"Exceeding\",IF(H429>Welcome!$G$23-1,\"Expected\",IF(H429<Welcome!$G$23,\"Below\"))))","v":""},{"$f":"IF(ISBLANK('Data Input'!A433),\"\",COUNTIF('Data Input'!C433:AQ433,\"\")-1)","v":""},{"$f":"IF(ISBLANK('Data Input'!A433),\"\",COUNTIF('Data Input'!C433:AQ433,\"0\"))","v":""},{"$f":"IF(ISBLANK('Data Input'!A433),\"\",SUM(C429,D429))","v":""},{"$f":"IF(ISBLANK('Data Input'!A433),\"\",SUM('Data Input'!C433:V433))","v":""},{"$f":"IF(ISBLANK('Data Input'!A433),\"\",SUM('Data Input'!X433:AQ433))","v":""},{"$f":"IF(ISBLANK('Data Input'!A433),\"\",SUM('Data Input'!C433:AQ433))","v":""},{"$f":"IF(H429=\"\",\"\",H429/(COUNTA('Data Input'!$C$8:$AQ$8)-1))","v":""},{"$f":"IF(ISBLANK('Data Input'!A433),\"\",SUM('Data Input'!I433,'Data Input'!M433,'Data Input'!AB433,'Data Input'!AE433))","v":""},{"$f":"IF(J429=\"\",\"\",J429/COUNTIF('Data Input'!$C$8:$AQ$8,$J$2))","v":""},{"$f":"IF(ISBLANK('Data Input'!A433),\"\",SUM('Data Input'!E433,'Data Input'!G433,'Data Input'!H433,'Data Input'!L433,'Data Input'!N433,'Data Input'!Q433,'Data Input'!R433,'Data Input'!T433,'Data Input'!U433,'Data Input'!V433,'Data Input'!X433,'Data Input'!Y433,'Data Input'!Z433,'Data Input'!AA433,'Data Input'!AC433,'Data Input'!AD433,'Data Input'!AF433,'Data Input'!AG433,'Data Input'!AH433,'Data Input'!AI433,'Data Input'!AJ433,'Data Input'!AK433,'Data Input'!AL433))","v":""},{"$f":"IF(L429=\"\",\"\",L429/COUNTIF('Data Input'!$C$8:$AQ$8,$L$2))","v":""},{"$f":"IF(ISBLANK('Data Input'!A433),\"\",SUM('Data Input'!K433,'Data Input'!AQ433))","v":""},{"$f":"IF(N429=\"\",\"\",N429/COUNTIF('Data Input'!$C$8:$AQ$8,$N$2))","v":""},{"$f":"IF(ISBLANK('Data Input'!A433),\"\",SUM('Data Input'!C433,'Data Input'!D433,'Data Input'!F433,'Data Input'!J433,'Data Input'!O433,'Data Input'!S433,'Data Input'!AM433,'Data Input'!AN433,'Data Input'!AO433,'Data Input'!AP433))","v":""},{"$f":"IF(P429=\"\",\"\",P429/COUNTIF('Data Input'!$C$8:$AQ$8,$P$2))","v":""},{"$f":"IF(ISBLANK('Data Input'!C433),\"\",SUM('Data Input'!P433))","v":""},{"$f":"IF(R429=\"\",\"\",R429/COUNTIF('Data Input'!$C$8:$AQ$8,$R$2))","v":""}]
[{"$f":"IF('Data Input'!A434=0,\"\",'Data Input'!A434)","v":""},{"$f":"IF(H430=\"\",\"\",IF(H430>Welcome!$K$23-1,\"Exceeding\",IF(H430>Welcome!$G$23-1,\"Expected\",IF(H430<Welcome!$G$23,\"Below\"))))","v":""},{"$f":"IF(ISBLANK('Data Input'!A434),\"\",COUNTIF('Data Input'!C434:AQ434,\"\")-1)","v":""},{"$f":"IF(ISBLANK('Data Input'!A434),\"\",COUNTIF('Data Input'!C434:AQ434,\"0\"))","v":""},{"$f":"IF(ISBLANK('Data Input'!A434),\"\",SUM(C430,D430))","v":""},{"$f":"IF(ISBLANK('Data Input'!A434),\"\",SUM('Data Input'!C434:V434))","v":""},{"$f":"IF(ISBLANK('Data Input'!A434),\"\",SUM('Data Input'!X434:AQ434))","v":""},{"$f":"IF(ISBLANK('Data Input'!A434),\"\",SUM('Data Input'!C434:AQ434))","v":""},{"$f":"IF(H430=\"\",\"\",H430/(COUNTA('Data Input'!$C$8:$AQ$8)-1))","v":""},{"$f":"IF(ISBLANK('Data Input'!A434),\"\",SUM('Data Input'!I434,'Data Input'!M434,'Data Input'!AB434,'Data Input'!AE434))","v":""},{"$f":"IF(J430=\"\",\"\",J430/COUNTIF('Data Input'!$C$8:$AQ$8,$J$2))","v":""},{"$f":"IF(ISBLANK('Data Input'!A434),\"\",SUM('Data Input'!E434,'Data Input'!G434,'Data Input'!H434,'Data Input'!L434,'Data Input'!N434,'Data Input'!Q434,'Data Input'!R434,'Data Input'!T434,'Data Input'!U434,'Data Input'!V434,'Data Input'!X434,'Data Input'!Y434,'Data Input'!Z434,'Data Input'!AA434,'Data Input'!AC434,'Data Input'!AD434,'Data Input'!AF434,'Data Input'!AG434,'Data Input'!AH434,'Data Input'!AI434,'Data Input'!AJ434,'Data Input'!AK434,'Data Input'!AL434))","v":""},{"$f":"IF(L430=\"\",\"\",L430/COUNTIF('Data Input'!$C$8:$AQ$8,$L$2))","v":""},{"$f":"IF(ISBLANK('Data Input'!A434),\"\",SUM('Data Input'!K434,'Data Input'!AQ434))","v":""},{"$f":"IF(N430=\"\",\"\",N430/COUNTIF('Data Input'!$C$8:$AQ$8,$N$2))","v":""},{"$f":"IF(ISBLANK('Data Input'!A434),\"\",SUM('Data Input'!C434,'Data Input'!D434,'Data Input'!F434,'Data Input'!J434,'Data Input'!O434,'Data Input'!S434,'Data Input'!AM434,'Data Input'!AN434,'Data Input'!AO434,'Data Input'!AP434))","v":""},{"$f":"IF(P430=\"\",\"\",P430/COUNTIF('Data Input'!$C$8:$AQ$8,$P$2))","v":""},{"$f":"IF(ISBLANK('Data Input'!C434),\"\",SUM('Data Input'!P434))","v":""},{"$f":"IF(R430=\"\",\"\",R430/COUNTIF('Data Input'!$C$8:$AQ$8,$R$2))","v":""}]
[{"$f":"IF('Data Input'!A435=0,\"\",'Data Input'!A435)","v":""},{"$f":"IF(H431=\"\",\"\",IF(H431>Welcome!$K$23-1,\"Exceeding\",IF(H431>Welcome!$G$23-1,\"Expected\",IF(H431<Welcome!$G$23,\"Below\"))))","v":""},{"$f":"IF(ISBLANK('Data Input'!A435),\"\",COUNTIF('Data Input'!C435:AQ435,\"\")-1)","v":""},{"$f":"IF(ISBLANK('Data Input'!A435),\"\",COUNTIF('Data Input'!C435:AQ435,\"0\"))","v":""},{"$f":"IF(ISBLANK('Data Input'!A435),\"\",SUM(C431,D431))","v":""},{"$f":"IF(ISBLANK('Data Input'!A435),\"\",SUM('Data Input'!C435:V435))","v":""},{"$f":"IF(ISBLANK('Data Input'!A435),\"\",SUM('Data Input'!X435:AQ435))","v":""},{"$f":"IF(ISBLANK('Data Input'!A435),\"\",SUM('Data Input'!C435:AQ435))","v":""},{"$f":"IF(H431=\"\",\"\",H431/(COUNTA('Data Input'!$C$8:$AQ$8)-1))","v":""},{"$f":"IF(ISBLANK('Data Input'!A435),\"\",SUM('Data Input'!I435,'Data Input'!M435,'Data Input'!AB435,'Data Input'!AE435))","v":""},{"$f":"IF(J431=\"\",\"\",J431/COUNTIF('Data Input'!$C$8:$AQ$8,$J$2))","v":""},{"$f":"IF(ISBLANK('Data Input'!A435),\"\",SUM('Data Input'!E435,'Data Input'!G435,'Data Input'!H435,'Data Input'!L435,'Data Input'!N435,'Data Input'!Q435,'Data Input'!R435,'Data Input'!T435,'Data Input'!U435,'Data Input'!V435,'Data Input'!X435,'Data Input'!Y435,'Data Input'!Z435,'Data Input'!AA435,'Data Input'!AC435,'Data Input'!AD435,'Data Input'!AF435,'Data Input'!AG435,'Data Input'!AH435,'Data Input'!AI435,'Data Input'!AJ435,'Data Input'!AK435,'Data Input'!AL435))","v":""},{"$f":"IF(L431=\"\",\"\",L431/COUNTIF('Data Input'!$C$8:$AQ$8,$L$2))","v":""},{"$f":"IF(ISBLANK('Data Input'!A435),\"\",SUM('Data Input'!K435,'Data Input'!AQ435))","v":""},{"$f":"IF(N431=\"\",\"\",N431/COUNTIF('Data Input'!$C$8:$AQ$8,$N$2))","v":""},{"$f":"IF(ISBLANK('Data Input'!A435),\"\",SUM('Data Input'!C435,'Data Input'!D435,'Data Input'!F435,'Data Input'!J435,'Data Input'!O435,'Data Input'!S435,'Data Input'!AM435,'Data Input'!AN435,'Data Input'!AO435,'Data Input'!AP435))","v":""},{"$f":"IF(P431=\"\",\"\",P431/COUNTIF('Data Input'!$C$8:$AQ$8,$P$2))","v":""},{"$f":"IF(ISBLANK('Data Input'!C435),\"\",SUM('Data Input'!P435))","v":""},{"$f":"IF(R431=\"\",\"\",R431/COUNTIF('Data Input'!$C$8:$AQ$8,$R$2))","v":""}]
[{"$f":"IF('Data Input'!A436=0,\"\",'Data Input'!A436)","v":""},{"$f":"IF(H432=\"\",\"\",IF(H432>Welcome!$K$23-1,\"Exceeding\",IF(H432>Welcome!$G$23-1,\"Expected\",IF(H432<Welcome!$G$23,\"Below\"))))","v":""},{"$f":"IF(ISBLANK('Data Input'!A436),\"\",COUNTIF('Data Input'!C436:AQ436,\"\")-1)","v":""},{"$f":"IF(ISBLANK('Data Input'!A436),\"\",COUNTIF('Data Input'!C436:AQ436,\"0\"))","v":""},{"$f":"IF(ISBLANK('Data Input'!A436),\"\",SUM(C432,D432))","v":""},{"$f":"IF(ISBLANK('Data Input'!A436),\"\",SUM('Data Input'!C436:V436))","v":""},{"$f":"IF(ISBLANK('Data Input'!A436),\"\",SUM('Data Input'!X436:AQ436))","v":""},{"$f":"IF(ISBLANK('Data Input'!A436),\"\",SUM('Data Input'!C436:AQ436))","v":""},{"$f":"IF(H432=\"\",\"\",H432/(COUNTA('Data Input'!$C$8:$AQ$8)-1))","v":""},{"$f":"IF(ISBLANK('Data Input'!A436),\"\",SUM('Data Input'!I436,'Data Input'!M436,'Data Input'!AB436,'Data Input'!AE436))","v":""},{"$f":"IF(J432=\"\",\"\",J432/COUNTIF('Data Input'!$C$8:$AQ$8,$J$2))","v":""},{"$f":"IF(ISBLANK('Data Input'!A436),\"\",SUM('Data Input'!E436,'Data Input'!G436,'Data Input'!H436,'Data Input'!L436,'Data Input'!N436,'Data Input'!Q436,'Data Input'!R436,'Data Input'!T436,'Data Input'!U436,'Data Input'!V436,'Data Input'!X436,'Data Input'!Y436,'Data Input'!Z436,'Data Input'!AA436,'Data Input'!AC436,'Data Input'!AD436,'Data Input'!AF436,'Data Input'!AG436,'Data Input'!AH436,'Data Input'!AI436,'Data Input'!AJ436,'Data Input'!AK436,'Data Input'!AL436))","v":""},{"$f":"IF(L432=\"\",\"\",L432/COUNTIF('Data Input'!$C$8:$AQ$8,$L$2))","v":""},{"$f":"IF(ISBLANK('Data Input'!A436),\"\",SUM('Data Input'!K436,'Data Input'!AQ436))","v":""},{"$f":"IF(N432=\"\",\"\",N432/COUNTIF('Data Input'!$C$8:$AQ$8,$N$2))","v":""},{"$f":"IF(ISBLANK('Data Input'!A436),\"\",SUM('Data Input'!C436,'Data Input'!D436,'Data Input'!F436,'Data Input'!J436,'Data Input'!O436,'Data Input'!S436,'Data Input'!AM436,'Data Input'!AN436,'Data Input'!AO436,'Data Input'!AP436))","v":""},{"$f":"IF(P432=\"\",\"\",P432/COUNTIF('Data Input'!$C$8:$AQ$8,$P$2))","v":""},{"$f":"IF(ISBLANK('Data Input'!C436),\"\",SUM('Data Input'!P436))","v":""},{"$f":"IF(R432=\"\",\"\",R432/COUNTIF('Data Input'!$C$8:$AQ$8,$R$2))","v":""}]
[{"$f":"IF('Data Input'!A437=0,\"\",'Data Input'!A437)","v":""},{"$f":"IF(H433=\"\",\"\",IF(H433>Welcome!$K$23-1,\"Exceeding\",IF(H433>Welcome!$G$23-1,\"Expected\",IF(H433<Welcome!$G$23,\"Below\"))))","v":""},{"$f":"IF(ISBLANK('Data Input'!A437),\"\",COUNTIF('Data Input'!C437:AQ437,\"\")-1)","v":""},{"$f":"IF(ISBLANK('Data Input'!A437),\"\",COUNTIF('Data Input'!C437:AQ437,\"0\"))","v":""},{"$f":"IF(ISBLANK('Data Input'!A437),\"\",SUM(C433,D433))","v":""},{"$f":"IF(ISBLANK('Data Input'!A437),\"\",SUM('Data Input'!C437:V437))","v":""},{"$f":"IF(ISBLANK('Data Input'!A437),\"\",SUM('Data Input'!X437:AQ437))","v":""},{"$f":"IF(ISBLANK('Data Input'!A437),\"\",SUM('Data Input'!C437:AQ437))","v":""},{"$f":"IF(H433=\"\",\"\",H433/(COUNTA('Data Input'!$C$8:$AQ$8)-1))","v":""},{"$f":"IF(ISBLANK('Data Input'!A437),\"\",SUM('Data Input'!I437,'Data Input'!M437,'Data Input'!AB437,'Data Input'!AE437))","v":""},{"$f":"IF(J433=\"\",\"\",J433/COUNTIF('Data Input'!$C$8:$AQ$8,$J$2))","v":""},{"$f":"IF(ISBLANK('Data Input'!A437),\"\",SUM('Data Input'!E437,'Data Input'!G437,'Data Input'!H437,'Data Input'!L437,'Data Input'!N437,'Data Input'!Q437,'Data Input'!R437,'Data Input'!T437,'Data Input'!U437,'Data Input'!V437,'Data Input'!X437,'Data Input'!Y437,'Data Input'!Z437,'Data Input'!AA437,'Data Input'!AC437,'Data Input'!AD437,'Data Input'!AF437,'Data Input'!AG437,'Data Input'!AH437,'Data Input'!AI437,'Data Input'!AJ437,'Data Input'!AK437,'Data Input'!AL437))","v":""},{"$f":"IF(L433=\"\",\"\",L433/COUNTIF('Data Input'!$C$8:$AQ$8,$L$2))","v":""},{"$f":"IF(ISBLANK('Data Input'!A437),\"\",SUM('Data Input'!K437,'Data Input'!AQ437))","v":""},{"$f":"IF(N433=\"\",\"\",N433/COUNTIF('Data Input'!$C$8:$AQ$8,$N$2))","v":""},{"$f":"IF(ISBLANK('Data Input'!A437),\"\",SUM('Data Input'!C437,'Data Input'!D437,'Data Input'!F437,'Data Input'!J437,'Data Input'!O437,'Data Input'!S437,'Data Input'!AM437,'Data Input'!AN437,'Data Input'!AO437,'Data Input'!AP437))","v":""},{"$f":"IF(P433=\"\",\"\",P433/COUNTIF('Data Input'!$C$8:$AQ$8,$P$2))","v":""},{"$f":"IF(ISBLANK('Data Input'!C437),\"\",SUM('Data Input'!P437))","v":""},{"$f":"IF(R433=\"\",\"\",R433/COUNTIF('Data Input'!$C$8:$AQ$8,$R$2))","v":""}]
[{"$f":"IF('Data Input'!A438=0,\"\",'Data Input'!A438)","v":""},{"$f":"IF(H434=\"\",\"\",IF(H434>Welcome!$K$23-1,\"Exceeding\",IF(H434>Welcome!$G$23-1,\"Expected\",IF(H434<Welcome!$G$23,\"Below\"))))","v":""},{"$f":"IF(ISBLANK('Data Input'!A438),\"\",COUNTIF('Data Input'!C438:AQ438,\"\")-1)","v":""},{"$f":"IF(ISBLANK('Data Input'!A438),\"\",COUNTIF('Data Input'!C438:AQ438,\"0\"))","v":""},{"$f":"IF(ISBLANK('Data Input'!A438),\"\",SUM(C434,D434))","v":""},{"$f":"IF(ISBLANK('Data Input'!A438),\"\",SUM('Data Input'!C438:V438))","v":""},{"$f":"IF(ISBLANK('Data Input'!A438),\"\",SUM('Data Input'!X438:AQ438))","v":""},{"$f":"IF(ISBLANK('Data Input'!A438),\"\",SUM('Data Input'!C438:AQ438))","v":""},{"$f":"IF(H434=\"\",\"\",H434/(COUNTA('Data Input'!$C$8:$AQ$8)-1))","v":""},{"$f":"IF(ISBLANK('Data Input'!A438),\"\",SUM('Data Input'!I438,'Data Input'!M438,'Data Input'!AB438,'Data Input'!AE438))","v":""},{"$f":"IF(J434=\"\",\"\",J434/COUNTIF('Data Input'!$C$8:$AQ$8,$J$2))","v":""},{"$f":"IF(ISBLANK('Data Input'!A438),\"\",SUM('Data Input'!E438,'Data Input'!G438,'Data Input'!H438,'Data Input'!L438,'Data Input'!N438,'Data Input'!Q438,'Data Input'!R438,'Data Input'!T438,'Data Input'!U438,'Data Input'!V438,'Data Input'!X438,'Data Input'!Y438,'Data Input'!Z438,'Data Input'!AA438,'Data Input'!AC438,'Data Input'!AD438,'Data Input'!AF438,'Data Input'!AG438,'Data Input'!AH438,'Data Input'!AI438,'Data Input'!AJ438,'Data Input'!AK438,'Data Input'!AL438))","v":""},{"$f":"IF(L434=\"\",\"\",L434/COUNTIF('Data Input'!$C$8:$AQ$8,$L$2))","v":""},{"$f":"IF(ISBLANK('Data Input'!A438),\"\",SUM('Data Input'!K438,'Data Input'!AQ438))","v":""},{"$f":"IF(N434=\"\",\"\",N434/COUNTIF('Data Input'!$C$8:$AQ$8,$N$2))","v":""},{"$f":"IF(ISBLANK('Data Input'!A438),\"\",SUM('Data Input'!C438,'Data Input'!D438,'Data Input'!F438,'Data Input'!J438,'Data Input'!O438,'Data Input'!S438,'Data Input'!AM438,'Data Input'!AN438,'Data Input'!AO438,'Data Input'!AP438))","v":""},{"$f":"IF(P434=\"\",\"\",P434/COUNTIF('Data Input'!$C$8:$AQ$8,$P$2))","v":""},{"$f":"IF(ISBLANK('Data Input'!C438),\"\",SUM('Data Input'!P438))","v":""},{"$f":"IF(R434=\"\",\"\",R434/COUNTIF('Data Input'!$C$8:$AQ$8,$R$2))","v":""}]
[{"$f":"IF('Data Input'!A439=0,\"\",'Data Input'!A439)","v":""},{"$f":"IF(H435=\"\",\"\",IF(H435>Welcome!$K$23-1,\"Exceeding\",IF(H435>Welcome!$G$23-1,\"Expected\",IF(H435<Welcome!$G$23,\"Below\"))))","v":""},{"$f":"IF(ISBLANK('Data Input'!A439),\"\",COUNTIF('Data Input'!C439:AQ439,\"\")-1)","v":""},{"$f":"IF(ISBLANK('Data Input'!A439),\"\",COUNTIF('Data Input'!C439:AQ439,\"0\"))","v":""},{"$f":"IF(ISBLANK('Data Input'!A439),\"\",SUM(C435,D435))","v":""},{"$f":"IF(ISBLANK('Data Input'!A439),\"\",SUM('Data Input'!C439:V439))","v":""},{"$f":"IF(ISBLANK('Data Input'!A439),\"\",SUM('Data Input'!X439:AQ439))","v":""},{"$f":"IF(ISBLANK('Data Input'!A439),\"\",SUM('Data Input'!C439:AQ439))","v":""},{"$f":"IF(H435=\"\",\"\",H435/(COUNTA('Data Input'!$C$8:$AQ$8)-1))","v":""},{"$f":"IF(ISBLANK('Data Input'!A439),\"\",SUM('Data Input'!I439,'Data Input'!M439,'Data Input'!AB439,'Data Input'!AE439))","v":""},{"$f":"IF(J435=\"\",\"\",J435/COUNTIF('Data Input'!$C$8:$AQ$8,$J$2))","v":""},{"$f":"IF(ISBLANK('Data Input'!A439),\"\",SUM('Data Input'!E439,'Data Input'!G439,'Data Input'!H439,'Data Input'!L439,'Data Input'!N439,'Data Input'!Q439,'Data Input'!R439,'Data Input'!T439,'Data Input'!U439,'Data Input'!V439,'Data Input'!X439,'Data Input'!Y439,'Data Input'!Z439,'Data Input'!AA439,'Data Input'!AC439,'Data Input'!AD439,'Data Input'!AF439,'Data Input'!AG439,'Data Input'!AH439,'Data Input'!AI439,'Data Input'!AJ439,'Data Input'!AK439,'Data Input'!AL439))","v":""},{"$f":"IF(L435=\"\",\"\",L435/COUNTIF('Data Input'!$C$8:$AQ$8,$L$2))","v":""},{"$f":"IF(ISBLANK('Data Input'!A439),\"\",SUM('Data Input'!K439,'Data Input'!AQ439))","v":""},{"$f":"IF(N435=\"\",\"\",N435/COUNTIF('Data Input'!$C$8:$AQ$8,$N$2))","v":""},{"$f":"IF(ISBLANK('Data Input'!A439),\"\",SUM('Data Input'!C439,'Data Input'!D439,'Data Input'!F439,'Data Input'!J439,'Data Input'!O439,'Data Input'!S439,'Data Input'!AM439,'Data Input'!AN439,'Data Input'!AO439,'Data Input'!AP439))","v":""},{"$f":"IF(P435=\"\",\"\",P435/COUNTIF('Data Input'!$C$8:$AQ$8,$P$2))","v":""},{"$f":"IF(ISBLANK('Data Input'!C439),\"\",SUM('Data Input'!P439))","v":""},{"$f":"IF(R435=\"\",\"\",R435/COUNTIF('Data Input'!$C$8:$AQ$8,$R$2))","v":""}]
[{"$f":"IF('Data Input'!A440=0,\"\",'Data Input'!A440)","v":""},{"$f":"IF(H436=\"\",\"\",IF(H436>Welcome!$K$23-1,\"Exceeding\",IF(H436>Welcome!$G$23-1,\"Expected\",IF(H436<Welcome!$G$23,\"Below\"))))","v":""},{"$f":"IF(ISBLANK('Data Input'!A440),\"\",COUNTIF('Data Input'!C440:AQ440,\"\")-1)","v":""},{"$f":"IF(ISBLANK('Data Input'!A440),\"\",COUNTIF('Data Input'!C440:AQ440,\"0\"))","v":""},{"$f":"IF(ISBLANK('Data Input'!A440),\"\",SUM(C436,D436))","v":""},{"$f":"IF(ISBLANK('Data Input'!A440),\"\",SUM('Data Input'!C440:V440))","v":""},{"$f":"IF(ISBLANK('Data Input'!A440),\"\",SUM('Data Input'!X440:AQ440))","v":""},{"$f":"IF(ISBLANK('Data Input'!A440),\"\",SUM('Data Input'!C440:AQ440))","v":""},{"$f":"IF(H436=\"\",\"\",H436/(COUNTA('Data Input'!$C$8:$AQ$8)-1))","v":""},{"$f":"IF(ISBLANK('Data Input'!A440),\"\",SUM('Data Input'!I440,'Data Input'!M440,'Data Input'!AB440,'Data Input'!AE440))","v":""},{"$f":"IF(J436=\"\",\"\",J436/COUNTIF('Data Input'!$C$8:$AQ$8,$J$2))","v":""},{"$f":"IF(ISBLANK('Data Input'!A440),\"\",SUM('Data Input'!E440,'Data Input'!G440,'Data Input'!H440,'Data Input'!L440,'Data Input'!N440,'Data Input'!Q440,'Data Input'!R440,'Data Input'!T440,'Data Input'!U440,'Data Input'!V440,'Data Input'!X440,'Data Input'!Y440,'Data Input'!Z440,'Data Input'!AA440,'Data Input'!AC440,'Data Input'!AD440,'Data Input'!AF440,'Data Input'!AG440,'Data Input'!AH440,'Data Input'!AI440,'Data Input'!AJ440,'Data Input'!AK440,'Data Input'!AL440))","v":""},{"$f":"IF(L436=\"\",\"\",L436/COUNTIF('Data Input'!$C$8:$AQ$8,$L$2))","v":""},{"$f":"IF(ISBLANK('Data Input'!A440),\"\",SUM('Data Input'!K440,'Data Input'!AQ440))","v":""},{"$f":"IF(N436=\"\",\"\",N436/COUNTIF('Data Input'!$C$8:$AQ$8,$N$2))","v":""},{"$f":"IF(ISBLANK('Data Input'!A440),\"\",SUM('Data Input'!C440,'Data Input'!D440,'Data Input'!F440,'Data Input'!J440,'Data Input'!O440,'Data Input'!S440,'Data Input'!AM440,'Data Input'!AN440,'Data Input'!AO440,'Data Input'!AP440))","v":""},{"$f":"IF(P436=\"\",\"\",P436/COUNTIF('Data Input'!$C$8:$AQ$8,$P$2))","v":""},{"$f":"IF(ISBLANK('Data Input'!C440),\"\",SUM('Data Input'!P440))","v":""},{"$f":"IF(R436=\"\",\"\",R436/COUNTIF('Data Input'!$C$8:$AQ$8,$R$2))","v":""}]
[{"$f":"IF('Data Input'!A441=0,\"\",'Data Input'!A441)","v":""},{"$f":"IF(H437=\"\",\"\",IF(H437>Welcome!$K$23-1,\"Exceeding\",IF(H437>Welcome!$G$23-1,\"Expected\",IF(H437<Welcome!$G$23,\"Below\"))))","v":""},{"$f":"IF(ISBLANK('Data Input'!A441),\"\",COUNTIF('Data Input'!C441:AQ441,\"\")-1)","v":""},{"$f":"IF(ISBLANK('Data Input'!A441),\"\",COUNTIF('Data Input'!C441:AQ441,\"0\"))","v":""},{"$f":"IF(ISBLANK('Data Input'!A441),\"\",SUM(C437,D437))","v":""},{"$f":"IF(ISBLANK('Data Input'!A441),\"\",SUM('Data Input'!C441:V441))","v":""},{"$f":"IF(ISBLANK('Data Input'!A441),\"\",SUM('Data Input'!X441:AQ441))","v":""},{"$f":"IF(ISBLANK('Data Input'!A441),\"\",SUM('Data Input'!C441:AQ441))","v":""},{"$f":"IF(H437=\"\",\"\",H437/(COUNTA('Data Input'!$C$8:$AQ$8)-1))","v":""},{"$f":"IF(ISBLANK('Data Input'!A441),\"\",SUM('Data Input'!I441,'Data Input'!M441,'Data Input'!AB441,'Data Input'!AE441))","v":""},{"$f":"IF(J437=\"\",\"\",J437/COUNTIF('Data Input'!$C$8:$AQ$8,$J$2))","v":""},{"$f":"IF(ISBLANK('Data Input'!A441),\"\",SUM('Data Input'!E441,'Data Input'!G441,'Data Input'!H441,'Data Input'!L441,'Data Input'!N441,'Data Input'!Q441,'Data Input'!R441,'Data Input'!T441,'Data Input'!U441,'Data Input'!V441,'Data Input'!X441,'Data Input'!Y441,'Data Input'!Z441,'Data Input'!AA441,'Data Input'!AC441,'Data Input'!AD441,'Data Input'!AF441,'Data Input'!AG441,'Data Input'!AH441,'Data Input'!AI441,'Data Input'!AJ441,'Data Input'!AK441,'Data Input'!AL441))","v":""},{"$f":"IF(L437=\"\",\"\",L437/COUNTIF('Data Input'!$C$8:$AQ$8,$L$2))","v":""},{"$f":"IF(ISBLANK('Data Input'!A441),\"\",SUM('Data Input'!K441,'Data Input'!AQ441))","v":""},{"$f":"IF(N437=\"\",\"\",N437/COUNTIF('Data Input'!$C$8:$AQ$8,$N$2))","v":""},{"$f":"IF(ISBLANK('Data Input'!A441),\"\",SUM('Data Input'!C441,'Data Input'!D441,'Data Input'!F441,'Data Input'!J441,'Data Input'!O441,'Data Input'!S441,'Data Input'!AM441,'Data Input'!AN441,'Data Input'!AO441,'Data Input'!AP441))","v":""},{"$f":"IF(P437=\"\",\"\",P437/COUNTIF('Data Input'!$C$8:$AQ$8,$P$2))","v":""},{"$f":"IF(ISBLANK('Data Input'!C441),\"\",SUM('Data Input'!P441))","v":""},{"$f":"IF(R437=\"\",\"\",R437/COUNTIF('Data Input'!$C$8:$AQ$8,$R$2))","v":""}]
[{"$f":"IF('Data Input'!A442=0,\"\",'Data Input'!A442)","v":""},{"$f":"IF(H438=\"\",\"\",IF(H438>Welcome!$K$23-1,\"Exceeding\",IF(H438>Welcome!$G$23-1,\"Expected\",IF(H438<Welcome!$G$23,\"Below\"))))","v":""},{"$f":"IF(ISBLANK('Data Input'!A442),\"\",COUNTIF('Data Input'!C442:AQ442,\"\")-1)","v":""},{"$f":"IF(ISBLANK('Data Input'!A442),\"\",COUNTIF('Data Input'!C442:AQ442,\"0\"))","v":""},{"$f":"IF(ISBLANK('Data Input'!A442),\"\",SUM(C438,D438))","v":""},{"$f":"IF(ISBLANK('Data Input'!A442),\"\",SUM('Data Input'!C442:V442))","v":""},{"$f":"IF(ISBLANK('Data Input'!A442),\"\",SUM('Data Input'!X442:AQ442))","v":""},{"$f":"IF(ISBLANK('Data Input'!A442),\"\",SUM('Data Input'!C442:AQ442))","v":""},{"$f":"IF(H438=\"\",\"\",H438/(COUNTA('Data Input'!$C$8:$AQ$8)-1))","v":""},{"$f":"IF(ISBLANK('Data Input'!A442),\"\",SUM('Data Input'!I442,'Data Input'!M442,'Data Input'!AB442,'Data Input'!AE442))","v":""},{"$f":"IF(J438=\"\",\"\",J438/COUNTIF('Data Input'!$C$8:$AQ$8,$J$2))","v":""},{"$f":"IF(ISBLANK('Data Input'!A442),\"\",SUM('Data Input'!E442,'Data Input'!G442,'Data Input'!H442,'Data Input'!L442,'Data Input'!N442,'Data Input'!Q442,'Data Input'!R442,'Data Input'!T442,'Data Input'!U442,'Data Input'!V442,'Data Input'!X442,'Data Input'!Y442,'Data Input'!Z442,'Data Input'!AA442,'Data Input'!AC442,'Data Input'!AD442,'Data Input'!AF442,'Data Input'!AG442,'Data Input'!AH442,'Data Input'!AI442,'Data Input'!AJ442,'Data Input'!AK442,'Data Input'!AL442))","v":""},{"$f":"IF(L438=\"\",\"\",L438/COUNTIF('Data Input'!$C$8:$AQ$8,$L$2))","v":""},{"$f":"IF(ISBLANK('Data Input'!A442),\"\",SUM('Data Input'!K442,'Data Input'!AQ442))","v":""},{"$f":"IF(N438=\"\",\"\",N438/COUNTIF('Data Input'!$C$8:$AQ$8,$N$2))","v":""},{"$f":"IF(ISBLANK('Data Input'!A442),\"\",SUM('Data Input'!C442,'Data Input'!D442,'Data Input'!F442,'Data Input'!J442,'Data Input'!O442,'Data Input'!S442,'Data Input'!AM442,'Data Input'!AN442,'Data Input'!AO442,'Data Input'!AP442))","v":""},{"$f":"IF(P438=\"\",\"\",P438/COUNTIF('Data Input'!$C$8:$AQ$8,$P$2))","v":""},{"$f":"IF(ISBLANK('Data Input'!C442),\"\",SUM('Data Input'!P442))","v":""},{"$f":"IF(R438=\"\",\"\",R438/COUNTIF('Data Input'!$C$8:$AQ$8,$R$2))","v":""}]
[{"$f":"IF('Data Input'!A443=0,\"\",'Data Input'!A443)","v":""},{"$f":"IF(H439=\"\",\"\",IF(H439>Welcome!$K$23-1,\"Exceeding\",IF(H439>Welcome!$G$23-1,\"Expected\",IF(H439<Welcome!$G$23,\"Below\"))))","v":""},{"$f":"IF(ISBLANK('Data Input'!A443),\"\",COUNTIF('Data Input'!C443:AQ443,\"\")-1)","v":""},{"$f":"IF(ISBLANK('Data Input'!A443),\"\",COUNTIF('Data Input'!C443:AQ443,\"0\"))","v":""},{"$f":"IF(ISBLANK('Data Input'!A443),\"\",SUM(C439,D439))","v":""},{"$f":"IF(ISBLANK('Data Input'!A443),\"\",SUM('Data Input'!C443:V443))","v":""},{"$f":"IF(ISBLANK('Data Input'!A443),\"\",SUM('Data Input'!X443:AQ443))","v":""},{"$f":"IF(ISBLANK('Data Input'!A443),\"\",SUM('Data Input'!C443:AQ443))","v":""},{"$f":"IF(H439=\"\",\"\",H439/(COUNTA('Data Input'!$C$8:$AQ$8)-1))","v":""},{"$f":"IF(ISBLANK('Data Input'!A443),\"\",SUM('Data Input'!I443,'Data Input'!M443,'Data Input'!AB443,'Data Input'!AE443))","v":""},{"$f":"IF(J439=\"\",\"\",J439/COUNTIF('Data Input'!$C$8:$AQ$8,$J$2))","v":""},{"$f":"IF(ISBLANK('Data Input'!A443),\"\",SUM('Data Input'!E443,'Data Input'!G443,'Data Input'!H443,'Data Input'!L443,'Data Input'!N443,'Data Input'!Q443,'Data Input'!R443,'Data Input'!T443,'Data Input'!U443,'Data Input'!V443,'Data Input'!X443,'Data Input'!Y443,'Data Input'!Z443,'Data Input'!AA443,'Data Input'!AC443,'Data Input'!AD443,'Data Input'!AF443,'Data Input'!AG443,'Data Input'!AH443,'Data Input'!AI443,'Data Input'!AJ443,'Data Input'!AK443,'Data Input'!AL443))","v":""},{"$f":"IF(L439=\"\",\"\",L439/COUNTIF('Data Input'!$C$8:$AQ$8,$L$2))","v":""},{"$f":"IF(ISBLANK('Data Input'!A443),\"\",SUM('Data Input'!K443,'Data Input'!AQ443))","v":""},{"$f":"IF(N439=\"\",\"\",N439/COUNTIF('Data Input'!$C$8:$AQ$8,$N$2))","v":""},{"$f":"IF(ISBLANK('Data Input'!A443),\"\",SUM('Data Input'!C443,'Data Input'!D443,'Data Input'!F443,'Data Input'!J443,'Data Input'!O443,'Data Input'!S443,'Data Input'!AM443,'Data Input'!AN443,'Data Input'!AO443,'Data Input'!AP443))","v":""},{"$f":"IF(P439=\"\",\"\",P439/COUNTIF('Data Input'!$C$8:$AQ$8,$P$2))","v":""},{"$f":"IF(ISBLANK('Data Input'!C443),\"\",SUM('Data Input'!P443))","v":""},{"$f":"IF(R439=\"\",\"\",R439/COUNTIF('Data Input'!$C$8:$AQ$8,$R$2))","v":""}]
[{"$f":"IF('Data Input'!A444=0,\"\",'Data Input'!A444)","v":""},{"$f":"IF(H440=\"\",\"\",IF(H440>Welcome!$K$23-1,\"Exceeding\",IF(H440>Welcome!$G$23-1,\"Expected\",IF(H440<Welcome!$G$23,\"Below\"))))","v":""},{"$f":"IF(ISBLANK('Data Input'!A444),\"\",COUNTIF('Data Input'!C444:AQ444,\"\")-1)","v":""},{"$f":"IF(ISBLANK('Data Input'!A444),\"\",COUNTIF('Data Input'!C444:AQ444,\"0\"))","v":""},{"$f":"IF(ISBLANK('Data Input'!A444),\"\",SUM(C440,D440))","v":""},{"$f":"IF(ISBLANK('Data Input'!A444),\"\",SUM('Data Input'!C444:V444))","v":""},{"$f":"IF(ISBLANK('Data Input'!A444),\"\",SUM('Data Input'!X444:AQ444))","v":""},{"$f":"IF(ISBLANK('Data Input'!A444),\"\",SUM('Data Input'!C444:AQ444))","v":""},{"$f":"IF(H440=\"\",\"\",H440/(COUNTA('Data Input'!$C$8:$AQ$8)-1))","v":""},{"$f":"IF(ISBLANK('Data Input'!A444),\"\",SUM('Data Input'!I444,'Data Input'!M444,'Data Input'!AB444,'Data Input'!AE444))","v":""},{"$f":"IF(J440=\"\",\"\",J440/COUNTIF('Data Input'!$C$8:$AQ$8,$J$2))","v":""},{"$f":"IF(ISBLANK('Data Input'!A444),\"\",SUM('Data Input'!E444,'Data Input'!G444,'Data Input'!H444,'Data Input'!L444,'Data Input'!N444,'Data Input'!Q444,'Data Input'!R444,'Data Input'!T444,'Data Input'!U444,'Data Input'!V444,'Data Input'!X444,'Data Input'!Y444,'Data Input'!Z444,'Data Input'!AA444,'Data Input'!AC444,'Data Input'!AD444,'Data Input'!AF444,'Data Input'!AG444,'Data Input'!AH444,'Data Input'!AI444,'Data Input'!AJ444,'Data Input'!AK444,'Data Input'!AL444))","v":""},{"$f":"IF(L440=\"\",\"\",L440/COUNTIF('Data Input'!$C$8:$AQ$8,$L$2))","v":""},{"$f":"IF(ISBLANK('Data Input'!A444),\"\",SUM('Data Input'!K444,'Data Input'!AQ444))","v":""},{"$f":"IF(N440=\"\",\"\",N440/COUNTIF('Data Input'!$C$8:$AQ$8,$N$2))","v":""},{"$f":"IF(ISBLANK('Data Input'!A444),\"\",SUM('Data Input'!C444,'Data Input'!D444,'Data Input'!F444,'Data Input'!J444,'Data Input'!O444,'Data Input'!S444,'Data Input'!AM444,'Data Input'!AN444,'Data Input'!AO444,'Data Input'!AP444))","v":""},{"$f":"IF(P440=\"\",\"\",P440/COUNTIF('Data Input'!$C$8:$AQ$8,$P$2))","v":""},{"$f":"IF(ISBLANK('Data Input'!C444),\"\",SUM('Data Input'!P444))","v":""},{"$f":"IF(R440=\"\",\"\",R440/COUNTIF('Data Input'!$C$8:$AQ$8,$R$2))","v":""}]
[{"$f":"IF('Data Input'!A445=0,\"\",'Data Input'!A445)","v":""},{"$f":"IF(H441=\"\",\"\",IF(H441>Welcome!$K$23-1,\"Exceeding\",IF(H441>Welcome!$G$23-1,\"Expected\",IF(H441<Welcome!$G$23,\"Below\"))))","v":""},{"$f":"IF(ISBLANK('Data Input'!A445),\"\",COUNTIF('Data Input'!C445:AQ445,\"\")-1)","v":""},{"$f":"IF(ISBLANK('Data Input'!A445),\"\",COUNTIF('Data Input'!C445:AQ445,\"0\"))","v":""},{"$f":"IF(ISBLANK('Data Input'!A445),\"\",SUM(C441,D441))","v":""},{"$f":"IF(ISBLANK('Data Input'!A445),\"\",SUM('Data Input'!C445:V445))","v":""},{"$f":"IF(ISBLANK('Data Input'!A445),\"\",SUM('Data Input'!X445:AQ445))","v":""},{"$f":"IF(ISBLANK('Data Input'!A445),\"\",SUM('Data Input'!C445:AQ445))","v":""},{"$f":"IF(H441=\"\",\"\",H441/(COUNTA('Data Input'!$C$8:$AQ$8)-1))","v":""},{"$f":"IF(ISBLANK('Data Input'!A445),\"\",SUM('Data Input'!I445,'Data Input'!M445,'Data Input'!AB445,'Data Input'!AE445))","v":""},{"$f":"IF(J441=\"\",\"\",J441/COUNTIF('Data Input'!$C$8:$AQ$8,$J$2))","v":""},{"$f":"IF(ISBLANK('Data Input'!A445),\"\",SUM('Data Input'!E445,'Data Input'!G445,'Data Input'!H445,'Data Input'!L445,'Data Input'!N445,'Data Input'!Q445,'Data Input'!R445,'Data Input'!T445,'Data Input'!U445,'Data Input'!V445,'Data Input'!X445,'Data Input'!Y445,'Data Input'!Z445,'Data Input'!AA445,'Data Input'!AC445,'Data Input'!AD445,'Data Input'!AF445,'Data Input'!AG445,'Data Input'!AH445,'Data Input'!AI445,'Data Input'!AJ445,'Data Input'!AK445,'Data Input'!AL445))","v":""},{"$f":"IF(L441=\"\",\"\",L441/COUNTIF('Data Input'!$C$8:$AQ$8,$L$2))","v":""},{"$f":"IF(ISBLANK('Data Input'!A445),\"\",SUM('Data Input'!K445,'Data Input'!AQ445))","v":""},{"$f":"IF(N441=\"\",\"\",N441/COUNTIF('Data Input'!$C$8:$AQ$8,$N$2))","v":""},{"$f":"IF(ISBLANK('Data Input'!A445),\"\",SUM('Data Input'!C445,'Data Input'!D445,'Data Input'!F445,'Data Input'!J445,'Data Input'!O445,'Data Input'!S445,'Data Input'!AM445,'Data Input'!AN445,'Data Input'!AO445,'Data Input'!AP445))","v":""},{"$f":"IF(P441=\"\",\"\",P441/COUNTIF('Data Input'!$C$8:$AQ$8,$P$2))","v":""},{"$f":"IF(ISBLANK('Data Input'!C445),\"\",SUM('Data Input'!P445))","v":""},{"$f":"IF(R441=\"\",\"\",R441/COUNTIF('Data Input'!$C$8:$AQ$8,$R$2))","v":""}]
[{"$f":"IF('Data Input'!A446=0,\"\",'Data Input'!A446)","v":""},{"$f":"IF(H442=\"\",\"\",IF(H442>Welcome!$K$23-1,\"Exceeding\",IF(H442>Welcome!$G$23-1,\"Expected\",IF(H442<Welcome!$G$23,\"Below\"))))","v":""},{"$f":"IF(ISBLANK('Data Input'!A446),\"\",COUNTIF('Data Input'!C446:AQ446,\"\")-1)","v":""},{"$f":"IF(ISBLANK('Data Input'!A446),\"\",COUNTIF('Data Input'!C446:AQ446,\"0\"))","v":""},{"$f":"IF(ISBLANK('Data Input'!A446),\"\",SUM(C442,D442))","v":""},{"$f":"IF(ISBLANK('Data Input'!A446),\"\",SUM('Data Input'!C446:V446))","v":""},{"$f":"IF(ISBLANK('Data Input'!A446),\"\",SUM('Data Input'!X446:AQ446))","v":""},{"$f":"IF(ISBLANK('Data Input'!A446),\"\",SUM('Data Input'!C446:AQ446))","v":""},{"$f":"IF(H442=\"\",\"\",H442/(COUNTA('Data Input'!$C$8:$AQ$8)-1))","v":""},{"$f":"IF(ISBLANK('Data Input'!A446),\"\",SUM('Data Input'!I446,'Data Input'!M446,'Data Input'!AB446,'Data Input'!AE446))","v":""},{"$f":"IF(J442=\"\",\"\",J442/COUNTIF('Data Input'!$C$8:$AQ$8,$J$2))","v":""},{"$f":"IF(ISBLANK('Data Input'!A446),\"\",SUM('Data Input'!E446,'Data Input'!G446,'Data Input'!H446,'Data Input'!L446,'Data Input'!N446,'Data Input'!Q446,'Data Input'!R446,'Data Input'!T446,'Data Input'!U446,'Data Input'!V446,'Data Input'!X446,'Data Input'!Y446,'Data Input'!Z446,'Data Input'!AA446,'Data Input'!AC446,'Data Input'!AD446,'Data Input'!AF446,'Data Input'!AG446,'Data Input'!AH446,'Data Input'!AI446,'Data Input'!AJ446,'Data Input'!AK446,'Data Input'!AL446))","v":""},{"$f":"IF(L442=\"\",\"\",L442/COUNTIF('Data Input'!$C$8:$AQ$8,$L$2))","v":""},{"$f":"IF(ISBLANK('Data Input'!A446),\"\",SUM('Data Input'!K446,'Data Input'!AQ446))","v":""},{"$f":"IF(N442=\"\",\"\",N442/COUNTIF('Data Input'!$C$8:$AQ$8,$N$2))","v":""},{"$f":"IF(ISBLANK('Data Input'!A446),\"\",SUM('Data Input'!C446,'Data Input'!D446,'Data Input'!F446,'Data Input'!J446,'Data Input'!O446,'Data Input'!S446,'Data Input'!AM446,'Data Input'!AN446,'Data Input'!AO446,'Data Input'!AP446))","v":""},{"$f":"IF(P442=\"\",\"\",P442/COUNTIF('Data Input'!$C$8:$AQ$8,$P$2))","v":""},{"$f":"IF(ISBLANK('Data Input'!C446),\"\",SUM('Data Input'!P446))","v":""},{"$f":"IF(R442=\"\",\"\",R442/COUNTIF('Data Input'!$C$8:$AQ$8,$R$2))","v":""}]
[{"$f":"IF('Data Input'!A447=0,\"\",'Data Input'!A447)","v":""},{"$f":"IF(H443=\"\",\"\",IF(H443>Welcome!$K$23-1,\"Exceeding\",IF(H443>Welcome!$G$23-1,\"Expected\",IF(H443<Welcome!$G$23,\"Below\"))))","v":""},{"$f":"IF(ISBLANK('Data Input'!A447),\"\",COUNTIF('Data Input'!C447:AQ447,\"\")-1)","v":""},{"$f":"IF(ISBLANK('Data Input'!A447),\"\",COUNTIF('Data Input'!C447:AQ447,\"0\"))","v":""},{"$f":"IF(ISBLANK('Data Input'!A447),\"\",SUM(C443,D443))","v":""},{"$f":"IF(ISBLANK('Data Input'!A447),\"\",SUM('Data Input'!C447:V447))","v":""},{"$f":"IF(ISBLANK('Data Input'!A447),\"\",SUM('Data Input'!X447:AQ447))","v":""},{"$f":"IF(ISBLANK('Data Input'!A447),\"\",SUM('Data Input'!C447:AQ447))","v":""},{"$f":"IF(H443=\"\",\"\",H443/(COUNTA('Data Input'!$C$8:$AQ$8)-1))","v":""},{"$f":"IF(ISBLANK('Data Input'!A447),\"\",SUM('Data Input'!I447,'Data Input'!M447,'Data Input'!AB447,'Data Input'!AE447))","v":""},{"$f":"IF(J443=\"\",\"\",J443/COUNTIF('Data Input'!$C$8:$AQ$8,$J$2))","v":""},{"$f":"IF(ISBLANK('Data Input'!A447),\"\",SUM('Data Input'!E447,'Data Input'!G447,'Data Input'!H447,'Data Input'!L447,'Data Input'!N447,'Data Input'!Q447,'Data Input'!R447,'Data Input'!T447,'Data Input'!U447,'Data Input'!V447,'Data Input'!X447,'Data Input'!Y447,'Data Input'!Z447,'Data Input'!AA447,'Data Input'!AC447,'Data Input'!AD447,'Data Input'!AF447,'Data Input'!AG447,'Data Input'!AH447,'Data Input'!AI447,'Data Input'!AJ447,'Data Input'!AK447,'Data Input'!AL447))","v":""},{"$f":"IF(L443=\"\",\"\",L443/COUNTIF('Data Input'!$C$8:$AQ$8,$L$2))","v":""},{"$f":"IF(ISBLANK('Data Input'!A447),\"\",SUM('Data Input'!K447,'Data Input'!AQ447))","v":""},{"$f":"IF(N443=\"\",\"\",N443/COUNTIF('Data Input'!$C$8:$AQ$8,$N$2))","v":""},{"$f":"IF(ISBLANK('Data Input'!A447),\"\",SUM('Data Input'!C447,'Data Input'!D447,'Data Input'!F447,'Data Input'!J447,'Data Input'!O447,'Data Input'!S447,'Data Input'!AM447,'Data Input'!AN447,'Data Input'!AO447,'Data Input'!AP447))","v":""},{"$f":"IF(P443=\"\",\"\",P443/COUNTIF('Data Input'!$C$8:$AQ$8,$P$2))","v":""},{"$f":"IF(ISBLANK('Data Input'!C447),\"\",SUM('Data Input'!P447))","v":""},{"$f":"IF(R443=\"\",\"\",R443/COUNTIF('Data Input'!$C$8:$AQ$8,$R$2))","v":""}]
[{"$f":"IF('Data Input'!A448=0,\"\",'Data Input'!A448)","v":""},{"$f":"IF(H444=\"\",\"\",IF(H444>Welcome!$K$23-1,\"Exceeding\",IF(H444>Welcome!$G$23-1,\"Expected\",IF(H444<Welcome!$G$23,\"Below\"))))","v":""},{"$f":"IF(ISBLANK('Data Input'!A448),\"\",COUNTIF('Data Input'!C448:AQ448,\"\")-1)","v":""},{"$f":"IF(ISBLANK('Data Input'!A448),\"\",COUNTIF('Data Input'!C448:AQ448,\"0\"))","v":""},{"$f":"IF(ISBLANK('Data Input'!A448),\"\",SUM(C444,D444))","v":""},{"$f":"IF(ISBLANK('Data Input'!A448),\"\",SUM('Data Input'!C448:V448))","v":""},{"$f":"IF(ISBLANK('Data Input'!A448),\"\",SUM('Data Input'!X448:AQ448))","v":""},{"$f":"IF(ISBLANK('Data Input'!A448),\"\",SUM('Data Input'!C448:AQ448))","v":""},{"$f":"IF(H444=\"\",\"\",H444/(COUNTA('Data Input'!$C$8:$AQ$8)-1))","v":""},{"$f":"IF(ISBLANK('Data Input'!A448),\"\",SUM('Data Input'!I448,'Data Input'!M448,'Data Input'!AB448,'Data Input'!AE448))","v":""},{"$f":"IF(J444=\"\",\"\",J444/COUNTIF('Data Input'!$C$8:$AQ$8,$J$2))","v":""},{"$f":"IF(ISBLANK('Data Input'!A448),\"\",SUM('Data Input'!E448,'Data Input'!G448,'Data Input'!H448,'Data Input'!L448,'Data Input'!N448,'Data Input'!Q448,'Data Input'!R448,'Data Input'!T448,'Data Input'!U448,'Data Input'!V448,'Data Input'!X448,'Data Input'!Y448,'Data Input'!Z448,'Data Input'!AA448,'Data Input'!AC448,'Data Input'!AD448,'Data Input'!AF448,'Data Input'!AG448,'Data Input'!AH448,'Data Input'!AI448,'Data Input'!AJ448,'Data Input'!AK448,'Data Input'!AL448))","v":""},{"$f":"IF(L444=\"\",\"\",L444/COUNTIF('Data Input'!$C$8:$AQ$8,$L$2))","v":""},{"$f":"IF(ISBLANK('Data Input'!A448),\"\",SUM('Data Input'!K448,'Data Input'!AQ448))","v":""},{"$f":"IF(N444=\"\",\"\",N444/COUNTIF('Data Input'!$C$8:$AQ$8,$N$2))","v":""},{"$f":"IF(ISBLANK('Data Input'!A448),\"\",SUM('Data Input'!C448,'Data Input'!D448,'Data Input'!F448,'Data Input'!J448,'Data Input'!O448,'Data Input'!S448,'Data Input'!AM448,'Data Input'!AN448,'Data Input'!AO448,'Data Input'!AP448))","v":""},{"$f":"IF(P444=\"\",\"\",P444/COUNTIF('Data Input'!$C$8:$AQ$8,$P$2))","v":""},{"$f":"IF(ISBLANK('Data Input'!C448),\"\",SUM('Data Input'!P448))","v":""},{"$f":"IF(R444=\"\",\"\",R444/COUNTIF('Data Input'!$C$8:$AQ$8,$R$2))","v":""}]
[{"$f":"IF('Data Input'!A449=0,\"\",'Data Input'!A449)","v":""},{"$f":"IF(H445=\"\",\"\",IF(H445>Welcome!$K$23-1,\"Exceeding\",IF(H445>Welcome!$G$23-1,\"Expected\",IF(H445<Welcome!$G$23,\"Below\"))))","v":""},{"$f":"IF(ISBLANK('Data Input'!A449),\"\",COUNTIF('Data Input'!C449:AQ449,\"\")-1)","v":""},{"$f":"IF(ISBLANK('Data Input'!A449),\"\",COUNTIF('Data Input'!C449:AQ449,\"0\"))","v":""},{"$f":"IF(ISBLANK('Data Input'!A449),\"\",SUM(C445,D445))","v":""},{"$f":"IF(ISBLANK('Data Input'!A449),\"\",SUM('Data Input'!C449:V449))","v":""},{"$f":"IF(ISBLANK('Data Input'!A449),\"\",SUM('Data Input'!X449:AQ449))","v":""},{"$f":"IF(ISBLANK('Data Input'!A449),\"\",SUM('Data Input'!C449:AQ449))","v":""},{"$f":"IF(H445=\"\",\"\",H445/(COUNTA('Data Input'!$C$8:$AQ$8)-1))","v":""},{"$f":"IF(ISBLANK('Data Input'!A449),\"\",SUM('Data Input'!I449,'Data Input'!M449,'Data Input'!AB449,'Data Input'!AE449))","v":""},{"$f":"IF(J445=\"\",\"\",J445/COUNTIF('Data Input'!$C$8:$AQ$8,$J$2))","v":""},{"$f":"IF(ISBLANK('Data Input'!A449),\"\",SUM('Data Input'!E449,'Data Input'!G449,'Data Input'!H449,'Data Input'!L449,'Data Input'!N449,'Data Input'!Q449,'Data Input'!R449,'Data Input'!T449,'Data Input'!U449,'Data Input'!V449,'Data Input'!X449,'Data Input'!Y449,'Data Input'!Z449,'Data Input'!AA449,'Data Input'!AC449,'Data Input'!AD449,'Data Input'!AF449,'Data Input'!AG449,'Data Input'!AH449,'Data Input'!AI449,'Data Input'!AJ449,'Data Input'!AK449,'Data Input'!AL449))","v":""},{"$f":"IF(L445=\"\",\"\",L445/COUNTIF('Data Input'!$C$8:$AQ$8,$L$2))","v":""},{"$f":"IF(ISBLANK('Data Input'!A449),\"\",SUM('Data Input'!K449,'Data Input'!AQ449))","v":""},{"$f":"IF(N445=\"\",\"\",N445/COUNTIF('Data Input'!$C$8:$AQ$8,$N$2))","v":""},{"$f":"IF(ISBLANK('Data Input'!A449),\"\",SUM('Data Input'!C449,'Data Input'!D449,'Data Input'!F449,'Data Input'!J449,'Data Input'!O449,'Data Input'!S449,'Data Input'!AM449,'Data Input'!AN449,'Data Input'!AO449,'Data Input'!AP449))","v":""},{"$f":"IF(P445=\"\",\"\",P445/COUNTIF('Data Input'!$C$8:$AQ$8,$P$2))","v":""},{"$f":"IF(ISBLANK('Data Input'!C449),\"\",SUM('Data Input'!P449))","v":""},{"$f":"IF(R445=\"\",\"\",R445/COUNTIF('Data Input'!$C$8:$AQ$8,$R$2))","v":""}]
[{"$f":"IF('Data Input'!A450=0,\"\",'Data Input'!A450)","v":""},{"$f":"IF(H446=\"\",\"\",IF(H446>Welcome!$K$23-1,\"Exceeding\",IF(H446>Welcome!$G$23-1,\"Expected\",IF(H446<Welcome!$G$23,\"Below\"))))","v":""},{"$f":"IF(ISBLANK('Data Input'!A450),\"\",COUNTIF('Data Input'!C450:AQ450,\"\")-1)","v":""},{"$f":"IF(ISBLANK('Data Input'!A450),\"\",COUNTIF('Data Input'!C450:AQ450,\"0\"))","v":""},{"$f":"IF(ISBLANK('Data Input'!A450),\"\",SUM(C446,D446))","v":""},{"$f":"IF(ISBLANK('Data Input'!A450),\"\",SUM('Data Input'!C450:V450))","v":""},{"$f":"IF(ISBLANK('Data Input'!A450),\"\",SUM('Data Input'!X450:AQ450))","v":""},{"$f":"IF(ISBLANK('Data Input'!A450),\"\",SUM('Data Input'!C450:AQ450))","v":""},{"$f":"IF(H446=\"\",\"\",H446/(COUNTA('Data Input'!$C$8:$AQ$8)-1))","v":""},{"$f":"IF(ISBLANK('Data Input'!A450),\"\",SUM('Data Input'!I450,'Data Input'!M450,'Data Input'!AB450,'Data Input'!AE450))","v":""},{"$f":"IF(J446=\"\",\"\",J446/COUNTIF('Data Input'!$C$8:$AQ$8,$J$2))","v":""},{"$f":"IF(ISBLANK('Data Input'!A450),\"\",SUM('Data Input'!E450,'Data Input'!G450,'Data Input'!H450,'Data Input'!L450,'Data Input'!N450,'Data Input'!Q450,'Data Input'!R450,'Data Input'!T450,'Data Input'!U450,'Data Input'!V450,'Data Input'!X450,'Data Input'!Y450,'Data Input'!Z450,'Data Input'!AA450,'Data Input'!AC450,'Data Input'!AD450,'Data Input'!AF450,'Data Input'!AG450,'Data Input'!AH450,'Data Input'!AI450,'Data Input'!AJ450,'Data Input'!AK450,'Data Input'!AL450))","v":""},{"$f":"IF(L446=\"\",\"\",L446/COUNTIF('Data Input'!$C$8:$AQ$8,$L$2))","v":""},{"$f":"IF(ISBLANK('Data Input'!A450),\"\",SUM('Data Input'!K450,'Data Input'!AQ450))","v":""},{"$f":"IF(N446=\"\",\"\",N446/COUNTIF('Data Input'!$C$8:$AQ$8,$N$2))","v":""},{"$f":"IF(ISBLANK('Data Input'!A450),\"\",SUM('Data Input'!C450,'Data Input'!D450,'Data Input'!F450,'Data Input'!J450,'Data Input'!O450,'Data Input'!S450,'Data Input'!AM450,'Data Input'!AN450,'Data Input'!AO450,'Data Input'!AP450))","v":""},{"$f":"IF(P446=\"\",\"\",P446/COUNTIF('Data Input'!$C$8:$AQ$8,$P$2))","v":""},{"$f":"IF(ISBLANK('Data Input'!C450),\"\",SUM('Data Input'!P450))","v":""},{"$f":"IF(R446=\"\",\"\",R446/COUNTIF('Data Input'!$C$8:$AQ$8,$R$2))","v":""}]
[{"$f":"IF('Data Input'!A451=0,\"\",'Data Input'!A451)","v":""},{"$f":"IF(H447=\"\",\"\",IF(H447>Welcome!$K$23-1,\"Exceeding\",IF(H447>Welcome!$G$23-1,\"Expected\",IF(H447<Welcome!$G$23,\"Below\"))))","v":""},{"$f":"IF(ISBLANK('Data Input'!A451),\"\",COUNTIF('Data Input'!C451:AQ451,\"\")-1)","v":""},{"$f":"IF(ISBLANK('Data Input'!A451),\"\",COUNTIF('Data Input'!C451:AQ451,\"0\"))","v":""},{"$f":"IF(ISBLANK('Data Input'!A451),\"\",SUM(C447,D447))","v":""},{"$f":"IF(ISBLANK('Data Input'!A451),\"\",SUM('Data Input'!C451:V451))","v":""},{"$f":"IF(ISBLANK('Data Input'!A451),\"\",SUM('Data Input'!X451:AQ451))","v":""},{"$f":"IF(ISBLANK('Data Input'!A451),\"\",SUM('Data Input'!C451:AQ451))","v":""},{"$f":"IF(H447=\"\",\"\",H447/(COUNTA('Data Input'!$C$8:$AQ$8)-1))","v":""},{"$f":"IF(ISBLANK('Data Input'!A451),\"\",SUM('Data Input'!I451,'Data Input'!M451,'Data Input'!AB451,'Data Input'!AE451))","v":""},{"$f":"IF(J447=\"\",\"\",J447/COUNTIF('Data Input'!$C$8:$AQ$8,$J$2))","v":""},{"$f":"IF(ISBLANK('Data Input'!A451),\"\",SUM('Data Input'!E451,'Data Input'!G451,'Data Input'!H451,'Data Input'!L451,'Data Input'!N451,'Data Input'!Q451,'Data Input'!R451,'Data Input'!T451,'Data Input'!U451,'Data Input'!V451,'Data Input'!X451,'Data Input'!Y451,'Data Input'!Z451,'Data Input'!AA451,'Data Input'!AC451,'Data Input'!AD451,'Data Input'!AF451,'Data Input'!AG451,'Data Input'!AH451,'Data Input'!AI451,'Data Input'!AJ451,'Data Input'!AK451,'Data Input'!AL451))","v":""},{"$f":"IF(L447=\"\",\"\",L447/COUNTIF('Data Input'!$C$8:$AQ$8,$L$2))","v":""},{"$f":"IF(ISBLANK('Data Input'!A451),\"\",SUM('Data Input'!K451,'Data Input'!AQ451))","v":""},{"$f":"IF(N447=\"\",\"\",N447/COUNTIF('Data Input'!$C$8:$AQ$8,$N$2))","v":""},{"$f":"IF(ISBLANK('Data Input'!A451),\"\",SUM('Data Input'!C451,'Data Input'!D451,'Data Input'!F451,'Data Input'!J451,'Data Input'!O451,'Data Input'!S451,'Data Input'!AM451,'Data Input'!AN451,'Data Input'!AO451,'Data Input'!AP451))","v":""},{"$f":"IF(P447=\"\",\"\",P447/COUNTIF('Data Input'!$C$8:$AQ$8,$P$2))","v":""},{"$f":"IF(ISBLANK('Data Input'!C451),\"\",SUM('Data Input'!P451))","v":""},{"$f":"IF(R447=\"\",\"\",R447/COUNTIF('Data Input'!$C$8:$AQ$8,$R$2))","v":""}]
[{"$f":"IF('Data Input'!A452=0,\"\",'Data Input'!A452)","v":""},{"$f":"IF(H448=\"\",\"\",IF(H448>Welcome!$K$23-1,\"Exceeding\",IF(H448>Welcome!$G$23-1,\"Expected\",IF(H448<Welcome!$G$23,\"Below\"))))","v":""},{"$f":"IF(ISBLANK('Data Input'!A452),\"\",COUNTIF('Data Input'!C452:AQ452,\"\")-1)","v":""},{"$f":"IF(ISBLANK('Data Input'!A452),\"\",COUNTIF('Data Input'!C452:AQ452,\"0\"))","v":""},{"$f":"IF(ISBLANK('Data Input'!A452),\"\",SUM(C448,D448))","v":""},{"$f":"IF(ISBLANK('Data Input'!A452),\"\",SUM('Data Input'!C452:V452))","v":""},{"$f":"IF(ISBLANK('Data Input'!A452),\"\",SUM('Data Input'!X452:AQ452))","v":""},{"$f":"IF(ISBLANK('Data Input'!A452),\"\",SUM('Data Input'!C452:AQ452))","v":""},{"$f":"IF(H448=\"\",\"\",H448/(COUNTA('Data Input'!$C$8:$AQ$8)-1))","v":""},{"$f":"IF(ISBLANK('Data Input'!A452),\"\",SUM('Data Input'!I452,'Data Input'!M452,'Data Input'!AB452,'Data Input'!AE452))","v":""},{"$f":"IF(J448=\"\",\"\",J448/COUNTIF('Data Input'!$C$8:$AQ$8,$J$2))","v":""},{"$f":"IF(ISBLANK('Data Input'!A452),\"\",SUM('Data Input'!E452,'Data Input'!G452,'Data Input'!H452,'Data Input'!L452,'Data Input'!N452,'Data Input'!Q452,'Data Input'!R452,'Data Input'!T452,'Data Input'!U452,'Data Input'!V452,'Data Input'!X452,'Data Input'!Y452,'Data Input'!Z452,'Data Input'!AA452,'Data Input'!AC452,'Data Input'!AD452,'Data Input'!AF452,'Data Input'!AG452,'Data Input'!AH452,'Data Input'!AI452,'Data Input'!AJ452,'Data Input'!AK452,'Data Input'!AL452))","v":""},{"$f":"IF(L448=\"\",\"\",L448/COUNTIF('Data Input'!$C$8:$AQ$8,$L$2))","v":""},{"$f":"IF(ISBLANK('Data Input'!A452),\"\",SUM('Data Input'!K452,'Data Input'!AQ452))","v":""},{"$f":"IF(N448=\"\",\"\",N448/COUNTIF('Data Input'!$C$8:$AQ$8,$N$2))","v":""},{"$f":"IF(ISBLANK('Data Input'!A452),\"\",SUM('Data Input'!C452,'Data Input'!D452,'Data Input'!F452,'Data Input'!J452,'Data Input'!O452,'Data Input'!S452,'Data Input'!AM452,'Data Input'!AN452,'Data Input'!AO452,'Data Input'!AP452))","v":""},{"$f":"IF(P448=\"\",\"\",P448/COUNTIF('Data Input'!$C$8:$AQ$8,$P$2))","v":""},{"$f":"IF(ISBLANK('Data Input'!C452),\"\",SUM('Data Input'!P452))","v":""},{"$f":"IF(R448=\"\",\"\",R448/COUNTIF('Data Input'!$C$8:$AQ$8,$R$2))","v":""}]
[{"$f":"IF('Data Input'!A453=0,\"\",'Data Input'!A453)","v":""},{"$f":"IF(H449=\"\",\"\",IF(H449>Welcome!$K$23-1,\"Exceeding\",IF(H449>Welcome!$G$23-1,\"Expected\",IF(H449<Welcome!$G$23,\"Below\"))))","v":""},{"$f":"IF(ISBLANK('Data Input'!A453),\"\",COUNTIF('Data Input'!C453:AQ453,\"\")-1)","v":""},{"$f":"IF(ISBLANK('Data Input'!A453),\"\",COUNTIF('Data Input'!C453:AQ453,\"0\"))","v":""},{"$f":"IF(ISBLANK('Data Input'!A453),\"\",SUM(C449,D449))","v":""},{"$f":"IF(ISBLANK('Data Input'!A453),\"\",SUM('Data Input'!C453:V453))","v":""},{"$f":"IF(ISBLANK('Data Input'!A453),\"\",SUM('Data Input'!X453:AQ453))","v":""},{"$f":"IF(ISBLANK('Data Input'!A453),\"\",SUM('Data Input'!C453:AQ453))","v":""},{"$f":"IF(H449=\"\",\"\",H449/(COUNTA('Data Input'!$C$8:$AQ$8)-1))","v":""},{"$f":"IF(ISBLANK('Data Input'!A453),\"\",SUM('Data Input'!I453,'Data Input'!M453,'Data Input'!AB453,'Data Input'!AE453))","v":""},{"$f":"IF(J449=\"\",\"\",J449/COUNTIF('Data Input'!$C$8:$AQ$8,$J$2))","v":""},{"$f":"IF(ISBLANK('Data Input'!A453),\"\",SUM('Data Input'!E453,'Data Input'!G453,'Data Input'!H453,'Data Input'!L453,'Data Input'!N453,'Data Input'!Q453,'Data Input'!R453,'Data Input'!T453,'Data Input'!U453,'Data Input'!V453,'Data Input'!X453,'Data Input'!Y453,'Data Input'!Z453,'Data Input'!AA453,'Data Input'!AC453,'Data Input'!AD453,'Data Input'!AF453,'Data Input'!AG453,'Data Input'!AH453,'Data Input'!AI453,'Data Input'!AJ453,'Data Input'!AK453,'Data Input'!AL453))","v":""},{"$f":"IF(L449=\"\",\"\",L449/COUNTIF('Data Input'!$C$8:$AQ$8,$L$2))","v":""},{"$f":"IF(ISBLANK('Data Input'!A453),\"\",SUM('Data Input'!K453,'Data Input'!AQ453))","v":""},{"$f":"IF(N449=\"\",\"\",N449/COUNTIF('Data Input'!$C$8:$AQ$8,$N$2))","v":""},{"$f":"IF(ISBLANK('Data Input'!A453),\"\",SUM('Data Input'!C453,'Data Input'!D453,'Data Input'!F453,'Data Input'!J453,'Data Input'!O453,'Data Input'!S453,'Data Input'!AM453,'Data Input'!AN453,'Data Input'!AO453,'Data Input'!AP453))","v":""},{"$f":"IF(P449=\"\",\"\",P449/COUNTIF('Data Input'!$C$8:$AQ$8,$P$2))","v":""},{"$f":"IF(ISBLANK('Data Input'!C453),\"\",SUM('Data Input'!P453))","v":""},{"$f":"IF(R449=\"\",\"\",R449/COUNTIF('Data Input'!$C$8:$AQ$8,$R$2))","v":""}]
[{"$f":"IF('Data Input'!A454=0,\"\",'Data Input'!A454)","v":""},{"$f":"IF(H450=\"\",\"\",IF(H450>Welcome!$K$23-1,\"Exceeding\",IF(H450>Welcome!$G$23-1,\"Expected\",IF(H450<Welcome!$G$23,\"Below\"))))","v":""},{"$f":"IF(ISBLANK('Data Input'!A454),\"\",COUNTIF('Data Input'!C454:AQ454,\"\")-1)","v":""},{"$f":"IF(ISBLANK('Data Input'!A454),\"\",COUNTIF('Data Input'!C454:AQ454,\"0\"))","v":""},{"$f":"IF(ISBLANK('Data Input'!A454),\"\",SUM(C450,D450))","v":""},{"$f":"IF(ISBLANK('Data Input'!A454),\"\",SUM('Data Input'!C454:V454))","v":""},{"$f":"IF(ISBLANK('Data Input'!A454),\"\",SUM('Data Input'!X454:AQ454))","v":""},{"$f":"IF(ISBLANK('Data Input'!A454),\"\",SUM('Data Input'!C454:AQ454))","v":""},{"$f":"IF(H450=\"\",\"\",H450/(COUNTA('Data Input'!$C$8:$AQ$8)-1))","v":""},{"$f":"IF(ISBLANK('Data Input'!A454),\"\",SUM('Data Input'!I454,'Data Input'!M454,'Data Input'!AB454,'Data Input'!AE454))","v":""},{"$f":"IF(J450=\"\",\"\",J450/COUNTIF('Data Input'!$C$8:$AQ$8,$J$2))","v":""},{"$f":"IF(ISBLANK('Data Input'!A454),\"\",SUM('Data Input'!E454,'Data Input'!G454,'Data Input'!H454,'Data Input'!L454,'Data Input'!N454,'Data Input'!Q454,'Data Input'!R454,'Data Input'!T454,'Data Input'!U454,'Data Input'!V454,'Data Input'!X454,'Data Input'!Y454,'Data Input'!Z454,'Data Input'!AA454,'Data Input'!AC454,'Data Input'!AD454,'Data Input'!AF454,'Data Input'!AG454,'Data Input'!AH454,'Data Input'!AI454,'Data Input'!AJ454,'Data Input'!AK454,'Data Input'!AL454))","v":""},{"$f":"IF(L450=\"\",\"\",L450/COUNTIF('Data Input'!$C$8:$AQ$8,$L$2))","v":""},{"$f":"IF(ISBLANK('Data Input'!A454),\"\",SUM('Data Input'!K454,'Data Input'!AQ454))","v":""},{"$f":"IF(N450=\"\",\"\",N450/COUNTIF('Data Input'!$C$8:$AQ$8,$N$2))","v":""},{"$f":"IF(ISBLANK('Data Input'!A454),\"\",SUM('Data Input'!C454,'Data Input'!D454,'Data Input'!F454,'Data Input'!J454,'Data Input'!O454,'Data Input'!S454,'Data Input'!AM454,'Data Input'!AN454,'Data Input'!AO454,'Data Input'!AP454))","v":""},{"$f":"IF(P450=\"\",\"\",P450/COUNTIF('Data Input'!$C$8:$AQ$8,$P$2))","v":""},{"$f":"IF(ISBLANK('Data Input'!C454),\"\",SUM('Data Input'!P454))","v":""},{"$f":"IF(R450=\"\",\"\",R450/COUNTIF('Data Input'!$C$8:$AQ$8,$R$2))","v":""}]
[{"$f":"IF('Data Input'!A455=0,\"\",'Data Input'!A455)","v":""},{"$f":"IF(H451=\"\",\"\",IF(H451>Welcome!$K$23-1,\"Exceeding\",IF(H451>Welcome!$G$23-1,\"Expected\",IF(H451<Welcome!$G$23,\"Below\"))))","v":""},{"$f":"IF(ISBLANK('Data Input'!A455),\"\",COUNTIF('Data Input'!C455:AQ455,\"\")-1)","v":""},{"$f":"IF(ISBLANK('Data Input'!A455),\"\",COUNTIF('Data Input'!C455:AQ455,\"0\"))","v":""},{"$f":"IF(ISBLANK('Data Input'!A455),\"\",SUM(C451,D451))","v":""},{"$f":"IF(ISBLANK('Data Input'!A455),\"\",SUM('Data Input'!C455:V455))","v":""},{"$f":"IF(ISBLANK('Data Input'!A455),\"\",SUM('Data Input'!X455:AQ455))","v":""},{"$f":"IF(ISBLANK('Data Input'!A455),\"\",SUM('Data Input'!C455:AQ455))","v":""},{"$f":"IF(H451=\"\",\"\",H451/(COUNTA('Data Input'!$C$8:$AQ$8)-1))","v":""},{"$f":"IF(ISBLANK('Data Input'!A455),\"\",SUM('Data Input'!I455,'Data Input'!M455,'Data Input'!AB455,'Data Input'!AE455))","v":""},{"$f":"IF(J451=\"\",\"\",J451/COUNTIF('Data Input'!$C$8:$AQ$8,$J$2))","v":""},{"$f":"IF(ISBLANK('Data Input'!A455),\"\",SUM('Data Input'!E455,'Data Input'!G455,'Data Input'!H455,'Data Input'!L455,'Data Input'!N455,'Data Input'!Q455,'Data Input'!R455,'Data Input'!T455,'Data Input'!U455,'Data Input'!V455,'Data Input'!X455,'Data Input'!Y455,'Data Input'!Z455,'Data Input'!AA455,'Data Input'!AC455,'Data Input'!AD455,'Data Input'!AF455,'Data Input'!AG455,'Data Input'!AH455,'Data Input'!AI455,'Data Input'!AJ455,'Data Input'!AK455,'Data Input'!AL455))","v":""},{"$f":"IF(L451=\"\",\"\",L451/COUNTIF('Data Input'!$C$8:$AQ$8,$L$2))","v":""},{"$f":"IF(ISBLANK('Data Input'!A455),\"\",SUM('Data Input'!K455,'Data Input'!AQ455))","v":""},{"$f":"IF(N451=\"\",\"\",N451/COUNTIF('Data Input'!$C$8:$AQ$8,$N$2))","v":""},{"$f":"IF(ISBLANK('Data Input'!A455),\"\",SUM('Data Input'!C455,'Data Input'!D455,'Data Input'!F455,'Data Input'!J455,'Data Input'!O455,'Data Input'!S455,'Data Input'!AM455,'Data Input'!AN455,'Data Input'!AO455,'Data Input'!AP455))","v":""},{"$f":"IF(P451=\"\",\"\",P451/COUNTIF('Data Input'!$C$8:$AQ$8,$P$2))","v":""},{"$f":"IF(ISBLANK('Data Input'!C455),\"\",SUM('Data Input'!P455))","v":""},{"$f":"IF(R451=\"\",\"\",R451/COUNTIF('Data Input'!$C$8:$AQ$8,$R$2))","v":""}]
[{"$f":"IF('Data Input'!A456=0,\"\",'Data Input'!A456)","v":""},{"$f":"IF(H452=\"\",\"\",IF(H452>Welcome!$K$23-1,\"Exceeding\",IF(H452>Welcome!$G$23-1,\"Expected\",IF(H452<Welcome!$G$23,\"Below\"))))","v":""},{"$f":"IF(ISBLANK('Data Input'!A456),\"\",COUNTIF('Data Input'!C456:AQ456,\"\")-1)","v":""},{"$f":"IF(ISBLANK('Data Input'!A456),\"\",COUNTIF('Data Input'!C456:AQ456,\"0\"))","v":""},{"$f":"IF(ISBLANK('Data Input'!A456),\"\",SUM(C452,D452))","v":""},{"$f":"IF(ISBLANK('Data Input'!A456),\"\",SUM('Data Input'!C456:V456))","v":""},{"$f":"IF(ISBLANK('Data Input'!A456),\"\",SUM('Data Input'!X456:AQ456))","v":""},{"$f":"IF(ISBLANK('Data Input'!A456),\"\",SUM('Data Input'!C456:AQ456))","v":""},{"$f":"IF(H452=\"\",\"\",H452/(COUNTA('Data Input'!$C$8:$AQ$8)-1))","v":""},{"$f":"IF(ISBLANK('Data Input'!A456),\"\",SUM('Data Input'!I456,'Data Input'!M456,'Data Input'!AB456,'Data Input'!AE456))","v":""},{"$f":"IF(J452=\"\",\"\",J452/COUNTIF('Data Input'!$C$8:$AQ$8,$J$2))","v":""},{"$f":"IF(ISBLANK('Data Input'!A456),\"\",SUM('Data Input'!E456,'Data Input'!G456,'Data Input'!H456,'Data Input'!L456,'Data Input'!N456,'Data Input'!Q456,'Data Input'!R456,'Data Input'!T456,'Data Input'!U456,'Data Input'!V456,'Data Input'!X456,'Data Input'!Y456,'Data Input'!Z456,'Data Input'!AA456,'Data Input'!AC456,'Data Input'!AD456,'Data Input'!AF456,'Data Input'!AG456,'Data Input'!AH456,'Data Input'!AI456,'Data Input'!AJ456,'Data Input'!AK456,'Data Input'!AL456))","v":""},{"$f":"IF(L452=\"\",\"\",L452/COUNTIF('Data Input'!$C$8:$AQ$8,$L$2))","v":""},{"$f":"IF(ISBLANK('Data Input'!A456),\"\",SUM('Data Input'!K456,'Data Input'!AQ456))","v":""},{"$f":"IF(N452=\"\",\"\",N452/COUNTIF('Data Input'!$C$8:$AQ$8,$N$2))","v":""},{"$f":"IF(ISBLANK('Data Input'!A456),\"\",SUM('Data Input'!C456,'Data Input'!D456,'Data Input'!F456,'Data Input'!J456,'Data Input'!O456,'Data Input'!S456,'Data Input'!AM456,'Data Input'!AN456,'Data Input'!AO456,'Data Input'!AP456))","v":""},{"$f":"IF(P452=\"\",\"\",P452/COUNTIF('Data Input'!$C$8:$AQ$8,$P$2))","v":""},{"$f":"IF(ISBLANK('Data Input'!C456),\"\",SUM('Data Input'!P456))","v":""},{"$f":"IF(R452=\"\",\"\",R452/COUNTIF('Data Input'!$C$8:$AQ$8,$R$2))","v":""}]
[{"$f":"IF('Data Input'!A457=0,\"\",'Data Input'!A457)","v":""},{"$f":"IF(H453=\"\",\"\",IF(H453>Welcome!$K$23-1,\"Exceeding\",IF(H453>Welcome!$G$23-1,\"Expected\",IF(H453<Welcome!$G$23,\"Below\"))))","v":""},{"$f":"IF(ISBLANK('Data Input'!A457),\"\",COUNTIF('Data Input'!C457:AQ457,\"\")-1)","v":""},{"$f":"IF(ISBLANK('Data Input'!A457),\"\",COUNTIF('Data Input'!C457:AQ457,\"0\"))","v":""},{"$f":"IF(ISBLANK('Data Input'!A457),\"\",SUM(C453,D453))","v":""},{"$f":"IF(ISBLANK('Data Input'!A457),\"\",SUM('Data Input'!C457:V457))","v":""},{"$f":"IF(ISBLANK('Data Input'!A457),\"\",SUM('Data Input'!X457:AQ457))","v":""},{"$f":"IF(ISBLANK('Data Input'!A457),\"\",SUM('Data Input'!C457:AQ457))","v":""},{"$f":"IF(H453=\"\",\"\",H453/(COUNTA('Data Input'!$C$8:$AQ$8)-1))","v":""},{"$f":"IF(ISBLANK('Data Input'!A457),\"\",SUM('Data Input'!I457,'Data Input'!M457,'Data Input'!AB457,'Data Input'!AE457))","v":""},{"$f":"IF(J453=\"\",\"\",J453/COUNTIF('Data Input'!$C$8:$AQ$8,$J$2))","v":""},{"$f":"IF(ISBLANK('Data Input'!A457),\"\",SUM('Data Input'!E457,'Data Input'!G457,'Data Input'!H457,'Data Input'!L457,'Data Input'!N457,'Data Input'!Q457,'Data Input'!R457,'Data Input'!T457,'Data Input'!U457,'Data Input'!V457,'Data Input'!X457,'Data Input'!Y457,'Data Input'!Z457,'Data Input'!AA457,'Data Input'!AC457,'Data Input'!AD457,'Data Input'!AF457,'Data Input'!AG457,'Data Input'!AH457,'Data Input'!AI457,'Data Input'!AJ457,'Data Input'!AK457,'Data Input'!AL457))","v":""},{"$f":"IF(L453=\"\",\"\",L453/COUNTIF('Data Input'!$C$8:$AQ$8,$L$2))","v":""},{"$f":"IF(ISBLANK('Data Input'!A457),\"\",SUM('Data Input'!K457,'Data Input'!AQ457))","v":""},{"$f":"IF(N453=\"\",\"\",N453/COUNTIF('Data Input'!$C$8:$AQ$8,$N$2))","v":""},{"$f":"IF(ISBLANK('Data Input'!A457),\"\",SUM('Data Input'!C457,'Data Input'!D457,'Data Input'!F457,'Data Input'!J457,'Data Input'!O457,'Data Input'!S457,'Data Input'!AM457,'Data Input'!AN457,'Data Input'!AO457,'Data Input'!AP457))","v":""},{"$f":"IF(P453=\"\",\"\",P453/COUNTIF('Data Input'!$C$8:$AQ$8,$P$2))","v":""},{"$f":"IF(ISBLANK('Data Input'!C457),\"\",SUM('Data Input'!P457))","v":""},{"$f":"IF(R453=\"\",\"\",R453/COUNTIF('Data Input'!$C$8:$AQ$8,$R$2))","v":""}]
[{"$f":"IF('Data Input'!A458=0,\"\",'Data Input'!A458)","v":""},{"$f":"IF(H454=\"\",\"\",IF(H454>Welcome!$K$23-1,\"Exceeding\",IF(H454>Welcome!$G$23-1,\"Expected\",IF(H454<Welcome!$G$23,\"Below\"))))","v":""},{"$f":"IF(ISBLANK('Data Input'!A458),\"\",COUNTIF('Data Input'!C458:AQ458,\"\")-1)","v":""},{"$f":"IF(ISBLANK('Data Input'!A458),\"\",COUNTIF('Data Input'!C458:AQ458,\"0\"))","v":""},{"$f":"IF(ISBLANK('Data Input'!A458),\"\",SUM(C454,D454))","v":""},{"$f":"IF(ISBLANK('Data Input'!A458),\"\",SUM('Data Input'!C458:V458))","v":""},{"$f":"IF(ISBLANK('Data Input'!A458),\"\",SUM('Data Input'!X458:AQ458))","v":""},{"$f":"IF(ISBLANK('Data Input'!A458),\"\",SUM('Data Input'!C458:AQ458))","v":""},{"$f":"IF(H454=\"\",\"\",H454/(COUNTA('Data Input'!$C$8:$AQ$8)-1))","v":""},{"$f":"IF(ISBLANK('Data Input'!A458),\"\",SUM('Data Input'!I458,'Data Input'!M458,'Data Input'!AB458,'Data Input'!AE458))","v":""},{"$f":"IF(J454=\"\",\"\",J454/COUNTIF('Data Input'!$C$8:$AQ$8,$J$2))","v":""},{"$f":"IF(ISBLANK('Data Input'!A458),\"\",SUM('Data Input'!E458,'Data Input'!G458,'Data Input'!H458,'Data Input'!L458,'Data Input'!N458,'Data Input'!Q458,'Data Input'!R458,'Data Input'!T458,'Data Input'!U458,'Data Input'!V458,'Data Input'!X458,'Data Input'!Y458,'Data Input'!Z458,'Data Input'!AA458,'Data Input'!AC458,'Data Input'!AD458,'Data Input'!AF458,'Data Input'!AG458,'Data Input'!AH458,'Data Input'!AI458,'Data Input'!AJ458,'Data Input'!AK458,'Data Input'!AL458))","v":""},{"$f":"IF(L454=\"\",\"\",L454/COUNTIF('Data Input'!$C$8:$AQ$8,$L$2))","v":""},{"$f":"IF(ISBLANK('Data Input'!A458),\"\",SUM('Data Input'!K458,'Data Input'!AQ458))","v":""},{"$f":"IF(N454=\"\",\"\",N454/COUNTIF('Data Input'!$C$8:$AQ$8,$N$2))","v":""},{"$f":"IF(ISBLANK('Data Input'!A458),\"\",SUM('Data Input'!C458,'Data Input'!D458,'Data Input'!F458,'Data Input'!J458,'Data Input'!O458,'Data Input'!S458,'Data Input'!AM458,'Data Input'!AN458,'Data Input'!AO458,'Data Input'!AP458))","v":""},{"$f":"IF(P454=\"\",\"\",P454/COUNTIF('Data Input'!$C$8:$AQ$8,$P$2))","v":""},{"$f":"IF(ISBLANK('Data Input'!C458),\"\",SUM('Data Input'!P458))","v":""},{"$f":"IF(R454=\"\",\"\",R454/COUNTIF('Data Input'!$C$8:$AQ$8,$R$2))","v":""}]
[{"$f":"IF('Data Input'!A459=0,\"\",'Data Input'!A459)","v":""},{"$f":"IF(H455=\"\",\"\",IF(H455>Welcome!$K$23-1,\"Exceeding\",IF(H455>Welcome!$G$23-1,\"Expected\",IF(H455<Welcome!$G$23,\"Below\"))))","v":""},{"$f":"IF(ISBLANK('Data Input'!A459),\"\",COUNTIF('Data Input'!C459:AQ459,\"\")-1)","v":""},{"$f":"IF(ISBLANK('Data Input'!A459),\"\",COUNTIF('Data Input'!C459:AQ459,\"0\"))","v":""},{"$f":"IF(ISBLANK('Data Input'!A459),\"\",SUM(C455,D455))","v":""},{"$f":"IF(ISBLANK('Data Input'!A459),\"\",SUM('Data Input'!C459:V459))","v":""},{"$f":"IF(ISBLANK('Data Input'!A459),\"\",SUM('Data Input'!X459:AQ459))","v":""},{"$f":"IF(ISBLANK('Data Input'!A459),\"\",SUM('Data Input'!C459:AQ459))","v":""},{"$f":"IF(H455=\"\",\"\",H455/(COUNTA('Data Input'!$C$8:$AQ$8)-1))","v":""},{"$f":"IF(ISBLANK('Data Input'!A459),\"\",SUM('Data Input'!I459,'Data Input'!M459,'Data Input'!AB459,'Data Input'!AE459))","v":""},{"$f":"IF(J455=\"\",\"\",J455/COUNTIF('Data Input'!$C$8:$AQ$8,$J$2))","v":""},{"$f":"IF(ISBLANK('Data Input'!A459),\"\",SUM('Data Input'!E459,'Data Input'!G459,'Data Input'!H459,'Data Input'!L459,'Data Input'!N459,'Data Input'!Q459,'Data Input'!R459,'Data Input'!T459,'Data Input'!U459,'Data Input'!V459,'Data Input'!X459,'Data Input'!Y459,'Data Input'!Z459,'Data Input'!AA459,'Data Input'!AC459,'Data Input'!AD459,'Data Input'!AF459,'Data Input'!AG459,'Data Input'!AH459,'Data Input'!AI459,'Data Input'!AJ459,'Data Input'!AK459,'Data Input'!AL459))","v":""},{"$f":"IF(L455=\"\",\"\",L455/COUNTIF('Data Input'!$C$8:$AQ$8,$L$2))","v":""},{"$f":"IF(ISBLANK('Data Input'!A459),\"\",SUM('Data Input'!K459,'Data Input'!AQ459))","v":""},{"$f":"IF(N455=\"\",\"\",N455/COUNTIF('Data Input'!$C$8:$AQ$8,$N$2))","v":""},{"$f":"IF(ISBLANK('Data Input'!A459),\"\",SUM('Data Input'!C459,'Data Input'!D459,'Data Input'!F459,'Data Input'!J459,'Data Input'!O459,'Data Input'!S459,'Data Input'!AM459,'Data Input'!AN459,'Data Input'!AO459,'Data Input'!AP459))","v":""},{"$f":"IF(P455=\"\",\"\",P455/COUNTIF('Data Input'!$C$8:$AQ$8,$P$2))","v":""},{"$f":"IF(ISBLANK('Data Input'!C459),\"\",SUM('Data Input'!P459))","v":""},{"$f":"IF(R455=\"\",\"\",R455/COUNTIF('Data Input'!$C$8:$AQ$8,$R$2))","v":""}]
[{"$f":"IF('Data Input'!A460=0,\"\",'Data Input'!A460)","v":""},{"$f":"IF(H456=\"\",\"\",IF(H456>Welcome!$K$23-1,\"Exceeding\",IF(H456>Welcome!$G$23-1,\"Expected\",IF(H456<Welcome!$G$23,\"Below\"))))","v":""},{"$f":"IF(ISBLANK('Data Input'!A460),\"\",COUNTIF('Data Input'!C460:AQ460,\"\")-1)","v":""},{"$f":"IF(ISBLANK('Data Input'!A460),\"\",COUNTIF('Data Input'!C460:AQ460,\"0\"))","v":""},{"$f":"IF(ISBLANK('Data Input'!A460),\"\",SUM(C456,D456))","v":""},{"$f":"IF(ISBLANK('Data Input'!A460),\"\",SUM('Data Input'!C460:V460))","v":""},{"$f":"IF(ISBLANK('Data Input'!A460),\"\",SUM('Data Input'!X460:AQ460))","v":""},{"$f":"IF(ISBLANK('Data Input'!A460),\"\",SUM('Data Input'!C460:AQ460))","v":""},{"$f":"IF(H456=\"\",\"\",H456/(COUNTA('Data Input'!$C$8:$AQ$8)-1))","v":""},{"$f":"IF(ISBLANK('Data Input'!A460),\"\",SUM('Data Input'!I460,'Data Input'!M460,'Data Input'!AB460,'Data Input'!AE460))","v":""},{"$f":"IF(J456=\"\",\"\",J456/COUNTIF('Data Input'!$C$8:$AQ$8,$J$2))","v":""},{"$f":"IF(ISBLANK('Data Input'!A460),\"\",SUM('Data Input'!E460,'Data Input'!G460,'Data Input'!H460,'Data Input'!L460,'Data Input'!N460,'Data Input'!Q460,'Data Input'!R460,'Data Input'!T460,'Data Input'!U460,'Data Input'!V460,'Data Input'!X460,'Data Input'!Y460,'Data Input'!Z460,'Data Input'!AA460,'Data Input'!AC460,'Data Input'!AD460,'Data Input'!AF460,'Data Input'!AG460,'Data Input'!AH460,'Data Input'!AI460,'Data Input'!AJ460,'Data Input'!AK460,'Data Input'!AL460))","v":""},{"$f":"IF(L456=\"\",\"\",L456/COUNTIF('Data Input'!$C$8:$AQ$8,$L$2))","v":""},{"$f":"IF(ISBLANK('Data Input'!A460),\"\",SUM('Data Input'!K460,'Data Input'!AQ460))","v":""},{"$f":"IF(N456=\"\",\"\",N456/COUNTIF('Data Input'!$C$8:$AQ$8,$N$2))","v":""},{"$f":"IF(ISBLANK('Data Input'!A460),\"\",SUM('Data Input'!C460,'Data Input'!D460,'Data Input'!F460,'Data Input'!J460,'Data Input'!O460,'Data Input'!S460,'Data Input'!AM460,'Data Input'!AN460,'Data Input'!AO460,'Data Input'!AP460))","v":""},{"$f":"IF(P456=\"\",\"\",P456/COUNTIF('Data Input'!$C$8:$AQ$8,$P$2))","v":""},{"$f":"IF(ISBLANK('Data Input'!C460),\"\",SUM('Data Input'!P460))","v":""},{"$f":"IF(R456=\"\",\"\",R456/COUNTIF('Data Input'!$C$8:$AQ$8,$R$2))","v":""}]
[{"$f":"IF('Data Input'!A461=0,\"\",'Data Input'!A461)","v":""},{"$f":"IF(H457=\"\",\"\",IF(H457>Welcome!$K$23-1,\"Exceeding\",IF(H457>Welcome!$G$23-1,\"Expected\",IF(H457<Welcome!$G$23,\"Below\"))))","v":""},{"$f":"IF(ISBLANK('Data Input'!A461),\"\",COUNTIF('Data Input'!C461:AQ461,\"\")-1)","v":""},{"$f":"IF(ISBLANK('Data Input'!A461),\"\",COUNTIF('Data Input'!C461:AQ461,\"0\"))","v":""},{"$f":"IF(ISBLANK('Data Input'!A461),\"\",SUM(C457,D457))","v":""},{"$f":"IF(ISBLANK('Data Input'!A461),\"\",SUM('Data Input'!C461:V461))","v":""},{"$f":"IF(ISBLANK('Data Input'!A461),\"\",SUM('Data Input'!X461:AQ461))","v":""},{"$f":"IF(ISBLANK('Data Input'!A461),\"\",SUM('Data Input'!C461:AQ461))","v":""},{"$f":"IF(H457=\"\",\"\",H457/(COUNTA('Data Input'!$C$8:$AQ$8)-1))","v":""},{"$f":"IF(ISBLANK('Data Input'!A461),\"\",SUM('Data Input'!I461,'Data Input'!M461,'Data Input'!AB461,'Data Input'!AE461))","v":""},{"$f":"IF(J457=\"\",\"\",J457/COUNTIF('Data Input'!$C$8:$AQ$8,$J$2))","v":""},{"$f":"IF(ISBLANK('Data Input'!A461),\"\",SUM('Data Input'!E461,'Data Input'!G461,'Data Input'!H461,'Data Input'!L461,'Data Input'!N461,'Data Input'!Q461,'Data Input'!R461,'Data Input'!T461,'Data Input'!U461,'Data Input'!V461,'Data Input'!X461,'Data Input'!Y461,'Data Input'!Z461,'Data Input'!AA461,'Data Input'!AC461,'Data Input'!AD461,'Data Input'!AF461,'Data Input'!AG461,'Data Input'!AH461,'Data Input'!AI461,'Data Input'!AJ461,'Data Input'!AK461,'Data Input'!AL461))","v":""},{"$f":"IF(L457=\"\",\"\",L457/COUNTIF('Data Input'!$C$8:$AQ$8,$L$2))","v":""},{"$f":"IF(ISBLANK('Data Input'!A461),\"\",SUM('Data Input'!K461,'Data Input'!AQ461))","v":""},{"$f":"IF(N457=\"\",\"\",N457/COUNTIF('Data Input'!$C$8:$AQ$8,$N$2))","v":""},{"$f":"IF(ISBLANK('Data Input'!A461),\"\",SUM('Data Input'!C461,'Data Input'!D461,'Data Input'!F461,'Data Input'!J461,'Data Input'!O461,'Data Input'!S461,'Data Input'!AM461,'Data Input'!AN461,'Data Input'!AO461,'Data Input'!AP461))","v":""},{"$f":"IF(P457=\"\",\"\",P457/COUNTIF('Data Input'!$C$8:$AQ$8,$P$2))","v":""},{"$f":"IF(ISBLANK('Data Input'!C461),\"\",SUM('Data Input'!P461))","v":""},{"$f":"IF(R457=\"\",\"\",R457/COUNTIF('Data Input'!$C$8:$AQ$8,$R$2))","v":""}]
[{"$f":"IF('Data Input'!A462=0,\"\",'Data Input'!A462)","v":""},{"$f":"IF(H458=\"\",\"\",IF(H458>Welcome!$K$23-1,\"Exceeding\",IF(H458>Welcome!$G$23-1,\"Expected\",IF(H458<Welcome!$G$23,\"Below\"))))","v":""},{"$f":"IF(ISBLANK('Data Input'!A462),\"\",COUNTIF('Data Input'!C462:AQ462,\"\")-1)","v":""},{"$f":"IF(ISBLANK('Data Input'!A462),\"\",COUNTIF('Data Input'!C462:AQ462,\"0\"))","v":""},{"$f":"IF(ISBLANK('Data Input'!A462),\"\",SUM(C458,D458))","v":""},{"$f":"IF(ISBLANK('Data Input'!A462),\"\",SUM('Data Input'!C462:V462))","v":""},{"$f":"IF(ISBLANK('Data Input'!A462),\"\",SUM('Data Input'!X462:AQ462))","v":""},{"$f":"IF(ISBLANK('Data Input'!A462),\"\",SUM('Data Input'!C462:AQ462))","v":""},{"$f":"IF(H458=\"\",\"\",H458/(COUNTA('Data Input'!$C$8:$AQ$8)-1))","v":""},{"$f":"IF(ISBLANK('Data Input'!A462),\"\",SUM('Data Input'!I462,'Data Input'!M462,'Data Input'!AB462,'Data Input'!AE462))","v":""},{"$f":"IF(J458=\"\",\"\",J458/COUNTIF('Data Input'!$C$8:$AQ$8,$J$2))","v":""},{"$f":"IF(ISBLANK('Data Input'!A462),\"\",SUM('Data Input'!E462,'Data Input'!G462,'Data Input'!H462,'Data Input'!L462,'Data Input'!N462,'Data Input'!Q462,'Data Input'!R462,'Data Input'!T462,'Data Input'!U462,'Data Input'!V462,'Data Input'!X462,'Data Input'!Y462,'Data Input'!Z462,'Data Input'!AA462,'Data Input'!AC462,'Data Input'!AD462,'Data Input'!AF462,'Data Input'!AG462,'Data Input'!AH462,'Data Input'!AI462,'Data Input'!AJ462,'Data Input'!AK462,'Data Input'!AL462))","v":""},{"$f":"IF(L458=\"\",\"\",L458/COUNTIF('Data Input'!$C$8:$AQ$8,$L$2))","v":""},{"$f":"IF(ISBLANK('Data Input'!A462),\"\",SUM('Data Input'!K462,'Data Input'!AQ462))","v":""},{"$f":"IF(N458=\"\",\"\",N458/COUNTIF('Data Input'!$C$8:$AQ$8,$N$2))","v":""},{"$f":"IF(ISBLANK('Data Input'!A462),\"\",SUM('Data Input'!C462,'Data Input'!D462,'Data Input'!F462,'Data Input'!J462,'Data Input'!O462,'Data Input'!S462,'Data Input'!AM462,'Data Input'!AN462,'Data Input'!AO462,'Data Input'!AP462))","v":""},{"$f":"IF(P458=\"\",\"\",P458/COUNTIF('Data Input'!$C$8:$AQ$8,$P$2))","v":""},{"$f":"IF(ISBLANK('Data Input'!C462),\"\",SUM('Data Input'!P462))","v":""},{"$f":"IF(R458=\"\",\"\",R458/COUNTIF('Data Input'!$C$8:$AQ$8,$R$2))","v":""}]
[{"$f":"IF('Data Input'!A463=0,\"\",'Data Input'!A463)","v":""},{"$f":"IF(H459=\"\",\"\",IF(H459>Welcome!$K$23-1,\"Exceeding\",IF(H459>Welcome!$G$23-1,\"Expected\",IF(H459<Welcome!$G$23,\"Below\"))))","v":""},{"$f":"IF(ISBLANK('Data Input'!A463),\"\",COUNTIF('Data Input'!C463:AQ463,\"\")-1)","v":""},{"$f":"IF(ISBLANK('Data Input'!A463),\"\",COUNTIF('Data Input'!C463:AQ463,\"0\"))","v":""},{"$f":"IF(ISBLANK('Data Input'!A463),\"\",SUM(C459,D459))","v":""},{"$f":"IF(ISBLANK('Data Input'!A463),\"\",SUM('Data Input'!C463:V463))","v":""},{"$f":"IF(ISBLANK('Data Input'!A463),\"\",SUM('Data Input'!X463:AQ463))","v":""},{"$f":"IF(ISBLANK('Data Input'!A463),\"\",SUM('Data Input'!C463:AQ463))","v":""},{"$f":"IF(H459=\"\",\"\",H459/(COUNTA('Data Input'!$C$8:$AQ$8)-1))","v":""},{"$f":"IF(ISBLANK('Data Input'!A463),\"\",SUM('Data Input'!I463,'Data Input'!M463,'Data Input'!AB463,'Data Input'!AE463))","v":""},{"$f":"IF(J459=\"\",\"\",J459/COUNTIF('Data Input'!$C$8:$AQ$8,$J$2))","v":""},{"$f":"IF(ISBLANK('Data Input'!A463),\"\",SUM('Data Input'!E463,'Data Input'!G463,'Data Input'!H463,'Data Input'!L463,'Data Input'!N463,'Data Input'!Q463,'Data Input'!R463,'Data Input'!T463,'Data Input'!U463,'Data Input'!V463,'Data Input'!X463,'Data Input'!Y463,'Data Input'!Z463,'Data Input'!AA463,'Data Input'!AC463,'Data Input'!AD463,'Data Input'!AF463,'Data Input'!AG463,'Data Input'!AH463,'Data Input'!AI463,'Data Input'!AJ463,'Data Input'!AK463,'Data Input'!AL463))","v":""},{"$f":"IF(L459=\"\",\"\",L459/COUNTIF('Data Input'!$C$8:$AQ$8,$L$2))","v":""},{"$f":"IF(ISBLANK('Data Input'!A463),\"\",SUM('Data Input'!K463,'Data Input'!AQ463))","v":""},{"$f":"IF(N459=\"\",\"\",N459/COUNTIF('Data Input'!$C$8:$AQ$8,$N$2))","v":""},{"$f":"IF(ISBLANK('Data Input'!A463),\"\",SUM('Data Input'!C463,'Data Input'!D463,'Data Input'!F463,'Data Input'!J463,'Data Input'!O463,'Data Input'!S463,'Data Input'!AM463,'Data Input'!AN463,'Data Input'!AO463,'Data Input'!AP463))","v":""},{"$f":"IF(P459=\"\",\"\",P459/COUNTIF('Data Input'!$C$8:$AQ$8,$P$2))","v":""},{"$f":"IF(ISBLANK('Data Input'!C463),\"\",SUM('Data Input'!P463))","v":""},{"$f":"IF(R459=\"\",\"\",R459/COUNTIF('Data Input'!$C$8:$AQ$8,$R$2))","v":""}]
[{"$f":"IF('Data Input'!A464=0,\"\",'Data Input'!A464)","v":""},{"$f":"IF(H460=\"\",\"\",IF(H460>Welcome!$K$23-1,\"Exceeding\",IF(H460>Welcome!$G$23-1,\"Expected\",IF(H460<Welcome!$G$23,\"Below\"))))","v":""},{"$f":"IF(ISBLANK('Data Input'!A464),\"\",COUNTIF('Data Input'!C464:AQ464,\"\")-1)","v":""},{"$f":"IF(ISBLANK('Data Input'!A464),\"\",COUNTIF('Data Input'!C464:AQ464,\"0\"))","v":""},{"$f":"IF(ISBLANK('Data Input'!A464),\"\",SUM(C460,D460))","v":""},{"$f":"IF(ISBLANK('Data Input'!A464),\"\",SUM('Data Input'!C464:V464))","v":""},{"$f":"IF(ISBLANK('Data Input'!A464),\"\",SUM('Data Input'!X464:AQ464))","v":""},{"$f":"IF(ISBLANK('Data Input'!A464),\"\",SUM('Data Input'!C464:AQ464))","v":""},{"$f":"IF(H460=\"\",\"\",H460/(COUNTA('Data Input'!$C$8:$AQ$8)-1))","v":""},{"$f":"IF(ISBLANK('Data Input'!A464),\"\",SUM('Data Input'!I464,'Data Input'!M464,'Data Input'!AB464,'Data Input'!AE464))","v":""},{"$f":"IF(J460=\"\",\"\",J460/COUNTIF('Data Input'!$C$8:$AQ$8,$J$2))","v":""},{"$f":"IF(ISBLANK('Data Input'!A464),\"\",SUM('Data Input'!E464,'Data Input'!G464,'Data Input'!H464,'Data Input'!L464,'Data Input'!N464,'Data Input'!Q464,'Data Input'!R464,'Data Input'!T464,'Data Input'!U464,'Data Input'!V464,'Data Input'!X464,'Data Input'!Y464,'Data Input'!Z464,'Data Input'!AA464,'Data Input'!AC464,'Data Input'!AD464,'Data Input'!AF464,'Data Input'!AG464,'Data Input'!AH464,'Data Input'!AI464,'Data Input'!AJ464,'Data Input'!AK464,'Data Input'!AL464))","v":""},{"$f":"IF(L460=\"\",\"\",L460/COUNTIF('Data Input'!$C$8:$AQ$8,$L$2))","v":""},{"$f":"IF(ISBLANK('Data Input'!A464),\"\",SUM('Data Input'!K464,'Data Input'!AQ464))","v":""},{"$f":"IF(N460=\"\",\"\",N460/COUNTIF('Data Input'!$C$8:$AQ$8,$N$2))","v":""},{"$f":"IF(ISBLANK('Data Input'!A464),\"\",SUM('Data Input'!C464,'Data Input'!D464,'Data Input'!F464,'Data Input'!J464,'Data Input'!O464,'Data Input'!S464,'Data Input'!AM464,'Data Input'!AN464,'Data Input'!AO464,'Data Input'!AP464))","v":""},{"$f":"IF(P460=\"\",\"\",P460/COUNTIF('Data Input'!$C$8:$AQ$8,$P$2))","v":""},{"$f":"IF(ISBLANK('Data Input'!C464),\"\",SUM('Data Input'!P464))","v":""},{"$f":"IF(R460=\"\",\"\",R460/COUNTIF('Data Input'!$C$8:$AQ$8,$R$2))","v":""}]
[{"$f":"IF('Data Input'!A465=0,\"\",'Data Input'!A465)","v":""},{"$f":"IF(H461=\"\",\"\",IF(H461>Welcome!$K$23-1,\"Exceeding\",IF(H461>Welcome!$G$23-1,\"Expected\",IF(H461<Welcome!$G$23,\"Below\"))))","v":""},{"$f":"IF(ISBLANK('Data Input'!A465),\"\",COUNTIF('Data Input'!C465:AQ465,\"\")-1)","v":""},{"$f":"IF(ISBLANK('Data Input'!A465),\"\",COUNTIF('Data Input'!C465:AQ465,\"0\"))","v":""},{"$f":"IF(ISBLANK('Data Input'!A465),\"\",SUM(C461,D461))","v":""},{"$f":"IF(ISBLANK('Data Input'!A465),\"\",SUM('Data Input'!C465:V465))","v":""},{"$f":"IF(ISBLANK('Data Input'!A465),\"\",SUM('Data Input'!X465:AQ465))","v":""},{"$f":"IF(ISBLANK('Data Input'!A465),\"\",SUM('Data Input'!C465:AQ465))","v":""},{"$f":"IF(H461=\"\",\"\",H461/(COUNTA('Data Input'!$C$8:$AQ$8)-1))","v":""},{"$f":"IF(ISBLANK('Data Input'!A465),\"\",SUM('Data Input'!I465,'Data Input'!M465,'Data Input'!AB465,'Data Input'!AE465))","v":""},{"$f":"IF(J461=\"\",\"\",J461/COUNTIF('Data Input'!$C$8:$AQ$8,$J$2))","v":""},{"$f":"IF(ISBLANK('Data Input'!A465),\"\",SUM('Data Input'!E465,'Data Input'!G465,'Data Input'!H465,'Data Input'!L465,'Data Input'!N465,'Data Input'!Q465,'Data Input'!R465,'Data Input'!T465,'Data Input'!U465,'Data Input'!V465,'Data Input'!X465,'Data Input'!Y465,'Data Input'!Z465,'Data Input'!AA465,'Data Input'!AC465,'Data Input'!AD465,'Data Input'!AF465,'Data Input'!AG465,'Data Input'!AH465,'Data Input'!AI465,'Data Input'!AJ465,'Data Input'!AK465,'Data Input'!AL465))","v":""},{"$f":"IF(L461=\"\",\"\",L461/COUNTIF('Data Input'!$C$8:$AQ$8,$L$2))","v":""},{"$f":"IF(ISBLANK('Data Input'!A465),\"\",SUM('Data Input'!K465,'Data Input'!AQ465))","v":""},{"$f":"IF(N461=\"\",\"\",N461/COUNTIF('Data Input'!$C$8:$AQ$8,$N$2))","v":""},{"$f":"IF(ISBLANK('Data Input'!A465),\"\",SUM('Data Input'!C465,'Data Input'!D465,'Data Input'!F465,'Data Input'!J465,'Data Input'!O465,'Data Input'!S465,'Data Input'!AM465,'Data Input'!AN465,'Data Input'!AO465,'Data Input'!AP465))","v":""},{"$f":"IF(P461=\"\",\"\",P461/COUNTIF('Data Input'!$C$8:$AQ$8,$P$2))","v":""},{"$f":"IF(ISBLANK('Data Input'!C465),\"\",SUM('Data Input'!P465))","v":""},{"$f":"IF(R461=\"\",\"\",R461/COUNTIF('Data Input'!$C$8:$AQ$8,$R$2))","v":""}]
[{"$f":"IF('Data Input'!A466=0,\"\",'Data Input'!A466)","v":""},{"$f":"IF(H462=\"\",\"\",IF(H462>Welcome!$K$23-1,\"Exceeding\",IF(H462>Welcome!$G$23-1,\"Expected\",IF(H462<Welcome!$G$23,\"Below\"))))","v":""},{"$f":"IF(ISBLANK('Data Input'!A466),\"\",COUNTIF('Data Input'!C466:AQ466,\"\")-1)","v":""},{"$f":"IF(ISBLANK('Data Input'!A466),\"\",COUNTIF('Data Input'!C466:AQ466,\"0\"))","v":""},{"$f":"IF(ISBLANK('Data Input'!A466),\"\",SUM(C462,D462))","v":""},{"$f":"IF(ISBLANK('Data Input'!A466),\"\",SUM('Data Input'!C466:V466))","v":""},{"$f":"IF(ISBLANK('Data Input'!A466),\"\",SUM('Data Input'!X466:AQ466))","v":""},{"$f":"IF(ISBLANK('Data Input'!A466),\"\",SUM('Data Input'!C466:AQ466))","v":""},{"$f":"IF(H462=\"\",\"\",H462/(COUNTA('Data Input'!$C$8:$AQ$8)-1))","v":""},{"$f":"IF(ISBLANK('Data Input'!A466),\"\",SUM('Data Input'!I466,'Data Input'!M466,'Data Input'!AB466,'Data Input'!AE466))","v":""},{"$f":"IF(J462=\"\",\"\",J462/COUNTIF('Data Input'!$C$8:$AQ$8,$J$2))","v":""},{"$f":"IF(ISBLANK('Data Input'!A466),\"\",SUM('Data Input'!E466,'Data Input'!G466,'Data Input'!H466,'Data Input'!L466,'Data Input'!N466,'Data Input'!Q466,'Data Input'!R466,'Data Input'!T466,'Data Input'!U466,'Data Input'!V466,'Data Input'!X466,'Data Input'!Y466,'Data Input'!Z466,'Data Input'!AA466,'Data Input'!AC466,'Data Input'!AD466,'Data Input'!AF466,'Data Input'!AG466,'Data Input'!AH466,'Data Input'!AI466,'Data Input'!AJ466,'Data Input'!AK466,'Data Input'!AL466))","v":""},{"$f":"IF(L462=\"\",\"\",L462/COUNTIF('Data Input'!$C$8:$AQ$8,$L$2))","v":""},{"$f":"IF(ISBLANK('Data Input'!A466),\"\",SUM('Data Input'!K466,'Data Input'!AQ466))","v":""},{"$f":"IF(N462=\"\",\"\",N462/COUNTIF('Data Input'!$C$8:$AQ$8,$N$2))","v":""},{"$f":"IF(ISBLANK('Data Input'!A466),\"\",SUM('Data Input'!C466,'Data Input'!D466,'Data Input'!F466,'Data Input'!J466,'Data Input'!O466,'Data Input'!S466,'Data Input'!AM466,'Data Input'!AN466,'Data Input'!AO466,'Data Input'!AP466))","v":""},{"$f":"IF(P462=\"\",\"\",P462/COUNTIF('Data Input'!$C$8:$AQ$8,$P$2))","v":""},{"$f":"IF(ISBLANK('Data Input'!C466),\"\",SUM('Data Input'!P466))","v":""},{"$f":"IF(R462=\"\",\"\",R462/COUNTIF('Data Input'!$C$8:$AQ$8,$R$2))","v":""}]
[{"$f":"IF('Data Input'!A467=0,\"\",'Data Input'!A467)","v":""},{"$f":"IF(H463=\"\",\"\",IF(H463>Welcome!$K$23-1,\"Exceeding\",IF(H463>Welcome!$G$23-1,\"Expected\",IF(H463<Welcome!$G$23,\"Below\"))))","v":""},{"$f":"IF(ISBLANK('Data Input'!A467),\"\",COUNTIF('Data Input'!C467:AQ467,\"\")-1)","v":""},{"$f":"IF(ISBLANK('Data Input'!A467),\"\",COUNTIF('Data Input'!C467:AQ467,\"0\"))","v":""},{"$f":"IF(ISBLANK('Data Input'!A467),\"\",SUM(C463,D463))","v":""},{"$f":"IF(ISBLANK('Data Input'!A467),\"\",SUM('Data Input'!C467:V467))","v":""},{"$f":"IF(ISBLANK('Data Input'!A467),\"\",SUM('Data Input'!X467:AQ467))","v":""},{"$f":"IF(ISBLANK('Data Input'!A467),\"\",SUM('Data Input'!C467:AQ467))","v":""},{"$f":"IF(H463=\"\",\"\",H463/(COUNTA('Data Input'!$C$8:$AQ$8)-1))","v":""},{"$f":"IF(ISBLANK('Data Input'!A467),\"\",SUM('Data Input'!I467,'Data Input'!M467,'Data Input'!AB467,'Data Input'!AE467))","v":""},{"$f":"IF(J463=\"\",\"\",J463/COUNTIF('Data Input'!$C$8:$AQ$8,$J$2))","v":""},{"$f":"IF(ISBLANK('Data Input'!A467),\"\",SUM('Data Input'!E467,'Data Input'!G467,'Data Input'!H467,'Data Input'!L467,'Data Input'!N467,'Data Input'!Q467,'Data Input'!R467,'Data Input'!T467,'Data Input'!U467,'Data Input'!V467,'Data Input'!X467,'Data Input'!Y467,'Data Input'!Z467,'Data Input'!AA467,'Data Input'!AC467,'Data Input'!AD467,'Data Input'!AF467,'Data Input'!AG467,'Data Input'!AH467,'Data Input'!AI467,'Data Input'!AJ467,'Data Input'!AK467,'Data Input'!AL467))","v":""},{"$f":"IF(L463=\"\",\"\",L463/COUNTIF('Data Input'!$C$8:$AQ$8,$L$2))","v":""},{"$f":"IF(ISBLANK('Data Input'!A467),\"\",SUM('Data Input'!K467,'Data Input'!AQ467))","v":""},{"$f":"IF(N463=\"\",\"\",N463/COUNTIF('Data Input'!$C$8:$AQ$8,$N$2))","v":""},{"$f":"IF(ISBLANK('Data Input'!A467),\"\",SUM('Data Input'!C467,'Data Input'!D467,'Data Input'!F467,'Data Input'!J467,'Data Input'!O467,'Data Input'!S467,'Data Input'!AM467,'Data Input'!AN467,'Data Input'!AO467,'Data Input'!AP467))","v":""},{"$f":"IF(P463=\"\",\"\",P463/COUNTIF('Data Input'!$C$8:$AQ$8,$P$2))","v":""},{"$f":"IF(ISBLANK('Data Input'!C467),\"\",SUM('Data Input'!P467))","v":""},{"$f":"IF(R463=\"\",\"\",R463/COUNTIF('Data Input'!$C$8:$AQ$8,$R$2))","v":""}]
[{"$f":"IF('Data Input'!A468=0,\"\",'Data Input'!A468)","v":""},{"$f":"IF(H464=\"\",\"\",IF(H464>Welcome!$K$23-1,\"Exceeding\",IF(H464>Welcome!$G$23-1,\"Expected\",IF(H464<Welcome!$G$23,\"Below\"))))","v":""},{"$f":"IF(ISBLANK('Data Input'!A468),\"\",COUNTIF('Data Input'!C468:AQ468,\"\")-1)","v":""},{"$f":"IF(ISBLANK('Data Input'!A468),\"\",COUNTIF('Data Input'!C468:AQ468,\"0\"))","v":""},{"$f":"IF(ISBLANK('Data Input'!A468),\"\",SUM(C464,D464))","v":""},{"$f":"IF(ISBLANK('Data Input'!A468),\"\",SUM('Data Input'!C468:V468))","v":""},{"$f":"IF(ISBLANK('Data Input'!A468),\"\",SUM('Data Input'!X468:AQ468))","v":""},{"$f":"IF(ISBLANK('Data Input'!A468),\"\",SUM('Data Input'!C468:AQ468))","v":""},{"$f":"IF(H464=\"\",\"\",H464/(COUNTA('Data Input'!$C$8:$AQ$8)-1))","v":""},{"$f":"IF(ISBLANK('Data Input'!A468),\"\",SUM('Data Input'!I468,'Data Input'!M468,'Data Input'!AB468,'Data Input'!AE468))","v":""},{"$f":"IF(J464=\"\",\"\",J464/COUNTIF('Data Input'!$C$8:$AQ$8,$J$2))","v":""},{"$f":"IF(ISBLANK('Data Input'!A468),\"\",SUM('Data Input'!E468,'Data Input'!G468,'Data Input'!H468,'Data Input'!L468,'Data Input'!N468,'Data Input'!Q468,'Data Input'!R468,'Data Input'!T468,'Data Input'!U468,'Data Input'!V468,'Data Input'!X468,'Data Input'!Y468,'Data Input'!Z468,'Data Input'!AA468,'Data Input'!AC468,'Data Input'!AD468,'Data Input'!AF468,'Data Input'!AG468,'Data Input'!AH468,'Data Input'!AI468,'Data Input'!AJ468,'Data Input'!AK468,'Data Input'!AL468))","v":""},{"$f":"IF(L464=\"\",\"\",L464/COUNTIF('Data Input'!$C$8:$AQ$8,$L$2))","v":""},{"$f":"IF(ISBLANK('Data Input'!A468),\"\",SUM('Data Input'!K468,'Data Input'!AQ468))","v":""},{"$f":"IF(N464=\"\",\"\",N464/COUNTIF('Data Input'!$C$8:$AQ$8,$N$2))","v":""},{"$f":"IF(ISBLANK('Data Input'!A468),\"\",SUM('Data Input'!C468,'Data Input'!D468,'Data Input'!F468,'Data Input'!J468,'Data Input'!O468,'Data Input'!S468,'Data Input'!AM468,'Data Input'!AN468,'Data Input'!AO468,'Data Input'!AP468))","v":""},{"$f":"IF(P464=\"\",\"\",P464/COUNTIF('Data Input'!$C$8:$AQ$8,$P$2))","v":""},{"$f":"IF(ISBLANK('Data Input'!C468),\"\",SUM('Data Input'!P468))","v":""},{"$f":"IF(R464=\"\",\"\",R464/COUNTIF('Data Input'!$C$8:$AQ$8,$R$2))","v":""}]
[{"$f":"IF('Data Input'!A469=0,\"\",'Data Input'!A469)","v":""},{"$f":"IF(H465=\"\",\"\",IF(H465>Welcome!$K$23-1,\"Exceeding\",IF(H465>Welcome!$G$23-1,\"Expected\",IF(H465<Welcome!$G$23,\"Below\"))))","v":""},{"$f":"IF(ISBLANK('Data Input'!A469),\"\",COUNTIF('Data Input'!C469:AQ469,\"\")-1)","v":""},{"$f":"IF(ISBLANK('Data Input'!A469),\"\",COUNTIF('Data Input'!C469:AQ469,\"0\"))","v":""},{"$f":"IF(ISBLANK('Data Input'!A469),\"\",SUM(C465,D465))","v":""},{"$f":"IF(ISBLANK('Data Input'!A469),\"\",SUM('Data Input'!C469:V469))","v":""},{"$f":"IF(ISBLANK('Data Input'!A469),\"\",SUM('Data Input'!X469:AQ469))","v":""},{"$f":"IF(ISBLANK('Data Input'!A469),\"\",SUM('Data Input'!C469:AQ469))","v":""},{"$f":"IF(H465=\"\",\"\",H465/(COUNTA('Data Input'!$C$8:$AQ$8)-1))","v":""},{"$f":"IF(ISBLANK('Data Input'!A469),\"\",SUM('Data Input'!I469,'Data Input'!M469,'Data Input'!AB469,'Data Input'!AE469))","v":""},{"$f":"IF(J465=\"\",\"\",J465/COUNTIF('Data Input'!$C$8:$AQ$8,$J$2))","v":""},{"$f":"IF(ISBLANK('Data Input'!A469),\"\",SUM('Data Input'!E469,'Data Input'!G469,'Data Input'!H469,'Data Input'!L469,'Data Input'!N469,'Data Input'!Q469,'Data Input'!R469,'Data Input'!T469,'Data Input'!U469,'Data Input'!V469,'Data Input'!X469,'Data Input'!Y469,'Data Input'!Z469,'Data Input'!AA469,'Data Input'!AC469,'Data Input'!AD469,'Data Input'!AF469,'Data Input'!AG469,'Data Input'!AH469,'Data Input'!AI469,'Data Input'!AJ469,'Data Input'!AK469,'Data Input'!AL469))","v":""},{"$f":"IF(L465=\"\",\"\",L465/COUNTIF('Data Input'!$C$8:$AQ$8,$L$2))","v":""},{"$f":"IF(ISBLANK('Data Input'!A469),\"\",SUM('Data Input'!K469,'Data Input'!AQ469))","v":""},{"$f":"IF(N465=\"\",\"\",N465/COUNTIF('Data Input'!$C$8:$AQ$8,$N$2))","v":""},{"$f":"IF(ISBLANK('Data Input'!A469),\"\",SUM('Data Input'!C469,'Data Input'!D469,'Data Input'!F469,'Data Input'!J469,'Data Input'!O469,'Data Input'!S469,'Data Input'!AM469,'Data Input'!AN469,'Data Input'!AO469,'Data Input'!AP469))","v":""},{"$f":"IF(P465=\"\",\"\",P465/COUNTIF('Data Input'!$C$8:$AQ$8,$P$2))","v":""},{"$f":"IF(ISBLANK('Data Input'!C469),\"\",SUM('Data Input'!P469))","v":""},{"$f":"IF(R465=\"\",\"\",R465/COUNTIF('Data Input'!$C$8:$AQ$8,$R$2))","v":""}]
[{"$f":"IF('Data Input'!A470=0,\"\",'Data Input'!A470)","v":""},{"$f":"IF(H466=\"\",\"\",IF(H466>Welcome!$K$23-1,\"Exceeding\",IF(H466>Welcome!$G$23-1,\"Expected\",IF(H466<Welcome!$G$23,\"Below\"))))","v":""},{"$f":"IF(ISBLANK('Data Input'!A470),\"\",COUNTIF('Data Input'!C470:AQ470,\"\")-1)","v":""},{"$f":"IF(ISBLANK('Data Input'!A470),\"\",COUNTIF('Data Input'!C470:AQ470,\"0\"))","v":""},{"$f":"IF(ISBLANK('Data Input'!A470),\"\",SUM(C466,D466))","v":""},{"$f":"IF(ISBLANK('Data Input'!A470),\"\",SUM('Data Input'!C470:V470))","v":""},{"$f":"IF(ISBLANK('Data Input'!A470),\"\",SUM('Data Input'!X470:AQ470))","v":""},{"$f":"IF(ISBLANK('Data Input'!A470),\"\",SUM('Data Input'!C470:AQ470))","v":""},{"$f":"IF(H466=\"\",\"\",H466/(COUNTA('Data Input'!$C$8:$AQ$8)-1))","v":""},{"$f":"IF(ISBLANK('Data Input'!A470),\"\",SUM('Data Input'!I470,'Data Input'!M470,'Data Input'!AB470,'Data Input'!AE470))","v":""},{"$f":"IF(J466=\"\",\"\",J466/COUNTIF('Data Input'!$C$8:$AQ$8,$J$2))","v":""},{"$f":"IF(ISBLANK('Data Input'!A470),\"\",SUM('Data Input'!E470,'Data Input'!G470,'Data Input'!H470,'Data Input'!L470,'Data Input'!N470,'Data Input'!Q470,'Data Input'!R470,'Data Input'!T470,'Data Input'!U470,'Data Input'!V470,'Data Input'!X470,'Data Input'!Y470,'Data Input'!Z470,'Data Input'!AA470,'Data Input'!AC470,'Data Input'!AD470,'Data Input'!AF470,'Data Input'!AG470,'Data Input'!AH470,'Data Input'!AI470,'Data Input'!AJ470,'Data Input'!AK470,'Data Input'!AL470))","v":""},{"$f":"IF(L466=\"\",\"\",L466/COUNTIF('Data Input'!$C$8:$AQ$8,$L$2))","v":""},{"$f":"IF(ISBLANK('Data Input'!A470),\"\",SUM('Data Input'!K470,'Data Input'!AQ470))","v":""},{"$f":"IF(N466=\"\",\"\",N466/COUNTIF('Data Input'!$C$8:$AQ$8,$N$2))","v":""},{"$f":"IF(ISBLANK('Data Input'!A470),\"\",SUM('Data Input'!C470,'Data Input'!D470,'Data Input'!F470,'Data Input'!J470,'Data Input'!O470,'Data Input'!S470,'Data Input'!AM470,'Data Input'!AN470,'Data Input'!AO470,'Data Input'!AP470))","v":""},{"$f":"IF(P466=\"\",\"\",P466/COUNTIF('Data Input'!$C$8:$AQ$8,$P$2))","v":""},{"$f":"IF(ISBLANK('Data Input'!C470),\"\",SUM('Data Input'!P470))","v":""},{"$f":"IF(R466=\"\",\"\",R466/COUNTIF('Data Input'!$C$8:$AQ$8,$R$2))","v":""}]
[{"$f":"IF('Data Input'!A471=0,\"\",'Data Input'!A471)","v":""},{"$f":"IF(H467=\"\",\"\",IF(H467>Welcome!$K$23-1,\"Exceeding\",IF(H467>Welcome!$G$23-1,\"Expected\",IF(H467<Welcome!$G$23,\"Below\"))))","v":""},{"$f":"IF(ISBLANK('Data Input'!A471),\"\",COUNTIF('Data Input'!C471:AQ471,\"\")-1)","v":""},{"$f":"IF(ISBLANK('Data Input'!A471),\"\",COUNTIF('Data Input'!C471:AQ471,\"0\"))","v":""},{"$f":"IF(ISBLANK('Data Input'!A471),\"\",SUM(C467,D467))","v":""},{"$f":"IF(ISBLANK('Data Input'!A471),\"\",SUM('Data Input'!C471:V471))","v":""},{"$f":"IF(ISBLANK('Data Input'!A471),\"\",SUM('Data Input'!X471:AQ471))","v":""},{"$f":"IF(ISBLANK('Data Input'!A471),\"\",SUM('Data Input'!C471:AQ471))","v":""},{"$f":"IF(H467=\"\",\"\",H467/(COUNTA('Data Input'!$C$8:$AQ$8)-1))","v":""},{"$f":"IF(ISBLANK('Data Input'!A471),\"\",SUM('Data Input'!I471,'Data Input'!M471,'Data Input'!AB471,'Data Input'!AE471))","v":""},{"$f":"IF(J467=\"\",\"\",J467/COUNTIF('Data Input'!$C$8:$AQ$8,$J$2))","v":""},{"$f":"IF(ISBLANK('Data Input'!A471),\"\",SUM('Data Input'!E471,'Data Input'!G471,'Data Input'!H471,'Data Input'!L471,'Data Input'!N471,'Data Input'!Q471,'Data Input'!R471,'Data Input'!T471,'Data Input'!U471,'Data Input'!V471,'Data Input'!X471,'Data Input'!Y471,'Data Input'!Z471,'Data Input'!AA471,'Data Input'!AC471,'Data Input'!AD471,'Data Input'!AF471,'Data Input'!AG471,'Data Input'!AH471,'Data Input'!AI471,'Data Input'!AJ471,'Data Input'!AK471,'Data Input'!AL471))","v":""},{"$f":"IF(L467=\"\",\"\",L467/COUNTIF('Data Input'!$C$8:$AQ$8,$L$2))","v":""},{"$f":"IF(ISBLANK('Data Input'!A471),\"\",SUM('Data Input'!K471,'Data Input'!AQ471))","v":""},{"$f":"IF(N467=\"\",\"\",N467/COUNTIF('Data Input'!$C$8:$AQ$8,$N$2))","v":""},{"$f":"IF(ISBLANK('Data Input'!A471),\"\",SUM('Data Input'!C471,'Data Input'!D471,'Data Input'!F471,'Data Input'!J471,'Data Input'!O471,'Data Input'!S471,'Data Input'!AM471,'Data Input'!AN471,'Data Input'!AO471,'Data Input'!AP471))","v":""},{"$f":"IF(P467=\"\",\"\",P467/COUNTIF('Data Input'!$C$8:$AQ$8,$P$2))","v":""},{"$f":"IF(ISBLANK('Data Input'!C471),\"\",SUM('Data Input'!P471))","v":""},{"$f":"IF(R467=\"\",\"\",R467/COUNTIF('Data Input'!$C$8:$AQ$8,$R$2))","v":""}]
[{"$f":"IF('Data Input'!A472=0,\"\",'Data Input'!A472)","v":""},{"$f":"IF(H468=\"\",\"\",IF(H468>Welcome!$K$23-1,\"Exceeding\",IF(H468>Welcome!$G$23-1,\"Expected\",IF(H468<Welcome!$G$23,\"Below\"))))","v":""},{"$f":"IF(ISBLANK('Data Input'!A472),\"\",COUNTIF('Data Input'!C472:AQ472,\"\")-1)","v":""},{"$f":"IF(ISBLANK('Data Input'!A472),\"\",COUNTIF('Data Input'!C472:AQ472,\"0\"))","v":""},{"$f":"IF(ISBLANK('Data Input'!A472),\"\",SUM(C468,D468))","v":""},{"$f":"IF(ISBLANK('Data Input'!A472),\"\",SUM('Data Input'!C472:V472))","v":""},{"$f":"IF(ISBLANK('Data Input'!A472),\"\",SUM('Data Input'!X472:AQ472))","v":""},{"$f":"IF(ISBLANK('Data Input'!A472),\"\",SUM('Data Input'!C472:AQ472))","v":""},{"$f":"IF(H468=\"\",\"\",H468/(COUNTA('Data Input'!$C$8:$AQ$8)-1))","v":""},{"$f":"IF(ISBLANK('Data Input'!A472),\"\",SUM('Data Input'!I472,'Data Input'!M472,'Data Input'!AB472,'Data Input'!AE472))","v":""},{"$f":"IF(J468=\"\",\"\",J468/COUNTIF('Data Input'!$C$8:$AQ$8,$J$2))","v":""},{"$f":"IF(ISBLANK('Data Input'!A472),\"\",SUM('Data Input'!E472,'Data Input'!G472,'Data Input'!H472,'Data Input'!L472,'Data Input'!N472,'Data Input'!Q472,'Data Input'!R472,'Data Input'!T472,'Data Input'!U472,'Data Input'!V472,'Data Input'!X472,'Data Input'!Y472,'Data Input'!Z472,'Data Input'!AA472,'Data Input'!AC472,'Data Input'!AD472,'Data Input'!AF472,'Data Input'!AG472,'Data Input'!AH472,'Data Input'!AI472,'Data Input'!AJ472,'Data Input'!AK472,'Data Input'!AL472))","v":""},{"$f":"IF(L468=\"\",\"\",L468/COUNTIF('Data Input'!$C$8:$AQ$8,$L$2))","v":""},{"$f":"IF(ISBLANK('Data Input'!A472),\"\",SUM('Data Input'!K472,'Data Input'!AQ472))","v":""},{"$f":"IF(N468=\"\",\"\",N468/COUNTIF('Data Input'!$C$8:$AQ$8,$N$2))","v":""},{"$f":"IF(ISBLANK('Data Input'!A472),\"\",SUM('Data Input'!C472,'Data Input'!D472,'Data Input'!F472,'Data Input'!J472,'Data Input'!O472,'Data Input'!S472,'Data Input'!AM472,'Data Input'!AN472,'Data Input'!AO472,'Data Input'!AP472))","v":""},{"$f":"IF(P468=\"\",\"\",P468/COUNTIF('Data Input'!$C$8:$AQ$8,$P$2))","v":""},{"$f":"IF(ISBLANK('Data Input'!C472),\"\",SUM('Data Input'!P472))","v":""},{"$f":"IF(R468=\"\",\"\",R468/COUNTIF('Data Input'!$C$8:$AQ$8,$R$2))","v":""}]
[{"$f":"IF('Data Input'!A473=0,\"\",'Data Input'!A473)","v":""},{"$f":"IF(H469=\"\",\"\",IF(H469>Welcome!$K$23-1,\"Exceeding\",IF(H469>Welcome!$G$23-1,\"Expected\",IF(H469<Welcome!$G$23,\"Below\"))))","v":""},{"$f":"IF(ISBLANK('Data Input'!A473),\"\",COUNTIF('Data Input'!C473:AQ473,\"\")-1)","v":""},{"$f":"IF(ISBLANK('Data Input'!A473),\"\",COUNTIF('Data Input'!C473:AQ473,\"0\"))","v":""},{"$f":"IF(ISBLANK('Data Input'!A473),\"\",SUM(C469,D469))","v":""},{"$f":"IF(ISBLANK('Data Input'!A473),\"\",SUM('Data Input'!C473:V473))","v":""},{"$f":"IF(ISBLANK('Data Input'!A473),\"\",SUM('Data Input'!X473:AQ473))","v":""},{"$f":"IF(ISBLANK('Data Input'!A473),\"\",SUM('Data Input'!C473:AQ473))","v":""},{"$f":"IF(H469=\"\",\"\",H469/(COUNTA('Data Input'!$C$8:$AQ$8)-1))","v":""},{"$f":"IF(ISBLANK('Data Input'!A473),\"\",SUM('Data Input'!I473,'Data Input'!M473,'Data Input'!AB473,'Data Input'!AE473))","v":""},{"$f":"IF(J469=\"\",\"\",J469/COUNTIF('Data Input'!$C$8:$AQ$8,$J$2))","v":""},{"$f":"IF(ISBLANK('Data Input'!A473),\"\",SUM('Data Input'!E473,'Data Input'!G473,'Data Input'!H473,'Data Input'!L473,'Data Input'!N473,'Data Input'!Q473,'Data Input'!R473,'Data Input'!T473,'Data Input'!U473,'Data Input'!V473,'Data Input'!X473,'Data Input'!Y473,'Data Input'!Z473,'Data Input'!AA473,'Data Input'!AC473,'Data Input'!AD473,'Data Input'!AF473,'Data Input'!AG473,'Data Input'!AH473,'Data Input'!AI473,'Data Input'!AJ473,'Data Input'!AK473,'Data Input'!AL473))","v":""},{"$f":"IF(L469=\"\",\"\",L469/COUNTIF('Data Input'!$C$8:$AQ$8,$L$2))","v":""},{"$f":"IF(ISBLANK('Data Input'!A473),\"\",SUM('Data Input'!K473,'Data Input'!AQ473))","v":""},{"$f":"IF(N469=\"\",\"\",N469/COUNTIF('Data Input'!$C$8:$AQ$8,$N$2))","v":""},{"$f":"IF(ISBLANK('Data Input'!A473),\"\",SUM('Data Input'!C473,'Data Input'!D473,'Data Input'!F473,'Data Input'!J473,'Data Input'!O473,'Data Input'!S473,'Data Input'!AM473,'Data Input'!AN473,'Data Input'!AO473,'Data Input'!AP473))","v":""},{"$f":"IF(P469=\"\",\"\",P469/COUNTIF('Data Input'!$C$8:$AQ$8,$P$2))","v":""},{"$f":"IF(ISBLANK('Data Input'!C473),\"\",SUM('Data Input'!P473))","v":""},{"$f":"IF(R469=\"\",\"\",R469/COUNTIF('Data Input'!$C$8:$AQ$8,$R$2))","v":""}]
[{"$f":"IF('Data Input'!A474=0,\"\",'Data Input'!A474)","v":""},{"$f":"IF(H470=\"\",\"\",IF(H470>Welcome!$K$23-1,\"Exceeding\",IF(H470>Welcome!$G$23-1,\"Expected\",IF(H470<Welcome!$G$23,\"Below\"))))","v":""},{"$f":"IF(ISBLANK('Data Input'!A474),\"\",COUNTIF('Data Input'!C474:AQ474,\"\")-1)","v":""},{"$f":"IF(ISBLANK('Data Input'!A474),\"\",COUNTIF('Data Input'!C474:AQ474,\"0\"))","v":""},{"$f":"IF(ISBLANK('Data Input'!A474),\"\",SUM(C470,D470))","v":""},{"$f":"IF(ISBLANK('Data Input'!A474),\"\",SUM('Data Input'!C474:V474))","v":""},{"$f":"IF(ISBLANK('Data Input'!A474),\"\",SUM('Data Input'!X474:AQ474))","v":""},{"$f":"IF(ISBLANK('Data Input'!A474),\"\",SUM('Data Input'!C474:AQ474))","v":""},{"$f":"IF(H470=\"\",\"\",H470/(COUNTA('Data Input'!$C$8:$AQ$8)-1))","v":""},{"$f":"IF(ISBLANK('Data Input'!A474),\"\",SUM('Data Input'!I474,'Data Input'!M474,'Data Input'!AB474,'Data Input'!AE474))","v":""},{"$f":"IF(J470=\"\",\"\",J470/COUNTIF('Data Input'!$C$8:$AQ$8,$J$2))","v":""},{"$f":"IF(ISBLANK('Data Input'!A474),\"\",SUM('Data Input'!E474,'Data Input'!G474,'Data Input'!H474,'Data Input'!L474,'Data Input'!N474,'Data Input'!Q474,'Data Input'!R474,'Data Input'!T474,'Data Input'!U474,'Data Input'!V474,'Data Input'!X474,'Data Input'!Y474,'Data Input'!Z474,'Data Input'!AA474,'Data Input'!AC474,'Data Input'!AD474,'Data Input'!AF474,'Data Input'!AG474,'Data Input'!AH474,'Data Input'!AI474,'Data Input'!AJ474,'Data Input'!AK474,'Data Input'!AL474))","v":""},{"$f":"IF(L470=\"\",\"\",L470/COUNTIF('Data Input'!$C$8:$AQ$8,$L$2))","v":""},{"$f":"IF(ISBLANK('Data Input'!A474),\"\",SUM('Data Input'!K474,'Data Input'!AQ474))","v":""},{"$f":"IF(N470=\"\",\"\",N470/COUNTIF('Data Input'!$C$8:$AQ$8,$N$2))","v":""},{"$f":"IF(ISBLANK('Data Input'!A474),\"\",SUM('Data Input'!C474,'Data Input'!D474,'Data Input'!F474,'Data Input'!J474,'Data Input'!O474,'Data Input'!S474,'Data Input'!AM474,'Data Input'!AN474,'Data Input'!AO474,'Data Input'!AP474))","v":""},{"$f":"IF(P470=\"\",\"\",P470/COUNTIF('Data Input'!$C$8:$AQ$8,$P$2))","v":""},{"$f":"IF(ISBLANK('Data Input'!C474),\"\",SUM('Data Input'!P474))","v":""},{"$f":"IF(R470=\"\",\"\",R470/COUNTIF('Data Input'!$C$8:$AQ$8,$R$2))","v":""}]
[{"$f":"IF('Data Input'!A475=0,\"\",'Data Input'!A475)","v":""},{"$f":"IF(H471=\"\",\"\",IF(H471>Welcome!$K$23-1,\"Exceeding\",IF(H471>Welcome!$G$23-1,\"Expected\",IF(H471<Welcome!$G$23,\"Below\"))))","v":""},{"$f":"IF(ISBLANK('Data Input'!A475),\"\",COUNTIF('Data Input'!C475:AQ475,\"\")-1)","v":""},{"$f":"IF(ISBLANK('Data Input'!A475),\"\",COUNTIF('Data Input'!C475:AQ475,\"0\"))","v":""},{"$f":"IF(ISBLANK('Data Input'!A475),\"\",SUM(C471,D471))","v":""},{"$f":"IF(ISBLANK('Data Input'!A475),\"\",SUM('Data Input'!C475:V475))","v":""},{"$f":"IF(ISBLANK('Data Input'!A475),\"\",SUM('Data Input'!X475:AQ475))","v":""},{"$f":"IF(ISBLANK('Data Input'!A475),\"\",SUM('Data Input'!C475:AQ475))","v":""},{"$f":"IF(H471=\"\",\"\",H471/(COUNTA('Data Input'!$C$8:$AQ$8)-1))","v":""},{"$f":"IF(ISBLANK('Data Input'!A475),\"\",SUM('Data Input'!I475,'Data Input'!M475,'Data Input'!AB475,'Data Input'!AE475))","v":""},{"$f":"IF(J471=\"\",\"\",J471/COUNTIF('Data Input'!$C$8:$AQ$8,$J$2))","v":""},{"$f":"IF(ISBLANK('Data Input'!A475),\"\",SUM('Data Input'!E475,'Data Input'!G475,'Data Input'!H475,'Data Input'!L475,'Data Input'!N475,'Data Input'!Q475,'Data Input'!R475,'Data Input'!T475,'Data Input'!U475,'Data Input'!V475,'Data Input'!X475,'Data Input'!Y475,'Data Input'!Z475,'Data Input'!AA475,'Data Input'!AC475,'Data Input'!AD475,'Data Input'!AF475,'Data Input'!AG475,'Data Input'!AH475,'Data Input'!AI475,'Data Input'!AJ475,'Data Input'!AK475,'Data Input'!AL475))","v":""},{"$f":"IF(L471=\"\",\"\",L471/COUNTIF('Data Input'!$C$8:$AQ$8,$L$2))","v":""},{"$f":"IF(ISBLANK('Data Input'!A475),\"\",SUM('Data Input'!K475,'Data Input'!AQ475))","v":""},{"$f":"IF(N471=\"\",\"\",N471/COUNTIF('Data Input'!$C$8:$AQ$8,$N$2))","v":""},{"$f":"IF(ISBLANK('Data Input'!A475),\"\",SUM('Data Input'!C475,'Data Input'!D475,'Data Input'!F475,'Data Input'!J475,'Data Input'!O475,'Data Input'!S475,'Data Input'!AM475,'Data Input'!AN475,'Data Input'!AO475,'Data Input'!AP475))","v":""},{"$f":"IF(P471=\"\",\"\",P471/COUNTIF('Data Input'!$C$8:$AQ$8,$P$2))","v":""},{"$f":"IF(ISBLANK('Data Input'!C475),\"\",SUM('Data Input'!P475))","v":""},{"$f":"IF(R471=\"\",\"\",R471/COUNTIF('Data Input'!$C$8:$AQ$8,$R$2))","v":""}]
[{"$f":"IF('Data Input'!A476=0,\"\",'Data Input'!A476)","v":""},{"$f":"IF(H472=\"\",\"\",IF(H472>Welcome!$K$23-1,\"Exceeding\",IF(H472>Welcome!$G$23-1,\"Expected\",IF(H472<Welcome!$G$23,\"Below\"))))","v":""},{"$f":"IF(ISBLANK('Data Input'!A476),\"\",COUNTIF('Data Input'!C476:AQ476,\"\")-1)","v":""},{"$f":"IF(ISBLANK('Data Input'!A476),\"\",COUNTIF('Data Input'!C476:AQ476,\"0\"))","v":""},{"$f":"IF(ISBLANK('Data Input'!A476),\"\",SUM(C472,D472))","v":""},{"$f":"IF(ISBLANK('Data Input'!A476),\"\",SUM('Data Input'!C476:V476))","v":""},{"$f":"IF(ISBLANK('Data Input'!A476),\"\",SUM('Data Input'!X476:AQ476))","v":""},{"$f":"IF(ISBLANK('Data Input'!A476),\"\",SUM('Data Input'!C476:AQ476))","v":""},{"$f":"IF(H472=\"\",\"\",H472/(COUNTA('Data Input'!$C$8:$AQ$8)-1))","v":""},{"$f":"IF(ISBLANK('Data Input'!A476),\"\",SUM('Data Input'!I476,'Data Input'!M476,'Data Input'!AB476,'Data Input'!AE476))","v":""},{"$f":"IF(J472=\"\",\"\",J472/COUNTIF('Data Input'!$C$8:$AQ$8,$J$2))","v":""},{"$f":"IF(ISBLANK('Data Input'!A476),\"\",SUM('Data Input'!E476,'Data Input'!G476,'Data Input'!H476,'Data Input'!L476,'Data Input'!N476,'Data Input'!Q476,'Data Input'!R476,'Data Input'!T476,'Data Input'!U476,'Data Input'!V476,'Data Input'!X476,'Data Input'!Y476,'Data Input'!Z476,'Data Input'!AA476,'Data Input'!AC476,'Data Input'!AD476,'Data Input'!AF476,'Data Input'!AG476,'Data Input'!AH476,'Data Input'!AI476,'Data Input'!AJ476,'Data Input'!AK476,'Data Input'!AL476))","v":""},{"$f":"IF(L472=\"\",\"\",L472/COUNTIF('Data Input'!$C$8:$AQ$8,$L$2))","v":""},{"$f":"IF(ISBLANK('Data Input'!A476),\"\",SUM('Data Input'!K476,'Data Input'!AQ476))","v":""},{"$f":"IF(N472=\"\",\"\",N472/COUNTIF('Data Input'!$C$8:$AQ$8,$N$2))","v":""},{"$f":"IF(ISBLANK('Data Input'!A476),\"\",SUM('Data Input'!C476,'Data Input'!D476,'Data Input'!F476,'Data Input'!J476,'Data Input'!O476,'Data Input'!S476,'Data Input'!AM476,'Data Input'!AN476,'Data Input'!AO476,'Data Input'!AP476))","v":""},{"$f":"IF(P472=\"\",\"\",P472/COUNTIF('Data Input'!$C$8:$AQ$8,$P$2))","v":""},{"$f":"IF(ISBLANK('Data Input'!C476),\"\",SUM('Data Input'!P476))","v":""},{"$f":"IF(R472=\"\",\"\",R472/COUNTIF('Data Input'!$C$8:$AQ$8,$R$2))","v":""}]
[{"$f":"IF('Data Input'!A477=0,\"\",'Data Input'!A477)","v":""},{"$f":"IF(H473=\"\",\"\",IF(H473>Welcome!$K$23-1,\"Exceeding\",IF(H473>Welcome!$G$23-1,\"Expected\",IF(H473<Welcome!$G$23,\"Below\"))))","v":""},{"$f":"IF(ISBLANK('Data Input'!A477),\"\",COUNTIF('Data Input'!C477:AQ477,\"\")-1)","v":""},{"$f":"IF(ISBLANK('Data Input'!A477),\"\",COUNTIF('Data Input'!C477:AQ477,\"0\"))","v":""},{"$f":"IF(ISBLANK('Data Input'!A477),\"\",SUM(C473,D473))","v":""},{"$f":"IF(ISBLANK('Data Input'!A477),\"\",SUM('Data Input'!C477:V477))","v":""},{"$f":"IF(ISBLANK('Data Input'!A477),\"\",SUM('Data Input'!X477:AQ477))","v":""},{"$f":"IF(ISBLANK('Data Input'!A477),\"\",SUM('Data Input'!C477:AQ477))","v":""},{"$f":"IF(H473=\"\",\"\",H473/(COUNTA('Data Input'!$C$8:$AQ$8)-1))","v":""},{"$f":"IF(ISBLANK('Data Input'!A477),\"\",SUM('Data Input'!I477,'Data Input'!M477,'Data Input'!AB477,'Data Input'!AE477))","v":""},{"$f":"IF(J473=\"\",\"\",J473/COUNTIF('Data Input'!$C$8:$AQ$8,$J$2))","v":""},{"$f":"IF(ISBLANK('Data Input'!A477),\"\",SUM('Data Input'!E477,'Data Input'!G477,'Data Input'!H477,'Data Input'!L477,'Data Input'!N477,'Data Input'!Q477,'Data Input'!R477,'Data Input'!T477,'Data Input'!U477,'Data Input'!V477,'Data Input'!X477,'Data Input'!Y477,'Data Input'!Z477,'Data Input'!AA477,'Data Input'!AC477,'Data Input'!AD477,'Data Input'!AF477,'Data Input'!AG477,'Data Input'!AH477,'Data Input'!AI477,'Data Input'!AJ477,'Data Input'!AK477,'Data Input'!AL477))","v":""},{"$f":"IF(L473=\"\",\"\",L473/COUNTIF('Data Input'!$C$8:$AQ$8,$L$2))","v":""},{"$f":"IF(ISBLANK('Data Input'!A477),\"\",SUM('Data Input'!K477,'Data Input'!AQ477))","v":""},{"$f":"IF(N473=\"\",\"\",N473/COUNTIF('Data Input'!$C$8:$AQ$8,$N$2))","v":""},{"$f":"IF(ISBLANK('Data Input'!A477),\"\",SUM('Data Input'!C477,'Data Input'!D477,'Data Input'!F477,'Data Input'!J477,'Data Input'!O477,'Data Input'!S477,'Data Input'!AM477,'Data Input'!AN477,'Data Input'!AO477,'Data Input'!AP477))","v":""},{"$f":"IF(P473=\"\",\"\",P473/COUNTIF('Data Input'!$C$8:$AQ$8,$P$2))","v":""},{"$f":"IF(ISBLANK('Data Input'!C477),\"\",SUM('Data Input'!P477))","v":""},{"$f":"IF(R473=\"\",\"\",R473/COUNTIF('Data Input'!$C$8:$AQ$8,$R$2))","v":""}]
[{"$f":"IF('Data Input'!A478=0,\"\",'Data Input'!A478)","v":""},{"$f":"IF(H474=\"\",\"\",IF(H474>Welcome!$K$23-1,\"Exceeding\",IF(H474>Welcome!$G$23-1,\"Expected\",IF(H474<Welcome!$G$23,\"Below\"))))","v":""},{"$f":"IF(ISBLANK('Data Input'!A478),\"\",COUNTIF('Data Input'!C478:AQ478,\"\")-1)","v":""},{"$f":"IF(ISBLANK('Data Input'!A478),\"\",COUNTIF('Data Input'!C478:AQ478,\"0\"))","v":""},{"$f":"IF(ISBLANK('Data Input'!A478),\"\",SUM(C474,D474))","v":""},{"$f":"IF(ISBLANK('Data Input'!A478),\"\",SUM('Data Input'!C478:V478))","v":""},{"$f":"IF(ISBLANK('Data Input'!A478),\"\",SUM('Data Input'!X478:AQ478))","v":""},{"$f":"IF(ISBLANK('Data Input'!A478),\"\",SUM('Data Input'!C478:AQ478))","v":""},{"$f":"IF(H474=\"\",\"\",H474/(COUNTA('Data Input'!$C$8:$AQ$8)-1))","v":""},{"$f":"IF(ISBLANK('Data Input'!A478),\"\",SUM('Data Input'!I478,'Data Input'!M478,'Data Input'!AB478,'Data Input'!AE478))","v":""},{"$f":"IF(J474=\"\",\"\",J474/COUNTIF('Data Input'!$C$8:$AQ$8,$J$2))","v":""},{"$f":"IF(ISBLANK('Data Input'!A478),\"\",SUM('Data Input'!E478,'Data Input'!G478,'Data Input'!H478,'Data Input'!L478,'Data Input'!N478,'Data Input'!Q478,'Data Input'!R478,'Data Input'!T478,'Data Input'!U478,'Data Input'!V478,'Data Input'!X478,'Data Input'!Y478,'Data Input'!Z478,'Data Input'!AA478,'Data Input'!AC478,'Data Input'!AD478,'Data Input'!AF478,'Data Input'!AG478,'Data Input'!AH478,'Data Input'!AI478,'Data Input'!AJ478,'Data Input'!AK478,'Data Input'!AL478))","v":""},{"$f":"IF(L474=\"\",\"\",L474/COUNTIF('Data Input'!$C$8:$AQ$8,$L$2))","v":""},{"$f":"IF(ISBLANK('Data Input'!A478),\"\",SUM('Data Input'!K478,'Data Input'!AQ478))","v":""},{"$f":"IF(N474=\"\",\"\",N474/COUNTIF('Data Input'!$C$8:$AQ$8,$N$2))","v":""},{"$f":"IF(ISBLANK('Data Input'!A478),\"\",SUM('Data Input'!C478,'Data Input'!D478,'Data Input'!F478,'Data Input'!J478,'Data Input'!O478,'Data Input'!S478,'Data Input'!AM478,'Data Input'!AN478,'Data Input'!AO478,'Data Input'!AP478))","v":""},{"$f":"IF(P474=\"\",\"\",P474/COUNTIF('Data Input'!$C$8:$AQ$8,$P$2))","v":""},{"$f":"IF(ISBLANK('Data Input'!C478),\"\",SUM('Data Input'!P478))","v":""},{"$f":"IF(R474=\"\",\"\",R474/COUNTIF('Data Input'!$C$8:$AQ$8,$R$2))","v":""}]
[{"$f":"IF('Data Input'!A479=0,\"\",'Data Input'!A479)","v":""},{"$f":"IF(H475=\"\",\"\",IF(H475>Welcome!$K$23-1,\"Exceeding\",IF(H475>Welcome!$G$23-1,\"Expected\",IF(H475<Welcome!$G$23,\"Below\"))))","v":""},{"$f":"IF(ISBLANK('Data Input'!A479),\"\",COUNTIF('Data Input'!C479:AQ479,\"\")-1)","v":""},{"$f":"IF(ISBLANK('Data Input'!A479),\"\",COUNTIF('Data Input'!C479:AQ479,\"0\"))","v":""},{"$f":"IF(ISBLANK('Data Input'!A479),\"\",SUM(C475,D475))","v":""},{"$f":"IF(ISBLANK('Data Input'!A479),\"\",SUM('Data Input'!C479:V479))","v":""},{"$f":"IF(ISBLANK('Data Input'!A479),\"\",SUM('Data Input'!X479:AQ479))","v":""},{"$f":"IF(ISBLANK('Data Input'!A479),\"\",SUM('Data Input'!C479:AQ479))","v":""},{"$f":"IF(H475=\"\",\"\",H475/(COUNTA('Data Input'!$C$8:$AQ$8)-1))","v":""},{"$f":"IF(ISBLANK('Data Input'!A479),\"\",SUM('Data Input'!I479,'Data Input'!M479,'Data Input'!AB479,'Data Input'!AE479))","v":""},{"$f":"IF(J475=\"\",\"\",J475/COUNTIF('Data Input'!$C$8:$AQ$8,$J$2))","v":""},{"$f":"IF(ISBLANK('Data Input'!A479),\"\",SUM('Data Input'!E479,'Data Input'!G479,'Data Input'!H479,'Data Input'!L479,'Data Input'!N479,'Data Input'!Q479,'Data Input'!R479,'Data Input'!T479,'Data Input'!U479,'Data Input'!V479,'Data Input'!X479,'Data Input'!Y479,'Data Input'!Z479,'Data Input'!AA479,'Data Input'!AC479,'Data Input'!AD479,'Data Input'!AF479,'Data Input'!AG479,'Data Input'!AH479,'Data Input'!AI479,'Data Input'!AJ479,'Data Input'!AK479,'Data Input'!AL479))","v":""},{"$f":"IF(L475=\"\",\"\",L475/COUNTIF('Data Input'!$C$8:$AQ$8,$L$2))","v":""},{"$f":"IF(ISBLANK('Data Input'!A479),\"\",SUM('Data Input'!K479,'Data Input'!AQ479))","v":""},{"$f":"IF(N475=\"\",\"\",N475/COUNTIF('Data Input'!$C$8:$AQ$8,$N$2))","v":""},{"$f":"IF(ISBLANK('Data Input'!A479),\"\",SUM('Data Input'!C479,'Data Input'!D479,'Data Input'!F479,'Data Input'!J479,'Data Input'!O479,'Data Input'!S479,'Data Input'!AM479,'Data Input'!AN479,'Data Input'!AO479,'Data Input'!AP479))","v":""},{"$f":"IF(P475=\"\",\"\",P475/COUNTIF('Data Input'!$C$8:$AQ$8,$P$2))","v":""},{"$f":"IF(ISBLANK('Data Input'!C479),\"\",SUM('Data Input'!P479))","v":""},{"$f":"IF(R475=\"\",\"\",R475/COUNTIF('Data Input'!$C$8:$AQ$8,$R$2))","v":""}]
[{"$f":"IF('Data Input'!A480=0,\"\",'Data Input'!A480)","v":""},{"$f":"IF(H476=\"\",\"\",IF(H476>Welcome!$K$23-1,\"Exceeding\",IF(H476>Welcome!$G$23-1,\"Expected\",IF(H476<Welcome!$G$23,\"Below\"))))","v":""},{"$f":"IF(ISBLANK('Data Input'!A480),\"\",COUNTIF('Data Input'!C480:AQ480,\"\")-1)","v":""},{"$f":"IF(ISBLANK('Data Input'!A480),\"\",COUNTIF('Data Input'!C480:AQ480,\"0\"))","v":""},{"$f":"IF(ISBLANK('Data Input'!A480),\"\",SUM(C476,D476))","v":""},{"$f":"IF(ISBLANK('Data Input'!A480),\"\",SUM('Data Input'!C480:V480))","v":""},{"$f":"IF(ISBLANK('Data Input'!A480),\"\",SUM('Data Input'!X480:AQ480))","v":""},{"$f":"IF(ISBLANK('Data Input'!A480),\"\",SUM('Data Input'!C480:AQ480))","v":""},{"$f":"IF(H476=\"\",\"\",H476/(COUNTA('Data Input'!$C$8:$AQ$8)-1))","v":""},{"$f":"IF(ISBLANK('Data Input'!A480),\"\",SUM('Data Input'!I480,'Data Input'!M480,'Data Input'!AB480,'Data Input'!AE480))","v":""},{"$f":"IF(J476=\"\",\"\",J476/COUNTIF('Data Input'!$C$8:$AQ$8,$J$2))","v":""},{"$f":"IF(ISBLANK('Data Input'!A480),\"\",SUM('Data Input'!E480,'Data Input'!G480,'Data Input'!H480,'Data Input'!L480,'Data Input'!N480,'Data Input'!Q480,'Data Input'!R480,'Data Input'!T480,'Data Input'!U480,'Data Input'!V480,'Data Input'!X480,'Data Input'!Y480,'Data Input'!Z480,'Data Input'!AA480,'Data Input'!AC480,'Data Input'!AD480,'Data Input'!AF480,'Data Input'!AG480,'Data Input'!AH480,'Data Input'!AI480,'Data Input'!AJ480,'Data Input'!AK480,'Data Input'!AL480))","v":""},{"$f":"IF(L476=\"\",\"\",L476/COUNTIF('Data Input'!$C$8:$AQ$8,$L$2))","v":""},{"$f":"IF(ISBLANK('Data Input'!A480),\"\",SUM('Data Input'!K480,'Data Input'!AQ480))","v":""},{"$f":"IF(N476=\"\",\"\",N476/COUNTIF('Data Input'!$C$8:$AQ$8,$N$2))","v":""},{"$f":"IF(ISBLANK('Data Input'!A480),\"\",SUM('Data Input'!C480,'Data Input'!D480,'Data Input'!F480,'Data Input'!J480,'Data Input'!O480,'Data Input'!S480,'Data Input'!AM480,'Data Input'!AN480,'Data Input'!AO480,'Data Input'!AP480))","v":""},{"$f":"IF(P476=\"\",\"\",P476/COUNTIF('Data Input'!$C$8:$AQ$8,$P$2))","v":""},{"$f":"IF(ISBLANK('Data Input'!C480),\"\",SUM('Data Input'!P480))","v":""},{"$f":"IF(R476=\"\",\"\",R476/COUNTIF('Data Input'!$C$8:$AQ$8,$R$2))","v":""}]
[{"$f":"IF('Data Input'!A481=0,\"\",'Data Input'!A481)","v":""},{"$f":"IF(H477=\"\",\"\",IF(H477>Welcome!$K$23-1,\"Exceeding\",IF(H477>Welcome!$G$23-1,\"Expected\",IF(H477<Welcome!$G$23,\"Below\"))))","v":""},{"$f":"IF(ISBLANK('Data Input'!A481),\"\",COUNTIF('Data Input'!C481:AQ481,\"\")-1)","v":""},{"$f":"IF(ISBLANK('Data Input'!A481),\"\",COUNTIF('Data Input'!C481:AQ481,\"0\"))","v":""},{"$f":"IF(ISBLANK('Data Input'!A481),\"\",SUM(C477,D477))","v":""},{"$f":"IF(ISBLANK('Data Input'!A481),\"\",SUM('Data Input'!C481:V481))","v":""},{"$f":"IF(ISBLANK('Data Input'!A481),\"\",SUM('Data Input'!X481:AQ481))","v":""},{"$f":"IF(ISBLANK('Data Input'!A481),\"\",SUM('Data Input'!C481:AQ481))","v":""},{"$f":"IF(H477=\"\",\"\",H477/(COUNTA('Data Input'!$C$8:$AQ$8)-1))","v":""},{"$f":"IF(ISBLANK('Data Input'!A481),\"\",SUM('Data Input'!I481,'Data Input'!M481,'Data Input'!AB481,'Data Input'!AE481))","v":""},{"$f":"IF(J477=\"\",\"\",J477/COUNTIF('Data Input'!$C$8:$AQ$8,$J$2))","v":""},{"$f":"IF(ISBLANK('Data Input'!A481),\"\",SUM('Data Input'!E481,'Data Input'!G481,'Data Input'!H481,'Data Input'!L481,'Data Input'!N481,'Data Input'!Q481,'Data Input'!R481,'Data Input'!T481,'Data Input'!U481,'Data Input'!V481,'Data Input'!X481,'Data Input'!Y481,'Data Input'!Z481,'Data Input'!AA481,'Data Input'!AC481,'Data Input'!AD481,'Data Input'!AF481,'Data Input'!AG481,'Data Input'!AH481,'Data Input'!AI481,'Data Input'!AJ481,'Data Input'!AK481,'Data Input'!AL481))","v":""},{"$f":"IF(L477=\"\",\"\",L477/COUNTIF('Data Input'!$C$8:$AQ$8,$L$2))","v":""},{"$f":"IF(ISBLANK('Data Input'!A481),\"\",SUM('Data Input'!K481,'Data Input'!AQ481))","v":""},{"$f":"IF(N477=\"\",\"\",N477/COUNTIF('Data Input'!$C$8:$AQ$8,$N$2))","v":""},{"$f":"IF(ISBLANK('Data Input'!A481),\"\",SUM('Data Input'!C481,'Data Input'!D481,'Data Input'!F481,'Data Input'!J481,'Data Input'!O481,'Data Input'!S481,'Data Input'!AM481,'Data Input'!AN481,'Data Input'!AO481,'Data Input'!AP481))","v":""},{"$f":"IF(P477=\"\",\"\",P477/COUNTIF('Data Input'!$C$8:$AQ$8,$P$2))","v":""},{"$f":"IF(ISBLANK('Data Input'!C481),\"\",SUM('Data Input'!P481))","v":""},{"$f":"IF(R477=\"\",\"\",R477/COUNTIF('Data Input'!$C$8:$AQ$8,$R$2))","v":""}]
[{"$f":"IF('Data Input'!A482=0,\"\",'Data Input'!A482)","v":""},{"$f":"IF(H478=\"\",\"\",IF(H478>Welcome!$K$23-1,\"Exceeding\",IF(H478>Welcome!$G$23-1,\"Expected\",IF(H478<Welcome!$G$23,\"Below\"))))","v":""},{"$f":"IF(ISBLANK('Data Input'!A482),\"\",COUNTIF('Data Input'!C482:AQ482,\"\")-1)","v":""},{"$f":"IF(ISBLANK('Data Input'!A482),\"\",COUNTIF('Data Input'!C482:AQ482,\"0\"))","v":""},{"$f":"IF(ISBLANK('Data Input'!A482),\"\",SUM(C478,D478))","v":""},{"$f":"IF(ISBLANK('Data Input'!A482),\"\",SUM('Data Input'!C482:V482))","v":""},{"$f":"IF(ISBLANK('Data Input'!A482),\"\",SUM('Data Input'!X482:AQ482))","v":""},{"$f":"IF(ISBLANK('Data Input'!A482),\"\",SUM('Data Input'!C482:AQ482))","v":""},{"$f":"IF(H478=\"\",\"\",H478/(COUNTA('Data Input'!$C$8:$AQ$8)-1))","v":""},{"$f":"IF(ISBLANK('Data Input'!A482),\"\",SUM('Data Input'!I482,'Data Input'!M482,'Data Input'!AB482,'Data Input'!AE482))","v":""},{"$f":"IF(J478=\"\",\"\",J478/COUNTIF('Data Input'!$C$8:$AQ$8,$J$2))","v":""},{"$f":"IF(ISBLANK('Data Input'!A482),\"\",SUM('Data Input'!E482,'Data Input'!G482,'Data Input'!H482,'Data Input'!L482,'Data Input'!N482,'Data Input'!Q482,'Data Input'!R482,'Data Input'!T482,'Data Input'!U482,'Data Input'!V482,'Data Input'!X482,'Data Input'!Y482,'Data Input'!Z482,'Data Input'!AA482,'Data Input'!AC482,'Data Input'!AD482,'Data Input'!AF482,'Data Input'!AG482,'Data Input'!AH482,'Data Input'!AI482,'Data Input'!AJ482,'Data Input'!AK482,'Data Input'!AL482))","v":""},{"$f":"IF(L478=\"\",\"\",L478/COUNTIF('Data Input'!$C$8:$AQ$8,$L$2))","v":""},{"$f":"IF(ISBLANK('Data Input'!A482),\"\",SUM('Data Input'!K482,'Data Input'!AQ482))","v":""},{"$f":"IF(N478=\"\",\"\",N478/COUNTIF('Data Input'!$C$8:$AQ$8,$N$2))","v":""},{"$f":"IF(ISBLANK('Data Input'!A482),\"\",SUM('Data Input'!C482,'Data Input'!D482,'Data Input'!F482,'Data Input'!J482,'Data Input'!O482,'Data Input'!S482,'Data Input'!AM482,'Data Input'!AN482,'Data Input'!AO482,'Data Input'!AP482))","v":""},{"$f":"IF(P478=\"\",\"\",P478/COUNTIF('Data Input'!$C$8:$AQ$8,$P$2))","v":""},{"$f":"IF(ISBLANK('Data Input'!C482),\"\",SUM('Data Input'!P482))","v":""},{"$f":"IF(R478=\"\",\"\",R478/COUNTIF('Data Input'!$C$8:$AQ$8,$R$2))","v":""}]
[{"$f":"IF('Data Input'!A483=0,\"\",'Data Input'!A483)","v":""},{"$f":"IF(H479=\"\",\"\",IF(H479>Welcome!$K$23-1,\"Exceeding\",IF(H479>Welcome!$G$23-1,\"Expected\",IF(H479<Welcome!$G$23,\"Below\"))))","v":""},{"$f":"IF(ISBLANK('Data Input'!A483),\"\",COUNTIF('Data Input'!C483:AQ483,\"\")-1)","v":""},{"$f":"IF(ISBLANK('Data Input'!A483),\"\",COUNTIF('Data Input'!C483:AQ483,\"0\"))","v":""},{"$f":"IF(ISBLANK('Data Input'!A483),\"\",SUM(C479,D479))","v":""},{"$f":"IF(ISBLANK('Data Input'!A483),\"\",SUM('Data Input'!C483:V483))","v":""},{"$f":"IF(ISBLANK('Data Input'!A483),\"\",SUM('Data Input'!X483:AQ483))","v":""},{"$f":"IF(ISBLANK('Data Input'!A483),\"\",SUM('Data Input'!C483:AQ483))","v":""},{"$f":"IF(H479=\"\",\"\",H479/(COUNTA('Data Input'!$C$8:$AQ$8)-1))","v":""},{"$f":"IF(ISBLANK('Data Input'!A483),\"\",SUM('Data Input'!I483,'Data Input'!M483,'Data Input'!AB483,'Data Input'!AE483))","v":""},{"$f":"IF(J479=\"\",\"\",J479/COUNTIF('Data Input'!$C$8:$AQ$8,$J$2))","v":""},{"$f":"IF(ISBLANK('Data Input'!A483),\"\",SUM('Data Input'!E483,'Data Input'!G483,'Data Input'!H483,'Data Input'!L483,'Data Input'!N483,'Data Input'!Q483,'Data Input'!R483,'Data Input'!T483,'Data Input'!U483,'Data Input'!V483,'Data Input'!X483,'Data Input'!Y483,'Data Input'!Z483,'Data Input'!AA483,'Data Input'!AC483,'Data Input'!AD483,'Data Input'!AF483,'Data Input'!AG483,'Data Input'!AH483,'Data Input'!AI483,'Data Input'!AJ483,'Data Input'!AK483,'Data Input'!AL483))","v":""},{"$f":"IF(L479=\"\",\"\",L479/COUNTIF('Data Input'!$C$8:$AQ$8,$L$2))","v":""},{"$f":"IF(ISBLANK('Data Input'!A483),\"\",SUM('Data Input'!K483,'Data Input'!AQ483))","v":""},{"$f":"IF(N479=\"\",\"\",N479/COUNTIF('Data Input'!$C$8:$AQ$8,$N$2))","v":""},{"$f":"IF(ISBLANK('Data Input'!A483),\"\",SUM('Data Input'!C483,'Data Input'!D483,'Data Input'!F483,'Data Input'!J483,'Data Input'!O483,'Data Input'!S483,'Data Input'!AM483,'Data Input'!AN483,'Data Input'!AO483,'Data Input'!AP483))","v":""},{"$f":"IF(P479=\"\",\"\",P479/COUNTIF('Data Input'!$C$8:$AQ$8,$P$2))","v":""},{"$f":"IF(ISBLANK('Data Input'!C483),\"\",SUM('Data Input'!P483))","v":""},{"$f":"IF(R479=\"\",\"\",R479/COUNTIF('Data Input'!$C$8:$AQ$8,$R$2))","v":""}]
[{"$f":"IF('Data Input'!A484=0,\"\",'Data Input'!A484)","v":""},{"$f":"IF(H480=\"\",\"\",IF(H480>Welcome!$K$23-1,\"Exceeding\",IF(H480>Welcome!$G$23-1,\"Expected\",IF(H480<Welcome!$G$23,\"Below\"))))","v":""},{"$f":"IF(ISBLANK('Data Input'!A484),\"\",COUNTIF('Data Input'!C484:AQ484,\"\")-1)","v":""},{"$f":"IF(ISBLANK('Data Input'!A484),\"\",COUNTIF('Data Input'!C484:AQ484,\"0\"))","v":""},{"$f":"IF(ISBLANK('Data Input'!A484),\"\",SUM(C480,D480))","v":""},{"$f":"IF(ISBLANK('Data Input'!A484),\"\",SUM('Data Input'!C484:V484))","v":""},{"$f":"IF(ISBLANK('Data Input'!A484),\"\",SUM('Data Input'!X484:AQ484))","v":""},{"$f":"IF(ISBLANK('Data Input'!A484),\"\",SUM('Data Input'!C484:AQ484))","v":""},{"$f":"IF(H480=\"\",\"\",H480/(COUNTA('Data Input'!$C$8:$AQ$8)-1))","v":""},{"$f":"IF(ISBLANK('Data Input'!A484),\"\",SUM('Data Input'!I484,'Data Input'!M484,'Data Input'!AB484,'Data Input'!AE484))","v":""},{"$f":"IF(J480=\"\",\"\",J480/COUNTIF('Data Input'!$C$8:$AQ$8,$J$2))","v":""},{"$f":"IF(ISBLANK('Data Input'!A484),\"\",SUM('Data Input'!E484,'Data Input'!G484,'Data Input'!H484,'Data Input'!L484,'Data Input'!N484,'Data Input'!Q484,'Data Input'!R484,'Data Input'!T484,'Data Input'!U484,'Data Input'!V484,'Data Input'!X484,'Data Input'!Y484,'Data Input'!Z484,'Data Input'!AA484,'Data Input'!AC484,'Data Input'!AD484,'Data Input'!AF484,'Data Input'!AG484,'Data Input'!AH484,'Data Input'!AI484,'Data Input'!AJ484,'Data Input'!AK484,'Data Input'!AL484))","v":""},{"$f":"IF(L480=\"\",\"\",L480/COUNTIF('Data Input'!$C$8:$AQ$8,$L$2))","v":""},{"$f":"IF(ISBLANK('Data Input'!A484),\"\",SUM('Data Input'!K484,'Data Input'!AQ484))","v":""},{"$f":"IF(N480=\"\",\"\",N480/COUNTIF('Data Input'!$C$8:$AQ$8,$N$2))","v":""},{"$f":"IF(ISBLANK('Data Input'!A484),\"\",SUM('Data Input'!C484,'Data Input'!D484,'Data Input'!F484,'Data Input'!J484,'Data Input'!O484,'Data Input'!S484,'Data Input'!AM484,'Data Input'!AN484,'Data Input'!AO484,'Data Input'!AP484))","v":""},{"$f":"IF(P480=\"\",\"\",P480/COUNTIF('Data Input'!$C$8:$AQ$8,$P$2))","v":""},{"$f":"IF(ISBLANK('Data Input'!C484),\"\",SUM('Data Input'!P484))","v":""},{"$f":"IF(R480=\"\",\"\",R480/COUNTIF('Data Input'!$C$8:$AQ$8,$R$2))","v":""}]
[{"$f":"IF('Data Input'!A485=0,\"\",'Data Input'!A485)","v":""},{"$f":"IF(H481=\"\",\"\",IF(H481>Welcome!$K$23-1,\"Exceeding\",IF(H481>Welcome!$G$23-1,\"Expected\",IF(H481<Welcome!$G$23,\"Below\"))))","v":""},{"$f":"IF(ISBLANK('Data Input'!A485),\"\",COUNTIF('Data Input'!C485:AQ485,\"\")-1)","v":""},{"$f":"IF(ISBLANK('Data Input'!A485),\"\",COUNTIF('Data Input'!C485:AQ485,\"0\"))","v":""},{"$f":"IF(ISBLANK('Data Input'!A485),\"\",SUM(C481,D481))","v":""},{"$f":"IF(ISBLANK('Data Input'!A485),\"\",SUM('Data Input'!C485:V485))","v":""},{"$f":"IF(ISBLANK('Data Input'!A485),\"\",SUM('Data Input'!X485:AQ485))","v":""},{"$f":"IF(ISBLANK('Data Input'!A485),\"\",SUM('Data Input'!C485:AQ485))","v":""},{"$f":"IF(H481=\"\",\"\",H481/(COUNTA('Data Input'!$C$8:$AQ$8)-1))","v":""},{"$f":"IF(ISBLANK('Data Input'!A485),\"\",SUM('Data Input'!I485,'Data Input'!M485,'Data Input'!AB485,'Data Input'!AE485))","v":""},{"$f":"IF(J481=\"\",\"\",J481/COUNTIF('Data Input'!$C$8:$AQ$8,$J$2))","v":""},{"$f":"IF(ISBLANK('Data Input'!A485),\"\",SUM('Data Input'!E485,'Data Input'!G485,'Data Input'!H485,'Data Input'!L485,'Data Input'!N485,'Data Input'!Q485,'Data Input'!R485,'Data Input'!T485,'Data Input'!U485,'Data Input'!V485,'Data Input'!X485,'Data Input'!Y485,'Data Input'!Z485,'Data Input'!AA485,'Data Input'!AC485,'Data Input'!AD485,'Data Input'!AF485,'Data Input'!AG485,'Data Input'!AH485,'Data Input'!AI485,'Data Input'!AJ485,'Data Input'!AK485,'Data Input'!AL485))","v":""},{"$f":"IF(L481=\"\",\"\",L481/COUNTIF('Data Input'!$C$8:$AQ$8,$L$2))","v":""},{"$f":"IF(ISBLANK('Data Input'!A485),\"\",SUM('Data Input'!K485,'Data Input'!AQ485))","v":""},{"$f":"IF(N481=\"\",\"\",N481/COUNTIF('Data Input'!$C$8:$AQ$8,$N$2))","v":""},{"$f":"IF(ISBLANK('Data Input'!A485),\"\",SUM('Data Input'!C485,'Data Input'!D485,'Data Input'!F485,'Data Input'!J485,'Data Input'!O485,'Data Input'!S485,'Data Input'!AM485,'Data Input'!AN485,'Data Input'!AO485,'Data Input'!AP485))","v":""},{"$f":"IF(P481=\"\",\"\",P481/COUNTIF('Data Input'!$C$8:$AQ$8,$P$2))","v":""},{"$f":"IF(ISBLANK('Data Input'!C485),\"\",SUM('Data Input'!P485))","v":""},{"$f":"IF(R481=\"\",\"\",R481/COUNTIF('Data Input'!$C$8:$AQ$8,$R$2))","v":""}]
[{"$f":"IF('Data Input'!A486=0,\"\",'Data Input'!A486)","v":""},{"$f":"IF(H482=\"\",\"\",IF(H482>Welcome!$K$23-1,\"Exceeding\",IF(H482>Welcome!$G$23-1,\"Expected\",IF(H482<Welcome!$G$23,\"Below\"))))","v":""},{"$f":"IF(ISBLANK('Data Input'!A486),\"\",COUNTIF('Data Input'!C486:AQ486,\"\")-1)","v":""},{"$f":"IF(ISBLANK('Data Input'!A486),\"\",COUNTIF('Data Input'!C486:AQ486,\"0\"))","v":""},{"$f":"IF(ISBLANK('Data Input'!A486),\"\",SUM(C482,D482))","v":""},{"$f":"IF(ISBLANK('Data Input'!A486),\"\",SUM('Data Input'!C486:V486))","v":""},{"$f":"IF(ISBLANK('Data Input'!A486),\"\",SUM('Data Input'!X486:AQ486))","v":""},{"$f":"IF(ISBLANK('Data Input'!A486),\"\",SUM('Data Input'!C486:AQ486))","v":""},{"$f":"IF(H482=\"\",\"\",H482/(COUNTA('Data Input'!$C$8:$AQ$8)-1))","v":""},{"$f":"IF(ISBLANK('Data Input'!A486),\"\",SUM('Data Input'!I486,'Data Input'!M486,'Data Input'!AB486,'Data Input'!AE486))","v":""},{"$f":"IF(J482=\"\",\"\",J482/COUNTIF('Data Input'!$C$8:$AQ$8,$J$2))","v":""},{"$f":"IF(ISBLANK('Data Input'!A486),\"\",SUM('Data Input'!E486,'Data Input'!G486,'Data Input'!H486,'Data Input'!L486,'Data Input'!N486,'Data Input'!Q486,'Data Input'!R486,'Data Input'!T486,'Data Input'!U486,'Data Input'!V486,'Data Input'!X486,'Data Input'!Y486,'Data Input'!Z486,'Data Input'!AA486,'Data Input'!AC486,'Data Input'!AD486,'Data Input'!AF486,'Data Input'!AG486,'Data Input'!AH486,'Data Input'!AI486,'Data Input'!AJ486,'Data Input'!AK486,'Data Input'!AL486))","v":""},{"$f":"IF(L482=\"\",\"\",L482/COUNTIF('Data Input'!$C$8:$AQ$8,$L$2))","v":""},{"$f":"IF(ISBLANK('Data Input'!A486),\"\",SUM('Data Input'!K486,'Data Input'!AQ486))","v":""},{"$f":"IF(N482=\"\",\"\",N482/COUNTIF('Data Input'!$C$8:$AQ$8,$N$2))","v":""},{"$f":"IF(ISBLANK('Data Input'!A486),\"\",SUM('Data Input'!C486,'Data Input'!D486,'Data Input'!F486,'Data Input'!J486,'Data Input'!O486,'Data Input'!S486,'Data Input'!AM486,'Data Input'!AN486,'Data Input'!AO486,'Data Input'!AP486))","v":""},{"$f":"IF(P482=\"\",\"\",P482/COUNTIF('Data Input'!$C$8:$AQ$8,$P$2))","v":""},{"$f":"IF(ISBLANK('Data Input'!C486),\"\",SUM('Data Input'!P486))","v":""},{"$f":"IF(R482=\"\",\"\",R482/COUNTIF('Data Input'!$C$8:$AQ$8,$R$2))","v":""}]
[{"$f":"IF('Data Input'!A487=0,\"\",'Data Input'!A487)","v":""},{"$f":"IF(H483=\"\",\"\",IF(H483>Welcome!$K$23-1,\"Exceeding\",IF(H483>Welcome!$G$23-1,\"Expected\",IF(H483<Welcome!$G$23,\"Below\"))))","v":""},{"$f":"IF(ISBLANK('Data Input'!A487),\"\",COUNTIF('Data Input'!C487:AQ487,\"\")-1)","v":""},{"$f":"IF(ISBLANK('Data Input'!A487),\"\",COUNTIF('Data Input'!C487:AQ487,\"0\"))","v":""},{"$f":"IF(ISBLANK('Data Input'!A487),\"\",SUM(C483,D483))","v":""},{"$f":"IF(ISBLANK('Data Input'!A487),\"\",SUM('Data Input'!C487:V487))","v":""},{"$f":"IF(ISBLANK('Data Input'!A487),\"\",SUM('Data Input'!X487:AQ487))","v":""},{"$f":"IF(ISBLANK('Data Input'!A487),\"\",SUM('Data Input'!C487:AQ487))","v":""},{"$f":"IF(H483=\"\",\"\",H483/(COUNTA('Data Input'!$C$8:$AQ$8)-1))","v":""},{"$f":"IF(ISBLANK('Data Input'!A487),\"\",SUM('Data Input'!I487,'Data Input'!M487,'Data Input'!AB487,'Data Input'!AE487))","v":""},{"$f":"IF(J483=\"\",\"\",J483/COUNTIF('Data Input'!$C$8:$AQ$8,$J$2))","v":""},{"$f":"IF(ISBLANK('Data Input'!A487),\"\",SUM('Data Input'!E487,'Data Input'!G487,'Data Input'!H487,'Data Input'!L487,'Data Input'!N487,'Data Input'!Q487,'Data Input'!R487,'Data Input'!T487,'Data Input'!U487,'Data Input'!V487,'Data Input'!X487,'Data Input'!Y487,'Data Input'!Z487,'Data Input'!AA487,'Data Input'!AC487,'Data Input'!AD487,'Data Input'!AF487,'Data Input'!AG487,'Data Input'!AH487,'Data Input'!AI487,'Data Input'!AJ487,'Data Input'!AK487,'Data Input'!AL487))","v":""},{"$f":"IF(L483=\"\",\"\",L483/COUNTIF('Data Input'!$C$8:$AQ$8,$L$2))","v":""},{"$f":"IF(ISBLANK('Data Input'!A487),\"\",SUM('Data Input'!K487,'Data Input'!AQ487))","v":""},{"$f":"IF(N483=\"\",\"\",N483/COUNTIF('Data Input'!$C$8:$AQ$8,$N$2))","v":""},{"$f":"IF(ISBLANK('Data Input'!A487),\"\",SUM('Data Input'!C487,'Data Input'!D487,'Data Input'!F487,'Data Input'!J487,'Data Input'!O487,'Data Input'!S487,'Data Input'!AM487,'Data Input'!AN487,'Data Input'!AO487,'Data Input'!AP487))","v":""},{"$f":"IF(P483=\"\",\"\",P483/COUNTIF('Data Input'!$C$8:$AQ$8,$P$2))","v":""},{"$f":"IF(ISBLANK('Data Input'!C487),\"\",SUM('Data Input'!P487))","v":""},{"$f":"IF(R483=\"\",\"\",R483/COUNTIF('Data Input'!$C$8:$AQ$8,$R$2))","v":""}]
[{"$f":"IF('Data Input'!A488=0,\"\",'Data Input'!A488)","v":""},{"$f":"IF(H484=\"\",\"\",IF(H484>Welcome!$K$23-1,\"Exceeding\",IF(H484>Welcome!$G$23-1,\"Expected\",IF(H484<Welcome!$G$23,\"Below\"))))","v":""},{"$f":"IF(ISBLANK('Data Input'!A488),\"\",COUNTIF('Data Input'!C488:AQ488,\"\")-1)","v":""},{"$f":"IF(ISBLANK('Data Input'!A488),\"\",COUNTIF('Data Input'!C488:AQ488,\"0\"))","v":""},{"$f":"IF(ISBLANK('Data Input'!A488),\"\",SUM(C484,D484))","v":""},{"$f":"IF(ISBLANK('Data Input'!A488),\"\",SUM('Data Input'!C488:V488))","v":""},{"$f":"IF(ISBLANK('Data Input'!A488),\"\",SUM('Data Input'!X488:AQ488))","v":""},{"$f":"IF(ISBLANK('Data Input'!A488),\"\",SUM('Data Input'!C488:AQ488))","v":""},{"$f":"IF(H484=\"\",\"\",H484/(COUNTA('Data Input'!$C$8:$AQ$8)-1))","v":""},{"$f":"IF(ISBLANK('Data Input'!A488),\"\",SUM('Data Input'!I488,'Data Input'!M488,'Data Input'!AB488,'Data Input'!AE488))","v":""},{"$f":"IF(J484=\"\",\"\",J484/COUNTIF('Data Input'!$C$8:$AQ$8,$J$2))","v":""},{"$f":"IF(ISBLANK('Data Input'!A488),\"\",SUM('Data Input'!E488,'Data Input'!G488,'Data Input'!H488,'Data Input'!L488,'Data Input'!N488,'Data Input'!Q488,'Data Input'!R488,'Data Input'!T488,'Data Input'!U488,'Data Input'!V488,'Data Input'!X488,'Data Input'!Y488,'Data Input'!Z488,'Data Input'!AA488,'Data Input'!AC488,'Data Input'!AD488,'Data Input'!AF488,'Data Input'!AG488,'Data Input'!AH488,'Data Input'!AI488,'Data Input'!AJ488,'Data Input'!AK488,'Data Input'!AL488))","v":""},{"$f":"IF(L484=\"\",\"\",L484/COUNTIF('Data Input'!$C$8:$AQ$8,$L$2))","v":""},{"$f":"IF(ISBLANK('Data Input'!A488),\"\",SUM('Data Input'!K488,'Data Input'!AQ488))","v":""},{"$f":"IF(N484=\"\",\"\",N484/COUNTIF('Data Input'!$C$8:$AQ$8,$N$2))","v":""},{"$f":"IF(ISBLANK('Data Input'!A488),\"\",SUM('Data Input'!C488,'Data Input'!D488,'Data Input'!F488,'Data Input'!J488,'Data Input'!O488,'Data Input'!S488,'Data Input'!AM488,'Data Input'!AN488,'Data Input'!AO488,'Data Input'!AP488))","v":""},{"$f":"IF(P484=\"\",\"\",P484/COUNTIF('Data Input'!$C$8:$AQ$8,$P$2))","v":""},{"$f":"IF(ISBLANK('Data Input'!C488),\"\",SUM('Data Input'!P488))","v":""},{"$f":"IF(R484=\"\",\"\",R484/COUNTIF('Data Input'!$C$8:$AQ$8,$R$2))","v":""}]
[{"$f":"IF('Data Input'!A489=0,\"\",'Data Input'!A489)","v":""},{"$f":"IF(H485=\"\",\"\",IF(H485>Welcome!$K$23-1,\"Exceeding\",IF(H485>Welcome!$G$23-1,\"Expected\",IF(H485<Welcome!$G$23,\"Below\"))))","v":""},{"$f":"IF(ISBLANK('Data Input'!A489),\"\",COUNTIF('Data Input'!C489:AQ489,\"\")-1)","v":""},{"$f":"IF(ISBLANK('Data Input'!A489),\"\",COUNTIF('Data Input'!C489:AQ489,\"0\"))","v":""},{"$f":"IF(ISBLANK('Data Input'!A489),\"\",SUM(C485,D485))","v":""},{"$f":"IF(ISBLANK('Data Input'!A489),\"\",SUM('Data Input'!C489:V489))","v":""},{"$f":"IF(ISBLANK('Data Input'!A489),\"\",SUM('Data Input'!X489:AQ489))","v":""},{"$f":"IF(ISBLANK('Data Input'!A489),\"\",SUM('Data Input'!C489:AQ489))","v":""},{"$f":"IF(H485=\"\",\"\",H485/(COUNTA('Data Input'!$C$8:$AQ$8)-1))","v":""},{"$f":"IF(ISBLANK('Data Input'!A489),\"\",SUM('Data Input'!I489,'Data Input'!M489,'Data Input'!AB489,'Data Input'!AE489))","v":""},{"$f":"IF(J485=\"\",\"\",J485/COUNTIF('Data Input'!$C$8:$AQ$8,$J$2))","v":""},{"$f":"IF(ISBLANK('Data Input'!A489),\"\",SUM('Data Input'!E489,'Data Input'!G489,'Data Input'!H489,'Data Input'!L489,'Data Input'!N489,'Data Input'!Q489,'Data Input'!R489,'Data Input'!T489,'Data Input'!U489,'Data Input'!V489,'Data Input'!X489,'Data Input'!Y489,'Data Input'!Z489,'Data Input'!AA489,'Data Input'!AC489,'Data Input'!AD489,'Data Input'!AF489,'Data Input'!AG489,'Data Input'!AH489,'Data Input'!AI489,'Data Input'!AJ489,'Data Input'!AK489,'Data Input'!AL489))","v":""},{"$f":"IF(L485=\"\",\"\",L485/COUNTIF('Data Input'!$C$8:$AQ$8,$L$2))","v":""},{"$f":"IF(ISBLANK('Data Input'!A489),\"\",SUM('Data Input'!K489,'Data Input'!AQ489))","v":""},{"$f":"IF(N485=\"\",\"\",N485/COUNTIF('Data Input'!$C$8:$AQ$8,$N$2))","v":""},{"$f":"IF(ISBLANK('Data Input'!A489),\"\",SUM('Data Input'!C489,'Data Input'!D489,'Data Input'!F489,'Data Input'!J489,'Data Input'!O489,'Data Input'!S489,'Data Input'!AM489,'Data Input'!AN489,'Data Input'!AO489,'Data Input'!AP489))","v":""},{"$f":"IF(P485=\"\",\"\",P485/COUNTIF('Data Input'!$C$8:$AQ$8,$P$2))","v":""},{"$f":"IF(ISBLANK('Data Input'!C489),\"\",SUM('Data Input'!P489))","v":""},{"$f":"IF(R485=\"\",\"\",R485/COUNTIF('Data Input'!$C$8:$AQ$8,$R$2))","v":""}]
[{"$f":"IF('Data Input'!A490=0,\"\",'Data Input'!A490)","v":""},{"$f":"IF(H486=\"\",\"\",IF(H486>Welcome!$K$23-1,\"Exceeding\",IF(H486>Welcome!$G$23-1,\"Expected\",IF(H486<Welcome!$G$23,\"Below\"))))","v":""},{"$f":"IF(ISBLANK('Data Input'!A490),\"\",COUNTIF('Data Input'!C490:AQ490,\"\")-1)","v":""},{"$f":"IF(ISBLANK('Data Input'!A490),\"\",COUNTIF('Data Input'!C490:AQ490,\"0\"))","v":""},{"$f":"IF(ISBLANK('Data Input'!A490),\"\",SUM(C486,D486))","v":""},{"$f":"IF(ISBLANK('Data Input'!A490),\"\",SUM('Data Input'!C490:V490))","v":""},{"$f":"IF(ISBLANK('Data Input'!A490),\"\",SUM('Data Input'!X490:AQ490))","v":""},{"$f":"IF(ISBLANK('Data Input'!A490),\"\",SUM('Data Input'!C490:AQ490))","v":""},{"$f":"IF(H486=\"\",\"\",H486/(COUNTA('Data Input'!$C$8:$AQ$8)-1))","v":""},{"$f":"IF(ISBLANK('Data Input'!A490),\"\",SUM('Data Input'!I490,'Data Input'!M490,'Data Input'!AB490,'Data Input'!AE490))","v":""},{"$f":"IF(J486=\"\",\"\",J486/COUNTIF('Data Input'!$C$8:$AQ$8,$J$2))","v":""},{"$f":"IF(ISBLANK('Data Input'!A490),\"\",SUM('Data Input'!E490,'Data Input'!G490,'Data Input'!H490,'Data Input'!L490,'Data Input'!N490,'Data Input'!Q490,'Data Input'!R490,'Data Input'!T490,'Data Input'!U490,'Data Input'!V490,'Data Input'!X490,'Data Input'!Y490,'Data Input'!Z490,'Data Input'!AA490,'Data Input'!AC490,'Data Input'!AD490,'Data Input'!AF490,'Data Input'!AG490,'Data Input'!AH490,'Data Input'!AI490,'Data Input'!AJ490,'Data Input'!AK490,'Data Input'!AL490))","v":""},{"$f":"IF(L486=\"\",\"\",L486/COUNTIF('Data Input'!$C$8:$AQ$8,$L$2))","v":""},{"$f":"IF(ISBLANK('Data Input'!A490),\"\",SUM('Data Input'!K490,'Data Input'!AQ490))","v":""},{"$f":"IF(N486=\"\",\"\",N486/COUNTIF('Data Input'!$C$8:$AQ$8,$N$2))","v":""},{"$f":"IF(ISBLANK('Data Input'!A490),\"\",SUM('Data Input'!C490,'Data Input'!D490,'Data Input'!F490,'Data Input'!J490,'Data Input'!O490,'Data Input'!S490,'Data Input'!AM490,'Data Input'!AN490,'Data Input'!AO490,'Data Input'!AP490))","v":""},{"$f":"IF(P486=\"\",\"\",P486/COUNTIF('Data Input'!$C$8:$AQ$8,$P$2))","v":""},{"$f":"IF(ISBLANK('Data Input'!C490),\"\",SUM('Data Input'!P490))","v":""},{"$f":"IF(R486=\"\",\"\",R486/COUNTIF('Data Input'!$C$8:$AQ$8,$R$2))","v":""}]
[{"$f":"IF('Data Input'!A491=0,\"\",'Data Input'!A491)","v":""},{"$f":"IF(H487=\"\",\"\",IF(H487>Welcome!$K$23-1,\"Exceeding\",IF(H487>Welcome!$G$23-1,\"Expected\",IF(H487<Welcome!$G$23,\"Below\"))))","v":""},{"$f":"IF(ISBLANK('Data Input'!A491),\"\",COUNTIF('Data Input'!C491:AQ491,\"\")-1)","v":""},{"$f":"IF(ISBLANK('Data Input'!A491),\"\",COUNTIF('Data Input'!C491:AQ491,\"0\"))","v":""},{"$f":"IF(ISBLANK('Data Input'!A491),\"\",SUM(C487,D487))","v":""},{"$f":"IF(ISBLANK('Data Input'!A491),\"\",SUM('Data Input'!C491:V491))","v":""},{"$f":"IF(ISBLANK('Data Input'!A491),\"\",SUM('Data Input'!X491:AQ491))","v":""},{"$f":"IF(ISBLANK('Data Input'!A491),\"\",SUM('Data Input'!C491:AQ491))","v":""},{"$f":"IF(H487=\"\",\"\",H487/(COUNTA('Data Input'!$C$8:$AQ$8)-1))","v":""},{"$f":"IF(ISBLANK('Data Input'!A491),\"\",SUM('Data Input'!I491,'Data Input'!M491,'Data Input'!AB491,'Data Input'!AE491))","v":""},{"$f":"IF(J487=\"\",\"\",J487/COUNTIF('Data Input'!$C$8:$AQ$8,$J$2))","v":""},{"$f":"IF(ISBLANK('Data Input'!A491),\"\",SUM('Data Input'!E491,'Data Input'!G491,'Data Input'!H491,'Data Input'!L491,'Data Input'!N491,'Data Input'!Q491,'Data Input'!R491,'Data Input'!T491,'Data Input'!U491,'Data Input'!V491,'Data Input'!X491,'Data Input'!Y491,'Data Input'!Z491,'Data Input'!AA491,'Data Input'!AC491,'Data Input'!AD491,'Data Input'!AF491,'Data Input'!AG491,'Data Input'!AH491,'Data Input'!AI491,'Data Input'!AJ491,'Data Input'!AK491,'Data Input'!AL491))","v":""},{"$f":"IF(L487=\"\",\"\",L487/COUNTIF('Data Input'!$C$8:$AQ$8,$L$2))","v":""},{"$f":"IF(ISBLANK('Data Input'!A491),\"\",SUM('Data Input'!K491,'Data Input'!AQ491))","v":""},{"$f":"IF(N487=\"\",\"\",N487/COUNTIF('Data Input'!$C$8:$AQ$8,$N$2))","v":""},{"$f":"IF(ISBLANK('Data Input'!A491),\"\",SUM('Data Input'!C491,'Data Input'!D491,'Data Input'!F491,'Data Input'!J491,'Data Input'!O491,'Data Input'!S491,'Data Input'!AM491,'Data Input'!AN491,'Data Input'!AO491,'Data Input'!AP491))","v":""},{"$f":"IF(P487=\"\",\"\",P487/COUNTIF('Data Input'!$C$8:$AQ$8,$P$2))","v":""},{"$f":"IF(ISBLANK('Data Input'!C491),\"\",SUM('Data Input'!P491))","v":""},{"$f":"IF(R487=\"\",\"\",R487/COUNTIF('Data Input'!$C$8:$AQ$8,$R$2))","v":""}]
[{"$f":"IF('Data Input'!A492=0,\"\",'Data Input'!A492)","v":""},{"$f":"IF(H488=\"\",\"\",IF(H488>Welcome!$K$23-1,\"Exceeding\",IF(H488>Welcome!$G$23-1,\"Expected\",IF(H488<Welcome!$G$23,\"Below\"))))","v":""},{"$f":"IF(ISBLANK('Data Input'!A492),\"\",COUNTIF('Data Input'!C492:AQ492,\"\")-1)","v":""},{"$f":"IF(ISBLANK('Data Input'!A492),\"\",COUNTIF('Data Input'!C492:AQ492,\"0\"))","v":""},{"$f":"IF(ISBLANK('Data Input'!A492),\"\",SUM(C488,D488))","v":""},{"$f":"IF(ISBLANK('Data Input'!A492),\"\",SUM('Data Input'!C492:V492))","v":""},{"$f":"IF(ISBLANK('Data Input'!A492),\"\",SUM('Data Input'!X492:AQ492))","v":""},{"$f":"IF(ISBLANK('Data Input'!A492),\"\",SUM('Data Input'!C492:AQ492))","v":""},{"$f":"IF(H488=\"\",\"\",H488/(COUNTA('Data Input'!$C$8:$AQ$8)-1))","v":""},{"$f":"IF(ISBLANK('Data Input'!A492),\"\",SUM('Data Input'!I492,'Data Input'!M492,'Data Input'!AB492,'Data Input'!AE492))","v":""},{"$f":"IF(J488=\"\",\"\",J488/COUNTIF('Data Input'!$C$8:$AQ$8,$J$2))","v":""},{"$f":"IF(ISBLANK('Data Input'!A492),\"\",SUM('Data Input'!E492,'Data Input'!G492,'Data Input'!H492,'Data Input'!L492,'Data Input'!N492,'Data Input'!Q492,'Data Input'!R492,'Data Input'!T492,'Data Input'!U492,'Data Input'!V492,'Data Input'!X492,'Data Input'!Y492,'Data Input'!Z492,'Data Input'!AA492,'Data Input'!AC492,'Data Input'!AD492,'Data Input'!AF492,'Data Input'!AG492,'Data Input'!AH492,'Data Input'!AI492,'Data Input'!AJ492,'Data Input'!AK492,'Data Input'!AL492))","v":""},{"$f":"IF(L488=\"\",\"\",L488/COUNTIF('Data Input'!$C$8:$AQ$8,$L$2))","v":""},{"$f":"IF(ISBLANK('Data Input'!A492),\"\",SUM('Data Input'!K492,'Data Input'!AQ492))","v":""},{"$f":"IF(N488=\"\",\"\",N488/COUNTIF('Data Input'!$C$8:$AQ$8,$N$2))","v":""},{"$f":"IF(ISBLANK('Data Input'!A492),\"\",SUM('Data Input'!C492,'Data Input'!D492,'Data Input'!F492,'Data Input'!J492,'Data Input'!O492,'Data Input'!S492,'Data Input'!AM492,'Data Input'!AN492,'Data Input'!AO492,'Data Input'!AP492))","v":""},{"$f":"IF(P488=\"\",\"\",P488/COUNTIF('Data Input'!$C$8:$AQ$8,$P$2))","v":""},{"$f":"IF(ISBLANK('Data Input'!C492),\"\",SUM('Data Input'!P492))","v":""},{"$f":"IF(R488=\"\",\"\",R488/COUNTIF('Data Input'!$C$8:$AQ$8,$R$2))","v":""}]
[{"$f":"IF('Data Input'!A493=0,\"\",'Data Input'!A493)","v":""},{"$f":"IF(H489=\"\",\"\",IF(H489>Welcome!$K$23-1,\"Exceeding\",IF(H489>Welcome!$G$23-1,\"Expected\",IF(H489<Welcome!$G$23,\"Below\"))))","v":""},{"$f":"IF(ISBLANK('Data Input'!A493),\"\",COUNTIF('Data Input'!C493:AQ493,\"\")-1)","v":""},{"$f":"IF(ISBLANK('Data Input'!A493),\"\",COUNTIF('Data Input'!C493:AQ493,\"0\"))","v":""},{"$f":"IF(ISBLANK('Data Input'!A493),\"\",SUM(C489,D489))","v":""},{"$f":"IF(ISBLANK('Data Input'!A493),\"\",SUM('Data Input'!C493:V493))","v":""},{"$f":"IF(ISBLANK('Data Input'!A493),\"\",SUM('Data Input'!X493:AQ493))","v":""},{"$f":"IF(ISBLANK('Data Input'!A493),\"\",SUM('Data Input'!C493:AQ493))","v":""},{"$f":"IF(H489=\"\",\"\",H489/(COUNTA('Data Input'!$C$8:$AQ$8)-1))","v":""},{"$f":"IF(ISBLANK('Data Input'!A493),\"\",SUM('Data Input'!I493,'Data Input'!M493,'Data Input'!AB493,'Data Input'!AE493))","v":""},{"$f":"IF(J489=\"\",\"\",J489/COUNTIF('Data Input'!$C$8:$AQ$8,$J$2))","v":""},{"$f":"IF(ISBLANK('Data Input'!A493),\"\",SUM('Data Input'!E493,'Data Input'!G493,'Data Input'!H493,'Data Input'!L493,'Data Input'!N493,'Data Input'!Q493,'Data Input'!R493,'Data Input'!T493,'Data Input'!U493,'Data Input'!V493,'Data Input'!X493,'Data Input'!Y493,'Data Input'!Z493,'Data Input'!AA493,'Data Input'!AC493,'Data Input'!AD493,'Data Input'!AF493,'Data Input'!AG493,'Data Input'!AH493,'Data Input'!AI493,'Data Input'!AJ493,'Data Input'!AK493,'Data Input'!AL493))","v":""},{"$f":"IF(L489=\"\",\"\",L489/COUNTIF('Data Input'!$C$8:$AQ$8,$L$2))","v":""},{"$f":"IF(ISBLANK('Data Input'!A493),\"\",SUM('Data Input'!K493,'Data Input'!AQ493))","v":""},{"$f":"IF(N489=\"\",\"\",N489/COUNTIF('Data Input'!$C$8:$AQ$8,$N$2))","v":""},{"$f":"IF(ISBLANK('Data Input'!A493),\"\",SUM('Data Input'!C493,'Data Input'!D493,'Data Input'!F493,'Data Input'!J493,'Data Input'!O493,'Data Input'!S493,'Data Input'!AM493,'Data Input'!AN493,'Data Input'!AO493,'Data Input'!AP493))","v":""},{"$f":"IF(P489=\"\",\"\",P489/COUNTIF('Data Input'!$C$8:$AQ$8,$P$2))","v":""},{"$f":"IF(ISBLANK('Data Input'!C493),\"\",SUM('Data Input'!P493))","v":""},{"$f":"IF(R489=\"\",\"\",R489/COUNTIF('Data Input'!$C$8:$AQ$8,$R$2))","v":""}]
[{"$f":"IF('Data Input'!A494=0,\"\",'Data Input'!A494)","v":""},{"$f":"IF(H490=\"\",\"\",IF(H490>Welcome!$K$23-1,\"Exceeding\",IF(H490>Welcome!$G$23-1,\"Expected\",IF(H490<Welcome!$G$23,\"Below\"))))","v":""},{"$f":"IF(ISBLANK('Data Input'!A494),\"\",COUNTIF('Data Input'!C494:AQ494,\"\")-1)","v":""},{"$f":"IF(ISBLANK('Data Input'!A494),\"\",COUNTIF('Data Input'!C494:AQ494,\"0\"))","v":""},{"$f":"IF(ISBLANK('Data Input'!A494),\"\",SUM(C490,D490))","v":""},{"$f":"IF(ISBLANK('Data Input'!A494),\"\",SUM('Data Input'!C494:V494))","v":""},{"$f":"IF(ISBLANK('Data Input'!A494),\"\",SUM('Data Input'!X494:AQ494))","v":""},{"$f":"IF(ISBLANK('Data Input'!A494),\"\",SUM('Data Input'!C494:AQ494))","v":""},{"$f":"IF(H490=\"\",\"\",H490/(COUNTA('Data Input'!$C$8:$AQ$8)-1))","v":""},{"$f":"IF(ISBLANK('Data Input'!A494),\"\",SUM('Data Input'!I494,'Data Input'!M494,'Data Input'!AB494,'Data Input'!AE494))","v":""},{"$f":"IF(J490=\"\",\"\",J490/COUNTIF('Data Input'!$C$8:$AQ$8,$J$2))","v":""},{"$f":"IF(ISBLANK('Data Input'!A494),\"\",SUM('Data Input'!E494,'Data Input'!G494,'Data Input'!H494,'Data Input'!L494,'Data Input'!N494,'Data Input'!Q494,'Data Input'!R494,'Data Input'!T494,'Data Input'!U494,'Data Input'!V494,'Data Input'!X494,'Data Input'!Y494,'Data Input'!Z494,'Data Input'!AA494,'Data Input'!AC494,'Data Input'!AD494,'Data Input'!AF494,'Data Input'!AG494,'Data Input'!AH494,'Data Input'!AI494,'Data Input'!AJ494,'Data Input'!AK494,'Data Input'!AL494))","v":""},{"$f":"IF(L490=\"\",\"\",L490/COUNTIF('Data Input'!$C$8:$AQ$8,$L$2))","v":""},{"$f":"IF(ISBLANK('Data Input'!A494),\"\",SUM('Data Input'!K494,'Data Input'!AQ494))","v":""},{"$f":"IF(N490=\"\",\"\",N490/COUNTIF('Data Input'!$C$8:$AQ$8,$N$2))","v":""},{"$f":"IF(ISBLANK('Data Input'!A494),\"\",SUM('Data Input'!C494,'Data Input'!D494,'Data Input'!F494,'Data Input'!J494,'Data Input'!O494,'Data Input'!S494,'Data Input'!AM494,'Data Input'!AN494,'Data Input'!AO494,'Data Input'!AP494))","v":""},{"$f":"IF(P490=\"\",\"\",P490/COUNTIF('Data Input'!$C$8:$AQ$8,$P$2))","v":""},{"$f":"IF(ISBLANK('Data Input'!C494),\"\",SUM('Data Input'!P494))","v":""},{"$f":"IF(R490=\"\",\"\",R490/COUNTIF('Data Input'!$C$8:$AQ$8,$R$2))","v":""}]
[{"$f":"IF('Data Input'!A495=0,\"\",'Data Input'!A495)","v":""},{"$f":"IF(H491=\"\",\"\",IF(H491>Welcome!$K$23-1,\"Exceeding\",IF(H491>Welcome!$G$23-1,\"Expected\",IF(H491<Welcome!$G$23,\"Below\"))))","v":""},{"$f":"IF(ISBLANK('Data Input'!A495),\"\",COUNTIF('Data Input'!C495:AQ495,\"\")-1)","v":""},{"$f":"IF(ISBLANK('Data Input'!A495),\"\",COUNTIF('Data Input'!C495:AQ495,\"0\"))","v":""},{"$f":"IF(ISBLANK('Data Input'!A495),\"\",SUM(C491,D491))","v":""},{"$f":"IF(ISBLANK('Data Input'!A495),\"\",SUM('Data Input'!C495:V495))","v":""},{"$f":"IF(ISBLANK('Data Input'!A495),\"\",SUM('Data Input'!X495:AQ495))","v":""},{"$f":"IF(ISBLANK('Data Input'!A495),\"\",SUM('Data Input'!C495:AQ495))","v":""},{"$f":"IF(H491=\"\",\"\",H491/(COUNTA('Data Input'!$C$8:$AQ$8)-1))","v":""},{"$f":"IF(ISBLANK('Data Input'!A495),\"\",SUM('Data Input'!I495,'Data Input'!M495,'Data Input'!AB495,'Data Input'!AE495))","v":""},{"$f":"IF(J491=\"\",\"\",J491/COUNTIF('Data Input'!$C$8:$AQ$8,$J$2))","v":""},{"$f":"IF(ISBLANK('Data Input'!A495),\"\",SUM('Data Input'!E495,'Data Input'!G495,'Data Input'!H495,'Data Input'!L495,'Data Input'!N495,'Data Input'!Q495,'Data Input'!R495,'Data Input'!T495,'Data Input'!U495,'Data Input'!V495,'Data Input'!X495,'Data Input'!Y495,'Data Input'!Z495,'Data Input'!AA495,'Data Input'!AC495,'Data Input'!AD495,'Data Input'!AF495,'Data Input'!AG495,'Data Input'!AH495,'Data Input'!AI495,'Data Input'!AJ495,'Data Input'!AK495,'Data Input'!AL495))","v":""},{"$f":"IF(L491=\"\",\"\",L491/COUNTIF('Data Input'!$C$8:$AQ$8,$L$2))","v":""},{"$f":"IF(ISBLANK('Data Input'!A495),\"\",SUM('Data Input'!K495,'Data Input'!AQ495))","v":""},{"$f":"IF(N491=\"\",\"\",N491/COUNTIF('Data Input'!$C$8:$AQ$8,$N$2))","v":""},{"$f":"IF(ISBLANK('Data Input'!A495),\"\",SUM('Data Input'!C495,'Data Input'!D495,'Data Input'!F495,'Data Input'!J495,'Data Input'!O495,'Data Input'!S495,'Data Input'!AM495,'Data Input'!AN495,'Data Input'!AO495,'Data Input'!AP495))","v":""},{"$f":"IF(P491=\"\",\"\",P491/COUNTIF('Data Input'!$C$8:$AQ$8,$P$2))","v":""},{"$f":"IF(ISBLANK('Data Input'!C495),\"\",SUM('Data Input'!P495))","v":""},{"$f":"IF(R491=\"\",\"\",R491/COUNTIF('Data Input'!$C$8:$AQ$8,$R$2))","v":""}]
[{"$f":"IF('Data Input'!A496=0,\"\",'Data Input'!A496)","v":""},{"$f":"IF(H492=\"\",\"\",IF(H492>Welcome!$K$23-1,\"Exceeding\",IF(H492>Welcome!$G$23-1,\"Expected\",IF(H492<Welcome!$G$23,\"Below\"))))","v":""},{"$f":"IF(ISBLANK('Data Input'!A496),\"\",COUNTIF('Data Input'!C496:AQ496,\"\")-1)","v":""},{"$f":"IF(ISBLANK('Data Input'!A496),\"\",COUNTIF('Data Input'!C496:AQ496,\"0\"))","v":""},{"$f":"IF(ISBLANK('Data Input'!A496),\"\",SUM(C492,D492))","v":""},{"$f":"IF(ISBLANK('Data Input'!A496),\"\",SUM('Data Input'!C496:V496))","v":""},{"$f":"IF(ISBLANK('Data Input'!A496),\"\",SUM('Data Input'!X496:AQ496))","v":""},{"$f":"IF(ISBLANK('Data Input'!A496),\"\",SUM('Data Input'!C496:AQ496))","v":""},{"$f":"IF(H492=\"\",\"\",H492/(COUNTA('Data Input'!$C$8:$AQ$8)-1))","v":""},{"$f":"IF(ISBLANK('Data Input'!A496),\"\",SUM('Data Input'!I496,'Data Input'!M496,'Data Input'!AB496,'Data Input'!AE496))","v":""},{"$f":"IF(J492=\"\",\"\",J492/COUNTIF('Data Input'!$C$8:$AQ$8,$J$2))","v":""},{"$f":"IF(ISBLANK('Data Input'!A496),\"\",SUM('Data Input'!E496,'Data Input'!G496,'Data Input'!H496,'Data Input'!L496,'Data Input'!N496,'Data Input'!Q496,'Data Input'!R496,'Data Input'!T496,'Data Input'!U496,'Data Input'!V496,'Data Input'!X496,'Data Input'!Y496,'Data Input'!Z496,'Data Input'!AA496,'Data Input'!AC496,'Data Input'!AD496,'Data Input'!AF496,'Data Input'!AG496,'Data Input'!AH496,'Data Input'!AI496,'Data Input'!AJ496,'Data Input'!AK496,'Data Input'!AL496))","v":""},{"$f":"IF(L492=\"\",\"\",L492/COUNTIF('Data Input'!$C$8:$AQ$8,$L$2))","v":""},{"$f":"IF(ISBLANK('Data Input'!A496),\"\",SUM('Data Input'!K496,'Data Input'!AQ496))","v":""},{"$f":"IF(N492=\"\",\"\",N492/COUNTIF('Data Input'!$C$8:$AQ$8,$N$2))","v":""},{"$f":"IF(ISBLANK('Data Input'!A496),\"\",SUM('Data Input'!C496,'Data Input'!D496,'Data Input'!F496,'Data Input'!J496,'Data Input'!O496,'Data Input'!S496,'Data Input'!AM496,'Data Input'!AN496,'Data Input'!AO496,'Data Input'!AP496))","v":""},{"$f":"IF(P492=\"\",\"\",P492/COUNTIF('Data Input'!$C$8:$AQ$8,$P$2))","v":""},{"$f":"IF(ISBLANK('Data Input'!C496),\"\",SUM('Data Input'!P496))","v":""},{"$f":"IF(R492=\"\",\"\",R492/COUNTIF('Data Input'!$C$8:$AQ$8,$R$2))","v":""}]
[{"$f":"IF('Data Input'!A497=0,\"\",'Data Input'!A497)","v":""},{"$f":"IF(H493=\"\",\"\",IF(H493>Welcome!$K$23-1,\"Exceeding\",IF(H493>Welcome!$G$23-1,\"Expected\",IF(H493<Welcome!$G$23,\"Below\"))))","v":""},{"$f":"IF(ISBLANK('Data Input'!A497),\"\",COUNTIF('Data Input'!C497:AQ497,\"\")-1)","v":""},{"$f":"IF(ISBLANK('Data Input'!A497),\"\",COUNTIF('Data Input'!C497:AQ497,\"0\"))","v":""},{"$f":"IF(ISBLANK('Data Input'!A497),\"\",SUM(C493,D493))","v":""},{"$f":"IF(ISBLANK('Data Input'!A497),\"\",SUM('Data Input'!C497:V497))","v":""},{"$f":"IF(ISBLANK('Data Input'!A497),\"\",SUM('Data Input'!X497:AQ497))","v":""},{"$f":"IF(ISBLANK('Data Input'!A497),\"\",SUM('Data Input'!C497:AQ497))","v":""},{"$f":"IF(H493=\"\",\"\",H493/(COUNTA('Data Input'!$C$8:$AQ$8)-1))","v":""},{"$f":"IF(ISBLANK('Data Input'!A497),\"\",SUM('Data Input'!I497,'Data Input'!M497,'Data Input'!AB497,'Data Input'!AE497))","v":""},{"$f":"IF(J493=\"\",\"\",J493/COUNTIF('Data Input'!$C$8:$AQ$8,$J$2))","v":""},{"$f":"IF(ISBLANK('Data Input'!A497),\"\",SUM('Data Input'!E497,'Data Input'!G497,'Data Input'!H497,'Data Input'!L497,'Data Input'!N497,'Data Input'!Q497,'Data Input'!R497,'Data Input'!T497,'Data Input'!U497,'Data Input'!V497,'Data Input'!X497,'Data Input'!Y497,'Data Input'!Z497,'Data Input'!AA497,'Data Input'!AC497,'Data Input'!AD497,'Data Input'!AF497,'Data Input'!AG497,'Data Input'!AH497,'Data Input'!AI497,'Data Input'!AJ497,'Data Input'!AK497,'Data Input'!AL497))","v":""},{"$f":"IF(L493=\"\",\"\",L493/COUNTIF('Data Input'!$C$8:$AQ$8,$L$2))","v":""},{"$f":"IF(ISBLANK('Data Input'!A497),\"\",SUM('Data Input'!K497,'Data Input'!AQ497))","v":""},{"$f":"IF(N493=\"\",\"\",N493/COUNTIF('Data Input'!$C$8:$AQ$8,$N$2))","v":""},{"$f":"IF(ISBLANK('Data Input'!A497),\"\",SUM('Data Input'!C497,'Data Input'!D497,'Data Input'!F497,'Data Input'!J497,'Data Input'!O497,'Data Input'!S497,'Data Input'!AM497,'Data Input'!AN497,'Data Input'!AO497,'Data Input'!AP497))","v":""},{"$f":"IF(P493=\"\",\"\",P493/COUNTIF('Data Input'!$C$8:$AQ$8,$P$2))","v":""},{"$f":"IF(ISBLANK('Data Input'!C497),\"\",SUM('Data Input'!P497))","v":""},{"$f":"IF(R493=\"\",\"\",R493/COUNTIF('Data Input'!$C$8:$AQ$8,$R$2))","v":""}]
[{"$f":"IF('Data Input'!A498=0,\"\",'Data Input'!A498)","v":""},{"$f":"IF(H494=\"\",\"\",IF(H494>Welcome!$K$23-1,\"Exceeding\",IF(H494>Welcome!$G$23-1,\"Expected\",IF(H494<Welcome!$G$23,\"Below\"))))","v":""},{"$f":"IF(ISBLANK('Data Input'!A498),\"\",COUNTIF('Data Input'!C498:AQ498,\"\")-1)","v":""},{"$f":"IF(ISBLANK('Data Input'!A498),\"\",COUNTIF('Data Input'!C498:AQ498,\"0\"))","v":""},{"$f":"IF(ISBLANK('Data Input'!A498),\"\",SUM(C494,D494))","v":""},{"$f":"IF(ISBLANK('Data Input'!A498),\"\",SUM('Data Input'!C498:V498))","v":""},{"$f":"IF(ISBLANK('Data Input'!A498),\"\",SUM('Data Input'!X498:AQ498))","v":""},{"$f":"IF(ISBLANK('Data Input'!A498),\"\",SUM('Data Input'!C498:AQ498))","v":""},{"$f":"IF(H494=\"\",\"\",H494/(COUNTA('Data Input'!$C$8:$AQ$8)-1))","v":""},{"$f":"IF(ISBLANK('Data Input'!A498),\"\",SUM('Data Input'!I498,'Data Input'!M498,'Data Input'!AB498,'Data Input'!AE498))","v":""},{"$f":"IF(J494=\"\",\"\",J494/COUNTIF('Data Input'!$C$8:$AQ$8,$J$2))","v":""},{"$f":"IF(ISBLANK('Data Input'!A498),\"\",SUM('Data Input'!E498,'Data Input'!G498,'Data Input'!H498,'Data Input'!L498,'Data Input'!N498,'Data Input'!Q498,'Data Input'!R498,'Data Input'!T498,'Data Input'!U498,'Data Input'!V498,'Data Input'!X498,'Data Input'!Y498,'Data Input'!Z498,'Data Input'!AA498,'Data Input'!AC498,'Data Input'!AD498,'Data Input'!AF498,'Data Input'!AG498,'Data Input'!AH498,'Data Input'!AI498,'Data Input'!AJ498,'Data Input'!AK498,'Data Input'!AL498))","v":""},{"$f":"IF(L494=\"\",\"\",L494/COUNTIF('Data Input'!$C$8:$AQ$8,$L$2))","v":""},{"$f":"IF(ISBLANK('Data Input'!A498),\"\",SUM('Data Input'!K498,'Data Input'!AQ498))","v":""},{"$f":"IF(N494=\"\",\"\",N494/COUNTIF('Data Input'!$C$8:$AQ$8,$N$2))","v":""},{"$f":"IF(ISBLANK('Data Input'!A498),\"\",SUM('Data Input'!C498,'Data Input'!D498,'Data Input'!F498,'Data Input'!J498,'Data Input'!O498,'Data Input'!S498,'Data Input'!AM498,'Data Input'!AN498,'Data Input'!AO498,'Data Input'!AP498))","v":""},{"$f":"IF(P494=\"\",\"\",P494/COUNTIF('Data Input'!$C$8:$AQ$8,$P$2))","v":""},{"$f":"IF(ISBLANK('Data Input'!C498),\"\",SUM('Data Input'!P498))","v":""},{"$f":"IF(R494=\"\",\"\",R494/COUNTIF('Data Input'!$C$8:$AQ$8,$R$2))","v":""}]
[{"$f":"IF('Data Input'!A499=0,\"\",'Data Input'!A499)","v":""},{"$f":"IF(H495=\"\",\"\",IF(H495>Welcome!$K$23-1,\"Exceeding\",IF(H495>Welcome!$G$23-1,\"Expected\",IF(H495<Welcome!$G$23,\"Below\"))))","v":""},{"$f":"IF(ISBLANK('Data Input'!A499),\"\",COUNTIF('Data Input'!C499:AQ499,\"\")-1)","v":""},{"$f":"IF(ISBLANK('Data Input'!A499),\"\",COUNTIF('Data Input'!C499:AQ499,\"0\"))","v":""},{"$f":"IF(ISBLANK('Data Input'!A499),\"\",SUM(C495,D495))","v":""},{"$f":"IF(ISBLANK('Data Input'!A499),\"\",SUM('Data Input'!C499:V499))","v":""},{"$f":"IF(ISBLANK('Data Input'!A499),\"\",SUM('Data Input'!X499:AQ499))","v":""},{"$f":"IF(ISBLANK('Data Input'!A499),\"\",SUM('Data Input'!C499:AQ499))","v":""},{"$f":"IF(H495=\"\",\"\",H495/(COUNTA('Data Input'!$C$8:$AQ$8)-1))","v":""},{"$f":"IF(ISBLANK('Data Input'!A499),\"\",SUM('Data Input'!I499,'Data Input'!M499,'Data Input'!AB499,'Data Input'!AE499))","v":""},{"$f":"IF(J495=\"\",\"\",J495/COUNTIF('Data Input'!$C$8:$AQ$8,$J$2))","v":""},{"$f":"IF(ISBLANK('Data Input'!A499),\"\",SUM('Data Input'!E499,'Data Input'!G499,'Data Input'!H499,'Data Input'!L499,'Data Input'!N499,'Data Input'!Q499,'Data Input'!R499,'Data Input'!T499,'Data Input'!U499,'Data Input'!V499,'Data Input'!X499,'Data Input'!Y499,'Data Input'!Z499,'Data Input'!AA499,'Data Input'!AC499,'Data Input'!AD499,'Data Input'!AF499,'Data Input'!AG499,'Data Input'!AH499,'Data Input'!AI499,'Data Input'!AJ499,'Data Input'!AK499,'Data Input'!AL499))","v":""},{"$f":"IF(L495=\"\",\"\",L495/COUNTIF('Data Input'!$C$8:$AQ$8,$L$2))","v":""},{"$f":"IF(ISBLANK('Data Input'!A499),\"\",SUM('Data Input'!K499,'Data Input'!AQ499))","v":""},{"$f":"IF(N495=\"\",\"\",N495/COUNTIF('Data Input'!$C$8:$AQ$8,$N$2))","v":""},{"$f":"IF(ISBLANK('Data Input'!A499),\"\",SUM('Data Input'!C499,'Data Input'!D499,'Data Input'!F499,'Data Input'!J499,'Data Input'!O499,'Data Input'!S499,'Data Input'!AM499,'Data Input'!AN499,'Data Input'!AO499,'Data Input'!AP499))","v":""},{"$f":"IF(P495=\"\",\"\",P495/COUNTIF('Data Input'!$C$8:$AQ$8,$P$2))","v":""},{"$f":"IF(ISBLANK('Data Input'!C499),\"\",SUM('Data Input'!P499))","v":""},{"$f":"IF(R495=\"\",\"\",R495/COUNTIF('Data Input'!$C$8:$AQ$8,$R$2))","v":""}]
[{"$f":"IF('Data Input'!A500=0,\"\",'Data Input'!A500)","v":""},{"$f":"IF(H496=\"\",\"\",IF(H496>Welcome!$K$23-1,\"Exceeding\",IF(H496>Welcome!$G$23-1,\"Expected\",IF(H496<Welcome!$G$23,\"Below\"))))","v":""},{"$f":"IF(ISBLANK('Data Input'!A500),\"\",COUNTIF('Data Input'!C500:AQ500,\"\")-1)","v":""},{"$f":"IF(ISBLANK('Data Input'!A500),\"\",COUNTIF('Data Input'!C500:AQ500,\"0\"))","v":""},{"$f":"IF(ISBLANK('Data Input'!A500),\"\",SUM(C496,D496))","v":""},{"$f":"IF(ISBLANK('Data Input'!A500),\"\",SUM('Data Input'!C500:V500))","v":""},{"$f":"IF(ISBLANK('Data Input'!A500),\"\",SUM('Data Input'!X500:AQ500))","v":""},{"$f":"IF(ISBLANK('Data Input'!A500),\"\",SUM('Data Input'!C500:AQ500))","v":""},{"$f":"IF(H496=\"\",\"\",H496/(COUNTA('Data Input'!$C$8:$AQ$8)-1))","v":""},{"$f":"IF(ISBLANK('Data Input'!A500),\"\",SUM('Data Input'!I500,'Data Input'!M500,'Data Input'!AB500,'Data Input'!AE500))","v":""},{"$f":"IF(J496=\"\",\"\",J496/COUNTIF('Data Input'!$C$8:$AQ$8,$J$2))","v":""},{"$f":"IF(ISBLANK('Data Input'!A500),\"\",SUM('Data Input'!E500,'Data Input'!G500,'Data Input'!H500,'Data Input'!L500,'Data Input'!N500,'Data Input'!Q500,'Data Input'!R500,'Data Input'!T500,'Data Input'!U500,'Data Input'!V500,'Data Input'!X500,'Data Input'!Y500,'Data Input'!Z500,'Data Input'!AA500,'Data Input'!AC500,'Data Input'!AD500,'Data Input'!AF500,'Data Input'!AG500,'Data Input'!AH500,'Data Input'!AI500,'Data Input'!AJ500,'Data Input'!AK500,'Data Input'!AL500))","v":""},{"$f":"IF(L496=\"\",\"\",L496/COUNTIF('Data Input'!$C$8:$AQ$8,$L$2))","v":""},{"$f":"IF(ISBLANK('Data Input'!A500),\"\",SUM('Data Input'!K500,'Data Input'!AQ500))","v":""},{"$f":"IF(N496=\"\",\"\",N496/COUNTIF('Data Input'!$C$8:$AQ$8,$N$2))","v":""},{"$f":"IF(ISBLANK('Data Input'!A500),\"\",SUM('Data Input'!C500,'Data Input'!D500,'Data Input'!F500,'Data Input'!J500,'Data Input'!O500,'Data Input'!S500,'Data Input'!AM500,'Data Input'!AN500,'Data Input'!AO500,'Data Input'!AP500))","v":""},{"$f":"IF(P496=\"\",\"\",P496/COUNTIF('Data Input'!$C$8:$AQ$8,$P$2))","v":""},{"$f":"IF(ISBLANK('Data Input'!C500),\"\",SUM('Data Input'!P500))","v":""},{"$f":"IF(R496=\"\",\"\",R496/COUNTIF('Data Input'!$C$8:$AQ$8,$R$2))","v":""}]
[{"$f":"IF('Data Input'!A501=0,\"\",'Data Input'!A501)","v":""},{"$f":"IF(H497=\"\",\"\",IF(H497>Welcome!$K$23-1,\"Exceeding\",IF(H497>Welcome!$G$23-1,\"Expected\",IF(H497<Welcome!$G$23,\"Below\"))))","v":""},{"$f":"IF(ISBLANK('Data Input'!A501),\"\",COUNTIF('Data Input'!C501:AQ501,\"\")-1)","v":""},{"$f":"IF(ISBLANK('Data Input'!A501),\"\",COUNTIF('Data Input'!C501:AQ501,\"0\"))","v":""},{"$f":"IF(ISBLANK('Data Input'!A501),\"\",SUM(C497,D497))","v":""},{"$f":"IF(ISBLANK('Data Input'!A501),\"\",SUM('Data Input'!C501:V501))","v":""},{"$f":"IF(ISBLANK('Data Input'!A501),\"\",SUM('Data Input'!X501:AQ501))","v":""},{"$f":"IF(ISBLANK('Data Input'!A501),\"\",SUM('Data Input'!C501:AQ501))","v":""},{"$f":"IF(H497=\"\",\"\",H497/(COUNTA('Data Input'!$C$8:$AQ$8)-1))","v":""},{"$f":"IF(ISBLANK('Data Input'!A501),\"\",SUM('Data Input'!I501,'Data Input'!M501,'Data Input'!AB501,'Data Input'!AE501))","v":""},{"$f":"IF(J497=\"\",\"\",J497/COUNTIF('Data Input'!$C$8:$AQ$8,$J$2))","v":""},{"$f":"IF(ISBLANK('Data Input'!A501),\"\",SUM('Data Input'!E501,'Data Input'!G501,'Data Input'!H501,'Data Input'!L501,'Data Input'!N501,'Data Input'!Q501,'Data Input'!R501,'Data Input'!T501,'Data Input'!U501,'Data Input'!V501,'Data Input'!X501,'Data Input'!Y501,'Data Input'!Z501,'Data Input'!AA501,'Data Input'!AC501,'Data Input'!AD501,'Data Input'!AF501,'Data Input'!AG501,'Data Input'!AH501,'Data Input'!AI501,'Data Input'!AJ501,'Data Input'!AK501,'Data Input'!AL501))","v":""},{"$f":"IF(L497=\"\",\"\",L497/COUNTIF('Data Input'!$C$8:$AQ$8,$L$2))","v":""},{"$f":"IF(ISBLANK('Data Input'!A501),\"\",SUM('Data Input'!K501,'Data Input'!AQ501))","v":""},{"$f":"IF(N497=\"\",\"\",N497/COUNTIF('Data Input'!$C$8:$AQ$8,$N$2))","v":""},{"$f":"IF(ISBLANK('Data Input'!A501),\"\",SUM('Data Input'!C501,'Data Input'!D501,'Data Input'!F501,'Data Input'!J501,'Data Input'!O501,'Data Input'!S501,'Data Input'!AM501,'Data Input'!AN501,'Data Input'!AO501,'Data Input'!AP501))","v":""},{"$f":"IF(P497=\"\",\"\",P497/COUNTIF('Data Input'!$C$8:$AQ$8,$P$2))","v":""},{"$f":"IF(ISBLANK('Data Input'!C501),\"\",SUM('Data Input'!P501))","v":""},{"$f":"IF(R497=\"\",\"\",R497/COUNTIF('Data Input'!$C$8:$AQ$8,$R$2))","v":""}]
[{"$f":"IF('Data Input'!A502=0,\"\",'Data Input'!A502)","v":""},{"$f":"IF(H498=\"\",\"\",IF(H498>Welcome!$K$23-1,\"Exceeding\",IF(H498>Welcome!$G$23-1,\"Expected\",IF(H498<Welcome!$G$23,\"Below\"))))","v":""},{"$f":"IF(ISBLANK('Data Input'!A502),\"\",COUNTIF('Data Input'!C502:AQ502,\"\")-1)","v":""},{"$f":"IF(ISBLANK('Data Input'!A502),\"\",COUNTIF('Data Input'!C502:AQ502,\"0\"))","v":""},{"$f":"IF(ISBLANK('Data Input'!A502),\"\",SUM(C498,D498))","v":""},{"$f":"IF(ISBLANK('Data Input'!A502),\"\",SUM('Data Input'!C502:V502))","v":""},{"$f":"IF(ISBLANK('Data Input'!A502),\"\",SUM('Data Input'!X502:AQ502))","v":""},{"$f":"IF(ISBLANK('Data Input'!A502),\"\",SUM('Data Input'!C502:AQ502))","v":""},{"$f":"IF(H498=\"\",\"\",H498/(COUNTA('Data Input'!$C$8:$AQ$8)-1))","v":""},{"$f":"IF(ISBLANK('Data Input'!A502),\"\",SUM('Data Input'!I502,'Data Input'!M502,'Data Input'!AB502,'Data Input'!AE502))","v":""},{"$f":"IF(J498=\"\",\"\",J498/COUNTIF('Data Input'!$C$8:$AQ$8,$J$2))","v":""},{"$f":"IF(ISBLANK('Data Input'!A502),\"\",SUM('Data Input'!E502,'Data Input'!G502,'Data Input'!H502,'Data Input'!L502,'Data Input'!N502,'Data Input'!Q502,'Data Input'!R502,'Data Input'!T502,'Data Input'!U502,'Data Input'!V502,'Data Input'!X502,'Data Input'!Y502,'Data Input'!Z502,'Data Input'!AA502,'Data Input'!AC502,'Data Input'!AD502,'Data Input'!AF502,'Data Input'!AG502,'Data Input'!AH502,'Data Input'!AI502,'Data Input'!AJ502,'Data Input'!AK502,'Data Input'!AL502))","v":""},{"$f":"IF(L498=\"\",\"\",L498/COUNTIF('Data Input'!$C$8:$AQ$8,$L$2))","v":""},{"$f":"IF(ISBLANK('Data Input'!A502),\"\",SUM('Data Input'!K502,'Data Input'!AQ502))","v":""},{"$f":"IF(N498=\"\",\"\",N498/COUNTIF('Data Input'!$C$8:$AQ$8,$N$2))","v":""},{"$f":"IF(ISBLANK('Data Input'!A502),\"\",SUM('Data Input'!C502,'Data Input'!D502,'Data Input'!F502,'Data Input'!J502,'Data Input'!O502,'Data Input'!S502,'Data Input'!AM502,'Data Input'!AN502,'Data Input'!AO502,'Data Input'!AP502))","v":""},{"$f":"IF(P498=\"\",\"\",P498/COUNTIF('Data Input'!$C$8:$AQ$8,$P$2))","v":""},{"$f":"IF(ISBLANK('Data Input'!C502),\"\",SUM('Data Input'!P502))","v":""},{"$f":"IF(R498=\"\",\"\",R498/COUNTIF('Data Input'!$C$8:$AQ$8,$R$2))","v":""}]
[{"$f":"IF('Data Input'!A503=0,\"\",'Data Input'!A503)","v":""},{"$f":"IF(H499=\"\",\"\",IF(H499>Welcome!$K$23-1,\"Exceeding\",IF(H499>Welcome!$G$23-1,\"Expected\",IF(H499<Welcome!$G$23,\"Below\"))))","v":""},{"$f":"IF(ISBLANK('Data Input'!A503),\"\",COUNTIF('Data Input'!C503:AQ503,\"\")-1)","v":""},{"$f":"IF(ISBLANK('Data Input'!A503),\"\",COUNTIF('Data Input'!C503:AQ503,\"0\"))","v":""},{"$f":"IF(ISBLANK('Data Input'!A503),\"\",SUM(C499,D499))","v":""},{"$f":"IF(ISBLANK('Data Input'!A503),\"\",SUM('Data Input'!C503:V503))","v":""},{"$f":"IF(ISBLANK('Data Input'!A503),\"\",SUM('Data Input'!X503:AQ503))","v":""},{"$f":"IF(ISBLANK('Data Input'!A503),\"\",SUM('Data Input'!C503:AQ503))","v":""},{"$f":"IF(H499=\"\",\"\",H499/(COUNTA('Data Input'!$C$8:$AQ$8)-1))","v":""},{"$f":"IF(ISBLANK('Data Input'!A503),\"\",SUM('Data Input'!I503,'Data Input'!M503,'Data Input'!AB503,'Data Input'!AE503))","v":""},{"$f":"IF(J499=\"\",\"\",J499/COUNTIF('Data Input'!$C$8:$AQ$8,$J$2))","v":""},{"$f":"IF(ISBLANK('Data Input'!A503),\"\",SUM('Data Input'!E503,'Data Input'!G503,'Data Input'!H503,'Data Input'!L503,'Data Input'!N503,'Data Input'!Q503,'Data Input'!R503,'Data Input'!T503,'Data Input'!U503,'Data Input'!V503,'Data Input'!X503,'Data Input'!Y503,'Data Input'!Z503,'Data Input'!AA503,'Data Input'!AC503,'Data Input'!AD503,'Data Input'!AF503,'Data Input'!AG503,'Data Input'!AH503,'Data Input'!AI503,'Data Input'!AJ503,'Data Input'!AK503,'Data Input'!AL503))","v":""},{"$f":"IF(L499=\"\",\"\",L499/COUNTIF('Data Input'!$C$8:$AQ$8,$L$2))","v":""},{"$f":"IF(ISBLANK('Data Input'!A503),\"\",SUM('Data Input'!K503,'Data Input'!AQ503))","v":""},{"$f":"IF(N499=\"\",\"\",N499/COUNTIF('Data Input'!$C$8:$AQ$8,$N$2))","v":""},{"$f":"IF(ISBLANK('Data Input'!A503),\"\",SUM('Data Input'!C503,'Data Input'!D503,'Data Input'!F503,'Data Input'!J503,'Data Input'!O503,'Data Input'!S503,'Data Input'!AM503,'Data Input'!AN503,'Data Input'!AO503,'Data Input'!AP503))","v":""},{"$f":"IF(P499=\"\",\"\",P499/COUNTIF('Data Input'!$C$8:$AQ$8,$P$2))","v":""},{"$f":"IF(ISBLANK('Data Input'!C503),\"\",SUM('Data Input'!P503))","v":""},{"$f":"IF(R499=\"\",\"\",R499/COUNTIF('Data Input'!$C$8:$AQ$8,$R$2))","v":""}]
[{"$f":"IF('Data Input'!A504=0,\"\",'Data Input'!A504)","v":""},{"$f":"IF(H500=\"\",\"\",IF(H500>Welcome!$K$23-1,\"Exceeding\",IF(H500>Welcome!$G$23-1,\"Expected\",IF(H500<Welcome!$G$23,\"Below\"))))","v":""},{"$f":"IF(ISBLANK('Data Input'!A504),\"\",COUNTIF('Data Input'!C504:AQ504,\"\")-1)","v":""},{"$f":"IF(ISBLANK('Data Input'!A504),\"\",COUNTIF('Data Input'!C504:AQ504,\"0\"))","v":""},{"$f":"IF(ISBLANK('Data Input'!A504),\"\",SUM(C500,D500))","v":""},{"$f":"IF(ISBLANK('Data Input'!A504),\"\",SUM('Data Input'!C504:V504))","v":""},{"$f":"IF(ISBLANK('Data Input'!A504),\"\",SUM('Data Input'!X504:AQ504))","v":""},{"$f":"IF(ISBLANK('Data Input'!A504),\"\",SUM('Data Input'!C504:AQ504))","v":""},{"$f":"IF(H500=\"\",\"\",H500/(COUNTA('Data Input'!$C$8:$AQ$8)-1))","v":""},{"$f":"IF(ISBLANK('Data Input'!A504),\"\",SUM('Data Input'!I504,'Data Input'!M504,'Data Input'!AB504,'Data Input'!AE504))","v":""},{"$f":"IF(J500=\"\",\"\",J500/COUNTIF('Data Input'!$C$8:$AQ$8,$J$2))","v":""},{"$f":"IF(ISBLANK('Data Input'!A504),\"\",SUM('Data Input'!E504,'Data Input'!G504,'Data Input'!H504,'Data Input'!L504,'Data Input'!N504,'Data Input'!Q504,'Data Input'!R504,'Data Input'!T504,'Data Input'!U504,'Data Input'!V504,'Data Input'!X504,'Data Input'!Y504,'Data Input'!Z504,'Data Input'!AA504,'Data Input'!AC504,'Data Input'!AD504,'Data Input'!AF504,'Data Input'!AG504,'Data Input'!AH504,'Data Input'!AI504,'Data Input'!AJ504,'Data Input'!AK504,'Data Input'!AL504))","v":""},{"$f":"IF(L500=\"\",\"\",L500/COUNTIF('Data Input'!$C$8:$AQ$8,$L$2))","v":""},{"$f":"IF(ISBLANK('Data Input'!A504),\"\",SUM('Data Input'!K504,'Data Input'!AQ504))","v":""},{"$f":"IF(N500=\"\",\"\",N500/COUNTIF('Data Input'!$C$8:$AQ$8,$N$2))","v":""},{"$f":"IF(ISBLANK('Data Input'!A504),\"\",SUM('Data Input'!C504,'Data Input'!D504,'Data Input'!F504,'Data Input'!J504,'Data Input'!O504,'Data Input'!S504,'Data Input'!AM504,'Data Input'!AN504,'Data Input'!AO504,'Data Input'!AP504))","v":""},{"$f":"IF(P500=\"\",\"\",P500/COUNTIF('Data Input'!$C$8:$AQ$8,$P$2))","v":""},{"$f":"IF(ISBLANK('Data Input'!C504),\"\",SUM('Data Input'!P504))","v":""},{"$f":"IF(R500=\"\",\"\",R500/COUNTIF('Data Input'!$C$8:$AQ$8,$R$2))","v":""}]
[{"$f":"IF('Data Input'!A505=0,\"\",'Data Input'!A505)","v":""},{"$f":"IF(H501=\"\",\"\",IF(H501>Welcome!$K$23-1,\"Exceeding\",IF(H501>Welcome!$G$23-1,\"Expected\",IF(H501<Welcome!$G$23,\"Below\"))))","v":""},{"$f":"IF(ISBLANK('Data Input'!A505),\"\",COUNTIF('Data Input'!C505:AQ505,\"\")-1)","v":""},{"$f":"IF(ISBLANK('Data Input'!A505),\"\",COUNTIF('Data Input'!C505:AQ505,\"0\"))","v":""},{"$f":"IF(ISBLANK('Data Input'!A505),\"\",SUM(C501,D501))","v":""},{"$f":"IF(ISBLANK('Data Input'!A505),\"\",SUM('Data Input'!C505:V505))","v":""},{"$f":"IF(ISBLANK('Data Input'!A505),\"\",SUM('Data Input'!X505:AQ505))","v":""},{"$f":"IF(ISBLANK('Data Input'!A505),\"\",SUM('Data Input'!C505:AQ505))","v":""},{"$f":"IF(H501=\"\",\"\",H501/(COUNTA('Data Input'!$C$8:$AQ$8)-1))","v":""},{"$f":"IF(ISBLANK('Data Input'!A505),\"\",SUM('Data Input'!I505,'Data Input'!M505,'Data Input'!AB505,'Data Input'!AE505))","v":""},{"$f":"IF(J501=\"\",\"\",J501/COUNTIF('Data Input'!$C$8:$AQ$8,$J$2))","v":""},{"$f":"IF(ISBLANK('Data Input'!A505),\"\",SUM('Data Input'!E505,'Data Input'!G505,'Data Input'!H505,'Data Input'!L505,'Data Input'!N505,'Data Input'!Q505,'Data Input'!R505,'Data Input'!T505,'Data Input'!U505,'Data Input'!V505,'Data Input'!X505,'Data Input'!Y505,'Data Input'!Z505,'Data Input'!AA505,'Data Input'!AC505,'Data Input'!AD505,'Data Input'!AF505,'Data Input'!AG505,'Data Input'!AH505,'Data Input'!AI505,'Data Input'!AJ505,'Data Input'!AK505,'Data Input'!AL505))","v":""},{"$f":"IF(L501=\"\",\"\",L501/COUNTIF('Data Input'!$C$8:$AQ$8,$L$2))","v":""},{"$f":"IF(ISBLANK('Data Input'!A505),\"\",SUM('Data Input'!K505,'Data Input'!AQ505))","v":""},{"$f":"IF(N501=\"\",\"\",N501/COUNTIF('Data Input'!$C$8:$AQ$8,$N$2))","v":""},{"$f":"IF(ISBLANK('Data Input'!A505),\"\",SUM('Data Input'!C505,'Data Input'!D505,'Data Input'!F505,'Data Input'!J505,'Data Input'!O505,'Data Input'!S505,'Data Input'!AM505,'Data Input'!AN505,'Data Input'!AO505,'Data Input'!AP505))","v":""},{"$f":"IF(P501=\"\",\"\",P501/COUNTIF('Data Input'!$C$8:$AQ$8,$P$2))","v":""},{"$f":"IF(ISBLANK('Data Input'!C505),\"\",SUM('Data Input'!P505))","v":""},{"$f":"IF(R501=\"\",\"\",R501/COUNTIF('Data Input'!$C$8:$AQ$8,$R$2))","v":""}]
[{"$f":"IF('Data Input'!A506=0,\"\",'Data Input'!A506)","v":""},{"$f":"IF(H502=\"\",\"\",IF(H502>Welcome!$K$23-1,\"Exceeding\",IF(H502>Welcome!$G$23-1,\"Expected\",IF(H502<Welcome!$G$23,\"Below\"))))","v":""},{"$f":"IF(ISBLANK('Data Input'!A506),\"\",COUNTIF('Data Input'!C506:AQ506,\"\")-1)","v":""},{"$f":"IF(ISBLANK('Data Input'!A506),\"\",COUNTIF('Data Input'!C506:AQ506,\"0\"))","v":""},{"$f":"IF(ISBLANK('Data Input'!A506),\"\",SUM(C502,D502))","v":""},{"$f":"IF(ISBLANK('Data Input'!A506),\"\",SUM('Data Input'!C506:V506))","v":""},{"$f":"IF(ISBLANK('Data Input'!A506),\"\",SUM('Data Input'!X506:AQ506))","v":""},{"$f":"IF(ISBLANK('Data Input'!A506),\"\",SUM('Data Input'!C506:AQ506))","v":""},{"$f":"IF(H502=\"\",\"\",H502/(COUNTA('Data Input'!$C$8:$AQ$8)-1))","v":""},{"$f":"IF(ISBLANK('Data Input'!A506),\"\",SUM('Data Input'!I506,'Data Input'!M506,'Data Input'!AB506,'Data Input'!AE506))","v":""},{"$f":"IF(J502=\"\",\"\",J502/COUNTIF('Data Input'!$C$8:$AQ$8,$J$2))","v":""},{"$f":"IF(ISBLANK('Data Input'!A506),\"\",SUM('Data Input'!E506,'Data Input'!G506,'Data Input'!H506,'Data Input'!L506,'Data Input'!N506,'Data Input'!Q506,'Data Input'!R506,'Data Input'!T506,'Data Input'!U506,'Data Input'!V506,'Data Input'!X506,'Data Input'!Y506,'Data Input'!Z506,'Data Input'!AA506,'Data Input'!AC506,'Data Input'!AD506,'Data Input'!AF506,'Data Input'!AG506,'Data Input'!AH506,'Data Input'!AI506,'Data Input'!AJ506,'Data Input'!AK506,'Data Input'!AL506))","v":""},{"$f":"IF(L502=\"\",\"\",L502/COUNTIF('Data Input'!$C$8:$AQ$8,$L$2))","v":""},{"$f":"IF(ISBLANK('Data Input'!A506),\"\",SUM('Data Input'!K506,'Data Input'!AQ506))","v":""},{"$f":"IF(N502=\"\",\"\",N502/COUNTIF('Data Input'!$C$8:$AQ$8,$N$2))","v":""},{"$f":"IF(ISBLANK('Data Input'!A506),\"\",SUM('Data Input'!C506,'Data Input'!D506,'Data Input'!F506,'Data Input'!J506,'Data Input'!O506,'Data Input'!S506,'Data Input'!AM506,'Data Input'!AN506,'Data Input'!AO506,'Data Input'!AP506))","v":""},{"$f":"IF(P502=\"\",\"\",P502/COUNTIF('Data Input'!$C$8:$AQ$8,$P$2))","v":""},{"$f":"IF(ISBLANK('Data Input'!C506),\"\",SUM('Data Input'!P506))","v":""},{"$f":"IF(R502=\"\",\"\",R502/COUNTIF('Data Input'!$C$8:$AQ$8,$R$2))","v":""}]
[{"$f":"IF('Data Input'!A507=0,\"\",'Data Input'!A507)","v":""},{"$f":"IF(H503=\"\",\"\",IF(H503>Welcome!$K$23-1,\"Exceeding\",IF(H503>Welcome!$G$23-1,\"Expected\",IF(H503<Welcome!$G$23,\"Below\"))))","v":""},{"$f":"IF(ISBLANK('Data Input'!A507),\"\",COUNTIF('Data Input'!C507:AQ507,\"\")-1)","v":""},{"$f":"IF(ISBLANK('Data Input'!A507),\"\",COUNTIF('Data Input'!C507:AQ507,\"0\"))","v":""},{"$f":"IF(ISBLANK('Data Input'!A507),\"\",SUM(C503,D503))","v":""},{"$f":"IF(ISBLANK('Data Input'!A507),\"\",SUM('Data Input'!C507:V507))","v":""},{"$f":"IF(ISBLANK('Data Input'!A507),\"\",SUM('Data Input'!X507:AQ507))","v":""},{"$f":"IF(ISBLANK('Data Input'!A507),\"\",SUM('Data Input'!C507:AQ507))","v":""},{"$f":"IF(H503=\"\",\"\",H503/(COUNTA('Data Input'!$C$8:$AQ$8)-1))","v":""},{"$f":"IF(ISBLANK('Data Input'!A507),\"\",SUM('Data Input'!I507,'Data Input'!M507,'Data Input'!AB507,'Data Input'!AE507))","v":""},{"$f":"IF(J503=\"\",\"\",J503/COUNTIF('Data Input'!$C$8:$AQ$8,$J$2))","v":""},{"$f":"IF(ISBLANK('Data Input'!A507),\"\",SUM('Data Input'!E507,'Data Input'!G507,'Data Input'!H507,'Data Input'!L507,'Data Input'!N507,'Data Input'!Q507,'Data Input'!R507,'Data Input'!T507,'Data Input'!U507,'Data Input'!V507,'Data Input'!X507,'Data Input'!Y507,'Data Input'!Z507,'Data Input'!AA507,'Data Input'!AC507,'Data Input'!AD507,'Data Input'!AF507,'Data Input'!AG507,'Data Input'!AH507,'Data Input'!AI507,'Data Input'!AJ507,'Data Input'!AK507,'Data Input'!AL507))","v":""},{"$f":"IF(L503=\"\",\"\",L503/COUNTIF('Data Input'!$C$8:$AQ$8,$L$2))","v":""},{"$f":"IF(ISBLANK('Data Input'!A507),\"\",SUM('Data Input'!K507,'Data Input'!AQ507))","v":""},{"$f":"IF(N503=\"\",\"\",N503/COUNTIF('Data Input'!$C$8:$AQ$8,$N$2))","v":""},{"$f":"IF(ISBLANK('Data Input'!A507),\"\",SUM('Data Input'!C507,'Data Input'!D507,'Data Input'!F507,'Data Input'!J507,'Data Input'!O507,'Data Input'!S507,'Data Input'!AM507,'Data Input'!AN507,'Data Input'!AO507,'Data Input'!AP507))","v":""},{"$f":"IF(P503=\"\",\"\",P503/COUNTIF('Data Input'!$C$8:$AQ$8,$P$2))","v":""},{"$f":"IF(ISBLANK('Data Input'!C507),\"\",SUM('Data Input'!P507))","v":""},{"$f":"IF(R503=\"\",\"\",R503/COUNTIF('Data Input'!$C$8:$AQ$8,$R$2))","v":""}]
[{"$f":"IF('Data Input'!A508=0,\"\",'Data Input'!A508)","v":""},{"$f":"IF(H504=\"\",\"\",IF(H504>Welcome!$K$23-1,\"Exceeding\",IF(H504>Welcome!$G$23-1,\"Expected\",IF(H504<Welcome!$G$23,\"Below\"))))","v":""},{"$f":"IF(ISBLANK('Data Input'!A508),\"\",COUNTIF('Data Input'!C508:AQ508,\"\")-1)","v":""},{"$f":"IF(ISBLANK('Data Input'!A508),\"\",COUNTIF('Data Input'!C508:AQ508,\"0\"))","v":""},{"$f":"IF(ISBLANK('Data Input'!A508),\"\",SUM(C504,D504))","v":""},{"$f":"IF(ISBLANK('Data Input'!A508),\"\",SUM('Data Input'!C508:V508))","v":""},{"$f":"IF(ISBLANK('Data Input'!A508),\"\",SUM('Data Input'!X508:AQ508))","v":""},{"$f":"IF(ISBLANK('Data Input'!A508),\"\",SUM('Data Input'!C508:AQ508))","v":""},{"$f":"IF(H504=\"\",\"\",H504/(COUNTA('Data Input'!$C$8:$AQ$8)-1))","v":""},{"$f":"IF(ISBLANK('Data Input'!A508),\"\",SUM('Data Input'!I508,'Data Input'!M508,'Data Input'!AB508,'Data Input'!AE508))","v":""},{"$f":"IF(J504=\"\",\"\",J504/COUNTIF('Data Input'!$C$8:$AQ$8,$J$2))","v":""},{"$f":"IF(ISBLANK('Data Input'!A508),\"\",SUM('Data Input'!E508,'Data Input'!G508,'Data Input'!H508,'Data Input'!L508,'Data Input'!N508,'Data Input'!Q508,'Data Input'!R508,'Data Input'!T508,'Data Input'!U508,'Data Input'!V508,'Data Input'!X508,'Data Input'!Y508,'Data Input'!Z508,'Data Input'!AA508,'Data Input'!AC508,'Data Input'!AD508,'Data Input'!AF508,'Data Input'!AG508,'Data Input'!AH508,'Data Input'!AI508,'Data Input'!AJ508,'Data Input'!AK508,'Data Input'!AL508))","v":""},{"$f":"IF(L504=\"\",\"\",L504/COUNTIF('Data Input'!$C$8:$AQ$8,$L$2))","v":""},{"$f":"IF(ISBLANK('Data Input'!A508),\"\",SUM('Data Input'!K508,'Data Input'!AQ508))","v":""},{"$f":"IF(N504=\"\",\"\",N504/COUNTIF('Data Input'!$C$8:$AQ$8,$N$2))","v":""},{"$f":"IF(ISBLANK('Data Input'!A508),\"\",SUM('Data Input'!C508,'Data Input'!D508,'Data Input'!F508,'Data Input'!J508,'Data Input'!O508,'Data Input'!S508,'Data Input'!AM508,'Data Input'!AN508,'Data Input'!AO508,'Data Input'!AP508))","v":""},{"$f":"IF(P504=\"\",\"\",P504/COUNTIF('Data Input'!$C$8:$AQ$8,$P$2))","v":""},{"$f":"IF(ISBLANK('Data Input'!C508),\"\",SUM('Data Input'!P508))","v":""},{"$f":"IF(R504=\"\",\"\",R504/COUNTIF('Data Input'!$C$8:$AQ$8,$R$2))","v":""}]
[{"$f":"IF('Data Input'!A509=0,\"\",'Data Input'!A509)","v":""},{"$f":"IF(H505=\"\",\"\",IF(H505>Welcome!$K$23-1,\"Exceeding\",IF(H505>Welcome!$G$23-1,\"Expected\",IF(H505<Welcome!$G$23,\"Below\"))))","v":""},{"$f":"IF(ISBLANK('Data Input'!A509),\"\",COUNTIF('Data Input'!C509:AQ509,\"\")-1)","v":""},{"$f":"IF(ISBLANK('Data Input'!A509),\"\",COUNTIF('Data Input'!C509:AQ509,\"0\"))","v":""},{"$f":"IF(ISBLANK('Data Input'!A509),\"\",SUM(C505,D505))","v":""},{"$f":"IF(ISBLANK('Data Input'!A509),\"\",SUM('Data Input'!C509:V509))","v":""},{"$f":"IF(ISBLANK('Data Input'!A509),\"\",SUM('Data Input'!X509:AQ509))","v":""},{"$f":"IF(ISBLANK('Data Input'!A509),\"\",SUM('Data Input'!C509:AQ509))","v":""},{"$f":"IF(H505=\"\",\"\",H505/(COUNTA('Data Input'!$C$8:$AQ$8)-1))","v":""},{"$f":"IF(ISBLANK('Data Input'!A509),\"\",SUM('Data Input'!I509,'Data Input'!M509,'Data Input'!AB509,'Data Input'!AE509))","v":""},{"$f":"IF(J505=\"\",\"\",J505/COUNTIF('Data Input'!$C$8:$AQ$8,$J$2))","v":""},{"$f":"IF(ISBLANK('Data Input'!A509),\"\",SUM('Data Input'!E509,'Data Input'!G509,'Data Input'!H509,'Data Input'!L509,'Data Input'!N509,'Data Input'!Q509,'Data Input'!R509,'Data Input'!T509,'Data Input'!U509,'Data Input'!V509,'Data Input'!X509,'Data Input'!Y509,'Data Input'!Z509,'Data Input'!AA509,'Data Input'!AC509,'Data Input'!AD509,'Data Input'!AF509,'Data Input'!AG509,'Data Input'!AH509,'Data Input'!AI509,'Data Input'!AJ509,'Data Input'!AK509,'Data Input'!AL509))","v":""},{"$f":"IF(L505=\"\",\"\",L505/COUNTIF('Data Input'!$C$8:$AQ$8,$L$2))","v":""},{"$f":"IF(ISBLANK('Data Input'!A509),\"\",SUM('Data Input'!K509,'Data Input'!AQ509))","v":""},{"$f":"IF(N505=\"\",\"\",N505/COUNTIF('Data Input'!$C$8:$AQ$8,$N$2))","v":""},{"$f":"IF(ISBLANK('Data Input'!A509),\"\",SUM('Data Input'!C509,'Data Input'!D509,'Data Input'!F509,'Data Input'!J509,'Data Input'!O509,'Data Input'!S509,'Data Input'!AM509,'Data Input'!AN509,'Data Input'!AO509,'Data Input'!AP509))","v":""},{"$f":"IF(P505=\"\",\"\",P505/COUNTIF('Data Input'!$C$8:$AQ$8,$P$2))","v":""},{"$f":"IF(ISBLANK('Data Input'!C509),\"\",SUM('Data Input'!P509))","v":""},{"$f":"IF(R505=\"\",\"\",R505/COUNTIF('Data Input'!$C$8:$AQ$8,$R$2))","v":""}]
[{"$f":"IF('Data Input'!A510=0,\"\",'Data Input'!A510)","v":""},{"$f":"IF(H506=\"\",\"\",IF(H506>Welcome!$K$23-1,\"Exceeding\",IF(H506>Welcome!$G$23-1,\"Expected\",IF(H506<Welcome!$G$23,\"Below\"))))","v":""},{"$f":"IF(ISBLANK('Data Input'!A510),\"\",COUNTIF('Data Input'!C510:AQ510,\"\")-1)","v":""},{"$f":"IF(ISBLANK('Data Input'!A510),\"\",COUNTIF('Data Input'!C510:AQ510,\"0\"))","v":""},{"$f":"IF(ISBLANK('Data Input'!A510),\"\",SUM(C506,D506))","v":""},{"$f":"IF(ISBLANK('Data Input'!A510),\"\",SUM('Data Input'!C510:V510))","v":""},{"$f":"IF(ISBLANK('Data Input'!A510),\"\",SUM('Data Input'!X510:AQ510))","v":""},{"$f":"IF(ISBLANK('Data Input'!A510),\"\",SUM('Data Input'!C510:AQ510))","v":""},{"$f":"IF(H506=\"\",\"\",H506/(COUNTA('Data Input'!$C$8:$AQ$8)-1))","v":""},{"$f":"IF(ISBLANK('Data Input'!A510),\"\",SUM('Data Input'!I510,'Data Input'!M510,'Data Input'!AB510,'Data Input'!AE510))","v":""},{"$f":"IF(J506=\"\",\"\",J506/COUNTIF('Data Input'!$C$8:$AQ$8,$J$2))","v":""},{"$f":"IF(ISBLANK('Data Input'!A510),\"\",SUM('Data Input'!E510,'Data Input'!G510,'Data Input'!H510,'Data Input'!L510,'Data Input'!N510,'Data Input'!Q510,'Data Input'!R510,'Data Input'!T510,'Data Input'!U510,'Data Input'!V510,'Data Input'!X510,'Data Input'!Y510,'Data Input'!Z510,'Data Input'!AA510,'Data Input'!AC510,'Data Input'!AD510,'Data Input'!AF510,'Data Input'!AG510,'Data Input'!AH510,'Data Input'!AI510,'Data Input'!AJ510,'Data Input'!AK510,'Data Input'!AL510))","v":""},{"$f":"IF(L506=\"\",\"\",L506/COUNTIF('Data Input'!$C$8:$AQ$8,$L$2))","v":""},{"$f":"IF(ISBLANK('Data Input'!A510),\"\",SUM('Data Input'!K510,'Data Input'!AQ510))","v":""},{"$f":"IF(N506=\"\",\"\",N506/COUNTIF('Data Input'!$C$8:$AQ$8,$N$2))","v":""},{"$f":"IF(ISBLANK('Data Input'!A510),\"\",SUM('Data Input'!C510,'Data Input'!D510,'Data Input'!F510,'Data Input'!J510,'Data Input'!O510,'Data Input'!S510,'Data Input'!AM510,'Data Input'!AN510,'Data Input'!AO510,'Data Input'!AP510))","v":""},{"$f":"IF(P506=\"\",\"\",P506/COUNTIF('Data Input'!$C$8:$AQ$8,$P$2))","v":""},{"$f":"IF(ISBLANK('Data Input'!C510),\"\",SUM('Data Input'!P510))","v":""},{"$f":"IF(R506=\"\",\"\",R506/COUNTIF('Data Input'!$C$8:$AQ$8,$R$2))","v":""}]
[{"$f":"IF('Data Input'!A511=0,\"\",'Data Input'!A511)","v":""},{"$f":"IF(H507=\"\",\"\",IF(H507>Welcome!$K$23-1,\"Exceeding\",IF(H507>Welcome!$G$23-1,\"Expected\",IF(H507<Welcome!$G$23,\"Below\"))))","v":""},{"$f":"IF(ISBLANK('Data Input'!A511),\"\",COUNTIF('Data Input'!C511:AQ511,\"\")-1)","v":""},{"$f":"IF(ISBLANK('Data Input'!A511),\"\",COUNTIF('Data Input'!C511:AQ511,\"0\"))","v":""},{"$f":"IF(ISBLANK('Data Input'!A511),\"\",SUM(C507,D507))","v":""},{"$f":"IF(ISBLANK('Data Input'!A511),\"\",SUM('Data Input'!C511:V511))","v":""},{"$f":"IF(ISBLANK('Data Input'!A511),\"\",SUM('Data Input'!X511:AQ511))","v":""},{"$f":"IF(ISBLANK('Data Input'!A511),\"\",SUM('Data Input'!C511:AQ511))","v":""},{"$f":"IF(H507=\"\",\"\",H507/(COUNTA('Data Input'!$C$8:$AQ$8)-1))","v":""},{"$f":"IF(ISBLANK('Data Input'!A511),\"\",SUM('Data Input'!I511,'Data Input'!M511,'Data Input'!AB511,'Data Input'!AE511))","v":""},{"$f":"IF(J507=\"\",\"\",J507/COUNTIF('Data Input'!$C$8:$AQ$8,$J$2))","v":""},{"$f":"IF(ISBLANK('Data Input'!A511),\"\",SUM('Data Input'!E511,'Data Input'!G511,'Data Input'!H511,'Data Input'!L511,'Data Input'!N511,'Data Input'!Q511,'Data Input'!R511,'Data Input'!T511,'Data Input'!U511,'Data Input'!V511,'Data Input'!X511,'Data Input'!Y511,'Data Input'!Z511,'Data Input'!AA511,'Data Input'!AC511,'Data Input'!AD511,'Data Input'!AF511,'Data Input'!AG511,'Data Input'!AH511,'Data Input'!AI511,'Data Input'!AJ511,'Data Input'!AK511,'Data Input'!AL511))","v":""},{"$f":"IF(L507=\"\",\"\",L507/COUNTIF('Data Input'!$C$8:$AQ$8,$L$2))","v":""},{"$f":"IF(ISBLANK('Data Input'!A511),\"\",SUM('Data Input'!K511,'Data Input'!AQ511))","v":""},{"$f":"IF(N507=\"\",\"\",N507/COUNTIF('Data Input'!$C$8:$AQ$8,$N$2))","v":""},{"$f":"IF(ISBLANK('Data Input'!A511),\"\",SUM('Data Input'!C511,'Data Input'!D511,'Data Input'!F511,'Data Input'!J511,'Data Input'!O511,'Data Input'!S511,'Data Input'!AM511,'Data Input'!AN511,'Data Input'!AO511,'Data Input'!AP511))","v":""},{"$f":"IF(P507=\"\",\"\",P507/COUNTIF('Data Input'!$C$8:$AQ$8,$P$2))","v":""},{"$f":"IF(ISBLANK('Data Input'!C511),\"\",SUM('Data Input'!P511))","v":""},{"$f":"IF(R507=\"\",\"\",R507/COUNTIF('Data Input'!$C$8:$AQ$8,$R$2))","v":""}]
[{"$f":"IF('Data Input'!A512=0,\"\",'Data Input'!A512)","v":""},{"$f":"IF(H508=\"\",\"\",IF(H508>Welcome!$K$23-1,\"Exceeding\",IF(H508>Welcome!$G$23-1,\"Expected\",IF(H508<Welcome!$G$23,\"Below\"))))","v":""},{"$f":"IF(ISBLANK('Data Input'!A512),\"\",COUNTIF('Data Input'!C512:AQ512,\"\")-1)","v":""},{"$f":"IF(ISBLANK('Data Input'!A512),\"\",COUNTIF('Data Input'!C512:AQ512,\"0\"))","v":""},{"$f":"IF(ISBLANK('Data Input'!A512),\"\",SUM(C508,D508))","v":""},{"$f":"IF(ISBLANK('Data Input'!A512),\"\",SUM('Data Input'!C512:V512))","v":""},{"$f":"IF(ISBLANK('Data Input'!A512),\"\",SUM('Data Input'!X512:AQ512))","v":""},{"$f":"IF(ISBLANK('Data Input'!A512),\"\",SUM('Data Input'!C512:AQ512))","v":""},{"$f":"IF(H508=\"\",\"\",H508/(COUNTA('Data Input'!$C$8:$AQ$8)-1))","v":""},{"$f":"IF(ISBLANK('Data Input'!A512),\"\",SUM('Data Input'!I512,'Data Input'!M512,'Data Input'!AB512,'Data Input'!AE512))","v":""},{"$f":"IF(J508=\"\",\"\",J508/COUNTIF('Data Input'!$C$8:$AQ$8,$J$2))","v":""},{"$f":"IF(ISBLANK('Data Input'!A512),\"\",SUM('Data Input'!E512,'Data Input'!G512,'Data Input'!H512,'Data Input'!L512,'Data Input'!N512,'Data Input'!Q512,'Data Input'!R512,'Data Input'!T512,'Data Input'!U512,'Data Input'!V512,'Data Input'!X512,'Data Input'!Y512,'Data Input'!Z512,'Data Input'!AA512,'Data Input'!AC512,'Data Input'!AD512,'Data Input'!AF512,'Data Input'!AG512,'Data Input'!AH512,'Data Input'!AI512,'Data Input'!AJ512,'Data Input'!AK512,'Data Input'!AL512))","v":""},{"$f":"IF(L508=\"\",\"\",L508/COUNTIF('Data Input'!$C$8:$AQ$8,$L$2))","v":""},{"$f":"IF(ISBLANK('Data Input'!A512),\"\",SUM('Data Input'!K512,'Data Input'!AQ512))","v":""},{"$f":"IF(N508=\"\",\"\",N508/COUNTIF('Data Input'!$C$8:$AQ$8,$N$2))","v":""},{"$f":"IF(ISBLANK('Data Input'!A512),\"\",SUM('Data Input'!C512,'Data Input'!D512,'Data Input'!F512,'Data Input'!J512,'Data Input'!O512,'Data Input'!S512,'Data Input'!AM512,'Data Input'!AN512,'Data Input'!AO512,'Data Input'!AP512))","v":""},{"$f":"IF(P508=\"\",\"\",P508/COUNTIF('Data Input'!$C$8:$AQ$8,$P$2))","v":""},{"$f":"IF(ISBLANK('Data Input'!C512),\"\",SUM('Data Input'!P512))","v":""},{"$f":"IF(R508=\"\",\"\",R508/COUNTIF('Data Input'!$C$8:$AQ$8,$R$2))","v":""}]
[{"$f":"IF('Data Input'!A513=0,\"\",'Data Input'!A513)","v":""},{"$f":"IF(H509=\"\",\"\",IF(H509>Welcome!$K$23-1,\"Exceeding\",IF(H509>Welcome!$G$23-1,\"Expected\",IF(H509<Welcome!$G$23,\"Below\"))))","v":""},{"$f":"IF(ISBLANK('Data Input'!A513),\"\",COUNTIF('Data Input'!C513:AQ513,\"\")-1)","v":""},{"$f":"IF(ISBLANK('Data Input'!A513),\"\",COUNTIF('Data Input'!C513:AQ513,\"0\"))","v":""},{"$f":"IF(ISBLANK('Data Input'!A513),\"\",SUM(C509,D509))","v":""},{"$f":"IF(ISBLANK('Data Input'!A513),\"\",SUM('Data Input'!C513:V513))","v":""},{"$f":"IF(ISBLANK('Data Input'!A513),\"\",SUM('Data Input'!X513:AQ513))","v":""},{"$f":"IF(ISBLANK('Data Input'!A513),\"\",SUM('Data Input'!C513:AQ513))","v":""},{"$f":"IF(H509=\"\",\"\",H509/(COUNTA('Data Input'!$C$8:$AQ$8)-1))","v":""},{"$f":"IF(ISBLANK('Data Input'!A513),\"\",SUM('Data Input'!I513,'Data Input'!M513,'Data Input'!AB513,'Data Input'!AE513))","v":""},{"$f":"IF(J509=\"\",\"\",J509/COUNTIF('Data Input'!$C$8:$AQ$8,$J$2))","v":""},{"$f":"IF(ISBLANK('Data Input'!A513),\"\",SUM('Data Input'!E513,'Data Input'!G513,'Data Input'!H513,'Data Input'!L513,'Data Input'!N513,'Data Input'!Q513,'Data Input'!R513,'Data Input'!T513,'Data Input'!U513,'Data Input'!V513,'Data Input'!X513,'Data Input'!Y513,'Data Input'!Z513,'Data Input'!AA513,'Data Input'!AC513,'Data Input'!AD513,'Data Input'!AF513,'Data Input'!AG513,'Data Input'!AH513,'Data Input'!AI513,'Data Input'!AJ513,'Data Input'!AK513,'Data Input'!AL513))","v":""},{"$f":"IF(L509=\"\",\"\",L509/COUNTIF('Data Input'!$C$8:$AQ$8,$L$2))","v":""},{"$f":"IF(ISBLANK('Data Input'!A513),\"\",SUM('Data Input'!K513,'Data Input'!AQ513))","v":""},{"$f":"IF(N509=\"\",\"\",N509/COUNTIF('Data Input'!$C$8:$AQ$8,$N$2))","v":""},{"$f":"IF(ISBLANK('Data Input'!A513),\"\",SUM('Data Input'!C513,'Data Input'!D513,'Data Input'!F513,'Data Input'!J513,'Data Input'!O513,'Data Input'!S513,'Data Input'!AM513,'Data Input'!AN513,'Data Input'!AO513,'Data Input'!AP513))","v":""},{"$f":"IF(P509=\"\",\"\",P509/COUNTIF('Data Input'!$C$8:$AQ$8,$P$2))","v":""},{"$f":"IF(ISBLANK('Data Input'!C513),\"\",SUM('Data Input'!P513))","v":""},{"$f":"IF(R509=\"\",\"\",R509/COUNTIF('Data Input'!$C$8:$AQ$8,$R$2))","v":""}]
[{"$f":"IF('Data Input'!A514=0,\"\",'Data Input'!A514)","v":""},{"$f":"IF(H510=\"\",\"\",IF(H510>Welcome!$K$23-1,\"Exceeding\",IF(H510>Welcome!$G$23-1,\"Expected\",IF(H510<Welcome!$G$23,\"Below\"))))","v":""},{"$f":"IF(ISBLANK('Data Input'!A514),\"\",COUNTIF('Data Input'!C514:AQ514,\"\")-1)","v":""},{"$f":"IF(ISBLANK('Data Input'!A514),\"\",COUNTIF('Data Input'!C514:AQ514,\"0\"))","v":""},{"$f":"IF(ISBLANK('Data Input'!A514),\"\",SUM(C510,D510))","v":""},{"$f":"IF(ISBLANK('Data Input'!A514),\"\",SUM('Data Input'!C514:V514))","v":""},{"$f":"IF(ISBLANK('Data Input'!A514),\"\",SUM('Data Input'!X514:AQ514))","v":""},{"$f":"IF(ISBLANK('Data Input'!A514),\"\",SUM('Data Input'!C514:AQ514))","v":""},{"$f":"IF(H510=\"\",\"\",H510/(COUNTA('Data Input'!$C$8:$AQ$8)-1))","v":""},{"$f":"IF(ISBLANK('Data Input'!A514),\"\",SUM('Data Input'!I514,'Data Input'!M514,'Data Input'!AB514,'Data Input'!AE514))","v":""},{"$f":"IF(J510=\"\",\"\",J510/COUNTIF('Data Input'!$C$8:$AQ$8,$J$2))","v":""},{"$f":"IF(ISBLANK('Data Input'!A514),\"\",SUM('Data Input'!E514,'Data Input'!G514,'Data Input'!H514,'Data Input'!L514,'Data Input'!N514,'Data Input'!Q514,'Data Input'!R514,'Data Input'!T514,'Data Input'!U514,'Data Input'!V514,'Data Input'!X514,'Data Input'!Y514,'Data Input'!Z514,'Data Input'!AA514,'Data Input'!AC514,'Data Input'!AD514,'Data Input'!AF514,'Data Input'!AG514,'Data Input'!AH514,'Data Input'!AI514,'Data Input'!AJ514,'Data Input'!AK514,'Data Input'!AL514))","v":""},{"$f":"IF(L510=\"\",\"\",L510/COUNTIF('Data Input'!$C$8:$AQ$8,$L$2))","v":""},{"$f":"IF(ISBLANK('Data Input'!A514),\"\",SUM('Data Input'!K514,'Data Input'!AQ514))","v":""},{"$f":"IF(N510=\"\",\"\",N510/COUNTIF('Data Input'!$C$8:$AQ$8,$N$2))","v":""},{"$f":"IF(ISBLANK('Data Input'!A514),\"\",SUM('Data Input'!C514,'Data Input'!D514,'Data Input'!F514,'Data Input'!J514,'Data Input'!O514,'Data Input'!S514,'Data Input'!AM514,'Data Input'!AN514,'Data Input'!AO514,'Data Input'!AP514))","v":""},{"$f":"IF(P510=\"\",\"\",P510/COUNTIF('Data Input'!$C$8:$AQ$8,$P$2))","v":""},{"$f":"IF(ISBLANK('Data Input'!C514),\"\",SUM('Data Input'!P514))","v":""},{"$f":"IF(R510=\"\",\"\",R510/COUNTIF('Data Input'!$C$8:$AQ$8,$R$2))","v":""}]
[{"$f":"IF('Data Input'!A515=0,\"\",'Data Input'!A515)","v":""},{"$f":"IF(H511=\"\",\"\",IF(H511>Welcome!$K$23-1,\"Exceeding\",IF(H511>Welcome!$G$23-1,\"Expected\",IF(H511<Welcome!$G$23,\"Below\"))))","v":""},{"$f":"IF(ISBLANK('Data Input'!A515),\"\",COUNTIF('Data Input'!C515:AQ515,\"\")-1)","v":""},{"$f":"IF(ISBLANK('Data Input'!A515),\"\",COUNTIF('Data Input'!C515:AQ515,\"0\"))","v":""},{"$f":"IF(ISBLANK('Data Input'!A515),\"\",SUM(C511,D511))","v":""},{"$f":"IF(ISBLANK('Data Input'!A515),\"\",SUM('Data Input'!C515:V515))","v":""},{"$f":"IF(ISBLANK('Data Input'!A515),\"\",SUM('Data Input'!X515:AQ515))","v":""},{"$f":"IF(ISBLANK('Data Input'!A515),\"\",SUM('Data Input'!C515:AQ515))","v":""},{"$f":"IF(H511=\"\",\"\",H511/(COUNTA('Data Input'!$C$8:$AQ$8)-1))","v":""},{"$f":"IF(ISBLANK('Data Input'!A515),\"\",SUM('Data Input'!I515,'Data Input'!M515,'Data Input'!AB515,'Data Input'!AE515))","v":""},{"$f":"IF(J511=\"\",\"\",J511/COUNTIF('Data Input'!$C$8:$AQ$8,$J$2))","v":""},{"$f":"IF(ISBLANK('Data Input'!A515),\"\",SUM('Data Input'!E515,'Data Input'!G515,'Data Input'!H515,'Data Input'!L515,'Data Input'!N515,'Data Input'!Q515,'Data Input'!R515,'Data Input'!T515,'Data Input'!U515,'Data Input'!V515,'Data Input'!X515,'Data Input'!Y515,'Data Input'!Z515,'Data Input'!AA515,'Data Input'!AC515,'Data Input'!AD515,'Data Input'!AF515,'Data Input'!AG515,'Data Input'!AH515,'Data Input'!AI515,'Data Input'!AJ515,'Data Input'!AK515,'Data Input'!AL515))","v":""},{"$f":"IF(L511=\"\",\"\",L511/COUNTIF('Data Input'!$C$8:$AQ$8,$L$2))","v":""},{"$f":"IF(ISBLANK('Data Input'!A515),\"\",SUM('Data Input'!K515,'Data Input'!AQ515))","v":""},{"$f":"IF(N511=\"\",\"\",N511/COUNTIF('Data Input'!$C$8:$AQ$8,$N$2))","v":""},{"$f":"IF(ISBLANK('Data Input'!A515),\"\",SUM('Data Input'!C515,'Data Input'!D515,'Data Input'!F515,'Data Input'!J515,'Data Input'!O515,'Data Input'!S515,'Data Input'!AM515,'Data Input'!AN515,'Data Input'!AO515,'Data Input'!AP515))","v":""},{"$f":"IF(P511=\"\",\"\",P511/COUNTIF('Data Input'!$C$8:$AQ$8,$P$2))","v":""},{"$f":"IF(ISBLANK('Data Input'!C515),\"\",SUM('Data Input'!P515))","v":""},{"$f":"IF(R511=\"\",\"\",R511/COUNTIF('Data Input'!$C$8:$AQ$8,$R$2))","v":""}]
[{"$f":"IF('Data Input'!A516=0,\"\",'Data Input'!A516)","v":""},{"$f":"IF(H512=\"\",\"\",IF(H512>Welcome!$K$23-1,\"Exceeding\",IF(H512>Welcome!$G$23-1,\"Expected\",IF(H512<Welcome!$G$23,\"Below\"))))","v":""},{"$f":"IF(ISBLANK('Data Input'!A516),\"\",COUNTIF('Data Input'!C516:AQ516,\"\")-1)","v":""},{"$f":"IF(ISBLANK('Data Input'!A516),\"\",COUNTIF('Data Input'!C516:AQ516,\"0\"))","v":""},{"$f":"IF(ISBLANK('Data Input'!A516),\"\",SUM(C512,D512))","v":""},{"$f":"IF(ISBLANK('Data Input'!A516),\"\",SUM('Data Input'!C516:V516))","v":""},{"$f":"IF(ISBLANK('Data Input'!A516),\"\",SUM('Data Input'!X516:AQ516))","v":""},{"$f":"IF(ISBLANK('Data Input'!A516),\"\",SUM('Data Input'!C516:AQ516))","v":""},{"$f":"IF(H512=\"\",\"\",H512/(COUNTA('Data Input'!$C$8:$AQ$8)-1))","v":""},{"$f":"IF(ISBLANK('Data Input'!A516),\"\",SUM('Data Input'!I516,'Data Input'!M516,'Data Input'!AB516,'Data Input'!AE516))","v":""},{"$f":"IF(J512=\"\",\"\",J512/COUNTIF('Data Input'!$C$8:$AQ$8,$J$2))","v":""},{"$f":"IF(ISBLANK('Data Input'!A516),\"\",SUM('Data Input'!E516,'Data Input'!G516,'Data Input'!H516,'Data Input'!L516,'Data Input'!N516,'Data Input'!Q516,'Data Input'!R516,'Data Input'!T516,'Data Input'!U516,'Data Input'!V516,'Data Input'!X516,'Data Input'!Y516,'Data Input'!Z516,'Data Input'!AA516,'Data Input'!AC516,'Data Input'!AD516,'Data Input'!AF516,'Data Input'!AG516,'Data Input'!AH516,'Data Input'!AI516,'Data Input'!AJ516,'Data Input'!AK516,'Data Input'!AL516))","v":""},{"$f":"IF(L512=\"\",\"\",L512/COUNTIF('Data Input'!$C$8:$AQ$8,$L$2))","v":""},{"$f":"IF(ISBLANK('Data Input'!A516),\"\",SUM('Data Input'!K516,'Data Input'!AQ516))","v":""},{"$f":"IF(N512=\"\",\"\",N512/COUNTIF('Data Input'!$C$8:$AQ$8,$N$2))","v":""},{"$f":"IF(ISBLANK('Data Input'!A516),\"\",SUM('Data Input'!C516,'Data Input'!D516,'Data Input'!F516,'Data Input'!J516,'Data Input'!O516,'Data Input'!S516,'Data Input'!AM516,'Data Input'!AN516,'Data Input'!AO516,'Data Input'!AP516))","v":""},{"$f":"IF(P512=\"\",\"\",P512/COUNTIF('Data Input'!$C$8:$AQ$8,$P$2))","v":""},{"$f":"IF(ISBLANK('Data Input'!C516),\"\",SUM('Data Input'!P516))","v":""},{"$f":"IF(R512=\"\",\"\",R512/COUNTIF('Data Input'!$C$8:$AQ$8,$R$2))","v":""}]
[{"$f":"IF('Data Input'!A517=0,\"\",'Data Input'!A517)","v":""},{"$f":"IF(H513=\"\",\"\",IF(H513>Welcome!$K$23-1,\"Exceeding\",IF(H513>Welcome!$G$23-1,\"Expected\",IF(H513<Welcome!$G$23,\"Below\"))))","v":""},{"$f":"IF(ISBLANK('Data Input'!A517),\"\",COUNTIF('Data Input'!C517:AQ517,\"\")-1)","v":""},{"$f":"IF(ISBLANK('Data Input'!A517),\"\",COUNTIF('Data Input'!C517:AQ517,\"0\"))","v":""},{"$f":"IF(ISBLANK('Data Input'!A517),\"\",SUM(C513,D513))","v":""},{"$f":"IF(ISBLANK('Data Input'!A517),\"\",SUM('Data Input'!C517:V517))","v":""},{"$f":"IF(ISBLANK('Data Input'!A517),\"\",SUM('Data Input'!X517:AQ517))","v":""},{"$f":"IF(ISBLANK('Data Input'!A517),\"\",SUM('Data Input'!C517:AQ517))","v":""},{"$f":"IF(H513=\"\",\"\",H513/(COUNTA('Data Input'!$C$8:$AQ$8)-1))","v":""},{"$f":"IF(ISBLANK('Data Input'!A517),\"\",SUM('Data Input'!I517,'Data Input'!M517,'Data Input'!AB517,'Data Input'!AE517))","v":""},{"$f":"IF(J513=\"\",\"\",J513/COUNTIF('Data Input'!$C$8:$AQ$8,$J$2))","v":""},{"$f":"IF(ISBLANK('Data Input'!A517),\"\",SUM('Data Input'!E517,'Data Input'!G517,'Data Input'!H517,'Data Input'!L517,'Data Input'!N517,'Data Input'!Q517,'Data Input'!R517,'Data Input'!T517,'Data Input'!U517,'Data Input'!V517,'Data Input'!X517,'Data Input'!Y517,'Data Input'!Z517,'Data Input'!AA517,'Data Input'!AC517,'Data Input'!AD517,'Data Input'!AF517,'Data Input'!AG517,'Data Input'!AH517,'Data Input'!AI517,'Data Input'!AJ517,'Data Input'!AK517,'Data Input'!AL517))","v":""},{"$f":"IF(L513=\"\",\"\",L513/COUNTIF('Data Input'!$C$8:$AQ$8,$L$2))","v":""},{"$f":"IF(ISBLANK('Data Input'!A517),\"\",SUM('Data Input'!K517,'Data Input'!AQ517))","v":""},{"$f":"IF(N513=\"\",\"\",N513/COUNTIF('Data Input'!$C$8:$AQ$8,$N$2))","v":""},{"$f":"IF(ISBLANK('Data Input'!A517),\"\",SUM('Data Input'!C517,'Data Input'!D517,'Data Input'!F517,'Data Input'!J517,'Data Input'!O517,'Data Input'!S517,'Data Input'!AM517,'Data Input'!AN517,'Data Input'!AO517,'Data Input'!AP517))","v":""},{"$f":"IF(P513=\"\",\"\",P513/COUNTIF('Data Input'!$C$8:$AQ$8,$P$2))","v":""},{"$f":"IF(ISBLANK('Data Input'!C517),\"\",SUM('Data Input'!P517))","v":""},{"$f":"IF(R513=\"\",\"\",R513/COUNTIF('Data Input'!$C$8:$AQ$8,$R$2))","v":""}]
[{"$f":"IF('Data Input'!A518=0,\"\",'Data Input'!A518)","v":""},{"$f":"IF(H514=\"\",\"\",IF(H514>Welcome!$K$23-1,\"Exceeding\",IF(H514>Welcome!$G$23-1,\"Expected\",IF(H514<Welcome!$G$23,\"Below\"))))","v":""},{"$f":"IF(ISBLANK('Data Input'!A518),\"\",COUNTIF('Data Input'!C518:AQ518,\"\")-1)","v":""},{"$f":"IF(ISBLANK('Data Input'!A518),\"\",COUNTIF('Data Input'!C518:AQ518,\"0\"))","v":""},{"$f":"IF(ISBLANK('Data Input'!A518),\"\",SUM(C514,D514))","v":""},{"$f":"IF(ISBLANK('Data Input'!A518),\"\",SUM('Data Input'!C518:V518))","v":""},{"$f":"IF(ISBLANK('Data Input'!A518),\"\",SUM('Data Input'!X518:AQ518))","v":""},{"$f":"IF(ISBLANK('Data Input'!A518),\"\",SUM('Data Input'!C518:AQ518))","v":""},{"$f":"IF(H514=\"\",\"\",H514/(COUNTA('Data Input'!$C$8:$AQ$8)-1))","v":""},{"$f":"IF(ISBLANK('Data Input'!A518),\"\",SUM('Data Input'!I518,'Data Input'!M518,'Data Input'!AB518,'Data Input'!AE518))","v":""},{"$f":"IF(J514=\"\",\"\",J514/COUNTIF('Data Input'!$C$8:$AQ$8,$J$2))","v":""},{"$f":"IF(ISBLANK('Data Input'!A518),\"\",SUM('Data Input'!E518,'Data Input'!G518,'Data Input'!H518,'Data Input'!L518,'Data Input'!N518,'Data Input'!Q518,'Data Input'!R518,'Data Input'!T518,'Data Input'!U518,'Data Input'!V518,'Data Input'!X518,'Data Input'!Y518,'Data Input'!Z518,'Data Input'!AA518,'Data Input'!AC518,'Data Input'!AD518,'Data Input'!AF518,'Data Input'!AG518,'Data Input'!AH518,'Data Input'!AI518,'Data Input'!AJ518,'Data Input'!AK518,'Data Input'!AL518))","v":""},{"$f":"IF(L514=\"\",\"\",L514/COUNTIF('Data Input'!$C$8:$AQ$8,$L$2))","v":""},{"$f":"IF(ISBLANK('Data Input'!A518),\"\",SUM('Data Input'!K518,'Data Input'!AQ518))","v":""},{"$f":"IF(N514=\"\",\"\",N514/COUNTIF('Data Input'!$C$8:$AQ$8,$N$2))","v":""},{"$f":"IF(ISBLANK('Data Input'!A518),\"\",SUM('Data Input'!C518,'Data Input'!D518,'Data Input'!F518,'Data Input'!J518,'Data Input'!O518,'Data Input'!S518,'Data Input'!AM518,'Data Input'!AN518,'Data Input'!AO518,'Data Input'!AP518))","v":""},{"$f":"IF(P514=\"\",\"\",P514/COUNTIF('Data Input'!$C$8:$AQ$8,$P$2))","v":""},{"$f":"IF(ISBLANK('Data Input'!C518),\"\",SUM('Data Input'!P518))","v":""},{"$f":"IF(R514=\"\",\"\",R514/COUNTIF('Data Input'!$C$8:$AQ$8,$R$2))","v":""}]
[{"$f":"IF('Data Input'!A519=0,\"\",'Data Input'!A519)","v":""},{"$f":"IF(H515=\"\",\"\",IF(H515>Welcome!$K$23-1,\"Exceeding\",IF(H515>Welcome!$G$23-1,\"Expected\",IF(H515<Welcome!$G$23,\"Below\"))))","v":""},{"$f":"IF(ISBLANK('Data Input'!A519),\"\",COUNTIF('Data Input'!C519:AQ519,\"\")-1)","v":""},{"$f":"IF(ISBLANK('Data Input'!A519),\"\",COUNTIF('Data Input'!C519:AQ519,\"0\"))","v":""},{"$f":"IF(ISBLANK('Data Input'!A519),\"\",SUM(C515,D515))","v":""},{"$f":"IF(ISBLANK('Data Input'!A519),\"\",SUM('Data Input'!C519:V519))","v":""},{"$f":"IF(ISBLANK('Data Input'!A519),\"\",SUM('Data Input'!X519:AQ519))","v":""},{"$f":"IF(ISBLANK('Data Input'!A519),\"\",SUM('Data Input'!C519:AQ519))","v":""},{"$f":"IF(H515=\"\",\"\",H515/(COUNTA('Data Input'!$C$8:$AQ$8)-1))","v":""},{"$f":"IF(ISBLANK('Data Input'!A519),\"\",SUM('Data Input'!I519,'Data Input'!M519,'Data Input'!AB519,'Data Input'!AE519))","v":""},{"$f":"IF(J515=\"\",\"\",J515/COUNTIF('Data Input'!$C$8:$AQ$8,$J$2))","v":""},{"$f":"IF(ISBLANK('Data Input'!A519),\"\",SUM('Data Input'!E519,'Data Input'!G519,'Data Input'!H519,'Data Input'!L519,'Data Input'!N519,'Data Input'!Q519,'Data Input'!R519,'Data Input'!T519,'Data Input'!U519,'Data Input'!V519,'Data Input'!X519,'Data Input'!Y519,'Data Input'!Z519,'Data Input'!AA519,'Data Input'!AC519,'Data Input'!AD519,'Data Input'!AF519,'Data Input'!AG519,'Data Input'!AH519,'Data Input'!AI519,'Data Input'!AJ519,'Data Input'!AK519,'Data Input'!AL519))","v":""},{"$f":"IF(L515=\"\",\"\",L515/COUNTIF('Data Input'!$C$8:$AQ$8,$L$2))","v":""},{"$f":"IF(ISBLANK('Data Input'!A519),\"\",SUM('Data Input'!K519,'Data Input'!AQ519))","v":""},{"$f":"IF(N515=\"\",\"\",N515/COUNTIF('Data Input'!$C$8:$AQ$8,$N$2))","v":""},{"$f":"IF(ISBLANK('Data Input'!A519),\"\",SUM('Data Input'!C519,'Data Input'!D519,'Data Input'!F519,'Data Input'!J519,'Data Input'!O519,'Data Input'!S519,'Data Input'!AM519,'Data Input'!AN519,'Data Input'!AO519,'Data Input'!AP519))","v":""},{"$f":"IF(P515=\"\",\"\",P515/COUNTIF('Data Input'!$C$8:$AQ$8,$P$2))","v":""},{"$f":"IF(ISBLANK('Data Input'!C519),\"\",SUM('Data Input'!P519))","v":""},{"$f":"IF(R515=\"\",\"\",R515/COUNTIF('Data Input'!$C$8:$AQ$8,$R$2))","v":""}]
[{"$f":"IF('Data Input'!A520=0,\"\",'Data Input'!A520)","v":""},{"$f":"IF(H516=\"\",\"\",IF(H516>Welcome!$K$23-1,\"Exceeding\",IF(H516>Welcome!$G$23-1,\"Expected\",IF(H516<Welcome!$G$23,\"Below\"))))","v":""},{"$f":"IF(ISBLANK('Data Input'!A520),\"\",COUNTIF('Data Input'!C520:AQ520,\"\")-1)","v":""},{"$f":"IF(ISBLANK('Data Input'!A520),\"\",COUNTIF('Data Input'!C520:AQ520,\"0\"))","v":""},{"$f":"IF(ISBLANK('Data Input'!A520),\"\",SUM(C516,D516))","v":""},{"$f":"IF(ISBLANK('Data Input'!A520),\"\",SUM('Data Input'!C520:V520))","v":""},{"$f":"IF(ISBLANK('Data Input'!A520),\"\",SUM('Data Input'!X520:AQ520))","v":""},{"$f":"IF(ISBLANK('Data Input'!A520),\"\",SUM('Data Input'!C520:AQ520))","v":""},{"$f":"IF(H516=\"\",\"\",H516/(COUNTA('Data Input'!$C$8:$AQ$8)-1))","v":""},{"$f":"IF(ISBLANK('Data Input'!A520),\"\",SUM('Data Input'!I520,'Data Input'!M520,'Data Input'!AB520,'Data Input'!AE520))","v":""},{"$f":"IF(J516=\"\",\"\",J516/COUNTIF('Data Input'!$C$8:$AQ$8,$J$2))","v":""},{"$f":"IF(ISBLANK('Data Input'!A520),\"\",SUM('Data Input'!E520,'Data Input'!G520,'Data Input'!H520,'Data Input'!L520,'Data Input'!N520,'Data Input'!Q520,'Data Input'!R520,'Data Input'!T520,'Data Input'!U520,'Data Input'!V520,'Data Input'!X520,'Data Input'!Y520,'Data Input'!Z520,'Data Input'!AA520,'Data Input'!AC520,'Data Input'!AD520,'Data Input'!AF520,'Data Input'!AG520,'Data Input'!AH520,'Data Input'!AI520,'Data Input'!AJ520,'Data Input'!AK520,'Data Input'!AL520))","v":""},{"$f":"IF(L516=\"\",\"\",L516/COUNTIF('Data Input'!$C$8:$AQ$8,$L$2))","v":""},{"$f":"IF(ISBLANK('Data Input'!A520),\"\",SUM('Data Input'!K520,'Data Input'!AQ520))","v":""},{"$f":"IF(N516=\"\",\"\",N516/COUNTIF('Data Input'!$C$8:$AQ$8,$N$2))","v":""},{"$f":"IF(ISBLANK('Data Input'!A520),\"\",SUM('Data Input'!C520,'Data Input'!D520,'Data Input'!F520,'Data Input'!J520,'Data Input'!O520,'Data Input'!S520,'Data Input'!AM520,'Data Input'!AN520,'Data Input'!AO520,'Data Input'!AP520))","v":""},{"$f":"IF(P516=\"\",\"\",P516/COUNTIF('Data Input'!$C$8:$AQ$8,$P$2))","v":""},{"$f":"IF(ISBLANK('Data Input'!C520),\"\",SUM('Data Input'!P520))","v":""},{"$f":"IF(R516=\"\",\"\",R516/COUNTIF('Data Input'!$C$8:$AQ$8,$R$2))","v":""}]
[{"$f":"IF('Data Input'!A521=0,\"\",'Data Input'!A521)","v":""},{"$f":"IF(H517=\"\",\"\",IF(H517>Welcome!$K$23-1,\"Exceeding\",IF(H517>Welcome!$G$23-1,\"Expected\",IF(H517<Welcome!$G$23,\"Below\"))))","v":""},{"$f":"IF(ISBLANK('Data Input'!A521),\"\",COUNTIF('Data Input'!C521:AQ521,\"\")-1)","v":""},{"$f":"IF(ISBLANK('Data Input'!A521),\"\",COUNTIF('Data Input'!C521:AQ521,\"0\"))","v":""},{"$f":"IF(ISBLANK('Data Input'!A521),\"\",SUM(C517,D517))","v":""},{"$f":"IF(ISBLANK('Data Input'!A521),\"\",SUM('Data Input'!C521:V521))","v":""},{"$f":"IF(ISBLANK('Data Input'!A521),\"\",SUM('Data Input'!X521:AQ521))","v":""},{"$f":"IF(ISBLANK('Data Input'!A521),\"\",SUM('Data Input'!C521:AQ521))","v":""},{"$f":"IF(H517=\"\",\"\",H517/(COUNTA('Data Input'!$C$8:$AQ$8)-1))","v":""},{"$f":"IF(ISBLANK('Data Input'!A521),\"\",SUM('Data Input'!I521,'Data Input'!M521,'Data Input'!AB521,'Data Input'!AE521))","v":""},{"$f":"IF(J517=\"\",\"\",J517/COUNTIF('Data Input'!$C$8:$AQ$8,$J$2))","v":""},{"$f":"IF(ISBLANK('Data Input'!A521),\"\",SUM('Data Input'!E521,'Data Input'!G521,'Data Input'!H521,'Data Input'!L521,'Data Input'!N521,'Data Input'!Q521,'Data Input'!R521,'Data Input'!T521,'Data Input'!U521,'Data Input'!V521,'Data Input'!X521,'Data Input'!Y521,'Data Input'!Z521,'Data Input'!AA521,'Data Input'!AC521,'Data Input'!AD521,'Data Input'!AF521,'Data Input'!AG521,'Data Input'!AH521,'Data Input'!AI521,'Data Input'!AJ521,'Data Input'!AK521,'Data Input'!AL521))","v":""},{"$f":"IF(L517=\"\",\"\",L517/COUNTIF('Data Input'!$C$8:$AQ$8,$L$2))","v":""},{"$f":"IF(ISBLANK('Data Input'!A521),\"\",SUM('Data Input'!K521,'Data Input'!AQ521))","v":""},{"$f":"IF(N517=\"\",\"\",N517/COUNTIF('Data Input'!$C$8:$AQ$8,$N$2))","v":""},{"$f":"IF(ISBLANK('Data Input'!A521),\"\",SUM('Data Input'!C521,'Data Input'!D521,'Data Input'!F521,'Data Input'!J521,'Data Input'!O521,'Data Input'!S521,'Data Input'!AM521,'Data Input'!AN521,'Data Input'!AO521,'Data Input'!AP521))","v":""},{"$f":"IF(P517=\"\",\"\",P517/COUNTIF('Data Input'!$C$8:$AQ$8,$P$2))","v":""},{"$f":"IF(ISBLANK('Data Input'!C521),\"\",SUM('Data Input'!P521))","v":""},{"$f":"IF(R517=\"\",\"\",R517/COUNTIF('Data Input'!$C$8:$AQ$8,$R$2))","v":""}]
[{"$f":"IF('Data Input'!A522=0,\"\",'Data Input'!A522)","v":""},{"$f":"IF(H518=\"\",\"\",IF(H518>Welcome!$K$23-1,\"Exceeding\",IF(H518>Welcome!$G$23-1,\"Expected\",IF(H518<Welcome!$G$23,\"Below\"))))","v":""},{"$f":"IF(ISBLANK('Data Input'!A522),\"\",COUNTIF('Data Input'!C522:AQ522,\"\")-1)","v":""},{"$f":"IF(ISBLANK('Data Input'!A522),\"\",COUNTIF('Data Input'!C522:AQ522,\"0\"))","v":""},{"$f":"IF(ISBLANK('Data Input'!A522),\"\",SUM(C518,D518))","v":""},{"$f":"IF(ISBLANK('Data Input'!A522),\"\",SUM('Data Input'!C522:V522))","v":""},{"$f":"IF(ISBLANK('Data Input'!A522),\"\",SUM('Data Input'!X522:AQ522))","v":""},{"$f":"IF(ISBLANK('Data Input'!A522),\"\",SUM('Data Input'!C522:AQ522))","v":""},{"$f":"IF(H518=\"\",\"\",H518/(COUNTA('Data Input'!$C$8:$AQ$8)-1))","v":""},{"$f":"IF(ISBLANK('Data Input'!A522),\"\",SUM('Data Input'!I522,'Data Input'!M522,'Data Input'!AB522,'Data Input'!AE522))","v":""},{"$f":"IF(J518=\"\",\"\",J518/COUNTIF('Data Input'!$C$8:$AQ$8,$J$2))","v":""},{"$f":"IF(ISBLANK('Data Input'!A522),\"\",SUM('Data Input'!E522,'Data Input'!G522,'Data Input'!H522,'Data Input'!L522,'Data Input'!N522,'Data Input'!Q522,'Data Input'!R522,'Data Input'!T522,'Data Input'!U522,'Data Input'!V522,'Data Input'!X522,'Data Input'!Y522,'Data Input'!Z522,'Data Input'!AA522,'Data Input'!AC522,'Data Input'!AD522,'Data Input'!AF522,'Data Input'!AG522,'Data Input'!AH522,'Data Input'!AI522,'Data Input'!AJ522,'Data Input'!AK522,'Data Input'!AL522))","v":""},{"$f":"IF(L518=\"\",\"\",L518/COUNTIF('Data Input'!$C$8:$AQ$8,$L$2))","v":""},{"$f":"IF(ISBLANK('Data Input'!A522),\"\",SUM('Data Input'!K522,'Data Input'!AQ522))","v":""},{"$f":"IF(N518=\"\",\"\",N518/COUNTIF('Data Input'!$C$8:$AQ$8,$N$2))","v":""},{"$f":"IF(ISBLANK('Data Input'!A522),\"\",SUM('Data Input'!C522,'Data Input'!D522,'Data Input'!F522,'Data Input'!J522,'Data Input'!O522,'Data Input'!S522,'Data Input'!AM522,'Data Input'!AN522,'Data Input'!AO522,'Data Input'!AP522))","v":""},{"$f":"IF(P518=\"\",\"\",P518/COUNTIF('Data Input'!$C$8:$AQ$8,$P$2))","v":""},{"$f":"IF(ISBLANK('Data Input'!C522),\"\",SUM('Data Input'!P522))","v":""},{"$f":"IF(R518=\"\",\"\",R518/COUNTIF('Data Input'!$C$8:$AQ$8,$R$2))","v":""}]
[{"$f":"IF('Data Input'!A523=0,\"\",'Data Input'!A523)","v":""},{"$f":"IF(H519=\"\",\"\",IF(H519>Welcome!$K$23-1,\"Exceeding\",IF(H519>Welcome!$G$23-1,\"Expected\",IF(H519<Welcome!$G$23,\"Below\"))))","v":""},{"$f":"IF(ISBLANK('Data Input'!A523),\"\",COUNTIF('Data Input'!C523:AQ523,\"\")-1)","v":""},{"$f":"IF(ISBLANK('Data Input'!A523),\"\",COUNTIF('Data Input'!C523:AQ523,\"0\"))","v":""},{"$f":"IF(ISBLANK('Data Input'!A523),\"\",SUM(C519,D519))","v":""},{"$f":"IF(ISBLANK('Data Input'!A523),\"\",SUM('Data Input'!C523:V523))","v":""},{"$f":"IF(ISBLANK('Data Input'!A523),\"\",SUM('Data Input'!X523:AQ523))","v":""},{"$f":"IF(ISBLANK('Data Input'!A523),\"\",SUM('Data Input'!C523:AQ523))","v":""},{"$f":"IF(H519=\"\",\"\",H519/(COUNTA('Data Input'!$C$8:$AQ$8)-1))","v":""},{"$f":"IF(ISBLANK('Data Input'!A523),\"\",SUM('Data Input'!I523,'Data Input'!M523,'Data Input'!AB523,'Data Input'!AE523))","v":""},{"$f":"IF(J519=\"\",\"\",J519/COUNTIF('Data Input'!$C$8:$AQ$8,$J$2))","v":""},{"$f":"IF(ISBLANK('Data Input'!A523),\"\",SUM('Data Input'!E523,'Data Input'!G523,'Data Input'!H523,'Data Input'!L523,'Data Input'!N523,'Data Input'!Q523,'Data Input'!R523,'Data Input'!T523,'Data Input'!U523,'Data Input'!V523,'Data Input'!X523,'Data Input'!Y523,'Data Input'!Z523,'Data Input'!AA523,'Data Input'!AC523,'Data Input'!AD523,'Data Input'!AF523,'Data Input'!AG523,'Data Input'!AH523,'Data Input'!AI523,'Data Input'!AJ523,'Data Input'!AK523,'Data Input'!AL523))","v":""},{"$f":"IF(L519=\"\",\"\",L519/COUNTIF('Data Input'!$C$8:$AQ$8,$L$2))","v":""},{"$f":"IF(ISBLANK('Data Input'!A523),\"\",SUM('Data Input'!K523,'Data Input'!AQ523))","v":""},{"$f":"IF(N519=\"\",\"\",N519/COUNTIF('Data Input'!$C$8:$AQ$8,$N$2))","v":""},{"$f":"IF(ISBLANK('Data Input'!A523),\"\",SUM('Data Input'!C523,'Data Input'!D523,'Data Input'!F523,'Data Input'!J523,'Data Input'!O523,'Data Input'!S523,'Data Input'!AM523,'Data Input'!AN523,'Data Input'!AO523,'Data Input'!AP523))","v":""},{"$f":"IF(P519=\"\",\"\",P519/COUNTIF('Data Input'!$C$8:$AQ$8,$P$2))","v":""},{"$f":"IF(ISBLANK('Data Input'!C523),\"\",SUM('Data Input'!P523))","v":""},{"$f":"IF(R519=\"\",\"\",R519/COUNTIF('Data Input'!$C$8:$AQ$8,$R$2))","v":""}]
[{"$f":"IF('Data Input'!A524=0,\"\",'Data Input'!A524)","v":""},{"$f":"IF(H520=\"\",\"\",IF(H520>Welcome!$K$23-1,\"Exceeding\",IF(H520>Welcome!$G$23-1,\"Expected\",IF(H520<Welcome!$G$23,\"Below\"))))","v":""},{"$f":"IF(ISBLANK('Data Input'!A524),\"\",COUNTIF('Data Input'!C524:AQ524,\"\")-1)","v":""},{"$f":"IF(ISBLANK('Data Input'!A524),\"\",COUNTIF('Data Input'!C524:AQ524,\"0\"))","v":""},{"$f":"IF(ISBLANK('Data Input'!A524),\"\",SUM(C520,D520))","v":""},{"$f":"IF(ISBLANK('Data Input'!A524),\"\",SUM('Data Input'!C524:V524))","v":""},{"$f":"IF(ISBLANK('Data Input'!A524),\"\",SUM('Data Input'!X524:AQ524))","v":""},{"$f":"IF(ISBLANK('Data Input'!A524),\"\",SUM('Data Input'!C524:AQ524))","v":""},{"$f":"IF(H520=\"\",\"\",H520/(COUNTA('Data Input'!$C$8:$AQ$8)-1))","v":""},{"$f":"IF(ISBLANK('Data Input'!A524),\"\",SUM('Data Input'!I524,'Data Input'!M524,'Data Input'!AB524,'Data Input'!AE524))","v":""},{"$f":"IF(J520=\"\",\"\",J520/COUNTIF('Data Input'!$C$8:$AQ$8,$J$2))","v":""},{"$f":"IF(ISBLANK('Data Input'!A524),\"\",SUM('Data Input'!E524,'Data Input'!G524,'Data Input'!H524,'Data Input'!L524,'Data Input'!N524,'Data Input'!Q524,'Data Input'!R524,'Data Input'!T524,'Data Input'!U524,'Data Input'!V524,'Data Input'!X524,'Data Input'!Y524,'Data Input'!Z524,'Data Input'!AA524,'Data Input'!AC524,'Data Input'!AD524,'Data Input'!AF524,'Data Input'!AG524,'Data Input'!AH524,'Data Input'!AI524,'Data Input'!AJ524,'Data Input'!AK524,'Data Input'!AL524))","v":""},{"$f":"IF(L520=\"\",\"\",L520/COUNTIF('Data Input'!$C$8:$AQ$8,$L$2))","v":""},{"$f":"IF(ISBLANK('Data Input'!A524),\"\",SUM('Data Input'!K524,'Data Input'!AQ524))","v":""},{"$f":"IF(N520=\"\",\"\",N520/COUNTIF('Data Input'!$C$8:$AQ$8,$N$2))","v":""},{"$f":"IF(ISBLANK('Data Input'!A524),\"\",SUM('Data Input'!C524,'Data Input'!D524,'Data Input'!F524,'Data Input'!J524,'Data Input'!O524,'Data Input'!S524,'Data Input'!AM524,'Data Input'!AN524,'Data Input'!AO524,'Data Input'!AP524))","v":""},{"$f":"IF(P520=\"\",\"\",P520/COUNTIF('Data Input'!$C$8:$AQ$8,$P$2))","v":""},{"$f":"IF(ISBLANK('Data Input'!C524),\"\",SUM('Data Input'!P524))","v":""},{"$f":"IF(R520=\"\",\"\",R520/COUNTIF('Data Input'!$C$8:$AQ$8,$R$2))","v":""}]
[{"$f":"IF('Data Input'!A525=0,\"\",'Data Input'!A525)","v":""},{"$f":"IF(H521=\"\",\"\",IF(H521>Welcome!$K$23-1,\"Exceeding\",IF(H521>Welcome!$G$23-1,\"Expected\",IF(H521<Welcome!$G$23,\"Below\"))))","v":""},{"$f":"IF(ISBLANK('Data Input'!A525),\"\",COUNTIF('Data Input'!C525:AQ525,\"\")-1)","v":""},{"$f":"IF(ISBLANK('Data Input'!A525),\"\",COUNTIF('Data Input'!C525:AQ525,\"0\"))","v":""},{"$f":"IF(ISBLANK('Data Input'!A525),\"\",SUM(C521,D521))","v":""},{"$f":"IF(ISBLANK('Data Input'!A525),\"\",SUM('Data Input'!C525:V525))","v":""},{"$f":"IF(ISBLANK('Data Input'!A525),\"\",SUM('Data Input'!X525:AQ525))","v":""},{"$f":"IF(ISBLANK('Data Input'!A525),\"\",SUM('Data Input'!C525:AQ525))","v":""},{"$f":"IF(H521=\"\",\"\",H521/(COUNTA('Data Input'!$C$8:$AQ$8)-1))","v":""},{"$f":"IF(ISBLANK('Data Input'!A525),\"\",SUM('Data Input'!I525,'Data Input'!M525,'Data Input'!AB525,'Data Input'!AE525))","v":""},{"$f":"IF(J521=\"\",\"\",J521/COUNTIF('Data Input'!$C$8:$AQ$8,$J$2))","v":""},{"$f":"IF(ISBLANK('Data Input'!A525),\"\",SUM('Data Input'!E525,'Data Input'!G525,'Data Input'!H525,'Data Input'!L525,'Data Input'!N525,'Data Input'!Q525,'Data Input'!R525,'Data Input'!T525,'Data Input'!U525,'Data Input'!V525,'Data Input'!X525,'Data Input'!Y525,'Data Input'!Z525,'Data Input'!AA525,'Data Input'!AC525,'Data Input'!AD525,'Data Input'!AF525,'Data Input'!AG525,'Data Input'!AH525,'Data Input'!AI525,'Data Input'!AJ525,'Data Input'!AK525,'Data Input'!AL525))","v":""},{"$f":"IF(L521=\"\",\"\",L521/COUNTIF('Data Input'!$C$8:$AQ$8,$L$2))","v":""},{"$f":"IF(ISBLANK('Data Input'!A525),\"\",SUM('Data Input'!K525,'Data Input'!AQ525))","v":""},{"$f":"IF(N521=\"\",\"\",N521/COUNTIF('Data Input'!$C$8:$AQ$8,$N$2))","v":""},{"$f":"IF(ISBLANK('Data Input'!A525),\"\",SUM('Data Input'!C525,'Data Input'!D525,'Data Input'!F525,'Data Input'!J525,'Data Input'!O525,'Data Input'!S525,'Data Input'!AM525,'Data Input'!AN525,'Data Input'!AO525,'Data Input'!AP525))","v":""},{"$f":"IF(P521=\"\",\"\",P521/COUNTIF('Data Input'!$C$8:$AQ$8,$P$2))","v":""},{"$f":"IF(ISBLANK('Data Input'!C525),\"\",SUM('Data Input'!P525))","v":""},{"$f":"IF(R521=\"\",\"\",R521/COUNTIF('Data Input'!$C$8:$AQ$8,$R$2))","v":""}]
[{"$f":"IF('Data Input'!A526=0,\"\",'Data Input'!A526)","v":""},{"$f":"IF(H522=\"\",\"\",IF(H522>Welcome!$K$23-1,\"Exceeding\",IF(H522>Welcome!$G$23-1,\"Expected\",IF(H522<Welcome!$G$23,\"Below\"))))","v":""},{"$f":"IF(ISBLANK('Data Input'!A526),\"\",COUNTIF('Data Input'!C526:AQ526,\"\")-1)","v":""},{"$f":"IF(ISBLANK('Data Input'!A526),\"\",COUNTIF('Data Input'!C526:AQ526,\"0\"))","v":""},{"$f":"IF(ISBLANK('Data Input'!A526),\"\",SUM(C522,D522))","v":""},{"$f":"IF(ISBLANK('Data Input'!A526),\"\",SUM('Data Input'!C526:V526))","v":""},{"$f":"IF(ISBLANK('Data Input'!A526),\"\",SUM('Data Input'!X526:AQ526))","v":""},{"$f":"IF(ISBLANK('Data Input'!A526),\"\",SUM('Data Input'!C526:AQ526))","v":""},{"$f":"IF(H522=\"\",\"\",H522/(COUNTA('Data Input'!$C$8:$AQ$8)-1))","v":""},{"$f":"IF(ISBLANK('Data Input'!A526),\"\",SUM('Data Input'!I526,'Data Input'!M526,'Data Input'!AB526,'Data Input'!AE526))","v":""},{"$f":"IF(J522=\"\",\"\",J522/COUNTIF('Data Input'!$C$8:$AQ$8,$J$2))","v":""},{"$f":"IF(ISBLANK('Data Input'!A526),\"\",SUM('Data Input'!E526,'Data Input'!G526,'Data Input'!H526,'Data Input'!L526,'Data Input'!N526,'Data Input'!Q526,'Data Input'!R526,'Data Input'!T526,'Data Input'!U526,'Data Input'!V526,'Data Input'!X526,'Data Input'!Y526,'Data Input'!Z526,'Data Input'!AA526,'Data Input'!AC526,'Data Input'!AD526,'Data Input'!AF526,'Data Input'!AG526,'Data Input'!AH526,'Data Input'!AI526,'Data Input'!AJ526,'Data Input'!AK526,'Data Input'!AL526))","v":""},{"$f":"IF(L522=\"\",\"\",L522/COUNTIF('Data Input'!$C$8:$AQ$8,$L$2))","v":""},{"$f":"IF(ISBLANK('Data Input'!A526),\"\",SUM('Data Input'!K526,'Data Input'!AQ526))","v":""},{"$f":"IF(N522=\"\",\"\",N522/COUNTIF('Data Input'!$C$8:$AQ$8,$N$2))","v":""},{"$f":"IF(ISBLANK('Data Input'!A526),\"\",SUM('Data Input'!C526,'Data Input'!D526,'Data Input'!F526,'Data Input'!J526,'Data Input'!O526,'Data Input'!S526,'Data Input'!AM526,'Data Input'!AN526,'Data Input'!AO526,'Data Input'!AP526))","v":""},{"$f":"IF(P522=\"\",\"\",P522/COUNTIF('Data Input'!$C$8:$AQ$8,$P$2))","v":""},{"$f":"IF(ISBLANK('Data Input'!C526),\"\",SUM('Data Input'!P526))","v":""},{"$f":"IF(R522=\"\",\"\",R522/COUNTIF('Data Input'!$C$8:$AQ$8,$R$2))","v":""}]
[{"$f":"IF('Data Input'!A527=0,\"\",'Data Input'!A527)","v":""},{"$f":"IF(H523=\"\",\"\",IF(H523>Welcome!$K$23-1,\"Exceeding\",IF(H523>Welcome!$G$23-1,\"Expected\",IF(H523<Welcome!$G$23,\"Below\"))))","v":""},{"$f":"IF(ISBLANK('Data Input'!A527),\"\",COUNTIF('Data Input'!C527:AQ527,\"\")-1)","v":""},{"$f":"IF(ISBLANK('Data Input'!A527),\"\",COUNTIF('Data Input'!C527:AQ527,\"0\"))","v":""},{"$f":"IF(ISBLANK('Data Input'!A527),\"\",SUM(C523,D523))","v":""},{"$f":"IF(ISBLANK('Data Input'!A527),\"\",SUM('Data Input'!C527:V527))","v":""},{"$f":"IF(ISBLANK('Data Input'!A527),\"\",SUM('Data Input'!X527:AQ527))","v":""},{"$f":"IF(ISBLANK('Data Input'!A527),\"\",SUM('Data Input'!C527:AQ527))","v":""},{"$f":"IF(H523=\"\",\"\",H523/(COUNTA('Data Input'!$C$8:$AQ$8)-1))","v":""},{"$f":"IF(ISBLANK('Data Input'!A527),\"\",SUM('Data Input'!I527,'Data Input'!M527,'Data Input'!AB527,'Data Input'!AE527))","v":""},{"$f":"IF(J523=\"\",\"\",J523/COUNTIF('Data Input'!$C$8:$AQ$8,$J$2))","v":""},{"$f":"IF(ISBLANK('Data Input'!A527),\"\",SUM('Data Input'!E527,'Data Input'!G527,'Data Input'!H527,'Data Input'!L527,'Data Input'!N527,'Data Input'!Q527,'Data Input'!R527,'Data Input'!T527,'Data Input'!U527,'Data Input'!V527,'Data Input'!X527,'Data Input'!Y527,'Data Input'!Z527,'Data Input'!AA527,'Data Input'!AC527,'Data Input'!AD527,'Data Input'!AF527,'Data Input'!AG527,'Data Input'!AH527,'Data Input'!AI527,'Data Input'!AJ527,'Data Input'!AK527,'Data Input'!AL527))","v":""},{"$f":"IF(L523=\"\",\"\",L523/COUNTIF('Data Input'!$C$8:$AQ$8,$L$2))","v":""},{"$f":"IF(ISBLANK('Data Input'!A527),\"\",SUM('Data Input'!K527,'Data Input'!AQ527))","v":""},{"$f":"IF(N523=\"\",\"\",N523/COUNTIF('Data Input'!$C$8:$AQ$8,$N$2))","v":""},{"$f":"IF(ISBLANK('Data Input'!A527),\"\",SUM('Data Input'!C527,'Data Input'!D527,'Data Input'!F527,'Data Input'!J527,'Data Input'!O527,'Data Input'!S527,'Data Input'!AM527,'Data Input'!AN527,'Data Input'!AO527,'Data Input'!AP527))","v":""},{"$f":"IF(P523=\"\",\"\",P523/COUNTIF('Data Input'!$C$8:$AQ$8,$P$2))","v":""},{"$f":"IF(ISBLANK('Data Input'!C527),\"\",SUM('Data Input'!P527))","v":""},{"$f":"IF(R523=\"\",\"\",R523/COUNTIF('Data Input'!$C$8:$AQ$8,$R$2))","v":""}]
[{"$f":"IF('Data Input'!A528=0,\"\",'Data Input'!A528)","v":""},{"$f":"IF(H524=\"\",\"\",IF(H524>Welcome!$K$23-1,\"Exceeding\",IF(H524>Welcome!$G$23-1,\"Expected\",IF(H524<Welcome!$G$23,\"Below\"))))","v":""},{"$f":"IF(ISBLANK('Data Input'!A528),\"\",COUNTIF('Data Input'!C528:AQ528,\"\")-1)","v":""},{"$f":"IF(ISBLANK('Data Input'!A528),\"\",COUNTIF('Data Input'!C528:AQ528,\"0\"))","v":""},{"$f":"IF(ISBLANK('Data Input'!A528),\"\",SUM(C524,D524))","v":""},{"$f":"IF(ISBLANK('Data Input'!A528),\"\",SUM('Data Input'!C528:V528))","v":""},{"$f":"IF(ISBLANK('Data Input'!A528),\"\",SUM('Data Input'!X528:AQ528))","v":""},{"$f":"IF(ISBLANK('Data Input'!A528),\"\",SUM('Data Input'!C528:AQ528))","v":""},{"$f":"IF(H524=\"\",\"\",H524/(COUNTA('Data Input'!$C$8:$AQ$8)-1))","v":""},{"$f":"IF(ISBLANK('Data Input'!A528),\"\",SUM('Data Input'!I528,'Data Input'!M528,'Data Input'!AB528,'Data Input'!AE528))","v":""},{"$f":"IF(J524=\"\",\"\",J524/COUNTIF('Data Input'!$C$8:$AQ$8,$J$2))","v":""},{"$f":"IF(ISBLANK('Data Input'!A528),\"\",SUM('Data Input'!E528,'Data Input'!G528,'Data Input'!H528,'Data Input'!L528,'Data Input'!N528,'Data Input'!Q528,'Data Input'!R528,'Data Input'!T528,'Data Input'!U528,'Data Input'!V528,'Data Input'!X528,'Data Input'!Y528,'Data Input'!Z528,'Data Input'!AA528,'Data Input'!AC528,'Data Input'!AD528,'Data Input'!AF528,'Data Input'!AG528,'Data Input'!AH528,'Data Input'!AI528,'Data Input'!AJ528,'Data Input'!AK528,'Data Input'!AL528))","v":""},{"$f":"IF(L524=\"\",\"\",L524/COUNTIF('Data Input'!$C$8:$AQ$8,$L$2))","v":""},{"$f":"IF(ISBLANK('Data Input'!A528),\"\",SUM('Data Input'!K528,'Data Input'!AQ528))","v":""},{"$f":"IF(N524=\"\",\"\",N524/COUNTIF('Data Input'!$C$8:$AQ$8,$N$2))","v":""},{"$f":"IF(ISBLANK('Data Input'!A528),\"\",SUM('Data Input'!C528,'Data Input'!D528,'Data Input'!F528,'Data Input'!J528,'Data Input'!O528,'Data Input'!S528,'Data Input'!AM528,'Data Input'!AN528,'Data Input'!AO528,'Data Input'!AP528))","v":""},{"$f":"IF(P524=\"\",\"\",P524/COUNTIF('Data Input'!$C$8:$AQ$8,$P$2))","v":""},{"$f":"IF(ISBLANK('Data Input'!C528),\"\",SUM('Data Input'!P528))","v":""},{"$f":"IF(R524=\"\",\"\",R524/COUNTIF('Data Input'!$C$8:$AQ$8,$R$2))","v":""}]
[{"$f":"IF('Data Input'!A529=0,\"\",'Data Input'!A529)","v":""},{"$f":"IF(H525=\"\",\"\",IF(H525>Welcome!$K$23-1,\"Exceeding\",IF(H525>Welcome!$G$23-1,\"Expected\",IF(H525<Welcome!$G$23,\"Below\"))))","v":""},{"$f":"IF(ISBLANK('Data Input'!A529),\"\",COUNTIF('Data Input'!C529:AQ529,\"\")-1)","v":""},{"$f":"IF(ISBLANK('Data Input'!A529),\"\",COUNTIF('Data Input'!C529:AQ529,\"0\"))","v":""},{"$f":"IF(ISBLANK('Data Input'!A529),\"\",SUM(C525,D525))","v":""},{"$f":"IF(ISBLANK('Data Input'!A529),\"\",SUM('Data Input'!C529:V529))","v":""},{"$f":"IF(ISBLANK('Data Input'!A529),\"\",SUM('Data Input'!X529:AQ529))","v":""},{"$f":"IF(ISBLANK('Data Input'!A529),\"\",SUM('Data Input'!C529:AQ529))","v":""},{"$f":"IF(H525=\"\",\"\",H525/(COUNTA('Data Input'!$C$8:$AQ$8)-1))","v":""},{"$f":"IF(ISBLANK('Data Input'!A529),\"\",SUM('Data Input'!I529,'Data Input'!M529,'Data Input'!AB529,'Data Input'!AE529))","v":""},{"$f":"IF(J525=\"\",\"\",J525/COUNTIF('Data Input'!$C$8:$AQ$8,$J$2))","v":""},{"$f":"IF(ISBLANK('Data Input'!A529),\"\",SUM('Data Input'!E529,'Data Input'!G529,'Data Input'!H529,'Data Input'!L529,'Data Input'!N529,'Data Input'!Q529,'Data Input'!R529,'Data Input'!T529,'Data Input'!U529,'Data Input'!V529,'Data Input'!X529,'Data Input'!Y529,'Data Input'!Z529,'Data Input'!AA529,'Data Input'!AC529,'Data Input'!AD529,'Data Input'!AF529,'Data Input'!AG529,'Data Input'!AH529,'Data Input'!AI529,'Data Input'!AJ529,'Data Input'!AK529,'Data Input'!AL529))","v":""},{"$f":"IF(L525=\"\",\"\",L525/COUNTIF('Data Input'!$C$8:$AQ$8,$L$2))","v":""},{"$f":"IF(ISBLANK('Data Input'!A529),\"\",SUM('Data Input'!K529,'Data Input'!AQ529))","v":""},{"$f":"IF(N525=\"\",\"\",N525/COUNTIF('Data Input'!$C$8:$AQ$8,$N$2))","v":""},{"$f":"IF(ISBLANK('Data Input'!A529),\"\",SUM('Data Input'!C529,'Data Input'!D529,'Data Input'!F529,'Data Input'!J529,'Data Input'!O529,'Data Input'!S529,'Data Input'!AM529,'Data Input'!AN529,'Data Input'!AO529,'Data Input'!AP529))","v":""},{"$f":"IF(P525=\"\",\"\",P525/COUNTIF('Data Input'!$C$8:$AQ$8,$P$2))","v":""},{"$f":"IF(ISBLANK('Data Input'!C529),\"\",SUM('Data Input'!P529))","v":""},{"$f":"IF(R525=\"\",\"\",R525/COUNTIF('Data Input'!$C$8:$AQ$8,$R$2))","v":""}]
[{"$f":"IF('Data Input'!A530=0,\"\",'Data Input'!A530)","v":""},{"$f":"IF(H526=\"\",\"\",IF(H526>Welcome!$K$23-1,\"Exceeding\",IF(H526>Welcome!$G$23-1,\"Expected\",IF(H526<Welcome!$G$23,\"Below\"))))","v":""},{"$f":"IF(ISBLANK('Data Input'!A530),\"\",COUNTIF('Data Input'!C530:AQ530,\"\")-1)","v":""},{"$f":"IF(ISBLANK('Data Input'!A530),\"\",COUNTIF('Data Input'!C530:AQ530,\"0\"))","v":""},{"$f":"IF(ISBLANK('Data Input'!A530),\"\",SUM(C526,D526))","v":""},{"$f":"IF(ISBLANK('Data Input'!A530),\"\",SUM('Data Input'!C530:V530))","v":""},{"$f":"IF(ISBLANK('Data Input'!A530),\"\",SUM('Data Input'!X530:AQ530))","v":""},{"$f":"IF(ISBLANK('Data Input'!A530),\"\",SUM('Data Input'!C530:AQ530))","v":""},{"$f":"IF(H526=\"\",\"\",H526/(COUNTA('Data Input'!$C$8:$AQ$8)-1))","v":""},{"$f":"IF(ISBLANK('Data Input'!A530),\"\",SUM('Data Input'!I530,'Data Input'!M530,'Data Input'!AB530,'Data Input'!AE530))","v":""},{"$f":"IF(J526=\"\",\"\",J526/COUNTIF('Data Input'!$C$8:$AQ$8,$J$2))","v":""},{"$f":"IF(ISBLANK('Data Input'!A530),\"\",SUM('Data Input'!E530,'Data Input'!G530,'Data Input'!H530,'Data Input'!L530,'Data Input'!N530,'Data Input'!Q530,'Data Input'!R530,'Data Input'!T530,'Data Input'!U530,'Data Input'!V530,'Data Input'!X530,'Data Input'!Y530,'Data Input'!Z530,'Data Input'!AA530,'Data Input'!AC530,'Data Input'!AD530,'Data Input'!AF530,'Data Input'!AG530,'Data Input'!AH530,'Data Input'!AI530,'Data Input'!AJ530,'Data Input'!AK530,'Data Input'!AL530))","v":""},{"$f":"IF(L526=\"\",\"\",L526/COUNTIF('Data Input'!$C$8:$AQ$8,$L$2))","v":""},{"$f":"IF(ISBLANK('Data Input'!A530),\"\",SUM('Data Input'!K530,'Data Input'!AQ530))","v":""},{"$f":"IF(N526=\"\",\"\",N526/COUNTIF('Data Input'!$C$8:$AQ$8,$N$2))","v":""},{"$f":"IF(ISBLANK('Data Input'!A530),\"\",SUM('Data Input'!C530,'Data Input'!D530,'Data Input'!F530,'Data Input'!J530,'Data Input'!O530,'Data Input'!S530,'Data Input'!AM530,'Data Input'!AN530,'Data Input'!AO530,'Data Input'!AP530))","v":""},{"$f":"IF(P526=\"\",\"\",P526/COUNTIF('Data Input'!$C$8:$AQ$8,$P$2))","v":""},{"$f":"IF(ISBLANK('Data Input'!C530),\"\",SUM('Data Input'!P530))","v":""},{"$f":"IF(R526=\"\",\"\",R526/COUNTIF('Data Input'!$C$8:$AQ$8,$R$2))","v":""}]
[{"$f":"IF('Data Input'!A531=0,\"\",'Data Input'!A531)","v":""},{"$f":"IF(H527=\"\",\"\",IF(H527>Welcome!$K$23-1,\"Exceeding\",IF(H527>Welcome!$G$23-1,\"Expected\",IF(H527<Welcome!$G$23,\"Below\"))))","v":""},{"$f":"IF(ISBLANK('Data Input'!A531),\"\",COUNTIF('Data Input'!C531:AQ531,\"\")-1)","v":""},{"$f":"IF(ISBLANK('Data Input'!A531),\"\",COUNTIF('Data Input'!C531:AQ531,\"0\"))","v":""},{"$f":"IF(ISBLANK('Data Input'!A531),\"\",SUM(C527,D527))","v":""},{"$f":"IF(ISBLANK('Data Input'!A531),\"\",SUM('Data Input'!C531:V531))","v":""},{"$f":"IF(ISBLANK('Data Input'!A531),\"\",SUM('Data Input'!X531:AQ531))","v":""},{"$f":"IF(ISBLANK('Data Input'!A531),\"\",SUM('Data Input'!C531:AQ531))","v":""},{"$f":"IF(H527=\"\",\"\",H527/(COUNTA('Data Input'!$C$8:$AQ$8)-1))","v":""},{"$f":"IF(ISBLANK('Data Input'!A531),\"\",SUM('Data Input'!I531,'Data Input'!M531,'Data Input'!AB531,'Data Input'!AE531))","v":""},{"$f":"IF(J527=\"\",\"\",J527/COUNTIF('Data Input'!$C$8:$AQ$8,$J$2))","v":""},{"$f":"IF(ISBLANK('Data Input'!A531),\"\",SUM('Data Input'!E531,'Data Input'!G531,'Data Input'!H531,'Data Input'!L531,'Data Input'!N531,'Data Input'!Q531,'Data Input'!R531,'Data Input'!T531,'Data Input'!U531,'Data Input'!V531,'Data Input'!X531,'Data Input'!Y531,'Data Input'!Z531,'Data Input'!AA531,'Data Input'!AC531,'Data Input'!AD531,'Data Input'!AF531,'Data Input'!AG531,'Data Input'!AH531,'Data Input'!AI531,'Data Input'!AJ531,'Data Input'!AK531,'Data Input'!AL531))","v":""},{"$f":"IF(L527=\"\",\"\",L527/COUNTIF('Data Input'!$C$8:$AQ$8,$L$2))","v":""},{"$f":"IF(ISBLANK('Data Input'!A531),\"\",SUM('Data Input'!K531,'Data Input'!AQ531))","v":""},{"$f":"IF(N527=\"\",\"\",N527/COUNTIF('Data Input'!$C$8:$AQ$8,$N$2))","v":""},{"$f":"IF(ISBLANK('Data Input'!A531),\"\",SUM('Data Input'!C531,'Data Input'!D531,'Data Input'!F531,'Data Input'!J531,'Data Input'!O531,'Data Input'!S531,'Data Input'!AM531,'Data Input'!AN531,'Data Input'!AO531,'Data Input'!AP531))","v":""},{"$f":"IF(P527=\"\",\"\",P527/COUNTIF('Data Input'!$C$8:$AQ$8,$P$2))","v":""},{"$f":"IF(ISBLANK('Data Input'!C531),\"\",SUM('Data Input'!P531))","v":""},{"$f":"IF(R527=\"\",\"\",R527/COUNTIF('Data Input'!$C$8:$AQ$8,$R$2))","v":""}]
[{"$f":"IF('Data Input'!A532=0,\"\",'Data Input'!A532)","v":""},{"$f":"IF(H528=\"\",\"\",IF(H528>Welcome!$K$23-1,\"Exceeding\",IF(H528>Welcome!$G$23-1,\"Expected\",IF(H528<Welcome!$G$23,\"Below\"))))","v":""},{"$f":"IF(ISBLANK('Data Input'!A532),\"\",COUNTIF('Data Input'!C532:AQ532,\"\")-1)","v":""},{"$f":"IF(ISBLANK('Data Input'!A532),\"\",COUNTIF('Data Input'!C532:AQ532,\"0\"))","v":""},{"$f":"IF(ISBLANK('Data Input'!A532),\"\",SUM(C528,D528))","v":""},{"$f":"IF(ISBLANK('Data Input'!A532),\"\",SUM('Data Input'!C532:V532))","v":""},{"$f":"IF(ISBLANK('Data Input'!A532),\"\",SUM('Data Input'!X532:AQ532))","v":""},{"$f":"IF(ISBLANK('Data Input'!A532),\"\",SUM('Data Input'!C532:AQ532))","v":""},{"$f":"IF(H528=\"\",\"\",H528/(COUNTA('Data Input'!$C$8:$AQ$8)-1))","v":""},{"$f":"IF(ISBLANK('Data Input'!A532),\"\",SUM('Data Input'!I532,'Data Input'!M532,'Data Input'!AB532,'Data Input'!AE532))","v":""},{"$f":"IF(J528=\"\",\"\",J528/COUNTIF('Data Input'!$C$8:$AQ$8,$J$2))","v":""},{"$f":"IF(ISBLANK('Data Input'!A532),\"\",SUM('Data Input'!E532,'Data Input'!G532,'Data Input'!H532,'Data Input'!L532,'Data Input'!N532,'Data Input'!Q532,'Data Input'!R532,'Data Input'!T532,'Data Input'!U532,'Data Input'!V532,'Data Input'!X532,'Data Input'!Y532,'Data Input'!Z532,'Data Input'!AA532,'Data Input'!AC532,'Data Input'!AD532,'Data Input'!AF532,'Data Input'!AG532,'Data Input'!AH532,'Data Input'!AI532,'Data Input'!AJ532,'Data Input'!AK532,'Data Input'!AL532))","v":""},{"$f":"IF(L528=\"\",\"\",L528/COUNTIF('Data Input'!$C$8:$AQ$8,$L$2))","v":""},{"$f":"IF(ISBLANK('Data Input'!A532),\"\",SUM('Data Input'!K532,'Data Input'!AQ532))","v":""},{"$f":"IF(N528=\"\",\"\",N528/COUNTIF('Data Input'!$C$8:$AQ$8,$N$2))","v":""},{"$f":"IF(ISBLANK('Data Input'!A532),\"\",SUM('Data Input'!C532,'Data Input'!D532,'Data Input'!F532,'Data Input'!J532,'Data Input'!O532,'Data Input'!S532,'Data Input'!AM532,'Data Input'!AN532,'Data Input'!AO532,'Data Input'!AP532))","v":""},{"$f":"IF(P528=\"\",\"\",P528/COUNTIF('Data Input'!$C$8:$AQ$8,$P$2))","v":""},{"$f":"IF(ISBLANK('Data Input'!C532),\"\",SUM('Data Input'!P532))","v":""},{"$f":"IF(R528=\"\",\"\",R528/COUNTIF('Data Input'!$C$8:$AQ$8,$R$2))","v":""}]
[{"$f":"IF('Data Input'!A533=0,\"\",'Data Input'!A533)","v":""},{"$f":"IF(H529=\"\",\"\",IF(H529>Welcome!$K$23-1,\"Exceeding\",IF(H529>Welcome!$G$23-1,\"Expected\",IF(H529<Welcome!$G$23,\"Below\"))))","v":""},{"$f":"IF(ISBLANK('Data Input'!A533),\"\",COUNTIF('Data Input'!C533:AQ533,\"\")-1)","v":""},{"$f":"IF(ISBLANK('Data Input'!A533),\"\",COUNTIF('Data Input'!C533:AQ533,\"0\"))","v":""},{"$f":"IF(ISBLANK('Data Input'!A533),\"\",SUM(C529,D529))","v":""},{"$f":"IF(ISBLANK('Data Input'!A533),\"\",SUM('Data Input'!C533:V533))","v":""},{"$f":"IF(ISBLANK('Data Input'!A533),\"\",SUM('Data Input'!X533:AQ533))","v":""},{"$f":"IF(ISBLANK('Data Input'!A533),\"\",SUM('Data Input'!C533:AQ533))","v":""},{"$f":"IF(H529=\"\",\"\",H529/(COUNTA('Data Input'!$C$8:$AQ$8)-1))","v":""},{"$f":"IF(ISBLANK('Data Input'!A533),\"\",SUM('Data Input'!I533,'Data Input'!M533,'Data Input'!AB533,'Data Input'!AE533))","v":""},{"$f":"IF(J529=\"\",\"\",J529/COUNTIF('Data Input'!$C$8:$AQ$8,$J$2))","v":""},{"$f":"IF(ISBLANK('Data Input'!A533),\"\",SUM('Data Input'!E533,'Data Input'!G533,'Data Input'!H533,'Data Input'!L533,'Data Input'!N533,'Data Input'!Q533,'Data Input'!R533,'Data Input'!T533,'Data Input'!U533,'Data Input'!V533,'Data Input'!X533,'Data Input'!Y533,'Data Input'!Z533,'Data Input'!AA533,'Data Input'!AC533,'Data Input'!AD533,'Data Input'!AF533,'Data Input'!AG533,'Data Input'!AH533,'Data Input'!AI533,'Data Input'!AJ533,'Data Input'!AK533,'Data Input'!AL533))","v":""},{"$f":"IF(L529=\"\",\"\",L529/COUNTIF('Data Input'!$C$8:$AQ$8,$L$2))","v":""},{"$f":"IF(ISBLANK('Data Input'!A533),\"\",SUM('Data Input'!K533,'Data Input'!AQ533))","v":""},{"$f":"IF(N529=\"\",\"\",N529/COUNTIF('Data Input'!$C$8:$AQ$8,$N$2))","v":""},{"$f":"IF(ISBLANK('Data Input'!A533),\"\",SUM('Data Input'!C533,'Data Input'!D533,'Data Input'!F533,'Data Input'!J533,'Data Input'!O533,'Data Input'!S533,'Data Input'!AM533,'Data Input'!AN533,'Data Input'!AO533,'Data Input'!AP533))","v":""},{"$f":"IF(P529=\"\",\"\",P529/COUNTIF('Data Input'!$C$8:$AQ$8,$P$2))","v":""},{"$f":"IF(ISBLANK('Data Input'!C533),\"\",SUM('Data Input'!P533))","v":""},{"$f":"IF(R529=\"\",\"\",R529/COUNTIF('Data Input'!$C$8:$AQ$8,$R$2))","v":""}]
[{"$f":"IF('Data Input'!A534=0,\"\",'Data Input'!A534)","v":""},{"$f":"IF(H530=\"\",\"\",IF(H530>Welcome!$K$23-1,\"Exceeding\",IF(H530>Welcome!$G$23-1,\"Expected\",IF(H530<Welcome!$G$23,\"Below\"))))","v":""},{"$f":"IF(ISBLANK('Data Input'!A534),\"\",COUNTIF('Data Input'!C534:AQ534,\"\")-1)","v":""},{"$f":"IF(ISBLANK('Data Input'!A534),\"\",COUNTIF('Data Input'!C534:AQ534,\"0\"))","v":""},{"$f":"IF(ISBLANK('Data Input'!A534),\"\",SUM(C530,D530))","v":""},{"$f":"IF(ISBLANK('Data Input'!A534),\"\",SUM('Data Input'!C534:V534))","v":""},{"$f":"IF(ISBLANK('Data Input'!A534),\"\",SUM('Data Input'!X534:AQ534))","v":""},{"$f":"IF(ISBLANK('Data Input'!A534),\"\",SUM('Data Input'!C534:AQ534))","v":""},{"$f":"IF(H530=\"\",\"\",H530/(COUNTA('Data Input'!$C$8:$AQ$8)-1))","v":""},{"$f":"IF(ISBLANK('Data Input'!A534),\"\",SUM('Data Input'!I534,'Data Input'!M534,'Data Input'!AB534,'Data Input'!AE534))","v":""},{"$f":"IF(J530=\"\",\"\",J530/COUNTIF('Data Input'!$C$8:$AQ$8,$J$2))","v":""},{"$f":"IF(ISBLANK('Data Input'!A534),\"\",SUM('Data Input'!E534,'Data Input'!G534,'Data Input'!H534,'Data Input'!L534,'Data Input'!N534,'Data Input'!Q534,'Data Input'!R534,'Data Input'!T534,'Data Input'!U534,'Data Input'!V534,'Data Input'!X534,'Data Input'!Y534,'Data Input'!Z534,'Data Input'!AA534,'Data Input'!AC534,'Data Input'!AD534,'Data Input'!AF534,'Data Input'!AG534,'Data Input'!AH534,'Data Input'!AI534,'Data Input'!AJ534,'Data Input'!AK534,'Data Input'!AL534))","v":""},{"$f":"IF(L530=\"\",\"\",L530/COUNTIF('Data Input'!$C$8:$AQ$8,$L$2))","v":""},{"$f":"IF(ISBLANK('Data Input'!A534),\"\",SUM('Data Input'!K534,'Data Input'!AQ534))","v":""},{"$f":"IF(N530=\"\",\"\",N530/COUNTIF('Data Input'!$C$8:$AQ$8,$N$2))","v":""},{"$f":"IF(ISBLANK('Data Input'!A534),\"\",SUM('Data Input'!C534,'Data Input'!D534,'Data Input'!F534,'Data Input'!J534,'Data Input'!O534,'Data Input'!S534,'Data Input'!AM534,'Data Input'!AN534,'Data Input'!AO534,'Data Input'!AP534))","v":""},{"$f":"IF(P530=\"\",\"\",P530/COUNTIF('Data Input'!$C$8:$AQ$8,$P$2))","v":""},{"$f":"IF(ISBLANK('Data Input'!C534),\"\",SUM('Data Input'!P534))","v":""},{"$f":"IF(R530=\"\",\"\",R530/COUNTIF('Data Input'!$C$8:$AQ$8,$R$2))","v":""}]
[{"$f":"IF('Data Input'!A535=0,\"\",'Data Input'!A535)","v":""},{"$f":"IF(H531=\"\",\"\",IF(H531>Welcome!$K$23-1,\"Exceeding\",IF(H531>Welcome!$G$23-1,\"Expected\",IF(H531<Welcome!$G$23,\"Below\"))))","v":""},{"$f":"IF(ISBLANK('Data Input'!A535),\"\",COUNTIF('Data Input'!C535:AQ535,\"\")-1)","v":""},{"$f":"IF(ISBLANK('Data Input'!A535),\"\",COUNTIF('Data Input'!C535:AQ535,\"0\"))","v":""},{"$f":"IF(ISBLANK('Data Input'!A535),\"\",SUM(C531,D531))","v":""},{"$f":"IF(ISBLANK('Data Input'!A535),\"\",SUM('Data Input'!C535:V535))","v":""},{"$f":"IF(ISBLANK('Data Input'!A535),\"\",SUM('Data Input'!X535:AQ535))","v":""},{"$f":"IF(ISBLANK('Data Input'!A535),\"\",SUM('Data Input'!C535:AQ535))","v":""},{"$f":"IF(H531=\"\",\"\",H531/(COUNTA('Data Input'!$C$8:$AQ$8)-1))","v":""},{"$f":"IF(ISBLANK('Data Input'!A535),\"\",SUM('Data Input'!I535,'Data Input'!M535,'Data Input'!AB535,'Data Input'!AE535))","v":""},{"$f":"IF(J531=\"\",\"\",J531/COUNTIF('Data Input'!$C$8:$AQ$8,$J$2))","v":""},{"$f":"IF(ISBLANK('Data Input'!A535),\"\",SUM('Data Input'!E535,'Data Input'!G535,'Data Input'!H535,'Data Input'!L535,'Data Input'!N535,'Data Input'!Q535,'Data Input'!R535,'Data Input'!T535,'Data Input'!U535,'Data Input'!V535,'Data Input'!X535,'Data Input'!Y535,'Data Input'!Z535,'Data Input'!AA535,'Data Input'!AC535,'Data Input'!AD535,'Data Input'!AF535,'Data Input'!AG535,'Data Input'!AH535,'Data Input'!AI535,'Data Input'!AJ535,'Data Input'!AK535,'Data Input'!AL535))","v":""},{"$f":"IF(L531=\"\",\"\",L531/COUNTIF('Data Input'!$C$8:$AQ$8,$L$2))","v":""},{"$f":"IF(ISBLANK('Data Input'!A535),\"\",SUM('Data Input'!K535,'Data Input'!AQ535))","v":""},{"$f":"IF(N531=\"\",\"\",N531/COUNTIF('Data Input'!$C$8:$AQ$8,$N$2))","v":""},{"$f":"IF(ISBLANK('Data Input'!A535),\"\",SUM('Data Input'!C535,'Data Input'!D535,'Data Input'!F535,'Data Input'!J535,'Data Input'!O535,'Data Input'!S535,'Data Input'!AM535,'Data Input'!AN535,'Data Input'!AO535,'Data Input'!AP535))","v":""},{"$f":"IF(P531=\"\",\"\",P531/COUNTIF('Data Input'!$C$8:$AQ$8,$P$2))","v":""},{"$f":"IF(ISBLANK('Data Input'!C535),\"\",SUM('Data Input'!P535))","v":""},{"$f":"IF(R531=\"\",\"\",R531/COUNTIF('Data Input'!$C$8:$AQ$8,$R$2))","v":""}]
[{"$f":"IF('Data Input'!A536=0,\"\",'Data Input'!A536)","v":""},{"$f":"IF(H532=\"\",\"\",IF(H532>Welcome!$K$23-1,\"Exceeding\",IF(H532>Welcome!$G$23-1,\"Expected\",IF(H532<Welcome!$G$23,\"Below\"))))","v":""},{"$f":"IF(ISBLANK('Data Input'!A536),\"\",COUNTIF('Data Input'!C536:AQ536,\"\")-1)","v":""},{"$f":"IF(ISBLANK('Data Input'!A536),\"\",COUNTIF('Data Input'!C536:AQ536,\"0\"))","v":""},{"$f":"IF(ISBLANK('Data Input'!A536),\"\",SUM(C532,D532))","v":""},{"$f":"IF(ISBLANK('Data Input'!A536),\"\",SUM('Data Input'!C536:V536))","v":""},{"$f":"IF(ISBLANK('Data Input'!A536),\"\",SUM('Data Input'!X536:AQ536))","v":""},{"$f":"IF(ISBLANK('Data Input'!A536),\"\",SUM('Data Input'!C536:AQ536))","v":""},{"$f":"IF(H532=\"\",\"\",H532/(COUNTA('Data Input'!$C$8:$AQ$8)-1))","v":""},{"$f":"IF(ISBLANK('Data Input'!A536),\"\",SUM('Data Input'!I536,'Data Input'!M536,'Data Input'!AB536,'Data Input'!AE536))","v":""},{"$f":"IF(J532=\"\",\"\",J532/COUNTIF('Data Input'!$C$8:$AQ$8,$J$2))","v":""},{"$f":"IF(ISBLANK('Data Input'!A536),\"\",SUM('Data Input'!E536,'Data Input'!G536,'Data Input'!H536,'Data Input'!L536,'Data Input'!N536,'Data Input'!Q536,'Data Input'!R536,'Data Input'!T536,'Data Input'!U536,'Data Input'!V536,'Data Input'!X536,'Data Input'!Y536,'Data Input'!Z536,'Data Input'!AA536,'Data Input'!AC536,'Data Input'!AD536,'Data Input'!AF536,'Data Input'!AG536,'Data Input'!AH536,'Data Input'!AI536,'Data Input'!AJ536,'Data Input'!AK536,'Data Input'!AL536))","v":""},{"$f":"IF(L532=\"\",\"\",L532/COUNTIF('Data Input'!$C$8:$AQ$8,$L$2))","v":""},{"$f":"IF(ISBLANK('Data Input'!A536),\"\",SUM('Data Input'!K536,'Data Input'!AQ536))","v":""},{"$f":"IF(N532=\"\",\"\",N532/COUNTIF('Data Input'!$C$8:$AQ$8,$N$2))","v":""},{"$f":"IF(ISBLANK('Data Input'!A536),\"\",SUM('Data Input'!C536,'Data Input'!D536,'Data Input'!F536,'Data Input'!J536,'Data Input'!O536,'Data Input'!S536,'Data Input'!AM536,'Data Input'!AN536,'Data Input'!AO536,'Data Input'!AP536))","v":""},{"$f":"IF(P532=\"\",\"\",P532/COUNTIF('Data Input'!$C$8:$AQ$8,$P$2))","v":""},{"$f":"IF(ISBLANK('Data Input'!C536),\"\",SUM('Data Input'!P536))","v":""},{"$f":"IF(R532=\"\",\"\",R532/COUNTIF('Data Input'!$C$8:$AQ$8,$R$2))","v":""}]
[{"$f":"IF('Data Input'!A537=0,\"\",'Data Input'!A537)","v":""},{"$f":"IF(H533=\"\",\"\",IF(H533>Welcome!$K$23-1,\"Exceeding\",IF(H533>Welcome!$G$23-1,\"Expected\",IF(H533<Welcome!$G$23,\"Below\"))))","v":""},{"$f":"IF(ISBLANK('Data Input'!A537),\"\",COUNTIF('Data Input'!C537:AQ537,\"\")-1)","v":""},{"$f":"IF(ISBLANK('Data Input'!A537),\"\",COUNTIF('Data Input'!C537:AQ537,\"0\"))","v":""},{"$f":"IF(ISBLANK('Data Input'!A537),\"\",SUM(C533,D533))","v":""},{"$f":"IF(ISBLANK('Data Input'!A537),\"\",SUM('Data Input'!C537:V537))","v":""},{"$f":"IF(ISBLANK('Data Input'!A537),\"\",SUM('Data Input'!X537:AQ537))","v":""},{"$f":"IF(ISBLANK('Data Input'!A537),\"\",SUM('Data Input'!C537:AQ537))","v":""},{"$f":"IF(H533=\"\",\"\",H533/(COUNTA('Data Input'!$C$8:$AQ$8)-1))","v":""},{"$f":"IF(ISBLANK('Data Input'!A537),\"\",SUM('Data Input'!I537,'Data Input'!M537,'Data Input'!AB537,'Data Input'!AE537))","v":""},{"$f":"IF(J533=\"\",\"\",J533/COUNTIF('Data Input'!$C$8:$AQ$8,$J$2))","v":""},{"$f":"IF(ISBLANK('Data Input'!A537),\"\",SUM('Data Input'!E537,'Data Input'!G537,'Data Input'!H537,'Data Input'!L537,'Data Input'!N537,'Data Input'!Q537,'Data Input'!R537,'Data Input'!T537,'Data Input'!U537,'Data Input'!V537,'Data Input'!X537,'Data Input'!Y537,'Data Input'!Z537,'Data Input'!AA537,'Data Input'!AC537,'Data Input'!AD537,'Data Input'!AF537,'Data Input'!AG537,'Data Input'!AH537,'Data Input'!AI537,'Data Input'!AJ537,'Data Input'!AK537,'Data Input'!AL537))","v":""},{"$f":"IF(L533=\"\",\"\",L533/COUNTIF('Data Input'!$C$8:$AQ$8,$L$2))","v":""},{"$f":"IF(ISBLANK('Data Input'!A537),\"\",SUM('Data Input'!K537,'Data Input'!AQ537))","v":""},{"$f":"IF(N533=\"\",\"\",N533/COUNTIF('Data Input'!$C$8:$AQ$8,$N$2))","v":""},{"$f":"IF(ISBLANK('Data Input'!A537),\"\",SUM('Data Input'!C537,'Data Input'!D537,'Data Input'!F537,'Data Input'!J537,'Data Input'!O537,'Data Input'!S537,'Data Input'!AM537,'Data Input'!AN537,'Data Input'!AO537,'Data Input'!AP537))","v":""},{"$f":"IF(P533=\"\",\"\",P533/COUNTIF('Data Input'!$C$8:$AQ$8,$P$2))","v":""},{"$f":"IF(ISBLANK('Data Input'!C537),\"\",SUM('Data Input'!P537))","v":""},{"$f":"IF(R533=\"\",\"\",R533/COUNTIF('Data Input'!$C$8:$AQ$8,$R$2))","v":""}]
[{"$f":"IF('Data Input'!A538=0,\"\",'Data Input'!A538)","v":""},{"$f":"IF(H534=\"\",\"\",IF(H534>Welcome!$K$23-1,\"Exceeding\",IF(H534>Welcome!$G$23-1,\"Expected\",IF(H534<Welcome!$G$23,\"Below\"))))","v":""},{"$f":"IF(ISBLANK('Data Input'!A538),\"\",COUNTIF('Data Input'!C538:AQ538,\"\")-1)","v":""},{"$f":"IF(ISBLANK('Data Input'!A538),\"\",COUNTIF('Data Input'!C538:AQ538,\"0\"))","v":""},{"$f":"IF(ISBLANK('Data Input'!A538),\"\",SUM(C534,D534))","v":""},{"$f":"IF(ISBLANK('Data Input'!A538),\"\",SUM('Data Input'!C538:V538))","v":""},{"$f":"IF(ISBLANK('Data Input'!A538),\"\",SUM('Data Input'!X538:AQ538))","v":""},{"$f":"IF(ISBLANK('Data Input'!A538),\"\",SUM('Data Input'!C538:AQ538))","v":""},{"$f":"IF(H534=\"\",\"\",H534/(COUNTA('Data Input'!$C$8:$AQ$8)-1))","v":""},{"$f":"IF(ISBLANK('Data Input'!A538),\"\",SUM('Data Input'!I538,'Data Input'!M538,'Data Input'!AB538,'Data Input'!AE538))","v":""},{"$f":"IF(J534=\"\",\"\",J534/COUNTIF('Data Input'!$C$8:$AQ$8,$J$2))","v":""},{"$f":"IF(ISBLANK('Data Input'!A538),\"\",SUM('Data Input'!E538,'Data Input'!G538,'Data Input'!H538,'Data Input'!L538,'Data Input'!N538,'Data Input'!Q538,'Data Input'!R538,'Data Input'!T538,'Data Input'!U538,'Data Input'!V538,'Data Input'!X538,'Data Input'!Y538,'Data Input'!Z538,'Data Input'!AA538,'Data Input'!AC538,'Data Input'!AD538,'Data Input'!AF538,'Data Input'!AG538,'Data Input'!AH538,'Data Input'!AI538,'Data Input'!AJ538,'Data Input'!AK538,'Data Input'!AL538))","v":""},{"$f":"IF(L534=\"\",\"\",L534/COUNTIF('Data Input'!$C$8:$AQ$8,$L$2))","v":""},{"$f":"IF(ISBLANK('Data Input'!A538),\"\",SUM('Data Input'!K538,'Data Input'!AQ538))","v":""},{"$f":"IF(N534=\"\",\"\",N534/COUNTIF('Data Input'!$C$8:$AQ$8,$N$2))","v":""},{"$f":"IF(ISBLANK('Data Input'!A538),\"\",SUM('Data Input'!C538,'Data Input'!D538,'Data Input'!F538,'Data Input'!J538,'Data Input'!O538,'Data Input'!S538,'Data Input'!AM538,'Data Input'!AN538,'Data Input'!AO538,'Data Input'!AP538))","v":""},{"$f":"IF(P534=\"\",\"\",P534/COUNTIF('Data Input'!$C$8:$AQ$8,$P$2))","v":""},{"$f":"IF(ISBLANK('Data Input'!C538),\"\",SUM('Data Input'!P538))","v":""},{"$f":"IF(R534=\"\",\"\",R534/COUNTIF('Data Input'!$C$8:$AQ$8,$R$2))","v":""}]
[{"$f":"IF('Data Input'!A539=0,\"\",'Data Input'!A539)","v":""},{"$f":"IF(H535=\"\",\"\",IF(H535>Welcome!$K$23-1,\"Exceeding\",IF(H535>Welcome!$G$23-1,\"Expected\",IF(H535<Welcome!$G$23,\"Below\"))))","v":""},{"$f":"IF(ISBLANK('Data Input'!A539),\"\",COUNTIF('Data Input'!C539:AQ539,\"\")-1)","v":""},{"$f":"IF(ISBLANK('Data Input'!A539),\"\",COUNTIF('Data Input'!C539:AQ539,\"0\"))","v":""},{"$f":"IF(ISBLANK('Data Input'!A539),\"\",SUM(C535,D535))","v":""},{"$f":"IF(ISBLANK('Data Input'!A539),\"\",SUM('Data Input'!C539:V539))","v":""},{"$f":"IF(ISBLANK('Data Input'!A539),\"\",SUM('Data Input'!X539:AQ539))","v":""},{"$f":"IF(ISBLANK('Data Input'!A539),\"\",SUM('Data Input'!C539:AQ539))","v":""},{"$f":"IF(H535=\"\",\"\",H535/(COUNTA('Data Input'!$C$8:$AQ$8)-1))","v":""},{"$f":"IF(ISBLANK('Data Input'!A539),\"\",SUM('Data Input'!I539,'Data Input'!M539,'Data Input'!AB539,'Data Input'!AE539))","v":""},{"$f":"IF(J535=\"\",\"\",J535/COUNTIF('Data Input'!$C$8:$AQ$8,$J$2))","v":""},{"$f":"IF(ISBLANK('Data Input'!A539),\"\",SUM('Data Input'!E539,'Data Input'!G539,'Data Input'!H539,'Data Input'!L539,'Data Input'!N539,'Data Input'!Q539,'Data Input'!R539,'Data Input'!T539,'Data Input'!U539,'Data Input'!V539,'Data Input'!X539,'Data Input'!Y539,'Data Input'!Z539,'Data Input'!AA539,'Data Input'!AC539,'Data Input'!AD539,'Data Input'!AF539,'Data Input'!AG539,'Data Input'!AH539,'Data Input'!AI539,'Data Input'!AJ539,'Data Input'!AK539,'Data Input'!AL539))","v":""},{"$f":"IF(L535=\"\",\"\",L535/COUNTIF('Data Input'!$C$8:$AQ$8,$L$2))","v":""},{"$f":"IF(ISBLANK('Data Input'!A539),\"\",SUM('Data Input'!K539,'Data Input'!AQ539))","v":""},{"$f":"IF(N535=\"\",\"\",N535/COUNTIF('Data Input'!$C$8:$AQ$8,$N$2))","v":""},{"$f":"IF(ISBLANK('Data Input'!A539),\"\",SUM('Data Input'!C539,'Data Input'!D539,'Data Input'!F539,'Data Input'!J539,'Data Input'!O539,'Data Input'!S539,'Data Input'!AM539,'Data Input'!AN539,'Data Input'!AO539,'Data Input'!AP539))","v":""},{"$f":"IF(P535=\"\",\"\",P535/COUNTIF('Data Input'!$C$8:$AQ$8,$P$2))","v":""},{"$f":"IF(ISBLANK('Data Input'!C539),\"\",SUM('Data Input'!P539))","v":""},{"$f":"IF(R535=\"\",\"\",R535/COUNTIF('Data Input'!$C$8:$AQ$8,$R$2))","v":""}]
[{"$f":"IF('Data Input'!A540=0,\"\",'Data Input'!A540)","v":""},{"$f":"IF(H536=\"\",\"\",IF(H536>Welcome!$K$23-1,\"Exceeding\",IF(H536>Welcome!$G$23-1,\"Expected\",IF(H536<Welcome!$G$23,\"Below\"))))","v":""},{"$f":"IF(ISBLANK('Data Input'!A540),\"\",COUNTIF('Data Input'!C540:AQ540,\"\")-1)","v":""},{"$f":"IF(ISBLANK('Data Input'!A540),\"\",COUNTIF('Data Input'!C540:AQ540,\"0\"))","v":""},{"$f":"IF(ISBLANK('Data Input'!A540),\"\",SUM(C536,D536))","v":""},{"$f":"IF(ISBLANK('Data Input'!A540),\"\",SUM('Data Input'!C540:V540))","v":""},{"$f":"IF(ISBLANK('Data Input'!A540),\"\",SUM('Data Input'!X540:AQ540))","v":""},{"$f":"IF(ISBLANK('Data Input'!A540),\"\",SUM('Data Input'!C540:AQ540))","v":""},{"$f":"IF(H536=\"\",\"\",H536/(COUNTA('Data Input'!$C$8:$AQ$8)-1))","v":""},{"$f":"IF(ISBLANK('Data Input'!A540),\"\",SUM('Data Input'!I540,'Data Input'!M540,'Data Input'!AB540,'Data Input'!AE540))","v":""},{"$f":"IF(J536=\"\",\"\",J536/COUNTIF('Data Input'!$C$8:$AQ$8,$J$2))","v":""},{"$f":"IF(ISBLANK('Data Input'!A540),\"\",SUM('Data Input'!E540,'Data Input'!G540,'Data Input'!H540,'Data Input'!L540,'Data Input'!N540,'Data Input'!Q540,'Data Input'!R540,'Data Input'!T540,'Data Input'!U540,'Data Input'!V540,'Data Input'!X540,'Data Input'!Y540,'Data Input'!Z540,'Data Input'!AA540,'Data Input'!AC540,'Data Input'!AD540,'Data Input'!AF540,'Data Input'!AG540,'Data Input'!AH540,'Data Input'!AI540,'Data Input'!AJ540,'Data Input'!AK540,'Data Input'!AL540))","v":""},{"$f":"IF(L536=\"\",\"\",L536/COUNTIF('Data Input'!$C$8:$AQ$8,$L$2))","v":""},{"$f":"IF(ISBLANK('Data Input'!A540),\"\",SUM('Data Input'!K540,'Data Input'!AQ540))","v":""},{"$f":"IF(N536=\"\",\"\",N536/COUNTIF('Data Input'!$C$8:$AQ$8,$N$2))","v":""},{"$f":"IF(ISBLANK('Data Input'!A540),\"\",SUM('Data Input'!C540,'Data Input'!D540,'Data Input'!F540,'Data Input'!J540,'Data Input'!O540,'Data Input'!S540,'Data Input'!AM540,'Data Input'!AN540,'Data Input'!AO540,'Data Input'!AP540))","v":""},{"$f":"IF(P536=\"\",\"\",P536/COUNTIF('Data Input'!$C$8:$AQ$8,$P$2))","v":""},{"$f":"IF(ISBLANK('Data Input'!C540),\"\",SUM('Data Input'!P540))","v":""},{"$f":"IF(R536=\"\",\"\",R536/COUNTIF('Data Input'!$C$8:$AQ$8,$R$2))","v":""}]
[{"$f":"IF('Data Input'!A541=0,\"\",'Data Input'!A541)","v":""},{"$f":"IF(H537=\"\",\"\",IF(H537>Welcome!$K$23-1,\"Exceeding\",IF(H537>Welcome!$G$23-1,\"Expected\",IF(H537<Welcome!$G$23,\"Below\"))))","v":""},{"$f":"IF(ISBLANK('Data Input'!A541),\"\",COUNTIF('Data Input'!C541:AQ541,\"\")-1)","v":""},{"$f":"IF(ISBLANK('Data Input'!A541),\"\",COUNTIF('Data Input'!C541:AQ541,\"0\"))","v":""},{"$f":"IF(ISBLANK('Data Input'!A541),\"\",SUM(C537,D537))","v":""},{"$f":"IF(ISBLANK('Data Input'!A541),\"\",SUM('Data Input'!C541:V541))","v":""},{"$f":"IF(ISBLANK('Data Input'!A541),\"\",SUM('Data Input'!X541:AQ541))","v":""},{"$f":"IF(ISBLANK('Data Input'!A541),\"\",SUM('Data Input'!C541:AQ541))","v":""},{"$f":"IF(H537=\"\",\"\",H537/(COUNTA('Data Input'!$C$8:$AQ$8)-1))","v":""},{"$f":"IF(ISBLANK('Data Input'!A541),\"\",SUM('Data Input'!I541,'Data Input'!M541,'Data Input'!AB541,'Data Input'!AE541))","v":""},{"$f":"IF(J537=\"\",\"\",J537/COUNTIF('Data Input'!$C$8:$AQ$8,$J$2))","v":""},{"$f":"IF(ISBLANK('Data Input'!A541),\"\",SUM('Data Input'!E541,'Data Input'!G541,'Data Input'!H541,'Data Input'!L541,'Data Input'!N541,'Data Input'!Q541,'Data Input'!R541,'Data Input'!T541,'Data Input'!U541,'Data Input'!V541,'Data Input'!X541,'Data Input'!Y541,'Data Input'!Z541,'Data Input'!AA541,'Data Input'!AC541,'Data Input'!AD541,'Data Input'!AF541,'Data Input'!AG541,'Data Input'!AH541,'Data Input'!AI541,'Data Input'!AJ541,'Data Input'!AK541,'Data Input'!AL541))","v":""},{"$f":"IF(L537=\"\",\"\",L537/COUNTIF('Data Input'!$C$8:$AQ$8,$L$2))","v":""},{"$f":"IF(ISBLANK('Data Input'!A541),\"\",SUM('Data Input'!K541,'Data Input'!AQ541))","v":""},{"$f":"IF(N537=\"\",\"\",N537/COUNTIF('Data Input'!$C$8:$AQ$8,$N$2))","v":""},{"$f":"IF(ISBLANK('Data Input'!A541),\"\",SUM('Data Input'!C541,'Data Input'!D541,'Data Input'!F541,'Data Input'!J541,'Data Input'!O541,'Data Input'!S541,'Data Input'!AM541,'Data Input'!AN541,'Data Input'!AO541,'Data Input'!AP541))","v":""},{"$f":"IF(P537=\"\",\"\",P537/COUNTIF('Data Input'!$C$8:$AQ$8,$P$2))","v":""},{"$f":"IF(ISBLANK('Data Input'!C541),\"\",SUM('Data Input'!P541))","v":""},{"$f":"IF(R537=\"\",\"\",R537/COUNTIF('Data Input'!$C$8:$AQ$8,$R$2))","v":""}]
[{"$f":"IF('Data Input'!A542=0,\"\",'Data Input'!A542)","v":""},{"$f":"IF(H538=\"\",\"\",IF(H538>Welcome!$K$23-1,\"Exceeding\",IF(H538>Welcome!$G$23-1,\"Expected\",IF(H538<Welcome!$G$23,\"Below\"))))","v":""},{"$f":"IF(ISBLANK('Data Input'!A542),\"\",COUNTIF('Data Input'!C542:AQ542,\"\")-1)","v":""},{"$f":"IF(ISBLANK('Data Input'!A542),\"\",COUNTIF('Data Input'!C542:AQ542,\"0\"))","v":""},{"$f":"IF(ISBLANK('Data Input'!A542),\"\",SUM(C538,D538))","v":""},{"$f":"IF(ISBLANK('Data Input'!A542),\"\",SUM('Data Input'!C542:V542))","v":""},{"$f":"IF(ISBLANK('Data Input'!A542),\"\",SUM('Data Input'!X542:AQ542))","v":""},{"$f":"IF(ISBLANK('Data Input'!A542),\"\",SUM('Data Input'!C542:AQ542))","v":""},{"$f":"IF(H538=\"\",\"\",H538/(COUNTA('Data Input'!$C$8:$AQ$8)-1))","v":""},{"$f":"IF(ISBLANK('Data Input'!A542),\"\",SUM('Data Input'!I542,'Data Input'!M542,'Data Input'!AB542,'Data Input'!AE542))","v":""},{"$f":"IF(J538=\"\",\"\",J538/COUNTIF('Data Input'!$C$8:$AQ$8,$J$2))","v":""},{"$f":"IF(ISBLANK('Data Input'!A542),\"\",SUM('Data Input'!E542,'Data Input'!G542,'Data Input'!H542,'Data Input'!L542,'Data Input'!N542,'Data Input'!Q542,'Data Input'!R542,'Data Input'!T542,'Data Input'!U542,'Data Input'!V542,'Data Input'!X542,'Data Input'!Y542,'Data Input'!Z542,'Data Input'!AA542,'Data Input'!AC542,'Data Input'!AD542,'Data Input'!AF542,'Data Input'!AG542,'Data Input'!AH542,'Data Input'!AI542,'Data Input'!AJ542,'Data Input'!AK542,'Data Input'!AL542))","v":""},{"$f":"IF(L538=\"\",\"\",L538/COUNTIF('Data Input'!$C$8:$AQ$8,$L$2))","v":""},{"$f":"IF(ISBLANK('Data Input'!A542),\"\",SUM('Data Input'!K542,'Data Input'!AQ542))","v":""},{"$f":"IF(N538=\"\",\"\",N538/COUNTIF('Data Input'!$C$8:$AQ$8,$N$2))","v":""},{"$f":"IF(ISBLANK('Data Input'!A542),\"\",SUM('Data Input'!C542,'Data Input'!D542,'Data Input'!F542,'Data Input'!J542,'Data Input'!O542,'Data Input'!S542,'Data Input'!AM542,'Data Input'!AN542,'Data Input'!AO542,'Data Input'!AP542))","v":""},{"$f":"IF(P538=\"\",\"\",P538/COUNTIF('Data Input'!$C$8:$AQ$8,$P$2))","v":""},{"$f":"IF(ISBLANK('Data Input'!C542),\"\",SUM('Data Input'!P542))","v":""},{"$f":"IF(R538=\"\",\"\",R538/COUNTIF('Data Input'!$C$8:$AQ$8,$R$2))","v":""}]
[{"$f":"IF('Data Input'!A543=0,\"\",'Data Input'!A543)","v":""},{"$f":"IF(H539=\"\",\"\",IF(H539>Welcome!$K$23-1,\"Exceeding\",IF(H539>Welcome!$G$23-1,\"Expected\",IF(H539<Welcome!$G$23,\"Below\"))))","v":""},{"$f":"IF(ISBLANK('Data Input'!A543),\"\",COUNTIF('Data Input'!C543:AQ543,\"\")-1)","v":""},{"$f":"IF(ISBLANK('Data Input'!A543),\"\",COUNTIF('Data Input'!C543:AQ543,\"0\"))","v":""},{"$f":"IF(ISBLANK('Data Input'!A543),\"\",SUM(C539,D539))","v":""},{"$f":"IF(ISBLANK('Data Input'!A543),\"\",SUM('Data Input'!C543:V543))","v":""},{"$f":"IF(ISBLANK('Data Input'!A543),\"\",SUM('Data Input'!X543:AQ543))","v":""},{"$f":"IF(ISBLANK('Data Input'!A543),\"\",SUM('Data Input'!C543:AQ543))","v":""},{"$f":"IF(H539=\"\",\"\",H539/(COUNTA('Data Input'!$C$8:$AQ$8)-1))","v":""},{"$f":"IF(ISBLANK('Data Input'!A543),\"\",SUM('Data Input'!I543,'Data Input'!M543,'Data Input'!AB543,'Data Input'!AE543))","v":""},{"$f":"IF(J539=\"\",\"\",J539/COUNTIF('Data Input'!$C$8:$AQ$8,$J$2))","v":""},{"$f":"IF(ISBLANK('Data Input'!A543),\"\",SUM('Data Input'!E543,'Data Input'!G543,'Data Input'!H543,'Data Input'!L543,'Data Input'!N543,'Data Input'!Q543,'Data Input'!R543,'Data Input'!T543,'Data Input'!U543,'Data Input'!V543,'Data Input'!X543,'Data Input'!Y543,'Data Input'!Z543,'Data Input'!AA543,'Data Input'!AC543,'Data Input'!AD543,'Data Input'!AF543,'Data Input'!AG543,'Data Input'!AH543,'Data Input'!AI543,'Data Input'!AJ543,'Data Input'!AK543,'Data Input'!AL543))","v":""},{"$f":"IF(L539=\"\",\"\",L539/COUNTIF('Data Input'!$C$8:$AQ$8,$L$2))","v":""},{"$f":"IF(ISBLANK('Data Input'!A543),\"\",SUM('Data Input'!K543,'Data Input'!AQ543))","v":""},{"$f":"IF(N539=\"\",\"\",N539/COUNTIF('Data Input'!$C$8:$AQ$8,$N$2))","v":""},{"$f":"IF(ISBLANK('Data Input'!A543),\"\",SUM('Data Input'!C543,'Data Input'!D543,'Data Input'!F543,'Data Input'!J543,'Data Input'!O543,'Data Input'!S543,'Data Input'!AM543,'Data Input'!AN543,'Data Input'!AO543,'Data Input'!AP543))","v":""},{"$f":"IF(P539=\"\",\"\",P539/COUNTIF('Data Input'!$C$8:$AQ$8,$P$2))","v":""},{"$f":"IF(ISBLANK('Data Input'!C543),\"\",SUM('Data Input'!P543))","v":""},{"$f":"IF(R539=\"\",\"\",R539/COUNTIF('Data Input'!$C$8:$AQ$8,$R$2))","v":""}]
[{"$f":"IF('Data Input'!A544=0,\"\",'Data Input'!A544)","v":""},{"$f":"IF(H540=\"\",\"\",IF(H540>Welcome!$K$23-1,\"Exceeding\",IF(H540>Welcome!$G$23-1,\"Expected\",IF(H540<Welcome!$G$23,\"Below\"))))","v":""},{"$f":"IF(ISBLANK('Data Input'!A544),\"\",COUNTIF('Data Input'!C544:AQ544,\"\")-1)","v":""},{"$f":"IF(ISBLANK('Data Input'!A544),\"\",COUNTIF('Data Input'!C544:AQ544,\"0\"))","v":""},{"$f":"IF(ISBLANK('Data Input'!A544),\"\",SUM(C540,D540))","v":""},{"$f":"IF(ISBLANK('Data Input'!A544),\"\",SUM('Data Input'!C544:V544))","v":""},{"$f":"IF(ISBLANK('Data Input'!A544),\"\",SUM('Data Input'!X544:AQ544))","v":""},{"$f":"IF(ISBLANK('Data Input'!A544),\"\",SUM('Data Input'!C544:AQ544))","v":""},{"$f":"IF(H540=\"\",\"\",H540/(COUNTA('Data Input'!$C$8:$AQ$8)-1))","v":""},{"$f":"IF(ISBLANK('Data Input'!A544),\"\",SUM('Data Input'!I544,'Data Input'!M544,'Data Input'!AB544,'Data Input'!AE544))","v":""},{"$f":"IF(J540=\"\",\"\",J540/COUNTIF('Data Input'!$C$8:$AQ$8,$J$2))","v":""},{"$f":"IF(ISBLANK('Data Input'!A544),\"\",SUM('Data Input'!E544,'Data Input'!G544,'Data Input'!H544,'Data Input'!L544,'Data Input'!N544,'Data Input'!Q544,'Data Input'!R544,'Data Input'!T544,'Data Input'!U544,'Data Input'!V544,'Data Input'!X544,'Data Input'!Y544,'Data Input'!Z544,'Data Input'!AA544,'Data Input'!AC544,'Data Input'!AD544,'Data Input'!AF544,'Data Input'!AG544,'Data Input'!AH544,'Data Input'!AI544,'Data Input'!AJ544,'Data Input'!AK544,'Data Input'!AL544))","v":""},{"$f":"IF(L540=\"\",\"\",L540/COUNTIF('Data Input'!$C$8:$AQ$8,$L$2))","v":""},{"$f":"IF(ISBLANK('Data Input'!A544),\"\",SUM('Data Input'!K544,'Data Input'!AQ544))","v":""},{"$f":"IF(N540=\"\",\"\",N540/COUNTIF('Data Input'!$C$8:$AQ$8,$N$2))","v":""},{"$f":"IF(ISBLANK('Data Input'!A544),\"\",SUM('Data Input'!C544,'Data Input'!D544,'Data Input'!F544,'Data Input'!J544,'Data Input'!O544,'Data Input'!S544,'Data Input'!AM544,'Data Input'!AN544,'Data Input'!AO544,'Data Input'!AP544))","v":""},{"$f":"IF(P540=\"\",\"\",P540/COUNTIF('Data Input'!$C$8:$AQ$8,$P$2))","v":""},{"$f":"IF(ISBLANK('Data Input'!C544),\"\",SUM('Data Input'!P544))","v":""},{"$f":"IF(R540=\"\",\"\",R540/COUNTIF('Data Input'!$C$8:$AQ$8,$R$2))","v":""}]
[{"$f":"IF('Data Input'!A545=0,\"\",'Data Input'!A545)","v":""},{"$f":"IF(H541=\"\",\"\",IF(H541>Welcome!$K$23-1,\"Exceeding\",IF(H541>Welcome!$G$23-1,\"Expected\",IF(H541<Welcome!$G$23,\"Below\"))))","v":""},{"$f":"IF(ISBLANK('Data Input'!A545),\"\",COUNTIF('Data Input'!C545:AQ545,\"\")-1)","v":""},{"$f":"IF(ISBLANK('Data Input'!A545),\"\",COUNTIF('Data Input'!C545:AQ545,\"0\"))","v":""},{"$f":"IF(ISBLANK('Data Input'!A545),\"\",SUM(C541,D541))","v":""},{"$f":"IF(ISBLANK('Data Input'!A545),\"\",SUM('Data Input'!C545:V545))","v":""},{"$f":"IF(ISBLANK('Data Input'!A545),\"\",SUM('Data Input'!X545:AQ545))","v":""},{"$f":"IF(ISBLANK('Data Input'!A545),\"\",SUM('Data Input'!C545:AQ545))","v":""},{"$f":"IF(H541=\"\",\"\",H541/(COUNTA('Data Input'!$C$8:$AQ$8)-1))","v":""},{"$f":"IF(ISBLANK('Data Input'!A545),\"\",SUM('Data Input'!I545,'Data Input'!M545,'Data Input'!AB545,'Data Input'!AE545))","v":""},{"$f":"IF(J541=\"\",\"\",J541/COUNTIF('Data Input'!$C$8:$AQ$8,$J$2))","v":""},{"$f":"IF(ISBLANK('Data Input'!A545),\"\",SUM('Data Input'!E545,'Data Input'!G545,'Data Input'!H545,'Data Input'!L545,'Data Input'!N545,'Data Input'!Q545,'Data Input'!R545,'Data Input'!T545,'Data Input'!U545,'Data Input'!V545,'Data Input'!X545,'Data Input'!Y545,'Data Input'!Z545,'Data Input'!AA545,'Data Input'!AC545,'Data Input'!AD545,'Data Input'!AF545,'Data Input'!AG545,'Data Input'!AH545,'Data Input'!AI545,'Data Input'!AJ545,'Data Input'!AK545,'Data Input'!AL545))","v":""},{"$f":"IF(L541=\"\",\"\",L541/COUNTIF('Data Input'!$C$8:$AQ$8,$L$2))","v":""},{"$f":"IF(ISBLANK('Data Input'!A545),\"\",SUM('Data Input'!K545,'Data Input'!AQ545))","v":""},{"$f":"IF(N541=\"\",\"\",N541/COUNTIF('Data Input'!$C$8:$AQ$8,$N$2))","v":""},{"$f":"IF(ISBLANK('Data Input'!A545),\"\",SUM('Data Input'!C545,'Data Input'!D545,'Data Input'!F545,'Data Input'!J545,'Data Input'!O545,'Data Input'!S545,'Data Input'!AM545,'Data Input'!AN545,'Data Input'!AO545,'Data Input'!AP545))","v":""},{"$f":"IF(P541=\"\",\"\",P541/COUNTIF('Data Input'!$C$8:$AQ$8,$P$2))","v":""},{"$f":"IF(ISBLANK('Data Input'!C545),\"\",SUM('Data Input'!P545))","v":""},{"$f":"IF(R541=\"\",\"\",R541/COUNTIF('Data Input'!$C$8:$AQ$8,$R$2))","v":""}]
[{"$f":"IF('Data Input'!A546=0,\"\",'Data Input'!A546)","v":""},{"$f":"IF(H542=\"\",\"\",IF(H542>Welcome!$K$23-1,\"Exceeding\",IF(H542>Welcome!$G$23-1,\"Expected\",IF(H542<Welcome!$G$23,\"Below\"))))","v":""},{"$f":"IF(ISBLANK('Data Input'!A546),\"\",COUNTIF('Data Input'!C546:AQ546,\"\")-1)","v":""},{"$f":"IF(ISBLANK('Data Input'!A546),\"\",COUNTIF('Data Input'!C546:AQ546,\"0\"))","v":""},{"$f":"IF(ISBLANK('Data Input'!A546),\"\",SUM(C542,D542))","v":""},{"$f":"IF(ISBLANK('Data Input'!A546),\"\",SUM('Data Input'!C546:V546))","v":""},{"$f":"IF(ISBLANK('Data Input'!A546),\"\",SUM('Data Input'!X546:AQ546))","v":""},{"$f":"IF(ISBLANK('Data Input'!A546),\"\",SUM('Data Input'!C546:AQ546))","v":""},{"$f":"IF(H542=\"\",\"\",H542/(COUNTA('Data Input'!$C$8:$AQ$8)-1))","v":""},{"$f":"IF(ISBLANK('Data Input'!A546),\"\",SUM('Data Input'!I546,'Data Input'!M546,'Data Input'!AB546,'Data Input'!AE546))","v":""},{"$f":"IF(J542=\"\",\"\",J542/COUNTIF('Data Input'!$C$8:$AQ$8,$J$2))","v":""},{"$f":"IF(ISBLANK('Data Input'!A546),\"\",SUM('Data Input'!E546,'Data Input'!G546,'Data Input'!H546,'Data Input'!L546,'Data Input'!N546,'Data Input'!Q546,'Data Input'!R546,'Data Input'!T546,'Data Input'!U546,'Data Input'!V546,'Data Input'!X546,'Data Input'!Y546,'Data Input'!Z546,'Data Input'!AA546,'Data Input'!AC546,'Data Input'!AD546,'Data Input'!AF546,'Data Input'!AG546,'Data Input'!AH546,'Data Input'!AI546,'Data Input'!AJ546,'Data Input'!AK546,'Data Input'!AL546))","v":""},{"$f":"IF(L542=\"\",\"\",L542/COUNTIF('Data Input'!$C$8:$AQ$8,$L$2))","v":""},{"$f":"IF(ISBLANK('Data Input'!A546),\"\",SUM('Data Input'!K546,'Data Input'!AQ546))","v":""},{"$f":"IF(N542=\"\",\"\",N542/COUNTIF('Data Input'!$C$8:$AQ$8,$N$2))","v":""},{"$f":"IF(ISBLANK('Data Input'!A546),\"\",SUM('Data Input'!C546,'Data Input'!D546,'Data Input'!F546,'Data Input'!J546,'Data Input'!O546,'Data Input'!S546,'Data Input'!AM546,'Data Input'!AN546,'Data Input'!AO546,'Data Input'!AP546))","v":""},{"$f":"IF(P542=\"\",\"\",P542/COUNTIF('Data Input'!$C$8:$AQ$8,$P$2))","v":""},{"$f":"IF(ISBLANK('Data Input'!C546),\"\",SUM('Data Input'!P546))","v":""},{"$f":"IF(R542=\"\",\"\",R542/COUNTIF('Data Input'!$C$8:$AQ$8,$R$2))","v":""}]
[{"$f":"IF('Data Input'!A547=0,\"\",'Data Input'!A547)","v":""},{"$f":"IF(H543=\"\",\"\",IF(H543>Welcome!$K$23-1,\"Exceeding\",IF(H543>Welcome!$G$23-1,\"Expected\",IF(H543<Welcome!$G$23,\"Below\"))))","v":""},{"$f":"IF(ISBLANK('Data Input'!A547),\"\",COUNTIF('Data Input'!C547:AQ547,\"\")-1)","v":""},{"$f":"IF(ISBLANK('Data Input'!A547),\"\",COUNTIF('Data Input'!C547:AQ547,\"0\"))","v":""},{"$f":"IF(ISBLANK('Data Input'!A547),\"\",SUM(C543,D543))","v":""},{"$f":"IF(ISBLANK('Data Input'!A547),\"\",SUM('Data Input'!C547:V547))","v":""},{"$f":"IF(ISBLANK('Data Input'!A547),\"\",SUM('Data Input'!X547:AQ547))","v":""},{"$f":"IF(ISBLANK('Data Input'!A547),\"\",SUM('Data Input'!C547:AQ547))","v":""},{"$f":"IF(H543=\"\",\"\",H543/(COUNTA('Data Input'!$C$8:$AQ$8)-1))","v":""},{"$f":"IF(ISBLANK('Data Input'!A547),\"\",SUM('Data Input'!I547,'Data Input'!M547,'Data Input'!AB547,'Data Input'!AE547))","v":""},{"$f":"IF(J543=\"\",\"\",J543/COUNTIF('Data Input'!$C$8:$AQ$8,$J$2))","v":""},{"$f":"IF(ISBLANK('Data Input'!A547),\"\",SUM('Data Input'!E547,'Data Input'!G547,'Data Input'!H547,'Data Input'!L547,'Data Input'!N547,'Data Input'!Q547,'Data Input'!R547,'Data Input'!T547,'Data Input'!U547,'Data Input'!V547,'Data Input'!X547,'Data Input'!Y547,'Data Input'!Z547,'Data Input'!AA547,'Data Input'!AC547,'Data Input'!AD547,'Data Input'!AF547,'Data Input'!AG547,'Data Input'!AH547,'Data Input'!AI547,'Data Input'!AJ547,'Data Input'!AK547,'Data Input'!AL547))","v":""},{"$f":"IF(L543=\"\",\"\",L543/COUNTIF('Data Input'!$C$8:$AQ$8,$L$2))","v":""},{"$f":"IF(ISBLANK('Data Input'!A547),\"\",SUM('Data Input'!K547,'Data Input'!AQ547))","v":""},{"$f":"IF(N543=\"\",\"\",N543/COUNTIF('Data Input'!$C$8:$AQ$8,$N$2))","v":""},{"$f":"IF(ISBLANK('Data Input'!A547),\"\",SUM('Data Input'!C547,'Data Input'!D547,'Data Input'!F547,'Data Input'!J547,'Data Input'!O547,'Data Input'!S547,'Data Input'!AM547,'Data Input'!AN547,'Data Input'!AO547,'Data Input'!AP547))","v":""},{"$f":"IF(P543=\"\",\"\",P543/COUNTIF('Data Input'!$C$8:$AQ$8,$P$2))","v":""},{"$f":"IF(ISBLANK('Data Input'!C547),\"\",SUM('Data Input'!P547))","v":""},{"$f":"IF(R543=\"\",\"\",R543/COUNTIF('Data Input'!$C$8:$AQ$8,$R$2))","v":""}]
[{"$f":"IF('Data Input'!A548=0,\"\",'Data Input'!A548)","v":""},{"$f":"IF(H544=\"\",\"\",IF(H544>Welcome!$K$23-1,\"Exceeding\",IF(H544>Welcome!$G$23-1,\"Expected\",IF(H544<Welcome!$G$23,\"Below\"))))","v":""},{"$f":"IF(ISBLANK('Data Input'!A548),\"\",COUNTIF('Data Input'!C548:AQ548,\"\")-1)","v":""},{"$f":"IF(ISBLANK('Data Input'!A548),\"\",COUNTIF('Data Input'!C548:AQ548,\"0\"))","v":""},{"$f":"IF(ISBLANK('Data Input'!A548),\"\",SUM(C544,D544))","v":""},{"$f":"IF(ISBLANK('Data Input'!A548),\"\",SUM('Data Input'!C548:V548))","v":""},{"$f":"IF(ISBLANK('Data Input'!A548),\"\",SUM('Data Input'!X548:AQ548))","v":""},{"$f":"IF(ISBLANK('Data Input'!A548),\"\",SUM('Data Input'!C548:AQ548))","v":""},{"$f":"IF(H544=\"\",\"\",H544/(COUNTA('Data Input'!$C$8:$AQ$8)-1))","v":""},{"$f":"IF(ISBLANK('Data Input'!A548),\"\",SUM('Data Input'!I548,'Data Input'!M548,'Data Input'!AB548,'Data Input'!AE548))","v":""},{"$f":"IF(J544=\"\",\"\",J544/COUNTIF('Data Input'!$C$8:$AQ$8,$J$2))","v":""},{"$f":"IF(ISBLANK('Data Input'!A548),\"\",SUM('Data Input'!E548,'Data Input'!G548,'Data Input'!H548,'Data Input'!L548,'Data Input'!N548,'Data Input'!Q548,'Data Input'!R548,'Data Input'!T548,'Data Input'!U548,'Data Input'!V548,'Data Input'!X548,'Data Input'!Y548,'Data Input'!Z548,'Data Input'!AA548,'Data Input'!AC548,'Data Input'!AD548,'Data Input'!AF548,'Data Input'!AG548,'Data Input'!AH548,'Data Input'!AI548,'Data Input'!AJ548,'Data Input'!AK548,'Data Input'!AL548))","v":""},{"$f":"IF(L544=\"\",\"\",L544/COUNTIF('Data Input'!$C$8:$AQ$8,$L$2))","v":""},{"$f":"IF(ISBLANK('Data Input'!A548),\"\",SUM('Data Input'!K548,'Data Input'!AQ548))","v":""},{"$f":"IF(N544=\"\",\"\",N544/COUNTIF('Data Input'!$C$8:$AQ$8,$N$2))","v":""},{"$f":"IF(ISBLANK('Data Input'!A548),\"\",SUM('Data Input'!C548,'Data Input'!D548,'Data Input'!F548,'Data Input'!J548,'Data Input'!O548,'Data Input'!S548,'Data Input'!AM548,'Data Input'!AN548,'Data Input'!AO548,'Data Input'!AP548))","v":""},{"$f":"IF(P544=\"\",\"\",P544/COUNTIF('Data Input'!$C$8:$AQ$8,$P$2))","v":""},{"$f":"IF(ISBLANK('Data Input'!C548),\"\",SUM('Data Input'!P548))","v":""},{"$f":"IF(R544=\"\",\"\",R544/COUNTIF('Data Input'!$C$8:$AQ$8,$R$2))","v":""}]
[{"$f":"IF('Data Input'!A549=0,\"\",'Data Input'!A549)","v":""},{"$f":"IF(H545=\"\",\"\",IF(H545>Welcome!$K$23-1,\"Exceeding\",IF(H545>Welcome!$G$23-1,\"Expected\",IF(H545<Welcome!$G$23,\"Below\"))))","v":""},{"$f":"IF(ISBLANK('Data Input'!A549),\"\",COUNTIF('Data Input'!C549:AQ549,\"\")-1)","v":""},{"$f":"IF(ISBLANK('Data Input'!A549),\"\",COUNTIF('Data Input'!C549:AQ549,\"0\"))","v":""},{"$f":"IF(ISBLANK('Data Input'!A549),\"\",SUM(C545,D545))","v":""},{"$f":"IF(ISBLANK('Data Input'!A549),\"\",SUM('Data Input'!C549:V549))","v":""},{"$f":"IF(ISBLANK('Data Input'!A549),\"\",SUM('Data Input'!X549:AQ549))","v":""},{"$f":"IF(ISBLANK('Data Input'!A549),\"\",SUM('Data Input'!C549:AQ549))","v":""},{"$f":"IF(H545=\"\",\"\",H545/(COUNTA('Data Input'!$C$8:$AQ$8)-1))","v":""},{"$f":"IF(ISBLANK('Data Input'!A549),\"\",SUM('Data Input'!I549,'Data Input'!M549,'Data Input'!AB549,'Data Input'!AE549))","v":""},{"$f":"IF(J545=\"\",\"\",J545/COUNTIF('Data Input'!$C$8:$AQ$8,$J$2))","v":""},{"$f":"IF(ISBLANK('Data Input'!A549),\"\",SUM('Data Input'!E549,'Data Input'!G549,'Data Input'!H549,'Data Input'!L549,'Data Input'!N549,'Data Input'!Q549,'Data Input'!R549,'Data Input'!T549,'Data Input'!U549,'Data Input'!V549,'Data Input'!X549,'Data Input'!Y549,'Data Input'!Z549,'Data Input'!AA549,'Data Input'!AC549,'Data Input'!AD549,'Data Input'!AF549,'Data Input'!AG549,'Data Input'!AH549,'Data Input'!AI549,'Data Input'!AJ549,'Data Input'!AK549,'Data Input'!AL549))","v":""},{"$f":"IF(L545=\"\",\"\",L545/COUNTIF('Data Input'!$C$8:$AQ$8,$L$2))","v":""},{"$f":"IF(ISBLANK('Data Input'!A549),\"\",SUM('Data Input'!K549,'Data Input'!AQ549))","v":""},{"$f":"IF(N545=\"\",\"\",N545/COUNTIF('Data Input'!$C$8:$AQ$8,$N$2))","v":""},{"$f":"IF(ISBLANK('Data Input'!A549),\"\",SUM('Data Input'!C549,'Data Input'!D549,'Data Input'!F549,'Data Input'!J549,'Data Input'!O549,'Data Input'!S549,'Data Input'!AM549,'Data Input'!AN549,'Data Input'!AO549,'Data Input'!AP549))","v":""},{"$f":"IF(P545=\"\",\"\",P545/COUNTIF('Data Input'!$C$8:$AQ$8,$P$2))","v":""},{"$f":"IF(ISBLANK('Data Input'!C549),\"\",SUM('Data Input'!P549))","v":""},{"$f":"IF(R545=\"\",\"\",R545/COUNTIF('Data Input'!$C$8:$AQ$8,$R$2))","v":""}]
[{"$f":"IF('Data Input'!A550=0,\"\",'Data Input'!A550)","v":""},{"$f":"IF(H546=\"\",\"\",IF(H546>Welcome!$K$23-1,\"Exceeding\",IF(H546>Welcome!$G$23-1,\"Expected\",IF(H546<Welcome!$G$23,\"Below\"))))","v":""},{"$f":"IF(ISBLANK('Data Input'!A550),\"\",COUNTIF('Data Input'!C550:AQ550,\"\")-1)","v":""},{"$f":"IF(ISBLANK('Data Input'!A550),\"\",COUNTIF('Data Input'!C550:AQ550,\"0\"))","v":""},{"$f":"IF(ISBLANK('Data Input'!A550),\"\",SUM(C546,D546))","v":""},{"$f":"IF(ISBLANK('Data Input'!A550),\"\",SUM('Data Input'!C550:V550))","v":""},{"$f":"IF(ISBLANK('Data Input'!A550),\"\",SUM('Data Input'!X550:AQ550))","v":""},{"$f":"IF(ISBLANK('Data Input'!A550),\"\",SUM('Data Input'!C550:AQ550))","v":""},{"$f":"IF(H546=\"\",\"\",H546/(COUNTA('Data Input'!$C$8:$AQ$8)-1))","v":""},{"$f":"IF(ISBLANK('Data Input'!A550),\"\",SUM('Data Input'!I550,'Data Input'!M550,'Data Input'!AB550,'Data Input'!AE550))","v":""},{"$f":"IF(J546=\"\",\"\",J546/COUNTIF('Data Input'!$C$8:$AQ$8,$J$2))","v":""},{"$f":"IF(ISBLANK('Data Input'!A550),\"\",SUM('Data Input'!E550,'Data Input'!G550,'Data Input'!H550,'Data Input'!L550,'Data Input'!N550,'Data Input'!Q550,'Data Input'!R550,'Data Input'!T550,'Data Input'!U550,'Data Input'!V550,'Data Input'!X550,'Data Input'!Y550,'Data Input'!Z550,'Data Input'!AA550,'Data Input'!AC550,'Data Input'!AD550,'Data Input'!AF550,'Data Input'!AG550,'Data Input'!AH550,'Data Input'!AI550,'Data Input'!AJ550,'Data Input'!AK550,'Data Input'!AL550))","v":""},{"$f":"IF(L546=\"\",\"\",L546/COUNTIF('Data Input'!$C$8:$AQ$8,$L$2))","v":""},{"$f":"IF(ISBLANK('Data Input'!A550),\"\",SUM('Data Input'!K550,'Data Input'!AQ550))","v":""},{"$f":"IF(N546=\"\",\"\",N546/COUNTIF('Data Input'!$C$8:$AQ$8,$N$2))","v":""},{"$f":"IF(ISBLANK('Data Input'!A550),\"\",SUM('Data Input'!C550,'Data Input'!D550,'Data Input'!F550,'Data Input'!J550,'Data Input'!O550,'Data Input'!S550,'Data Input'!AM550,'Data Input'!AN550,'Data Input'!AO550,'Data Input'!AP550))","v":""},{"$f":"IF(P546=\"\",\"\",P546/COUNTIF('Data Input'!$C$8:$AQ$8,$P$2))","v":""},{"$f":"IF(ISBLANK('Data Input'!C550),\"\",SUM('Data Input'!P550))","v":""},{"$f":"IF(R546=\"\",\"\",R546/COUNTIF('Data Input'!$C$8:$AQ$8,$R$2))","v":""}]
[{"$f":"IF('Data Input'!A551=0,\"\",'Data Input'!A551)","v":""},{"$f":"IF(H547=\"\",\"\",IF(H547>Welcome!$K$23-1,\"Exceeding\",IF(H547>Welcome!$G$23-1,\"Expected\",IF(H547<Welcome!$G$23,\"Below\"))))","v":""},{"$f":"IF(ISBLANK('Data Input'!A551),\"\",COUNTIF('Data Input'!C551:AQ551,\"\")-1)","v":""},{"$f":"IF(ISBLANK('Data Input'!A551),\"\",COUNTIF('Data Input'!C551:AQ551,\"0\"))","v":""},{"$f":"IF(ISBLANK('Data Input'!A551),\"\",SUM(C547,D547))","v":""},{"$f":"IF(ISBLANK('Data Input'!A551),\"\",SUM('Data Input'!C551:V551))","v":""},{"$f":"IF(ISBLANK('Data Input'!A551),\"\",SUM('Data Input'!X551:AQ551))","v":""},{"$f":"IF(ISBLANK('Data Input'!A551),\"\",SUM('Data Input'!C551:AQ551))","v":""},{"$f":"IF(H547=\"\",\"\",H547/(COUNTA('Data Input'!$C$8:$AQ$8)-1))","v":""},{"$f":"IF(ISBLANK('Data Input'!A551),\"\",SUM('Data Input'!I551,'Data Input'!M551,'Data Input'!AB551,'Data Input'!AE551))","v":""},{"$f":"IF(J547=\"\",\"\",J547/COUNTIF('Data Input'!$C$8:$AQ$8,$J$2))","v":""},{"$f":"IF(ISBLANK('Data Input'!A551),\"\",SUM('Data Input'!E551,'Data Input'!G551,'Data Input'!H551,'Data Input'!L551,'Data Input'!N551,'Data Input'!Q551,'Data Input'!R551,'Data Input'!T551,'Data Input'!U551,'Data Input'!V551,'Data Input'!X551,'Data Input'!Y551,'Data Input'!Z551,'Data Input'!AA551,'Data Input'!AC551,'Data Input'!AD551,'Data Input'!AF551,'Data Input'!AG551,'Data Input'!AH551,'Data Input'!AI551,'Data Input'!AJ551,'Data Input'!AK551,'Data Input'!AL551))","v":""},{"$f":"IF(L547=\"\",\"\",L547/COUNTIF('Data Input'!$C$8:$AQ$8,$L$2))","v":""},{"$f":"IF(ISBLANK('Data Input'!A551),\"\",SUM('Data Input'!K551,'Data Input'!AQ551))","v":""},{"$f":"IF(N547=\"\",\"\",N547/COUNTIF('Data Input'!$C$8:$AQ$8,$N$2))","v":""},{"$f":"IF(ISBLANK('Data Input'!A551),\"\",SUM('Data Input'!C551,'Data Input'!D551,'Data Input'!F551,'Data Input'!J551,'Data Input'!O551,'Data Input'!S551,'Data Input'!AM551,'Data Input'!AN551,'Data Input'!AO551,'Data Input'!AP551))","v":""},{"$f":"IF(P547=\"\",\"\",P547/COUNTIF('Data Input'!$C$8:$AQ$8,$P$2))","v":""},{"$f":"IF(ISBLANK('Data Input'!C551),\"\",SUM('Data Input'!P551))","v":""},{"$f":"IF(R547=\"\",\"\",R547/COUNTIF('Data Input'!$C$8:$AQ$8,$R$2))","v":""}]
[{"$f":"IF('Data Input'!A552=0,\"\",'Data Input'!A552)","v":""},{"$f":"IF(H548=\"\",\"\",IF(H548>Welcome!$K$23-1,\"Exceeding\",IF(H548>Welcome!$G$23-1,\"Expected\",IF(H548<Welcome!$G$23,\"Below\"))))","v":""},{"$f":"IF(ISBLANK('Data Input'!A552),\"\",COUNTIF('Data Input'!C552:AQ552,\"\")-1)","v":""},{"$f":"IF(ISBLANK('Data Input'!A552),\"\",COUNTIF('Data Input'!C552:AQ552,\"0\"))","v":""},{"$f":"IF(ISBLANK('Data Input'!A552),\"\",SUM(C548,D548))","v":""},{"$f":"IF(ISBLANK('Data Input'!A552),\"\",SUM('Data Input'!C552:V552))","v":""},{"$f":"IF(ISBLANK('Data Input'!A552),\"\",SUM('Data Input'!X552:AQ552))","v":""},{"$f":"IF(ISBLANK('Data Input'!A552),\"\",SUM('Data Input'!C552:AQ552))","v":""},{"$f":"IF(H548=\"\",\"\",H548/(COUNTA('Data Input'!$C$8:$AQ$8)-1))","v":""},{"$f":"IF(ISBLANK('Data Input'!A552),\"\",SUM('Data Input'!I552,'Data Input'!M552,'Data Input'!AB552,'Data Input'!AE552))","v":""},{"$f":"IF(J548=\"\",\"\",J548/COUNTIF('Data Input'!$C$8:$AQ$8,$J$2))","v":""},{"$f":"IF(ISBLANK('Data Input'!A552),\"\",SUM('Data Input'!E552,'Data Input'!G552,'Data Input'!H552,'Data Input'!L552,'Data Input'!N552,'Data Input'!Q552,'Data Input'!R552,'Data Input'!T552,'Data Input'!U552,'Data Input'!V552,'Data Input'!X552,'Data Input'!Y552,'Data Input'!Z552,'Data Input'!AA552,'Data Input'!AC552,'Data Input'!AD552,'Data Input'!AF552,'Data Input'!AG552,'Data Input'!AH552,'Data Input'!AI552,'Data Input'!AJ552,'Data Input'!AK552,'Data Input'!AL552))","v":""},{"$f":"IF(L548=\"\",\"\",L548/COUNTIF('Data Input'!$C$8:$AQ$8,$L$2))","v":""},{"$f":"IF(ISBLANK('Data Input'!A552),\"\",SUM('Data Input'!K552,'Data Input'!AQ552))","v":""},{"$f":"IF(N548=\"\",\"\",N548/COUNTIF('Data Input'!$C$8:$AQ$8,$N$2))","v":""},{"$f":"IF(ISBLANK('Data Input'!A552),\"\",SUM('Data Input'!C552,'Data Input'!D552,'Data Input'!F552,'Data Input'!J552,'Data Input'!O552,'Data Input'!S552,'Data Input'!AM552,'Data Input'!AN552,'Data Input'!AO552,'Data Input'!AP552))","v":""},{"$f":"IF(P548=\"\",\"\",P548/COUNTIF('Data Input'!$C$8:$AQ$8,$P$2))","v":""},{"$f":"IF(ISBLANK('Data Input'!C552),\"\",SUM('Data Input'!P552))","v":""},{"$f":"IF(R548=\"\",\"\",R548/COUNTIF('Data Input'!$C$8:$AQ$8,$R$2))","v":""}]
[{"$f":"IF('Data Input'!A553=0,\"\",'Data Input'!A553)","v":""},{"$f":"IF(H549=\"\",\"\",IF(H549>Welcome!$K$23-1,\"Exceeding\",IF(H549>Welcome!$G$23-1,\"Expected\",IF(H549<Welcome!$G$23,\"Below\"))))","v":""},{"$f":"IF(ISBLANK('Data Input'!A553),\"\",COUNTIF('Data Input'!C553:AQ553,\"\")-1)","v":""},{"$f":"IF(ISBLANK('Data Input'!A553),\"\",COUNTIF('Data Input'!C553:AQ553,\"0\"))","v":""},{"$f":"IF(ISBLANK('Data Input'!A553),\"\",SUM(C549,D549))","v":""},{"$f":"IF(ISBLANK('Data Input'!A553),\"\",SUM('Data Input'!C553:V553))","v":""},{"$f":"IF(ISBLANK('Data Input'!A553),\"\",SUM('Data Input'!X553:AQ553))","v":""},{"$f":"IF(ISBLANK('Data Input'!A553),\"\",SUM('Data Input'!C553:AQ553))","v":""},{"$f":"IF(H549=\"\",\"\",H549/(COUNTA('Data Input'!$C$8:$AQ$8)-1))","v":""},{"$f":"IF(ISBLANK('Data Input'!A553),\"\",SUM('Data Input'!I553,'Data Input'!M553,'Data Input'!AB553,'Data Input'!AE553))","v":""},{"$f":"IF(J549=\"\",\"\",J549/COUNTIF('Data Input'!$C$8:$AQ$8,$J$2))","v":""},{"$f":"IF(ISBLANK('Data Input'!A553),\"\",SUM('Data Input'!E553,'Data Input'!G553,'Data Input'!H553,'Data Input'!L553,'Data Input'!N553,'Data Input'!Q553,'Data Input'!R553,'Data Input'!T553,'Data Input'!U553,'Data Input'!V553,'Data Input'!X553,'Data Input'!Y553,'Data Input'!Z553,'Data Input'!AA553,'Data Input'!AC553,'Data Input'!AD553,'Data Input'!AF553,'Data Input'!AG553,'Data Input'!AH553,'Data Input'!AI553,'Data Input'!AJ553,'Data Input'!AK553,'Data Input'!AL553))","v":""},{"$f":"IF(L549=\"\",\"\",L549/COUNTIF('Data Input'!$C$8:$AQ$8,$L$2))","v":""},{"$f":"IF(ISBLANK('Data Input'!A553),\"\",SUM('Data Input'!K553,'Data Input'!AQ553))","v":""},{"$f":"IF(N549=\"\",\"\",N549/COUNTIF('Data Input'!$C$8:$AQ$8,$N$2))","v":""},{"$f":"IF(ISBLANK('Data Input'!A553),\"\",SUM('Data Input'!C553,'Data Input'!D553,'Data Input'!F553,'Data Input'!J553,'Data Input'!O553,'Data Input'!S553,'Data Input'!AM553,'Data Input'!AN553,'Data Input'!AO553,'Data Input'!AP553))","v":""},{"$f":"IF(P549=\"\",\"\",P549/COUNTIF('Data Input'!$C$8:$AQ$8,$P$2))","v":""},{"$f":"IF(ISBLANK('Data Input'!C553),\"\",SUM('Data Input'!P553))","v":""},{"$f":"IF(R549=\"\",\"\",R549/COUNTIF('Data Input'!$C$8:$AQ$8,$R$2))","v":""}]
[{"$f":"IF('Data Input'!A554=0,\"\",'Data Input'!A554)","v":""},{"$f":"IF(H550=\"\",\"\",IF(H550>Welcome!$K$23-1,\"Exceeding\",IF(H550>Welcome!$G$23-1,\"Expected\",IF(H550<Welcome!$G$23,\"Below\"))))","v":""},{"$f":"IF(ISBLANK('Data Input'!A554),\"\",COUNTIF('Data Input'!C554:AQ554,\"\")-1)","v":""},{"$f":"IF(ISBLANK('Data Input'!A554),\"\",COUNTIF('Data Input'!C554:AQ554,\"0\"))","v":""},{"$f":"IF(ISBLANK('Data Input'!A554),\"\",SUM(C550,D550))","v":""},{"$f":"IF(ISBLANK('Data Input'!A554),\"\",SUM('Data Input'!C554:V554))","v":""},{"$f":"IF(ISBLANK('Data Input'!A554),\"\",SUM('Data Input'!X554:AQ554))","v":""},{"$f":"IF(ISBLANK('Data Input'!A554),\"\",SUM('Data Input'!C554:AQ554))","v":""},{"$f":"IF(H550=\"\",\"\",H550/(COUNTA('Data Input'!$C$8:$AQ$8)-1))","v":""},{"$f":"IF(ISBLANK('Data Input'!A554),\"\",SUM('Data Input'!I554,'Data Input'!M554,'Data Input'!AB554,'Data Input'!AE554))","v":""},{"$f":"IF(J550=\"\",\"\",J550/COUNTIF('Data Input'!$C$8:$AQ$8,$J$2))","v":""},{"$f":"IF(ISBLANK('Data Input'!A554),\"\",SUM('Data Input'!E554,'Data Input'!G554,'Data Input'!H554,'Data Input'!L554,'Data Input'!N554,'Data Input'!Q554,'Data Input'!R554,'Data Input'!T554,'Data Input'!U554,'Data Input'!V554,'Data Input'!X554,'Data Input'!Y554,'Data Input'!Z554,'Data Input'!AA554,'Data Input'!AC554,'Data Input'!AD554,'Data Input'!AF554,'Data Input'!AG554,'Data Input'!AH554,'Data Input'!AI554,'Data Input'!AJ554,'Data Input'!AK554,'Data Input'!AL554))","v":""},{"$f":"IF(L550=\"\",\"\",L550/COUNTIF('Data Input'!$C$8:$AQ$8,$L$2))","v":""},{"$f":"IF(ISBLANK('Data Input'!A554),\"\",SUM('Data Input'!K554,'Data Input'!AQ554))","v":""},{"$f":"IF(N550=\"\",\"\",N550/COUNTIF('Data Input'!$C$8:$AQ$8,$N$2))","v":""},{"$f":"IF(ISBLANK('Data Input'!A554),\"\",SUM('Data Input'!C554,'Data Input'!D554,'Data Input'!F554,'Data Input'!J554,'Data Input'!O554,'Data Input'!S554,'Data Input'!AM554,'Data Input'!AN554,'Data Input'!AO554,'Data Input'!AP554))","v":""},{"$f":"IF(P550=\"\",\"\",P550/COUNTIF('Data Input'!$C$8:$AQ$8,$P$2))","v":""},{"$f":"IF(ISBLANK('Data Input'!C554),\"\",SUM('Data Input'!P554))","v":""},{"$f":"IF(R550=\"\",\"\",R550/COUNTIF('Data Input'!$C$8:$AQ$8,$R$2))","v":""}]
[{"$f":"IF('Data Input'!A555=0,\"\",'Data Input'!A555)","v":""},{"$f":"IF(H551=\"\",\"\",IF(H551>Welcome!$K$23-1,\"Exceeding\",IF(H551>Welcome!$G$23-1,\"Expected\",IF(H551<Welcome!$G$23,\"Below\"))))","v":""},{"$f":"IF(ISBLANK('Data Input'!A555),\"\",COUNTIF('Data Input'!C555:AQ555,\"\")-1)","v":""},{"$f":"IF(ISBLANK('Data Input'!A555),\"\",COUNTIF('Data Input'!C555:AQ555,\"0\"))","v":""},{"$f":"IF(ISBLANK('Data Input'!A555),\"\",SUM(C551,D551))","v":""},{"$f":"IF(ISBLANK('Data Input'!A555),\"\",SUM('Data Input'!C555:V555))","v":""},{"$f":"IF(ISBLANK('Data Input'!A555),\"\",SUM('Data Input'!X555:AQ555))","v":""},{"$f":"IF(ISBLANK('Data Input'!A555),\"\",SUM('Data Input'!C555:AQ555))","v":""},{"$f":"IF(H551=\"\",\"\",H551/(COUNTA('Data Input'!$C$8:$AQ$8)-1))","v":""},{"$f":"IF(ISBLANK('Data Input'!A555),\"\",SUM('Data Input'!I555,'Data Input'!M555,'Data Input'!AB555,'Data Input'!AE555))","v":""},{"$f":"IF(J551=\"\",\"\",J551/COUNTIF('Data Input'!$C$8:$AQ$8,$J$2))","v":""},{"$f":"IF(ISBLANK('Data Input'!A555),\"\",SUM('Data Input'!E555,'Data Input'!G555,'Data Input'!H555,'Data Input'!L555,'Data Input'!N555,'Data Input'!Q555,'Data Input'!R555,'Data Input'!T555,'Data Input'!U555,'Data Input'!V555,'Data Input'!X555,'Data Input'!Y555,'Data Input'!Z555,'Data Input'!AA555,'Data Input'!AC555,'Data Input'!AD555,'Data Input'!AF555,'Data Input'!AG555,'Data Input'!AH555,'Data Input'!AI555,'Data Input'!AJ555,'Data Input'!AK555,'Data Input'!AL555))","v":""},{"$f":"IF(L551=\"\",\"\",L551/COUNTIF('Data Input'!$C$8:$AQ$8,$L$2))","v":""},{"$f":"IF(ISBLANK('Data Input'!A555),\"\",SUM('Data Input'!K555,'Data Input'!AQ555))","v":""},{"$f":"IF(N551=\"\",\"\",N551/COUNTIF('Data Input'!$C$8:$AQ$8,$N$2))","v":""},{"$f":"IF(ISBLANK('Data Input'!A555),\"\",SUM('Data Input'!C555,'Data Input'!D555,'Data Input'!F555,'Data Input'!J555,'Data Input'!O555,'Data Input'!S555,'Data Input'!AM555,'Data Input'!AN555,'Data Input'!AO555,'Data Input'!AP555))","v":""},{"$f":"IF(P551=\"\",\"\",P551/COUNTIF('Data Input'!$C$8:$AQ$8,$P$2))","v":""},{"$f":"IF(ISBLANK('Data Input'!C555),\"\",SUM('Data Input'!P555))","v":""},{"$f":"IF(R551=\"\",\"\",R551/COUNTIF('Data Input'!$C$8:$AQ$8,$R$2))","v":""}]
[{"$f":"IF('Data Input'!A556=0,\"\",'Data Input'!A556)","v":""},{"$f":"IF(H552=\"\",\"\",IF(H552>Welcome!$K$23-1,\"Exceeding\",IF(H552>Welcome!$G$23-1,\"Expected\",IF(H552<Welcome!$G$23,\"Below\"))))","v":""},{"$f":"IF(ISBLANK('Data Input'!A556),\"\",COUNTIF('Data Input'!C556:AQ556,\"\")-1)","v":""},{"$f":"IF(ISBLANK('Data Input'!A556),\"\",COUNTIF('Data Input'!C556:AQ556,\"0\"))","v":""},{"$f":"IF(ISBLANK('Data Input'!A556),\"\",SUM(C552,D552))","v":""},{"$f":"IF(ISBLANK('Data Input'!A556),\"\",SUM('Data Input'!C556:V556))","v":""},{"$f":"IF(ISBLANK('Data Input'!A556),\"\",SUM('Data Input'!X556:AQ556))","v":""},{"$f":"IF(ISBLANK('Data Input'!A556),\"\",SUM('Data Input'!C556:AQ556))","v":""},{"$f":"IF(H552=\"\",\"\",H552/(COUNTA('Data Input'!$C$8:$AQ$8)-1))","v":""},{"$f":"IF(ISBLANK('Data Input'!A556),\"\",SUM('Data Input'!I556,'Data Input'!M556,'Data Input'!AB556,'Data Input'!AE556))","v":""},{"$f":"IF(J552=\"\",\"\",J552/COUNTIF('Data Input'!$C$8:$AQ$8,$J$2))","v":""},{"$f":"IF(ISBLANK('Data Input'!A556),\"\",SUM('Data Input'!E556,'Data Input'!G556,'Data Input'!H556,'Data Input'!L556,'Data Input'!N556,'Data Input'!Q556,'Data Input'!R556,'Data Input'!T556,'Data Input'!U556,'Data Input'!V556,'Data Input'!X556,'Data Input'!Y556,'Data Input'!Z556,'Data Input'!AA556,'Data Input'!AC556,'Data Input'!AD556,'Data Input'!AF556,'Data Input'!AG556,'Data Input'!AH556,'Data Input'!AI556,'Data Input'!AJ556,'Data Input'!AK556,'Data Input'!AL556))","v":""},{"$f":"IF(L552=\"\",\"\",L552/COUNTIF('Data Input'!$C$8:$AQ$8,$L$2))","v":""},{"$f":"IF(ISBLANK('Data Input'!A556),\"\",SUM('Data Input'!K556,'Data Input'!AQ556))","v":""},{"$f":"IF(N552=\"\",\"\",N552/COUNTIF('Data Input'!$C$8:$AQ$8,$N$2))","v":""},{"$f":"IF(ISBLANK('Data Input'!A556),\"\",SUM('Data Input'!C556,'Data Input'!D556,'Data Input'!F556,'Data Input'!J556,'Data Input'!O556,'Data Input'!S556,'Data Input'!AM556,'Data Input'!AN556,'Data Input'!AO556,'Data Input'!AP556))","v":""},{"$f":"IF(P552=\"\",\"\",P552/COUNTIF('Data Input'!$C$8:$AQ$8,$P$2))","v":""},{"$f":"IF(ISBLANK('Data Input'!C556),\"\",SUM('Data Input'!P556))","v":""},{"$f":"IF(R552=\"\",\"\",R552/COUNTIF('Data Input'!$C$8:$AQ$8,$R$2))","v":""}]
[{"$f":"IF('Data Input'!A557=0,\"\",'Data Input'!A557)","v":""},{"$f":"IF(H553=\"\",\"\",IF(H553>Welcome!$K$23-1,\"Exceeding\",IF(H553>Welcome!$G$23-1,\"Expected\",IF(H553<Welcome!$G$23,\"Below\"))))","v":""},{"$f":"IF(ISBLANK('Data Input'!A557),\"\",COUNTIF('Data Input'!C557:AQ557,\"\")-1)","v":""},{"$f":"IF(ISBLANK('Data Input'!A557),\"\",COUNTIF('Data Input'!C557:AQ557,\"0\"))","v":""},{"$f":"IF(ISBLANK('Data Input'!A557),\"\",SUM(C553,D553))","v":""},{"$f":"IF(ISBLANK('Data Input'!A557),\"\",SUM('Data Input'!C557:V557))","v":""},{"$f":"IF(ISBLANK('Data Input'!A557),\"\",SUM('Data Input'!X557:AQ557))","v":""},{"$f":"IF(ISBLANK('Data Input'!A557),\"\",SUM('Data Input'!C557:AQ557))","v":""},{"$f":"IF(H553=\"\",\"\",H553/(COUNTA('Data Input'!$C$8:$AQ$8)-1))","v":""},{"$f":"IF(ISBLANK('Data Input'!A557),\"\",SUM('Data Input'!I557,'Data Input'!M557,'Data Input'!AB557,'Data Input'!AE557))","v":""},{"$f":"IF(J553=\"\",\"\",J553/COUNTIF('Data Input'!$C$8:$AQ$8,$J$2))","v":""},{"$f":"IF(ISBLANK('Data Input'!A557),\"\",SUM('Data Input'!E557,'Data Input'!G557,'Data Input'!H557,'Data Input'!L557,'Data Input'!N557,'Data Input'!Q557,'Data Input'!R557,'Data Input'!T557,'Data Input'!U557,'Data Input'!V557,'Data Input'!X557,'Data Input'!Y557,'Data Input'!Z557,'Data Input'!AA557,'Data Input'!AC557,'Data Input'!AD557,'Data Input'!AF557,'Data Input'!AG557,'Data Input'!AH557,'Data Input'!AI557,'Data Input'!AJ557,'Data Input'!AK557,'Data Input'!AL557))","v":""},{"$f":"IF(L553=\"\",\"\",L553/COUNTIF('Data Input'!$C$8:$AQ$8,$L$2))","v":""},{"$f":"IF(ISBLANK('Data Input'!A557),\"\",SUM('Data Input'!K557,'Data Input'!AQ557))","v":""},{"$f":"IF(N553=\"\",\"\",N553/COUNTIF('Data Input'!$C$8:$AQ$8,$N$2))","v":""},{"$f":"IF(ISBLANK('Data Input'!A557),\"\",SUM('Data Input'!C557,'Data Input'!D557,'Data Input'!F557,'Data Input'!J557,'Data Input'!O557,'Data Input'!S557,'Data Input'!AM557,'Data Input'!AN557,'Data Input'!AO557,'Data Input'!AP557))","v":""},{"$f":"IF(P553=\"\",\"\",P553/COUNTIF('Data Input'!$C$8:$AQ$8,$P$2))","v":""},{"$f":"IF(ISBLANK('Data Input'!C557),\"\",SUM('Data Input'!P557))","v":""},{"$f":"IF(R553=\"\",\"\",R553/COUNTIF('Data Input'!$C$8:$AQ$8,$R$2))","v":""}]
[{"$f":"IF('Data Input'!A558=0,\"\",'Data Input'!A558)","v":""},{"$f":"IF(H554=\"\",\"\",IF(H554>Welcome!$K$23-1,\"Exceeding\",IF(H554>Welcome!$G$23-1,\"Expected\",IF(H554<Welcome!$G$23,\"Below\"))))","v":""},{"$f":"IF(ISBLANK('Data Input'!A558),\"\",COUNTIF('Data Input'!C558:AQ558,\"\")-1)","v":""},{"$f":"IF(ISBLANK('Data Input'!A558),\"\",COUNTIF('Data Input'!C558:AQ558,\"0\"))","v":""},{"$f":"IF(ISBLANK('Data Input'!A558),\"\",SUM(C554,D554))","v":""},{"$f":"IF(ISBLANK('Data Input'!A558),\"\",SUM('Data Input'!C558:V558))","v":""},{"$f":"IF(ISBLANK('Data Input'!A558),\"\",SUM('Data Input'!X558:AQ558))","v":""},{"$f":"IF(ISBLANK('Data Input'!A558),\"\",SUM('Data Input'!C558:AQ558))","v":""},{"$f":"IF(H554=\"\",\"\",H554/(COUNTA('Data Input'!$C$8:$AQ$8)-1))","v":""},{"$f":"IF(ISBLANK('Data Input'!A558),\"\",SUM('Data Input'!I558,'Data Input'!M558,'Data Input'!AB558,'Data Input'!AE558))","v":""},{"$f":"IF(J554=\"\",\"\",J554/COUNTIF('Data Input'!$C$8:$AQ$8,$J$2))","v":""},{"$f":"IF(ISBLANK('Data Input'!A558),\"\",SUM('Data Input'!E558,'Data Input'!G558,'Data Input'!H558,'Data Input'!L558,'Data Input'!N558,'Data Input'!Q558,'Data Input'!R558,'Data Input'!T558,'Data Input'!U558,'Data Input'!V558,'Data Input'!X558,'Data Input'!Y558,'Data Input'!Z558,'Data Input'!AA558,'Data Input'!AC558,'Data Input'!AD558,'Data Input'!AF558,'Data Input'!AG558,'Data Input'!AH558,'Data Input'!AI558,'Data Input'!AJ558,'Data Input'!AK558,'Data Input'!AL558))","v":""},{"$f":"IF(L554=\"\",\"\",L554/COUNTIF('Data Input'!$C$8:$AQ$8,$L$2))","v":""},{"$f":"IF(ISBLANK('Data Input'!A558),\"\",SUM('Data Input'!K558,'Data Input'!AQ558))","v":""},{"$f":"IF(N554=\"\",\"\",N554/COUNTIF('Data Input'!$C$8:$AQ$8,$N$2))","v":""},{"$f":"IF(ISBLANK('Data Input'!A558),\"\",SUM('Data Input'!C558,'Data Input'!D558,'Data Input'!F558,'Data Input'!J558,'Data Input'!O558,'Data Input'!S558,'Data Input'!AM558,'Data Input'!AN558,'Data Input'!AO558,'Data Input'!AP558))","v":""},{"$f":"IF(P554=\"\",\"\",P554/COUNTIF('Data Input'!$C$8:$AQ$8,$P$2))","v":""},{"$f":"IF(ISBLANK('Data Input'!C558),\"\",SUM('Data Input'!P558))","v":""},{"$f":"IF(R554=\"\",\"\",R554/COUNTIF('Data Input'!$C$8:$AQ$8,$R$2))","v":""}]
[{"$f":"IF('Data Input'!A559=0,\"\",'Data Input'!A559)","v":""},{"$f":"IF(H555=\"\",\"\",IF(H555>Welcome!$K$23-1,\"Exceeding\",IF(H555>Welcome!$G$23-1,\"Expected\",IF(H555<Welcome!$G$23,\"Below\"))))","v":""},{"$f":"IF(ISBLANK('Data Input'!A559),\"\",COUNTIF('Data Input'!C559:AQ559,\"\")-1)","v":""},{"$f":"IF(ISBLANK('Data Input'!A559),\"\",COUNTIF('Data Input'!C559:AQ559,\"0\"))","v":""},{"$f":"IF(ISBLANK('Data Input'!A559),\"\",SUM(C555,D555))","v":""},{"$f":"IF(ISBLANK('Data Input'!A559),\"\",SUM('Data Input'!C559:V559))","v":""},{"$f":"IF(ISBLANK('Data Input'!A559),\"\",SUM('Data Input'!X559:AQ559))","v":""},{"$f":"IF(ISBLANK('Data Input'!A559),\"\",SUM('Data Input'!C559:AQ559))","v":""},{"$f":"IF(H555=\"\",\"\",H555/(COUNTA('Data Input'!$C$8:$AQ$8)-1))","v":""},{"$f":"IF(ISBLANK('Data Input'!A559),\"\",SUM('Data Input'!I559,'Data Input'!M559,'Data Input'!AB559,'Data Input'!AE559))","v":""},{"$f":"IF(J555=\"\",\"\",J555/COUNTIF('Data Input'!$C$8:$AQ$8,$J$2))","v":""},{"$f":"IF(ISBLANK('Data Input'!A559),\"\",SUM('Data Input'!E559,'Data Input'!G559,'Data Input'!H559,'Data Input'!L559,'Data Input'!N559,'Data Input'!Q559,'Data Input'!R559,'Data Input'!T559,'Data Input'!U559,'Data Input'!V559,'Data Input'!X559,'Data Input'!Y559,'Data Input'!Z559,'Data Input'!AA559,'Data Input'!AC559,'Data Input'!AD559,'Data Input'!AF559,'Data Input'!AG559,'Data Input'!AH559,'Data Input'!AI559,'Data Input'!AJ559,'Data Input'!AK559,'Data Input'!AL559))","v":""},{"$f":"IF(L555=\"\",\"\",L555/COUNTIF('Data Input'!$C$8:$AQ$8,$L$2))","v":""},{"$f":"IF(ISBLANK('Data Input'!A559),\"\",SUM('Data Input'!K559,'Data Input'!AQ559))","v":""},{"$f":"IF(N555=\"\",\"\",N555/COUNTIF('Data Input'!$C$8:$AQ$8,$N$2))","v":""},{"$f":"IF(ISBLANK('Data Input'!A559),\"\",SUM('Data Input'!C559,'Data Input'!D559,'Data Input'!F559,'Data Input'!J559,'Data Input'!O559,'Data Input'!S559,'Data Input'!AM559,'Data Input'!AN559,'Data Input'!AO559,'Data Input'!AP559))","v":""},{"$f":"IF(P555=\"\",\"\",P555/COUNTIF('Data Input'!$C$8:$AQ$8,$P$2))","v":""},{"$f":"IF(ISBLANK('Data Input'!C559),\"\",SUM('Data Input'!P559))","v":""},{"$f":"IF(R555=\"\",\"\",R555/COUNTIF('Data Input'!$C$8:$AQ$8,$R$2))","v":""}]
[{"$f":"IF('Data Input'!A560=0,\"\",'Data Input'!A560)","v":""},{"$f":"IF(H556=\"\",\"\",IF(H556>Welcome!$K$23-1,\"Exceeding\",IF(H556>Welcome!$G$23-1,\"Expected\",IF(H556<Welcome!$G$23,\"Below\"))))","v":""},{"$f":"IF(ISBLANK('Data Input'!A560),\"\",COUNTIF('Data Input'!C560:AQ560,\"\")-1)","v":""},{"$f":"IF(ISBLANK('Data Input'!A560),\"\",COUNTIF('Data Input'!C560:AQ560,\"0\"))","v":""},{"$f":"IF(ISBLANK('Data Input'!A560),\"\",SUM(C556,D556))","v":""},{"$f":"IF(ISBLANK('Data Input'!A560),\"\",SUM('Data Input'!C560:V560))","v":""},{"$f":"IF(ISBLANK('Data Input'!A560),\"\",SUM('Data Input'!X560:AQ560))","v":""},{"$f":"IF(ISBLANK('Data Input'!A560),\"\",SUM('Data Input'!C560:AQ560))","v":""},{"$f":"IF(H556=\"\",\"\",H556/(COUNTA('Data Input'!$C$8:$AQ$8)-1))","v":""},{"$f":"IF(ISBLANK('Data Input'!A560),\"\",SUM('Data Input'!I560,'Data Input'!M560,'Data Input'!AB560,'Data Input'!AE560))","v":""},{"$f":"IF(J556=\"\",\"\",J556/COUNTIF('Data Input'!$C$8:$AQ$8,$J$2))","v":""},{"$f":"IF(ISBLANK('Data Input'!A560),\"\",SUM('Data Input'!E560,'Data Input'!G560,'Data Input'!H560,'Data Input'!L560,'Data Input'!N560,'Data Input'!Q560,'Data Input'!R560,'Data Input'!T560,'Data Input'!U560,'Data Input'!V560,'Data Input'!X560,'Data Input'!Y560,'Data Input'!Z560,'Data Input'!AA560,'Data Input'!AC560,'Data Input'!AD560,'Data Input'!AF560,'Data Input'!AG560,'Data Input'!AH560,'Data Input'!AI560,'Data Input'!AJ560,'Data Input'!AK560,'Data Input'!AL560))","v":""},{"$f":"IF(L556=\"\",\"\",L556/COUNTIF('Data Input'!$C$8:$AQ$8,$L$2))","v":""},{"$f":"IF(ISBLANK('Data Input'!A560),\"\",SUM('Data Input'!K560,'Data Input'!AQ560))","v":""},{"$f":"IF(N556=\"\",\"\",N556/COUNTIF('Data Input'!$C$8:$AQ$8,$N$2))","v":""},{"$f":"IF(ISBLANK('Data Input'!A560),\"\",SUM('Data Input'!C560,'Data Input'!D560,'Data Input'!F560,'Data Input'!J560,'Data Input'!O560,'Data Input'!S560,'Data Input'!AM560,'Data Input'!AN560,'Data Input'!AO560,'Data Input'!AP560))","v":""},{"$f":"IF(P556=\"\",\"\",P556/COUNTIF('Data Input'!$C$8:$AQ$8,$P$2))","v":""},{"$f":"IF(ISBLANK('Data Input'!C560),\"\",SUM('Data Input'!P560))","v":""},{"$f":"IF(R556=\"\",\"\",R556/COUNTIF('Data Input'!$C$8:$AQ$8,$R$2))","v":""}]

{"sheet":"Pupil Report","index":5,"n_rows":9,"n_cols":9,"rows_kept":9,"cut":false,"hidden":false,"merged":[[1,0,1,2],[4,0,4,8]]}
["Pupil:",null,"Age Related:",{"$f":"VLOOKUP($A$2,'Pupil Summary'!$A$6:$Q$555,2,FALSE)","v":"Expected"},null,null,null,null,{"$f":"Welcome!D2","v":"2017 National Curriculum Tests \nKS1 Reading Analysis"}]
["Sample, Please delete!",null,null,"Incorrect:",{"$f":"VLOOKUP($A$2,'Pupil Summary'!$A$6:$S$555,4,FALSE)","v":9},"Unanswered:",{"$f":"VLOOKUP($A$2,'Pupil Summary'!$A$6:$S$555,3,FALSE)","v":6},"Total:",{"$f":"VLOOKUP($A$2,'Pupil Summary'!$A$6:$S$555,8,FALSE) & \" / \" &SUM(B7:I7)","v":"25 / 40"}]
["A:",{"$f":"VLOOKUP($A$2,'Pupil Summary'!$A$6:$S$555,11,FALSE)","v":0.75},"B:",{"$f":"VLOOKUP($A$2,'Pupil Summary'!$A$6:$S$555,13,FALSE)","v":0.60869565217391308},null,null,null,"Test 1:",{"$f":"VLOOKUP($A$2,'Pupil Summary'!$A$6:$Q$555,6,FALSE) & \" /20\"","v":"15 /20"}]
["C:",{"$f":"VLOOKUP($A$2,'Pupil Summary'!$A$6:$S$555,15,FALSE)","v":0.5},"D:",{"$f":"VLOOKUP($A$2,'Pupil Summary'!$A$6:$S$555,17,FALSE)","v":0.7},"E:",{"$f":"VLOOKUP($A$2,'Pupil Summary'!$A$6:$S$555,17,FALSE)","v":0.7},null,"Test 2:",{"$f":"VLOOKUP($A$2,'Pupil Summary'!$A$6:$Q$555,7,FALSE)& \" /20\"","v":"10 /20"}]
["A: Vocabulary  B: Key Facts  \nC: Sequence D: Inference E: Prediction"]
[null,{"$f":"'Pupil Summary'!J2","v":"A"},{"$f":"'Pupil Summary'!L2","v":"B"},{"$f":"'Pupil Summary'!N2","v":"C"},{"$f":"'Pupil Summary'!P2","v":"D"},{"$f":"'Pupil Summary'!R2","v":"E"},{"$f":"'Pupil Summary'!#REF!","v":{"$error":"#REF!"}},{"$f":"'Pupil Summary'!#REF!","v":{"$error":"#REF!"}}]
["Total",{"$f":"COUNTIF('Data Input'!$C$8:$AQ$8,B6)","v":4},{"$f":"COUNTIF('Data Input'!$C$8:$AQ$8,C6)","v":23},{"$f":"COUNTIF('Data Input'!$C$8:$AQ$8,D6)","v":2},{"$f":"COUNTIF('Data Input'!$C$8:$AQ$8,E6)","v":10},{"$f":"COUNTIF('Data Input'!$C$8:$AQ$8,F6)","v":1},{"$f":"COUNTIF('Data Input'!$C$8:$AQ$8,G6)","v":0},{"$f":"COUNTIF('Data Input'!$C$8:$AQ$8,H6)","v":0}]
["Correct",{"$f":"VLOOKUP($A$2,'Pupil Summary'!$A$6:$S$555,10,FALSE)","v":3},{"$f":"VLOOKUP($A$2,'Pupil Summary'!$A$6:$S$555,12,FALSE)","v":14},{"$f":"VLOOKUP($A$2,'Pupil Summary'!$A$6:$S$555,14,FALSE)","v":1},{"$f":"VLOOKUP($A$2,'Pupil Summary'!$A$6:$S$555,16,FALSE)","v":7},{"$f":"VLOOKUP($A$2,'Pupil Summary'!$A$6:$S$555,18,FALSE)","v":0},{"$f":"VLOOKUP($A$2,'Pupil Summary'!$A$6:$Q$555,17,FALSE)","v":0.7},{"$f":"VLOOKUP($A$2,'Pupil Summary'!$A$6:$Q$555,19,FALSE)","v":{"$error":"#REF!"}}]
["Incorrect/Unanswered",{"$f":"B7-B8","v":1},9,1,3,1,-0.7,{"$f":"H7-H8","v":{"$error":"#REF!"}}]

{"sheet":"Cohort Summary","index":6,"n_rows":12,"n_cols":8,"rows_kept":12,"cut":false,"hidden":false,"merged":[[11,0,13,4]]}
["Class Averages:",{"$f":"'Pupil Summary'!J3","v":"Vocabulary"},{"$f":"'Pupil Summary'!L3","v":"Key Facts"},{"$f":"'Pupil Summary'!N3","v":"Sequence"},{"$f":"'Pupil Summary'!P3","v":"Inference"},{"$f":"'Pupil Summary'!R3","v":"Prediction"}]
["Class correct:",{"$f":"IF(ISERROR(B4/B3),\"\",(B4/B3))","v":0.75},{"$f":"IF(ISERROR(C4/C3),\"\",(C4/C3))","v":0.60869565217391308},{"$f":"IF(ISERROR(D4/D3),\"\",(D4/D3))","v":0.5},{"$f":"IF(ISERROR(E4/E3),\"\",(E4/E3))","v":0.7},{"$f":"IF(ISERROR(F4/F3),\"\",(F4/F3))","v":0}]
["Maximum",{"$f":"COUNTIF('Data Input'!$C$8:$AQ$8,B8)","v":4},{"$f":"COUNTIF('Data Input'!$C$8:$AQ$8,C8)","v":23},{"$f":"COUNTIF('Data Input'!$C$8:$AQ$8,D8)","v":2},{"$f":"COUNTIF('Data Input'!$C$8:$AQ$8,E8)","v":10},{"$f":"COUNTIF('Data Input'!$C$8:$AQ$8,F8)","v":1}]
["Correct",{"$f":"IF(ISERROR(AVERAGE(IF(('Data Input'!$C$8:$AQ$8=B8),'Data Input'!$C$2:$AQ$2))*B3/COUNTA('Data Input'!$A$10:$A$558)),\"\",AVERAGE(IF(('Data Input'!$C$8:$AQ$8=B8),'Data Input'!$C$2:$AQ$2))*B3/COUNTA('Data Input'!$A$10:$A$558))","v":3},{"$f":"IF(ISERROR(AVERAGE(IF(('Data Input'!$C$8:$AQ$8=C8),'Data Input'!$C$2:$AQ$2))*C3/COUNTA('Data Input'!$A$10:$A$558)),\"\",AVERAGE(IF(('Data Input'!$C$8:$AQ$8=C8),'Data Input'!$C$2:$AQ$2))*C3/COUNTA('Data Input'!$A$10:$A$558))","v":14},{"$f":"IF(ISERROR(AVERAGE(IF(('Data Input'!$C$8:$AQ$8=D8),'Data Input'!$C$2:$AQ$2))*D3/COUNTA('Data Input'!$A$10:$A$558)),\"\",AVERAGE(IF(('Data Input'!$C$8:$AQ$8=D8),'Data Input'!$C$2:$AQ$2))*D3/COUNTA('Data Input'!$A$10:$A$558))","v":1},{"$f":"IF(ISERROR(AVERAGE(IF(('Data Input'!$C$8:$AQ$8=E8),'Data Input'!$C$2:$AQ$2))*E3/COUNTA('Data Input'!$A$10:$A$558)),\"\",AVERAGE(IF(('Data Input'!$C$8:$AQ$8=E8),'Data Input'!$C$2:$AQ$2))*E3/COUNTA('Data Input'!$A$10:$A$558))","v":7},{"$f":"IF(ISERROR(AVERAGE(IF(('Data Input'!$C$8:$AQ$8=F8),'Data Input'!$C$2:$AQ$2))*F3/COUNTA('Data Input'!$A$10:$A$558)),\"\",AVERAGE(IF(('Data Input'!$C$8:$AQ$8=F8),'Data Input'!$C$2:$AQ$2))*F3/COUNTA('Data Input'!$A$10:$A$558))","v":0}]
["Incorrect",{"$f":"IF(ISERROR(AVERAGE(IF(('Data Input'!$C$8:$AQ$8=B8),'Data Input'!$C$3:$AQ$3))*B3/COUNTA('Data Input'!$A$10:$A$558)),\"\",AVERAGE(IF(('Data Input'!$C$8:$AQ$8=B8),'Data Input'!$C$3:$AQ$3))*B3/COUNTA('Data Input'!$A$10:$A$558))","v":0},{"$f":"IF(ISERROR(AVERAGE(IF(('Data Input'!$C$8:$AQ$8=C8),'Data Input'!$C$3:$AQ$3))*C3/COUNTA('Data Input'!$A$10:$A$558)),\"\",AVERAGE(IF(('Data Input'!$C$8:$AQ$8=C8),'Data Input'!$C$3:$AQ$3))*C3/COUNTA('Data Input'!$A$10:$A$558))","v":5},{"$f":"IF(ISERROR(AVERAGE(IF(('Data Input'!$C$8:$AQ$8=D8),'Data Input'!$C$3:$AQ$3))*D3/COUNTA('Data Input'!$A$10:$A$558)),\"\",AVERAGE(IF(('Data Input'!$C$8:$AQ$8=D8),'Data Input'!$C$3:$AQ$3))*D3/COUNTA('Data Input'!$A$10:$A$558))","v":1},{"$f":"IF(ISERROR(AVERAGE(IF(('Data Input'!$C$8:$AQ$8=E8),'Data Input'!$C$3:$AQ$3))*E3/COUNTA('Data Input'!$A$10:$A$558)),\"\",AVERAGE(IF(('Data Input'!$C$8:$AQ$8=E8),'Data Input'!$C$3:$AQ$3))*E3/COUNTA('Data Input'!$A$10:$A$558))","v":2},{"$f":"IF(ISERROR(AVERAGE(IF(('Data Input'!$C$8:$AQ$8=F8),'Data Input'!$C$3:$AQ$3))*F3/COUNTA('Data Input'!$A$10:$A$558)),\"\",AVERAGE(IF(('Data Input'!$C$8:$AQ$8=F8),'Data Input'!$C$3:$AQ$3))*F3/COUNTA('Data Input'!$A$10:$A$558))","v":1}]
["Unanswered",{"$f":"IF(ISERROR(AVERAGE(IF(('Data Input'!$C$8:$AQ$8=B8),'Data Input'!$C$4:$AQ$4))*B3/COUNTA('Data Input'!$A$10:$A$558)),\"\",AVERAGE(IF(('Data Input'!$C$8:$AQ$8=B8),'Data Input'!$C$4:$AQ$4))*B3/COUNTA('Data Input'!$A$10:$A$558))","v":1},{"$f":"IF(ISERROR(AVERAGE(IF(('Data Input'!$C$8:$AQ$8=C8),'Data Input'!$C$4:$AQ$4))*C3/COUNTA('Data Input'!$A$10:$A$558)),\"\",AVERAGE(IF(('Data Input'!$C$8:$AQ$8=C8),'Data Input'!$C$4:$AQ$4))*C3/COUNTA('Data Input'!$A$10:$A$558))","v":4},{"$f":"IF(ISERROR(AVERAGE(IF(('Data Input'!$C$8:$AQ$8=D8),'Data Input'!$C$4:$AQ$4))*D3/COUNTA('Data Input'!$A$10:$A$558)),\"\",AVERAGE(IF(('Data Input'!$C$8:$AQ$8=D8),'Data Input'!$C$4:$AQ$4))*D3/COUNTA('Data Input'!$A$10:$A$558))","v":0},{"$f":"IF(ISERROR(AVERAGE(IF(('Data Input'!$C$8:$AQ$8=E8),'Data Input'!$C$4:$AQ$4))*E3/COUNTA('Data Input'!$A$10:$A$558)),\"\",AVERAGE(IF(('Data Input'!$C$8:$AQ$8=E8),'Data Input'!$C$4:$AQ$4))*E3/COUNTA('Data Input'!$A$10:$A$558))","v":1},{"$f":"IF(ISERROR(AVERAGE(IF(('Data Input'!$C$8:$AQ$8=F8),'Data Input'!$C$4:$AQ$4))*F3/COUNTA('Data Input'!$A$10:$A$558)),\"\",AVERAGE(IF(('Data Input'!$C$8:$AQ$8=F8),'Data Input'!$C$4:$AQ$4))*F3/COUNTA('Data Input'!$A$10:$A$558))","v":0}]
["Incorrect or unanswered",{"$f":"IF(ISERROR(SUM(B5,B6)),\"\",SUM(B5,B6))","v":1},{"$f":"IF(ISERROR(SUM(C5,C6)),\"\",SUM(C5,C6))","v":9},{"$f":"IF(ISERROR(SUM(D5,D6)),\"\",SUM(D5,D6))","v":1},{"$f":"IF(ISERROR(SUM(E5,E6)),\"\",SUM(E5,E6))","v":3},{"$f":"IF(ISERROR(SUM(F5,F6)),\"\",SUM(F5,F6))","v":1}]
[null,"A","B","C","D","E"]
[{"$f":"\"Average Total Score \"&COUNTA('Data Input'!C8:AQ8)-1","v":"Average Total Score 40"},"Test 1 Aveerage /20","Test 2 Aveerage /20",{"$f":"\"Total Pupils: \" & COUNTA('Data Input'!A10:A420)","v":"Total Pupils: 1"},"Below","Expected","Exceeding","Expected or Exceeding"]
[{"$f":"IF(ISERROR(AVERAGE('Pupil Summary'!H6:H555)),\"\",AVERAGE('Pupil Summary'!H6:H555))","v":25},{"$f":"IF(ISERROR(AVERAGE('Pupil Summary'!F6:F555)),\"\",AVERAGE('Pupil Summary'!F6:F555))","v":15},{"$f":"IF(ISERROR(AVERAGE('Pupil Summary'!G6:G555)),\"\",AVERAGE('Pupil Summary'!G6:G555))","v":10},"Number:",{"$f":"IFERROR(COUNTIF('Pupil Summary'!$B$5:$B$999,\"Below\"),\"\")","v":0},{"$f":"IFERROR(COUNTIF('Pupil Summary'!$B$5:$B$999,\"Expected\"),\"\")","v":1},{"$f":"IFERROR(COUNTIF('Pupil Summary'!$B$5:$B$999,\"Exceeding\"),\"\")","v":0},{"$f":"IFERROR(SUM(F10:G10),\"\")","v":1}]
[{"$f":"IF(ISERROR(A10/COUNTA('Data Input'!C8:AQ8)-1),\"\",A10/(COUNTA('Data Input'!C8:AQ8)-1))","v":0.625},{"$f":"B10/20","v":0.75},{"$f":"C10/20","v":0.5},"Percent:",{"$f":"IFERROR(E10/COUNTA('Data Input'!$A$10:$A$999),\"\")","v":0},{"$f":"IFERROR(F10/COUNTA('Data Input'!$A$10:$A$999),\"\")","v":1},{"$f":"IFERROR(G10/COUNTA('Data Input'!$A$10:$A$999),\"\")","v":0},{"$f":"IFERROR(H10/COUNTA('Data Input'!$A$10:$A$999),\"\")","v":1}]
["The chart below graph shows the average percent for the cohort answering the questions in the particular area correctly. It should be noted that here each area does not hold equal weighting."]

{"sheet":"Strand Summary","index":7,"n_rows":28,"n_cols":2,"rows_kept":28,"cut":false,"hidden":false,"merged":[[26,1,26,11],[27,1,27,11]]}
[]
[]
[]
[]
[]
[]
[]
[]
[]
[]
[]
[]
[]
[]
[]
[]
[]
[]
[]
[]
[]
[]
[]
[]
[]
[]
[null,"This height of the bar shows the weighting of each area and the average number correct and incorrect answers. "]
[null,"A large area of red would indicate an area of priority. "]

{"sheet":"P1 Questions by Strand","index":8,"n_rows":46,"n_cols":1,"rows_kept":46,"cut":false,"hidden":false,"merged":[[45,0,46,17]]}
[]
[]
[]
[]
[]
[]
[]
[]
[]
[]
[]
[]
[]
[]
[]
[]
[]
[]
[]
[]
[]
[]
[]
[]
[]
[]
[]
[]
[]
[]
[]
[]
[]
[]
[]
[]
[]
[]
[]
[]
[]
[]
[]
[]
[]
["A: Vocabulary  B: Key Facts  C: Prediction D: Inference E: Prediction"]

{"sheet":"P2 Questions by Strand","index":9,"n_rows":46,"n_cols":1,"rows_kept":46,"cut":false,"hidden":false,"merged":[[45,0,46,17]]}
[]
[]
[]
[]
[]
[]
[]
[]
[]
[]
[]
[]
[]
[]
[]
[]
[]
[]
[]
[]
[]
[]
[]
[]
[]
[]
[]
[]
[]
[]
[]
[]
[]
[]
[]
[]
[]
[]
[]
[]
[]
[]
[]
[]
[]
["A: Vocabulary  B: Key Facts  C: Prediction D: Inference"]

{"sheet":"P1 Questions by Correct","index":10,"n_rows":46,"n_cols":1,"rows_kept":46,"cut":false,"hidden":false,"merged":[[45,0,46,17]]}
[]
[]
[]
[]
[]
[]
[]
[]
[]
[]
[]
[]
[]
[]
[]
[]
[]
[]
[]
[]
[]
[]
[]
[]
[]
[]
[]
[]
[]
[]
[]
[]
[]
[]
[]
[]
[]
[]
[]
[]
[]
[]
[]
[]
[]
["A: Vocabulary  B: Key Facts  C: Prediction D: Inference"]

{"sheet":"P2 Questions by Correct","index":11,"n_rows":46,"n_cols":1,"rows_kept":46,"cut":false,"hidden":false,"merged":[[45,0,46,17]]}
[]
[]
[]
[]
[]
[]
[]
[]
[]
[]
[]
[]
[]
[]
[]
[]
[]
[]
[]
[]
[]
[]
[]
[]
[]
[]
[]
[]
[]
[]
[]
[]
[]
[]
[]
[]
[]
[]
[]
[]
[]
[]
[]
[]
[]
["A: Vocabulary  B: Key Facts  C: Prediction D: Inference"]

{"sheet":"P1 Questions by Sub Type","index":12,"n_rows":0,"n_cols":0,"rows_kept":0,"cut":false,"hidden":true,"merged":[[45,0,46,17]]}

{"sheet":"P2 Questions by Sub Type","index":13,"n_rows":0,"n_cols":0,"rows_kept":0,"cut":false,"hidden":true,"merged":[[45,0,46,17]]}